{"text_format":"1","workbook":"xlsx","n_sheets":27,"sheets":["転記用FMT","日本標準産業分類","見込み省エネルギー量","更新履歴","祝日","提出書類一覧","【参考】見込み省エネルギー量の算出（要件アと要件ウ）","【任意】エネルギー使用量の原油換算表","個人情報等の取得及び利用に関する同意書","（様式第１）融資計画書","（別添１）融資計画詳細１","（別添１）融資計画詳細２","（別添１）融資計画詳細３","（別添２）役員名簿（利子補給対象事業者）","（別添３）利子補給金の交付の対象となる経費リスト","（別添４）エネルギー消費効率の根拠（要件ア）入力例","（別添４）エネルギー消費効率の根拠（要件ア）","（別添４）リスト（要件ア）","（別添５）エネルギー消費原単位の改善根拠（要件イ）","（別添６）省エネルギー取組の根拠（要件ウ）","（様式第３）交付申請書（新規融資案件）","（別添１）融資計画詳細１（交付申請）","（別添１）融資計画詳細２（交付申請）","（様式第９）実績報告書","（別添1）融資計画詳細１（実績報告）","（別添１）融資計画詳細２（実績報告）","（様式第１１）精算払請求書"],"not_rendered":{"charts":0,"images":5,"macros":1,"external_links":0,"defined_names":55,"comments":0,"pivot_tables":0},"unopened":[],"bounds":{"document_bytes":16777216,"sheet_cells":100000,"rows_first":2000,"rows_last":500,"rows_between":2000,"halvings":0,"cell_chars":16384,"cell_head_chars":4096},"cells_cut":0,"cells_raw":0,"read":"whole","date_system":"1900"}

{"sheet":"転記用FMT","index":0,"n_rows":1677,"n_cols":1680,"rows_kept":1677,"cut":false,"hidden":true,"merged":[]}
["No","項目\n（様式_参照セル）","項目","内容",null,null,null,null,"No",{"$f":"TRANSPOSE(A2:D1672)","v":1},2,3,4,5,6,7,8,9,10,11,12,13,14,15,16,17,18,19,20,21,22,23,24,25,26,27,28,29,30,31,32,33,34,35,36,37,38,39,40,41,42,43,44,45,46,47,48,49,50,51,52,53,54,55,56,57,58,59,60,61,62,63,64,65,66,67,68,69,70,71,72,73,74,75,76,77,78,79,80,81,82,83,84,85,86,87,88,89,90,91,92,93,94,95,96,97,98,99,100,101,102,103,104,105,106,107,108,109,110,111,112,113,114,115,116,117,118,119,120,121,122,123,124,125,126,127,128,129,130,131,132,133,134,135,136,137,138,139,140,141,142,143,144,145,146,147,148,149,150,151,152,153,154,155,156,157,158,159,160,161,162,163,164,165,166,167,168,169,170,171,172,173,174,175,176,177,178,179,180,181,182,183,184,185,186,187,188,189,190,191,192,193,194,195,196,197,198,199,200,201,202,203,204,205,206,207,208,209,210,211,212,213,214,215,216,217,218,219,220,221,222,223,224,225,226,227,228,229,230,231,232,233,234,235,236,237,238,239,240,241,242,243,244,245,246,247,248,249,250,251,252,253,254,255,256,257,258,259,260,261,262,263,264,265,266,267,268,269,270,271,272,273,274,275,276,277,278,279,280,281,282,283,284,285,286,287,288,289,290,291,292,293,294,295,296,297,298,299,300,301,302,303,304,305,306,307,308,309,310,311,312,313,314,315,316,317,318,319,320,321,322,323,324,325,326,327,328,329,330,331,332,333,334,335,336,337,338,339,340,341,342,343,344,345,346,347,348,349,350,351,352,353,354,355,356,357,358,359,360,361,362,363,364,365,366,367,368,369,370,371,372,373,374,375,376,377,378,379,380,381,382,383,384,385,386,387,388,389,390,391,392,393,394,395,396,397,398,399,400,401,402,403,404,405,406,407,408,409,410,411,412,413,414,415,416,417,418,419,420,421,422,423,424,425,426,427,428,429,430,431,432,433,434,435,436,437,438,439,440,441,442,443,444,445,446,447,448,449,450,451,452,453,454,455,456,457,458,459,460,461,462,463,464,465,466,467,468,469,470,471,472,473,474,475,476,477,478,479,480,481,482,483,484,485,486,487,488,489,490,491,492,493,494,495,496,497,498,499,500,501,502,503,504,505,506,507,508,509,510,511,512,513,514,515,516,517,518,519,520,521,522,523,524,525,526,527,528,529,530,531,532,533,534,535,536,537,538,539,540,541,542,543,544,545,546,547,548,549,550,551,552,553,554,555,556,557,558,559,560,561,562,563,564,565,566,567,568,569,570,571,572,573,574,575,576,577,578,579,580,581,582,583,584,585,586,587,588,589,590,591,592,593,594,595,596,597,598,599,600,601,602,603,604,605,606,607,608,609,610,611,612,613,614,615,616,617,618,619,620,621,622,623,624,625,626,627,628,629,630,631,632,633,634,635,636,637,638,639,640,641,642,643,644,645,646,647,648,649,650,651,652,653,654,655,656,657,658,659,660,661,662,663,664,665,666,667,668,669,670,671,672,673,674,675,676,677,678,679,680,681,682,683,684,685,686,687,688,689,690,691,692,693,694,695,696,697,698,699,700,701,702,703,704,705,706,707,708,709,710,711,712,713,714,715,716,717,718,719,720,721,722,723,724,725,726,727,728,729,730,731,732,733,734,735,736,737,738,739,740,741,742,743,744,745,746,747,748,749,750,751,752,753,754,755,756,757,758,759,760,761,762,763,764,765,766,767,768,769,770,771,772,773,774,775,776,777,778,779,780,781,782,783,784,785,786,787,788,789,790,791,792,793,794,795,796,797,798,799,800,801,802,803,804,805,806,807,808,809,810,811,812,813,814,815,816,817,818,819,820,821,822,823,824,825,826,827,828,829,830,831,832,833,834,835,836,837,838,839,840,841,842,843,844,845,846,847,848,849,850,851,852,853,854,855,856,857,858,859,860,861,862,863,864,865,866,867,868,869,870,871,872,873,874,875,876,877,878,879,880,881,882,883,884,885,886,887,888,889,890,891,892,893,894,895,896,897,898,899,900,901,902,903,904,905,906,907,908,909,910,911,912,913,914,915,916,917,918,919,920,921,922,923,924,925,926,927,928,929,930,931,932,933,934,935,936,937,938,939,940,941,942,943,944,945,946,947,948,949,950,951,952,953,954,955,956,957,958,959,960,961,962,963,964,965,966,967,968,969,970,971,972,973,974,975,976,977,978,979,980,981,982,983,984,985,986,987,988,989,990,991,992,993,994,995,996,997,998,999,1000,1001,1002,1003,1004,1005,1006,1007,1008,1009,1010,1011,1012,1013,1014,1015,1016,1017,1018,1019,1020,1021,1022,1023,1024,1025,1026,1027,1028,1029,1030,1031,1032,1033,1034,1035,1036,1037,1038,1039,1040,1041,1042,1043,1044,1045,1046,1047,1048,1049,1050,1051,1052,1053,1054,1055,1056,1057,1058,1059,1060,1061,1062,1063,1064,1065,1066,1067,1068,1069,1070,1071,1072,1073,1074,1075,1076,1077,1078,1079,1080,1081,1082,1083,1084,1085,1086,1087,1088,1089,1090,1091,1092,1093,1094,1095,1096,1097,1098,1099,1100,1101,1102,1103,1104,1105,1106,1107,1108,1109,1110,1111,1112,1113,1114,1115,1116,1117,1118,1119,1120,1121,1122,1123,1124,1125,1126,1127,1128,1129,1130,1131,1132,1133,1134,1135,1136,1137,1138,1139,1140,1141,1142,1143,1144,1145,1146,1147,1148,1149,1150,1151,1152,1153,1154,1155,1156,1157,1158,1159,1160,1161,1162,1163,1164,1165,1166,1167,1168,1169,1170,1171,1172,1173,1174,1175,1176,1177,1178,1179,1180,1181,1182,1183,1184,1185,1186,1187,1188,1189,1190,1191,1192,1193,1194,1195,1196,1197,1198,1199,1200,1201,1202,1203,1204,1205,1206,1207,1208,1209,1210,1211,1212,1213,1214,1215,1216,1217,1218,1219,1220,1221,1222,1223,1224,1225,1226,1227,1228,1229,1230,1231,1232,1233,1234,1235,1236,1237,1238,1239,1240,1241,1242,1243,1244,1245,1246,1247,1248,1249,1250,1251,1252,1253,1254,1255,1256,1257,1258,1259,1260,1261,1262,1263,1264,1265,1266,1267,1268,1269,1270,1271,1272,1273,1274,1275,1276,1277,1278,1279,1280,1281,1282,1283,1284,1285,1286,1287,1288,1289,1290,1291,1292,1293,1294,1295,1296,1297,1298,1299,1300,1301,1302,1303,1304,1305,1306,1307,1308,1309,1310,1311,1312,1313,1314,1315,1316,1317,1318,1319,1320,1321,1322,1323,1324,1325,1326,1327,1328,1329,1330,1331,1332,1333,1334,1335,1336,1337,1338,1339,1340,1341,1342,1343,1344,1345,1346,1347,1348,1349,1350,1351,1352,1353,1354,1355,1356,1357,1358,1359,1360,1361,1362,1363,1364,1365,1366,1367,1368,1369,1370,1371,1372,1373,1374,1375,1376,1377,1378,1379,1380,1381,1382,1383,1384,1385,1386,1387,1388,1389,1390,1391,1392,1393,1394,1395,1396,1397,1398,1399,1400,1401,1402,1403,1404,1405,1406,1407,1408,1409,1410,1411,1412,1413,1414,1415,1416,1417,1418,1419,1420,1421,1422,1423,1424,1425,1426,1427,1428,1429,1430,1431,1432,1433,1434,1435,1436,1437,1438,1439,1440,1441,1442,1443,1444,1445,1446,1447,1448,1449,1450,1451,1452,1453,1454,1455,1456,1457,1458,1459,1460,1461,1462,1463,1464,1465,1466,1467,1468,1469,1470,1471,1472,1473,1474,1475,1476,1477,1478,1479,1480,1481,1482,1483,1484,1485,1486,1487,1488,1489,1490,1491,1492,1493,1494,1495,1496,1497,1498,1499,1500,1501,1502,1503,1504,1505,1506,1507,1508,1509,1510,1511,1512,1513,1514,1515,1516,1517,1518,1519,1520,1521,1522,1523,1524,1525,1526,1527,1528,1529,1530,1531,1532,1533,1534,1535,1536,1537,1538,1539,1540,1541,1542,1543,1544,1545,1546,1547,1548,1549,1550,1551,1552,1553,1554,1555,1556,1557,1558,1559,1560,1561,1562,1563,1564,1565,1566,1567,1568,1569,1570,1571,1572,1573,1574,1575,1576,1577,1578,1579,1580,1581,1582,1583,1584,1585,1586,1587,1588,1589,1590,1591,1592,1593,1594,1595,1596,1597,1598,1599,1600,1601,1602,1603,1604,1605,1606,1607,1608,1609,1610,1611,1612,1613,1614,1615,1616,1617,1618,1619,1620,1621,1622,1623,1624,1625,1626,1627,1628,1629,1630,1631,1632,1633,1634,1635,1636,1637,1638,1639,1640,1641,1642,1643,1644,1645,1646,1647,1648,1649,1650,1651,1652,1653,1654,1655,1656,1657,1658,1659,1660,1661,1662,1663,1664,1665,1666,1667,1668,1669,1670,1671]
[{"$f":"ROW()-1","v":1},"個人情報_K2","個人情報の取得及び利用に関する同意",{"$f":"IF(個人情報等の取得及び利用に関する同意書!K4=\"\",\"\",個人情報等の取得及び利用に関する同意書!K4)","v":""},null,null,null,null,"項目（様式/参照セル）","個人情報_K2","様式第1_L6","様式第1_N6","様式第1_P6","様式第1_K16","様式第1_K19","様式第1_K22","様式第1_K24","様式第1_K27","様式第1_K30","様式第1_K33","様式第1_K35","様式第1_B72","様式第1_B76","別添1_C9","別添1_C11","別添1_C13","別添1_C15","別添1_C17","別添1_C19","別添1_C22","別添1_C24","別添1_C26","別添1_C28","別添1_C30","別添1_C32","別添1_M43","別添1_M51","別添1_N35","別添1_I11","別添1_I20","別添1_I28","別添1-2_D9","別添1-2_D11","別添1-2_D13","別添1-2_D15","別添1-2_D17","別添1-2_D19","別添1-2_D21","別添1-2_D23","別添1-2_D25","別添1-2_D27","別添1-2_D29","別添1-2_D34","別添1-2_D36","別添1-2_D38","別添1-2_D43～55","別添1-2_D43～55","別添1-2_D61","別添1-2_D61","別添1-2_D63","別添1-2_D73","別添1-2_D86","別添1-2_D90","別添1-3_F10","別添1-3_F13","別添1-3_F16","別添1-3_F19","別添1-3_F25","別添1-3_F28","別添1-3_F31","別添1-3_F34","様式第3_L2","様式第3_L4","様式第3_N4","様式第3_P4","様式第3_K14","様式第3_K17","様式第3_K20","様式第3_K22","様式第3_A37","様式第3_J37","様式第3_B69","様式第3_B73","様式第3_B77","様式第3_B81","別添1_C9","別添1_C11","別添1_C13","別添1_C15","別添1_C17","別添1_C19","別添1_C22","別添1_C24","別添1_C26","別添1_C28","別添1_C30","別添1_C32","別添1_M43","別添1_M51","別添1_N35","別添1_I11","別添1_I20","別添1_I28","別添1-2_D9","別添1-2_D11","別添1-2_D13","別添1-2_D15","別添1-2_D17","別添1-2_D19","別添1-2_D21","別添1-2_D23","別添1-2_D25","別添1-2_D27","別添1-2_D29","別添1-2_D34","別添1-2_D36","別添1-2_D38","別添1-2_D43～55","別添1-2_D43～55","別添1-2_D61","別添1-2_D61","別添1-2_D63","別添1-2_D73","様式第9_L6","様式第9_N6","様式第9_P6","様式第9_K16","様式第9_K19","様式第9_K22","様式第9_K24","様式第9_A40","様式第9_H40","様式第9_B71","様式第9_B75","様式第9_B79","様式第9_B83","別添1_C9","別添1_C11","別添1_C13","別添1_C15","別添1_C17","別添1_C19","別添1_C22","別添1_C24","別添1_C26","別添1_C28","別添1_C30","別添1_C32","別添1_M43","別添1_M51","別添1_N35","別添1_I11","別添1_I21","別添1_I28","別添1-2_D9","別添1-2_D11","別添1-2_D13","別添1-2_D15","別添1-2_D17","別添1-2_D19","別添1-2_D21","別添1-2_D23","別添1-2_D25","別添1-2_D27","別添1-2_D29","別添1-2_D34","別添1-2_D36","別添1-2_D38","別添1-2_D43～55","別添1-2_D43～55","別添1-2_D61","別添1-2_D61","別添1-2_D63","別添1-2_D73","別添1-2_D86","別添1-2_D90","別添1-2_D91",{"$error":"#REF!"},{"$error":"#REF!"},{"$error":"#REF!"},{"$error":"#REF!"},{"$error":"#REF!"},{"$error":"#REF!"},{"$error":"#REF!"},{"$error":"#REF!"},{"$error":"#REF!"},{"$error":"#REF!"},{"$error":"#REF!"},{"$error":"#REF!"},{"$error":"#REF!"},{"$error":"#REF!"},{"$error":"#REF!"},{"$error":"#REF!"},{"$error":"#REF!"},{"$error":"#REF!"},{"$error":"#REF!"},{"$error":"#REF!"},"様式第11精_L6","様式第11精_N6","様式第11精_P6","様式第11精_K16","様式第11精_K19","様式第11精_K22","様式第11精_K24","様式第11精_A40","様式第11精_H40","様式第11精_B71","様式第11精_B75","様式第11精_B79","様式第11精_D85","様式第11精_K85","様式第11精_D87","様式第11精_K87","様式第11精_D89","様式第11精_K89","様式第11精_D91","様式第11精_K91","別添4_0_1_G4","別添4_0_2_G5","別添4_1_1_D9","別添4_1_2_D10","別添4_1_3_D11","別添4_1_4_D12","別添4_1_5_D13","別添4_1_6_D14","別添4_1_7_D16","別添4_1_8_D17","別添4_1_9_D18","別添4_1_10_D19&E19","別添4_1_11_D20","別添4_1_12_D21","別添4_1_13_D22&E22","別添4_1_14_F16","別添4_1_15_F17","別添4_1_16_F18","別添4_1_17_F19&G19","別添4_1_18_F20","別添4_1_19_F21","別添4_1_20_F22&G22","別添4_1_21_D23&E23","別添4_1_22_D25","別添4_1_23_D26","別添4_1_24_D27","別添4_2_1_H9","別添4_2_2_H10","別添4_2_3_H11","別添4_2_4_H12","別添4_2_5_H13","別添4_2_6_H14","別添4_2_7_H16","別添4_2_8_H17","別添4_2_9_H18","別添4_2_10_H19&I19","別添4_2_11_H20","別添4_2_12_H21","別添4_2_13_H22&I22","別添4_2_14_J16","別添4_2_15_J17","別添4_2_16_J18","別添4_2_17_J19&K19","別添4_2_18_J20","別添4_2_19_J21","別添4_2_20_J22&K22","別添4_2_21_H23&I23","別添4_2_22_H25","別添4_2_23_H26","別添4_2_24_H27","別添4_3_1_L9","別添4_3_2_L10","別添4_3_3_L11","別添4_3_4_L12","別添4_3_5_L13","別添4_3_6_L14","別添4_3_7_L16","別添4_3_8_L17","別添4_3_9_L18","別添4_3_10_L19&M19","別添4_3_11_L20","別添4_3_12_L21","別添4_3_13_L22&M22","別添4_3_14_N16","別添4_3_15_N17","別添4_3_16_N18","別添4_3_17_N19&O19","別添4_3_18_N20","別添4_3_19_N21","別添4_3_20_N22&O22","別添4_3_21_L23&M23","別添4_3_22_L25","別添4_3_23_L26","別添4_3_24_L27","別添4_4_1_P9","別添4_4_2_P10","別添4_4_3_P11","別添4_4_4_P12","別添4_4_5_P13","別添4_4_6_P14","別添4_4_7_P16","別添4_4_8_P17","別添4_4_9_P18","別添4_4_10_P19&Q19","別添4_4_11_P20","別添4_4_12_P21","別添4_4_13_P22&Q22","別添4_4_14_R16","別添4_4_15_R17","別添4_4_16_R18","別添4_4_17_R19&S19","別添4_4_18_R20","別添4_4_19_R21","別添4_4_20_R22&S22","別添4_4_21_P23&Q23","別添4_4_22_P25","別添4_4_23_P26","別添4_4_24_P27","別添4_5_1_T9","別添4_5_2_T10","別添4_5_3_T11","別添4_5_4_T12","別添4_5_5_T13","別添4_5_6_T14","別添4_5_7_T16","別添4_5_8_T17","別添4_5_9_T18","別添4_5_10_T19&U19","別添4_5_11_T20","別添4_5_12_T21","別添4_5_13_T22&U22","別添4_5_14_V16","別添4_5_15_V17","別添4_5_16_V18","別添4_5_17_V19&W19","別添4_5_18_V20","別添4_5_19_V21","別添4_5_20_V22&W22","別添4_5_21_T23&U23","別添4_5_22_T25","別添4_5_23_T26","別添4_5_24_T27","別添4_6_1_X9","別添4_6_2_X10","別添4_6_3_X11","別添4_6_4_X12","別添4_6_5_X13","別添4_6_6_X14","別添4_6_7_X16","別添4_6_8_X17","別添4_6_9_X18","別添4_6_10_X19&Y19","別添4_6_11_X20","別添4_6_12_X21","別添4_6_13_X22&Y22","別添4_6_14_Z16","別添4_6_15_Z17","別添4_6_16_Z18","別添4_6_17_Z19&AA19","別添4_6_18_Z20","別添4_6_19_Z21","別添4_6_20_Z22&AA22","別添4_6_21_X23&Y23","別添4_6_22_X25","別添4_6_23_X26","別添4_6_24_X27","別添4_7_1_AB9","別添4_7_2_AB10","別添4_7_3_AB11","別添4_7_4_AB12","別添4_7_5_AB13","別添4_7_6_AB14","別添4_7_7_AB16","別添4_7_8_AB17","別添4_7_9_AB18","別添4_7_10_AB19&AC19","別添4_7_11_AB20","別添4_7_12_AB21","別添4_7_13_AB22&AC22","別添4_7_14_AD16","別添4_7_15_AD17","別添4_7_16_AD18","別添4_7_17_AD19&AE19","別添4_7_18_AD20","別添4_7_19_AD21","別添4_7_20_AD22&AE22","別添4_7_21_AB23&AC23","別添4_7_22_AB25","別添4_7_23_AB26","別添4_7_24_AB27","別添4_8_1_AF9","別添4_8_2_AF10","別添4_8_3_AF11","別添4_8_4_AF12","別添4_8_5_AF13","別添4_8_6_AF14","別添4_8_7_AF16","別添4_8_8_AF17","別添4_8_9_AF18","別添4_8_10_AF19&AG19","別添4_8_11_AF20","別添4_8_12_AF21","別添4_8_13_AF22&AG22","別添4_8_14_AH16","別添4_8_15_AH17","別添4_8_16_AH18","別添4_8_17_AH19&AI19","別添4_8_18_AH20","別添4_8_19_AH21","別添4_8_20_AH22&AI22","別添4_8_21_AF23&AG23","別添4_8_22_AF25","別添4_8_23_AF26","別添4_8_24_AF27","別添4_9_1_AJ9","別添4_9_2_AJ10","別添4_9_3_AJ11","別添4_9_4_AJ12","別添4_9_5_AJ13","別添4_9_6_AJ14","別添4_9_7_AJ16","別添4_9_8_AJ17","別添4_9_9_AJ18","別添4_9_10_AJ19&AK19","別添4_9_11_AJ20","別添4_9_12_AJ21","別添4_9_13_AJ22&AK22","別添4_9_14_AL16","別添4_9_15_AL17","別添4_9_16_AL18","別添4_9_17_AL19&AM19","別添4_9_18_AL20","別添4_9_19_AL21","別添4_9_20_AL22&AM22","別添4_9_21_AJ23&AK23","別添4_9_22_AJ25","別添4_9_23_AJ26","別添4_9_24_AJ27","別添4_10_1_AN9","別添4_10_2_AN10","別添4_10_3_AN11","別添4_10_4_AN12","別添4_10_5_AN13","別添4_10_6_AN14","別添4_10_7_AN16","別添4_10_8_AN17","別添4_10_9_AN18","別添4_10_10_AN19&AO19","別添4_10_11_AN20","別添4_10_12_AN21","別添4_10_13_AN22&AO22","別添4_10_14_AP16","別添4_10_15_AP17","別添4_10_16_AP18","別添4_10_17_AP19&AQ19","別添4_10_18_AP20","別添4_10_19_AP21","別添4_10_20_AP22&AQ22","別添4_10_21_AN23&AO23","別添4_10_22_AN25","別添4_10_23_AN26","別添4_10_24_AN27","別添4_11_1_AR9","別添4_11_2_AR10","別添4_11_3_AR11","別添4_11_4_AR12","別添4_11_5_AR13","別添4_11_6_AR14","別添4_11_7_AR16","別添4_11_8_AR17","別添4_11_9_AR18","別添4_11_10_AR19&AS19","別添4_11_11_AR20","別添4_11_12_AR21","別添4_11_13_AR22&AS22","別添4_11_14_AT16","別添4_11_15_AT17","別添4_11_16_AT18","別添4_11_17_AT19&AU19","別添4_11_18_AT20","別添4_11_19_AT21","別添4_11_20_AT22&AU22","別添4_11_21_AR23&AS23","別添4_11_22_AR25","別添4_11_23_AR26","別添4_11_24_AR27","別添4_12_1_AV9","別添4_12_2_AV10","別添4_12_3_AV11","別添4_12_4_AV12","別添4_12_5_AV13","別添4_12_6_AV14","別添4_12_7_AV16","別添4_12_8_AV17","別添4_12_9_AV18","別添4_12_10_AV19&AW19","別添4_12_11_AV20","別添4_12_12_AV21","別添4_12_13_AV22&AW22","別添4_12_14_AX16","別添4_12_15_AX17","別添4_12_16_AX18","別添4_12_17_AX19&AY19","別添4_12_18_AX20","別添4_12_19_AX21","別添4_12_20_AX22&AY22","別添4_12_21_AV23&AW23","別添4_12_22_AV25","別添4_12_23_AV26","別添4_12_24_AV27","別添4_13_1_AZ9","別添4_13_2_AZ10","別添4_13_3_AZ11","別添4_13_4_AZ12","別添4_13_5_AZ13","別添4_13_6_AZ14","別添4_13_7_AZ16","別添4_13_8_AZ17","別添4_13_9_AZ18","別添4_13_10_AZ19&BA19","別添4_13_11_AZ20","別添4_13_12_AZ21","別添4_13_13_AZ22&BA22","別添4_13_14_BB16","別添4_13_15_BB17","別添4_13_16_BB18","別添4_13_17_BB19&BC19","別添4_13_18_BB20","別添4_13_19_BB21","別添4_13_20_BB22&BC22","別添4_13_21_AZ23&BA23","別添4_13_22_AZ25","別添4_13_23_AZ26","別添4_13_24_AZ27","別添4_14_1_BD9","別添4_14_2_BD10","別添4_14_3_BD11","別添4_14_4_BD12","別添4_14_5_BD13","別添4_14_6_BD14","別添4_14_7_BD16","別添4_14_8_BD17","別添4_14_9_BD18","別添4_14_10_BD19&BE19","別添4_14_11_BD20","別添4_14_12_BD21","別添4_14_13_BD22&BE22","別添4_14_14_BF16","別添4_14_15_BF17","別添4_14_16_BF18","別添4_14_17_BF19&BG19","別添4_14_18_BF20","別添4_14_19_BF21","別添4_14_20_BF22&BG22","別添4_14_21_BD23&BE23","別添4_14_22_BD25","別添4_14_23_BD26","別添4_14_24_BD27","別添4_15_1_BH9","別添4_15_2_BH10","別添4_15_3_BH11","別添4_15_4_BH12","別添4_15_5_BH13","別添4_15_6_BH14","別添4_15_7_BH16","別添4_15_8_BH17","別添4_15_9_BH18","別添4_15_10_BH19&BI19","別添4_15_11_BH20","別添4_15_12_BH21","別添4_15_13_BH22&BI22","別添4_15_14_BJ16","別添4_15_15_BJ17","別添4_15_16_BJ18","別添4_15_17_BJ19&BK19","別添4_15_18_BJ20","別添4_15_19_BJ21","別添4_15_20_BJ22&BK22","別添4_15_21_BH23&BI23","別添4_15_22_BH25","別添4_15_23_BH26","別添4_15_24_BH27","別添4_16_1_BL9","別添4_16_2_BL10","別添4_16_3_BL11","別添4_16_4_BL12","別添4_16_5_BL13","別添4_16_6_BL14","別添4_16_7_BL16","別添4_16_8_BL17","別添4_16_9_BL18","別添4_16_10_BL19&BM19","別添4_16_11_BL20","別添4_16_12_BL21","別添4_16_13_BL22&BM22","別添4_16_14_BN16","別添4_16_15_BN17","別添4_16_16_BN18","別添4_16_17_BN19&BO19","別添4_16_18_BN20","別添4_16_19_BN21","別添4_16_20_BN22&BO22","別添4_16_21_BL23&BM23","別添4_16_22_BL25","別添4_16_23_BL26","別添4_16_24_BL27","別添4_17_1_BP9","別添4_17_2_BP10","別添4_17_3_BP11","別添4_17_4_BP12","別添4_17_5_BP13","別添4_17_6_BP14","別添4_17_7_BP16","別添4_17_8_BP17","別添4_17_9_BP18","別添4_17_10_BP19&BQ19","別添4_17_11_BP20","別添4_17_12_BP21","別添4_17_13_BP22&BQ22","別添4_17_14_BR16","別添4_17_15_BR17","別添4_17_16_BR18","別添4_17_17_BR19&BS19","別添4_17_18_BR20","別添4_17_19_BR21","別添4_17_20_BR22&BS22","別添4_17_21_BP23&BQ23","別添4_17_22_BP25","別添4_17_23_BP26","別添4_17_24_BP27","別添4_18_1_BT9","別添4_18_2_BT10","別添4_18_3_BT11","別添4_18_4_BT12","別添4_18_5_BT13","別添4_18_6_BT14","別添4_18_7_BT16","別添4_18_8_BT17","別添4_18_9_BT18","別添4_18_10_BT19&BU19","別添4_18_11_BT20","別添4_18_12_BT21","別添4_18_13_BT22&BU22","別添4_18_14_BV16","別添4_18_15_BV17","別添4_18_16_BV18","別添4_18_17_BV19&BW19","別添4_18_18_BV20","別添4_18_19_BV21","別添4_18_20_BV22&BW22","別添4_18_21_BT23&BU23","別添4_18_22_BT25","別添4_18_23_BT26","別添4_18_24_BT27","別添4_19_1_BX9","別添4_19_2_BX10","別添4_19_3_BX11","別添4_19_4_BX12","別添4_19_5_BX13","別添4_19_6_BX14","別添4_19_7_BX16","別添4_19_8_BX17","別添4_19_9_BX18","別添4_19_10_BX19&BY19","別添4_19_11_BX20","別添4_19_12_BX21","別添4_19_13_BX22&BY22","別添4_19_14_BZ16","別添4_19_15_BZ17","別添4_19_16_BZ18","別添4_19_17_BZ19&CA19","別添4_19_18_BZ20","別添4_19_19_BZ21","別添4_19_20_BZ22&CA22","別添4_19_21_BX23&BY23","別添4_19_22_BX25","別添4_19_23_BX26","別添4_19_24_BX27","別添4_20_1_CB9","別添4_20_2_CB10","別添4_20_3_CB11","別添4_20_4_CB12","別添4_20_5_CB13","別添4_20_6_CB14","別添4_20_7_CB16","別添4_20_8_CB17","別添4_20_9_CB18","別添4_20_10_CB19&CC19","別添4_20_11_CB20","別添4_20_12_CB21","別添4_20_13_CB22&CC22","別添4_20_14_CD16","別添4_20_15_CD17","別添4_20_16_CD18","別添4_20_17_CD19&CE19","別添4_20_18_CD20","別添4_20_19_CD21","別添4_20_20_CD22&CE22","別添4_20_21_CB23&CC23","別添4_20_22_CB25","別添4_20_23_CB26","別添4_20_24_CB27","別添4_21_1_CF9","別添4_21_2_CF10","別添4_21_3_CF11","別添4_21_4_CF12","別添4_21_5_CF13","別添4_21_6_CF14","別添4_21_7_CF16","別添4_21_8_CF17","別添4_21_9_CF18","別添4_21_10_CF19&CG19","別添4_21_11_CF20","別添4_21_12_CF21","別添4_21_13_CF22&CG22","別添4_21_14_CH16","別添4_21_15_CH17","別添4_21_16_CH18","別添4_21_17_CH19&CI19","別添4_21_18_CH20","別添4_21_19_CH21","別添4_21_20_CH22&CI22","別添4_21_21_CF23&CG23","別添4_21_22_CF25","別添4_21_23_CF26","別添4_21_24_CF27","別添4_22_1_CJ9","別添4_22_2_CJ10","別添4_22_3_CJ11","別添4_22_4_CJ12","別添4_22_5_CJ13","別添4_22_6_CJ14","別添4_22_7_CJ16","別添4_22_8_CJ17","別添4_22_9_CJ18","別添4_22_10_CJ19&CK19","別添4_22_11_CJ20","別添4_22_12_CJ21","別添4_22_13_CJ22&CK22","別添4_22_14_CL16","別添4_22_15_CL17","別添4_22_16_CL18","別添4_22_17_CL19&CM19","別添4_22_18_CL20","別添4_22_19_CL21","別添4_22_20_CL22&CM22","別添4_22_21_CJ23&CK23","別添4_22_22_CJ25","別添4_22_23_CJ26","別添4_22_24_CJ27","別添4_23_1_CN9","別添4_23_2_CN10","別添4_23_3_CN11","別添4_23_4_CN12","別添4_23_5_CN13","別添4_23_6_CN14","別添4_23_7_CN16","別添4_23_8_CN17","別添4_23_9_CN18","別添4_23_10_CN19&CO19","別添4_23_11_CN20","別添4_23_12_CN21","別添4_23_13_CN22&CO22","別添4_23_14_CP16","別添4_23_15_CP17","別添4_23_16_CP18","別添4_23_17_CP19&CQ19","別添4_23_18_CP20","別添4_23_19_CP21","別添4_23_20_CP22&CQ22","別添4_23_21_CN23&CO23","別添4_23_22_CN25","別添4_23_23_CN26","別添4_23_24_CN27","別添4_24_1_CR9","別添4_24_2_CR10","別添4_24_3_CR11","別添4_24_4_CR12","別添4_24_5_CR13","別添4_24_6_CR14","別添4_24_7_CR16","別添4_24_8_CR17","別添4_24_9_CR18","別添4_24_10_CR19&CS19","別添4_24_11_CR20","別添4_24_12_CR21","別添4_24_13_CR22&CS22","別添4_24_14_CT16","別添4_24_15_CT17","別添4_24_16_CT18","別添4_24_17_CT19&CU19","別添4_24_18_CT20","別添4_24_19_CT21","別添4_24_20_CT22&CU22","別添4_24_21_CR23&CS23","別添4_24_22_CR25","別添4_24_23_CR26","別添4_24_24_CR27","別添4_25_1_CV9","別添4_25_2_CV10","別添4_25_3_CV11","別添4_25_4_CV12","別添4_25_5_CV13","別添4_25_6_CV14","別添4_25_7_CV16","別添4_25_8_CV17","別添4_25_9_CV18","別添4_25_10_CV19&CW19","別添4_25_11_CV20","別添4_25_12_CV21","別添4_25_13_CV22&CW22","別添4_25_14_CX16","別添4_25_15_CX17","別添4_25_16_CX18","別添4_25_17_CX19&CY19","別添4_25_18_CX20","別添4_25_19_CX21","別添4_25_20_CX22&CY22","別添4_25_21_CV23&CW23","別添4_25_22_CV25","別添4_25_23_CV26","別添4_25_24_CV27","別添4_26_1_CZ9","別添4_26_2_CZ10","別添4_26_3_CZ11","別添4_26_4_CZ12","別添4_26_5_CZ13","別添4_26_6_CZ14","別添4_26_7_CZ16","別添4_26_8_CZ17","別添4_26_9_CZ18","別添4_26_10_CZ19&DA19","別添4_26_11_CZ20","別添4_26_12_CZ21","別添4_26_13_CZ22&DA22","別添4_26_14_DB16","別添4_26_15_DB17","別添4_26_16_DB18","別添4_26_17_DB19&DC19","別添4_26_18_DB20","別添4_26_19_DB21","別添4_26_20_DB22&DC22","別添4_26_21_CZ23&DA23","別添4_26_22_CZ25","別添4_26_23_CZ26","別添4_26_24_CZ27","別添4_27_1_DD9","別添4_27_2_DD10","別添4_27_3_DD11","別添4_27_4_DD12","別添4_27_5_DD13","別添4_27_6_DD14","別添4_27_7_DD16","別添4_27_8_DD17","別添4_27_9_DD18","別添4_27_10_DD19&DE19","別添4_27_11_DD20","別添4_27_12_DD21","別添4_27_13_DD22&DE22","別添4_27_14_DF16","別添4_27_15_DF17","別添4_27_16_DF18","別添4_27_17_DF19&DG19","別添4_27_18_DF20","別添4_27_19_DF21","別添4_27_20_DF22&DG22","別添4_27_21_DD23&DE23","別添4_27_22_DD25","別添4_27_23_DD26","別添4_27_24_DD27","別添4_28_1_DH9","別添4_28_2_DH10","別添4_28_3_DH11","別添4_28_4_DH12","別添4_28_5_DH13","別添4_28_6_DH14","別添4_28_7_DH16","別添4_28_8_DH17","別添4_28_9_DH18","別添4_28_10_DH19&DI19","別添4_28_11_DH20","別添4_28_12_DH21","別添4_28_13_DH22&DI22","別添4_28_14_DJ16","別添4_28_15_DJ17","別添4_28_16_DJ18","別添4_28_17_DJ19&DK19","別添4_28_18_DJ20","別添4_28_19_DJ21","別添4_28_20_DJ22&DK22","別添4_28_21_DH23&DI23","別添4_28_22_DH25","別添4_28_23_DH26","別添4_28_24_DH27","別添4_29_1_DL9","別添4_29_2_DL10","別添4_29_3_DL11","別添4_29_4_DL12","別添4_29_5_DL13","別添4_29_6_DL14","別添4_29_7_DL16","別添4_29_8_DL17","別添4_29_9_DL18","別添4_29_10_DL19&DM19","別添4_29_11_DL20","別添4_29_12_DL21","別添4_29_13_DL22&DM22","別添4_29_14_DN16","別添4_29_15_DN17","別添4_29_16_DN18","別添4_29_17_DN19&DO19","別添4_29_18_DN20","別添4_29_19_DN21","別添4_29_20_DN22&DO22","別添4_29_21_DL23&DM23","別添4_29_22_DL25","別添4_29_23_DL26","別添4_29_24_DL27","別添4_30_1_DP9","別添4_30_2_DP10","別添4_30_3_DP11","別添4_30_4_DP12","別添4_30_5_DP13","別添4_30_6_DP14","別添4_30_7_DP16","別添4_30_8_DP17","別添4_30_9_DP18","別添4_30_10_DP19&DQ19","別添4_30_11_DP20","別添4_30_12_DP21","別添4_30_13_DP22&DQ22","別添4_30_14_DR16","別添4_30_15_DR17","別添4_30_16_DR18","別添4_30_17_DR19&DS19","別添4_30_18_DR20","別添4_30_19_DR21","別添4_30_20_DR22&DS22","別添4_30_21_DP23&DQ23","別添4_30_22_DP25","別添4_30_23_DP26","別添4_30_24_DP27","別添4_31_1_DT9","別添4_31_2_DT10","別添4_31_3_DT11","別添4_31_4_DT12","別添4_31_5_DT13","別添4_31_6_DT14","別添4_31_7_DT16","別添4_31_8_DT17","別添4_31_9_DT18","別添4_31_10_DT19&DU19","別添4_31_11_DT20","別添4_31_12_DT21","別添4_31_13_DT22&DU22","別添4_31_14_DV16","別添4_31_15_DV17","別添4_31_16_DV18","別添4_31_17_DV19&DW19","別添4_31_18_DV20","別添4_31_19_DV21","別添4_31_20_DV22&DW22","別添4_31_21_DT23&DU23","別添4_31_22_DT25","別添4_31_23_DT26","別添4_31_24_DT27","別添4_32_1_DX9","別添4_32_2_DX10","別添4_32_3_DX11","別添4_32_4_DX12","別添4_32_5_DX13","別添4_32_6_DX14","別添4_32_7_DX16","別添4_32_8_DX17","別添4_32_9_DX18","別添4_32_10_DX19&DY19","別添4_32_11_DX20","別添4_32_12_DX21","別添4_32_13_DX22&DY22","別添4_32_14_DZ16","別添4_32_15_DZ17","別添4_32_16_DZ18","別添4_32_17_DZ19&EA19","別添4_32_18_DZ20","別添4_32_19_DZ21","別添4_32_20_DZ22&EA22","別添4_32_21_DX23&DY23","別添4_32_22_DX25","別添4_32_23_DX26","別添4_32_24_DX27","別添4_33_1_EB9","別添4_33_2_EB10","別添4_33_3_EB11","別添4_33_4_EB12","別添4_33_5_EB13","別添4_33_6_EB14","別添4_33_7_EB16","別添4_33_8_EB17","別添4_33_9_EB18","別添4_33_10_EB19&EC19","別添4_33_11_EB20","別添4_33_12_EB21","別添4_33_13_EB22&EC22","別添4_33_14_ED16","別添4_33_15_ED17","別添4_33_16_ED18","別添4_33_17_ED19&EE19","別添4_33_18_ED20","別添4_33_19_ED21","別添4_33_20_ED22&EE22","別添4_33_21_EB23&EC23","別添4_33_22_EB25","別添4_33_23_EB26","別添4_33_24_EB27","別添4_34_1_EF9","別添4_34_2_EF10","別添4_34_3_EF11","別添4_34_4_EF12","別添4_34_5_EF13","別添4_34_6_EF14","別添4_34_7_EF16","別添4_34_8_EF17","別添4_34_9_EF18","別添4_34_10_EF19&EG19","別添4_34_11_EF20","別添4_34_12_EF21","別添4_34_13_EF22&EG22","別添4_34_14_EH16","別添4_34_15_EH17","別添4_34_16_EH18","別添4_34_17_EH19&EI19","別添4_34_18_EH20","別添4_34_19_EH21","別添4_34_20_EH22&EI22","別添4_34_21_EF23&EG23","別添4_34_22_EF25","別添4_34_23_EF26","別添4_34_24_EF27","別添4_35_1_EJ9","別添4_35_2_EJ10","別添4_35_3_EJ11","別添4_35_4_EJ12","別添4_35_5_EJ13","別添4_35_6_EJ14","別添4_35_7_EJ16","別添4_35_8_EJ17","別添4_35_9_EJ18","別添4_35_10_EJ19&EK19","別添4_35_11_EJ20","別添4_35_12_EJ21","別添4_35_13_EJ22&EK22","別添4_35_14_EL16","別添4_35_15_EL17","別添4_35_16_EL18","別添4_35_17_EL19&EM19","別添4_35_18_EL20","別添4_35_19_EL21","別添4_35_20_EL22&EM22","別添4_35_21_EJ23&EK23","別添4_35_22_EJ25","別添4_35_23_EJ26","別添4_35_24_EJ27","別添4_36_1_EN9","別添4_36_2_EN10","別添4_36_3_EN11","別添4_36_4_EN12","別添4_36_5_EN13","別添4_36_6_EN14","別添4_36_7_EN16","別添4_36_8_EN17","別添4_36_9_EN18","別添4_36_10_EN19&EO19","別添4_36_11_EN20","別添4_36_12_EN21","別添4_36_13_EN22&EO22","別添4_36_14_EP16","別添4_36_15_EP17","別添4_36_16_EP18","別添4_36_17_EP19&EQ19","別添4_36_18_EP20","別添4_36_19_EP21","別添4_36_20_EP22&EQ22","別添4_36_21_EN23&EO23","別添4_36_22_EN25","別添4_36_23_EN26","別添4_36_24_EN27","別添4_37_1_ER9","別添4_37_2_ER10","別添4_37_3_ER11","別添4_37_4_ER12","別添4_37_5_ER13","別添4_37_6_ER14","別添4_37_7_ER16","別添4_37_8_ER17","別添4_37_9_ER18","別添4_37_10_ER19&ES19","別添4_37_11_ER20","別添4_37_12_ER21","別添4_37_13_ER22&ES22","別添4_37_14_ET16","別添4_37_15_ET17","別添4_37_16_ET18","別添4_37_17_ET19&EU19","別添4_37_18_ET20","別添4_37_19_ET21","別添4_37_20_ET22&EU22","別添4_37_21_ER23&ES23","別添4_37_22_ER25","別添4_37_23_ER26","別添4_37_24_ER27","別添4_38_1_EV9","別添4_38_2_EV10","別添4_38_3_EV11","別添4_38_4_EV12","別添4_38_5_EV13","別添4_38_6_EV14","別添4_38_7_EV16","別添4_38_8_EV17","別添4_38_9_EV18","別添4_38_10_EV19&EW19","別添4_38_11_EV20","別添4_38_12_EV21","別添4_38_13_EV22&EW22","別添4_38_14_EX16","別添4_38_15_EX17","別添4_38_16_EX18","別添4_38_17_EX19&EY19","別添4_38_18_EX20","別添4_38_19_EX21","別添4_38_20_EX22&EY22","別添4_38_21_EV23&EW23","別添4_38_22_EV25","別添4_38_23_EV26","別添4_38_24_EV27","別添4_39_1_EZ9","別添4_39_2_EZ10","別添4_39_3_EZ11","別添4_39_4_EZ12","別添4_39_5_EZ13","別添4_39_6_EZ14","別添4_39_7_EZ16","別添4_39_8_EZ17","別添4_39_9_EZ18","別添4_39_10_EZ19&FA19","別添4_39_11_EZ20","別添4_39_12_EZ21","別添4_39_13_EZ22&FA22","別添4_39_14_FB16","別添4_39_15_FB17","別添4_39_16_FB18","別添4_39_17_FB19&FC19","別添4_39_18_FB20","別添4_39_19_FB21","別添4_39_20_FB22&FC22","別添4_39_21_EZ23&FA23","別添4_39_22_EZ25","別添4_39_23_EZ26","別添4_39_24_EZ27","別添4_40_1_FD9","別添4_40_2_FD10","別添4_40_3_FD11","別添4_40_4_FD12","別添4_40_5_FD13","別添4_40_6_FD14","別添4_40_7_FD16","別添4_40_8_FD17","別添4_40_9_FD18","別添4_40_10_FD19&FE19","別添4_40_11_FD20","別添4_40_12_FD21","別添4_40_13_FD22&FE22","別添4_40_14_FF16","別添4_40_15_FF17","別添4_40_16_FF18","別添4_40_17_FF19&FG19","別添4_40_18_FF20","別添4_40_19_FF21","別添4_40_20_FF22&FG22","別添4_40_21_FD23&FE23","別添4_40_22_FD25","別添4_40_23_FD26","別添4_40_24_FD27","別添4_41_1_FH9","別添4_41_2_FH10","別添4_41_3_FH11","別添4_41_4_FH12","別添4_41_5_FH13","別添4_41_6_FH14","別添4_41_7_FH16","別添4_41_8_FH17","別添4_41_9_FH18","別添4_41_10_FH19&FI19","別添4_41_11_FH20","別添4_41_12_FH21","別添4_41_13_FH22&FI22","別添4_41_14_FJ16","別添4_41_15_FJ17","別添4_41_16_FJ18","別添4_41_17_FJ19&FK19","別添4_41_18_FJ20","別添4_41_19_FJ21","別添4_41_20_FJ22&FK22","別添4_41_21_FH23&FI23","別添4_41_22_FH25","別添4_41_23_FH26","別添4_41_24_FH27","別添4_42_1_FL9","別添4_42_2_FL10","別添4_42_3_FL11","別添4_42_4_FL12","別添4_42_5_FL13","別添4_42_6_FL14","別添4_42_7_FL16","別添4_42_8_FL17","別添4_42_9_FL18","別添4_42_10_FL19&FM19","別添4_42_11_FL20","別添4_42_12_FL21","別添4_42_13_FL22&FM22","別添4_42_14_FN16","別添4_42_15_FN17","別添4_42_16_FN18","別添4_42_17_FN19&FO19","別添4_42_18_FN20","別添4_42_19_FN21","別添4_42_20_FN22&FO22","別添4_42_21_FL23&FM23","別添4_42_22_FL25","別添4_42_23_FL26","別添4_42_24_FL27","別添4_43_1_FP9","別添4_43_2_FP10","別添4_43_3_FP11","別添4_43_4_FP12","別添4_43_5_FP13","別添4_43_6_FP14","別添4_43_7_FP16","別添4_43_8_FP17","別添4_43_9_FP18","別添4_43_10_FP19&FQ19","別添4_43_11_FP20","別添4_43_12_FP21","別添4_43_13_FP22&FQ22","別添4_43_14_FR16","別添4_43_15_FR17","別添4_43_16_FR18","別添4_43_17_FR19&FS19","別添4_43_18_FR20","別添4_43_19_FR21","別添4_43_20_FR22&FS22","別添4_43_21_FP23&FQ23","別添4_43_22_FP25","別添4_43_23_FP26","別添4_43_24_FP27","別添4_44_1_FT9","別添4_44_2_FT10","別添4_44_3_FT11","別添4_44_4_FT12","別添4_44_5_FT13","別添4_44_6_FT14","別添4_44_7_FT16","別添4_44_8_FT17","別添4_44_9_FT18","別添4_44_10_FT19&FU19","別添4_44_11_FT20","別添4_44_12_FT21","別添4_44_13_FT22&FU22","別添4_44_14_FV16","別添4_44_15_FV17","別添4_44_16_FV18","別添4_44_17_FV19&FW19","別添4_44_18_FV20","別添4_44_19_FV21","別添4_44_20_FV22&FW22","別添4_44_21_FT23&FU23","別添4_44_22_FT25","別添4_44_23_FT26","別添4_44_24_FT27","別添4_45_1_FX9","別添4_45_2_FX10","別添4_45_3_FX11","別添4_45_4_FX12","別添4_45_5_FX13","別添4_45_6_FX14","別添4_45_7_FX16","別添4_45_8_FX17","別添4_45_9_FX18","別添4_45_10_FX19&FY19","別添4_45_11_FX20","別添4_45_12_FX21","別添4_45_13_FX22&FY22","別添4_45_14_FZ16","別添4_45_15_FZ17","別添4_45_16_FZ18","別添4_45_17_FZ19&GA19","別添4_45_18_FZ20","別添4_45_19_FZ21","別添4_45_20_FZ22&GA22","別添4_45_21_FX23&FY23","別添4_45_22_FX25","別添4_45_23_FX26","別添4_45_24_FX27","別添4_46_1_GB9","別添4_46_2_GB10","別添4_46_3_GB11","別添4_46_4_GB12","別添4_46_5_GB13","別添4_46_6_GB14","別添4_46_7_GB16","別添4_46_8_GB17","別添4_46_9_GB18","別添4_46_10_GB19&GC19","別添4_46_11_GB20","別添4_46_12_GB21","別添4_46_13_GB22&GC22","別添4_46_14_GD16","別添4_46_15_GD17","別添4_46_16_GD18","別添4_46_17_GD19&GE19","別添4_46_18_GD20","別添4_46_19_GD21","別添4_46_20_GD22&GE22","別添4_46_21_GB23&GC23","別添4_46_22_GB25","別添4_46_23_GB26","別添4_46_24_GB27","別添4_47_1_GF9","別添4_47_2_GF10","別添4_47_3_GF11","別添4_47_4_GF12","別添4_47_5_GF13","別添4_47_6_GF14","別添4_47_7_GF16","別添4_47_8_GF17","別添4_47_9_GF18","別添4_47_10_GF19&GG19","別添4_47_11_GF20","別添4_47_12_GF21","別添4_47_13_GF22&GG22","別添4_47_14_GH16","別添4_47_15_GH17","別添4_47_16_GH18","別添4_47_17_GH19&GI19","別添4_47_18_GH20","別添4_47_19_GH21","別添4_47_20_GH22&GI22","別添4_47_21_GF23&GG23","別添4_47_22_GF25","別添4_47_23_GF26","別添4_47_24_GF27","別添4_48_1_GJ9","別添4_48_2_GJ10","別添4_48_3_GJ11","別添4_48_4_GJ12","別添4_48_5_GJ13","別添4_48_6_GJ14","別添4_48_7_GJ16","別添4_48_8_GJ17","別添4_48_9_GJ18","別添4_48_10_GJ19&GK19","別添4_48_11_GJ20","別添4_48_12_GJ21","別添4_48_13_GJ22&GK22","別添4_48_14_GL16","別添4_48_15_GL17","別添4_48_16_GL18","別添4_48_17_GL19&GM19","別添4_48_18_GL20","別添4_48_19_GL21","別添4_48_20_GL22&GM22","別添4_48_21_GJ23&GK23","別添4_48_22_GJ25","別添4_48_23_GJ26","別添4_48_24_GJ27","別添4_49_1_GN9","別添4_49_2_GN10","別添4_49_3_GN11","別添4_49_4_GN12","別添4_49_5_GN13","別添4_49_6_GN14","別添4_49_7_GN16","別添4_49_8_GN17","別添4_49_9_GN18","別添4_49_10_GN19&GO19","別添4_49_11_GN20","別添4_49_12_GN21","別添4_49_13_GN22&GO22","別添4_49_14_GP16","別添4_49_15_GP17","別添4_49_16_GP18","別添4_49_17_GP19&GQ19","別添4_49_18_GP20","別添4_49_19_GP21","別添4_49_20_GP22&GQ22","別添4_49_21_GN23&GO23","別添4_49_22_GN25","別添4_49_23_GN26","別添4_49_24_GN27","別添4_50_1_GR9","別添4_50_2_GR10","別添4_50_3_GR11","別添4_50_4_GR12","別添4_50_5_GR13","別添4_50_6_GR14","別添4_50_7_GR16","別添4_50_8_GR17","別添4_50_9_GR18","別添4_50_10_GR19&GS19","別添4_50_11_GR20","別添4_50_12_GR21","別添4_50_13_GR22&GS22","別添4_50_14_GT16","別添4_50_15_GT17","別添4_50_16_GT18","別添4_50_17_GT19&GU19","別添4_50_18_GT20","別添4_50_19_GT21","別添4_50_20_GT22&GU22","別添4_50_21_GR23&GS23","別添4_50_22_GR25","別添4_50_23_GR26","別添4_50_24_GR27","別添4_51_1_GV9","別添4_51_2_GV10","別添4_51_3_GV11","別添4_51_4_GV12","別添4_51_5_GV13","別添4_51_6_GV14","別添4_51_7_GV16","別添4_51_8_GV17","別添4_51_9_GV18","別添4_51_10_GV19&GW19","別添4_51_11_GV20","別添4_51_12_GV21","別添4_51_13_GV22&GW22","別添4_51_14_GX16","別添4_51_15_GX17","別添4_51_16_GX18","別添4_51_17_GX19&GY19","別添4_51_18_GX20","別添4_51_19_GX21","別添4_51_20_GX22&GY22","別添4_51_21_GV23&GW23","別添4_51_22_GV25","別添4_51_23_GV26","別添4_51_24_GV27","別添4_52_1_GZ9","別添4_52_2_GZ10","別添4_52_3_GZ11","別添4_52_4_GZ12","別添4_52_5_GZ13","別添4_52_6_GZ14","別添4_52_7_GZ16","別添4_52_8_GZ17","別添4_52_9_GZ18","別添4_52_10_GZ19&HA19","別添4_52_11_GZ20","別添4_52_12_GZ21","別添4_52_13_GZ22&HA22","別添4_52_14_HB16","別添4_52_15_HB17","別添4_52_16_HB18","別添4_52_17_HB19&HC19","別添4_52_18_HB20","別添4_52_19_HB21","別添4_52_20_HB22&HC22","別添4_52_21_GZ23&HA23","別添4_52_22_GZ25","別添4_52_23_GZ26","別添4_52_24_GZ27","別添4_53_1_HD9","別添4_53_2_HD10","別添4_53_3_HD11","別添4_53_4_HD12","別添4_53_5_HD13","別添4_53_6_HD14","別添4_53_7_HD16","別添4_53_8_HD17","別添4_53_9_HD18","別添4_53_10_HD19&HE19","別添4_53_11_HD20","別添4_53_12_HD21","別添4_53_13_HD22&HE22","別添4_53_14_HF16","別添4_53_15_HF17","別添4_53_16_HF18","別添4_53_17_HF19&HG19","別添4_53_18_HF20","別添4_53_19_HF21","別添4_53_20_HF22&HG22","別添4_53_21_HD23&HE23","別添4_53_22_HD25","別添4_53_23_HD26","別添4_53_24_HD27","別添4_54_1_HH9","別添4_54_2_HH10","別添4_54_3_HH11","別添4_54_4_HH12","別添4_54_5_HH13","別添4_54_6_HH14","別添4_54_7_HH16","別添4_54_8_HH17","別添4_54_9_HH18","別添4_54_10_HH19&HI19","別添4_54_11_HH20","別添4_54_12_HH21","別添4_54_13_HH22&HI22","別添4_54_14_HJ16","別添4_54_15_HJ17","別添4_54_16_HJ18","別添4_54_17_HJ19&HK19","別添4_54_18_HJ20","別添4_54_19_HJ21","別添4_54_20_HJ22&HK22","別添4_54_21_HH23&HI23","別添4_54_22_HH25","別添4_54_23_HH26","別添4_54_24_HH27","別添4_54_1_HH9","別添4_54_2_HH10","別添4_54_3_HH11","別添4_54_4_HH12","別添4_54_5_HH13","別添4_54_6_HH14","別添4_54_7_HH16","別添4_54_8_HH17","別添4_54_9_HH18","別添4_54_10_HH19&HI19","別添4_54_11_HH20","別添4_54_12_HH21","別添4_54_13_HH22&HI22","別添4_54_14_HJ16","別添4_54_15_HJ17","別添4_54_16_HJ18","別添4_54_17_HJ19&HK19","別添4_54_18_HJ20","別添4_54_19_HJ21","別添4_54_20_HJ22&HK22","別添4_54_21_HH23&HI23","別添4_54_22_HH25","別添4_54_23_HH26","別添4_54_24_HH27","別添4_56_1_HP9","別添4_56_2_HP10","別添4_56_3_HP11","別添4_56_4_HP12","別添4_56_5_HP13","別添4_56_6_HP14","別添4_56_7_HP16","別添4_56_8_HP17","別添4_56_9_HP18","別添4_56_10_HP19&HQ19","別添4_56_11_HP20","別添4_56_12_HP21","別添4_56_13_HP22&HQ22","別添4_56_14_HR16","別添4_56_15_HR17","別添4_56_16_HR18","別添4_56_17_HR19&HS19","別添4_56_18_HR20","別添4_56_19_HR21","別添4_56_20_HR22&HS22","別添4_56_21_HP23&HQ23","別添4_56_22_HP25","別添4_56_23_HP26","別添4_56_24_HP27","別添4_57_1_HT9","別添4_57_2_HT10","別添4_57_3_HT11","別添4_57_4_HT12","別添4_57_5_HT13","別添4_57_6_HT14","別添4_57_7_HT16","別添4_57_8_HT17","別添4_57_9_HT18","別添4_57_10_HT19&HU19","別添4_57_11_HT20","別添4_57_12_HT21","別添4_57_13_HT22&HU22","別添4_57_14_HV16","別添4_57_15_HV17","別添4_57_16_HV18","別添4_57_17_HV19&HW19","別添4_57_18_HV20","別添4_57_19_HV21","別添4_57_20_HV22&HW22","別添4_57_21_HT23&HU23","別添4_57_22_HT25","別添4_57_23_HT26","別添4_57_24_HT27","別添4_58_1_HX9","別添4_58_2_HX10","別添4_58_3_HX11","別添4_58_4_HX12","別添4_58_5_HX13","別添4_58_6_HX14","別添4_58_7_HX16","別添4_58_8_HX17","別添4_58_9_HX18","別添4_58_10_HX19&HY19","別添4_58_11_HX20","別添4_58_12_HX21","別添4_58_13_HX22&HY22","別添4_58_14_HZ16","別添4_58_15_HZ17","別添4_58_16_HZ18","別添4_58_17_HZ19&IA19","別添4_58_18_HZ20","別添4_58_19_HZ21","別添4_58_20_HZ22&IA22","別添4_58_21_HX23&HY23","別添4_58_22_HX25","別添4_58_23_HX26","別添4_58_24_HX27","別添4_59_1_IB9","別添4_59_2_IB10","別添4_59_3_IB11","別添4_59_4_IB12","別添4_59_5_IB13","別添4_59_6_IB14","別添4_59_7_IB16","別添4_59_8_IB17","別添4_59_9_IB18","別添4_59_10_IB19&IC19","別添4_59_11_IB20","別添4_59_12_IB21","別添4_59_13_IB22&IC22","別添4_59_14_ID16","別添4_59_15_ID17","別添4_59_16_ID18","別添4_59_17_ID19&IE19","別添4_59_18_ID20","別添4_59_19_ID21","別添4_59_20_ID22&IE22","別添4_59_21_IB23&IC23","別添4_59_22_IB25","別添4_59_23_IB26","別添4_59_24_IB27","別添4_60_1_IF9","別添4_60_2_IF10","別添4_60_3_IF11","別添4_60_4_IF12","別添4_60_5_IF13","別添4_60_6_IF14","別添4_60_7_IF16","別添4_60_8_IF17","別添4_60_9_IF18","別添4_60_10_IF19&IG19","別添4_60_11_IF20","別添4_60_12_IF21","別添4_60_13_IF22&IG22","別添4_60_14_IH16","別添4_60_15_IH17","別添4_60_16_IH18","別添4_60_17_IH19&II19","別添4_60_18_IH20","別添4_60_19_IH21","別添4_60_20_IH22&II22","別添4_60_21_IF23&IG23","別添4_60_22_IF25","別添4_60_23_IF26","別添4_60_24_IF27","別添5_G8","別添5_G19","別添5_O35","別添5_O32","別添5_H31","別添5_G40","別添5_G51","別添5_O67","別添5_O64","別添5_H63","別添5_H71","別添5_H79","別添6_G8","別添6_G14","別添6_G18","別添6_G22","別添6_G28","別添6_G32","別添6_G36","別添6_Y42","別添6_Y43"]
[{"$f":"ROW()-1","v":2},{"$f":"'（様式第１）融資計画書'!BA3","v":"様式第1_L6"},{"$f":"'（様式第１）融資計画書'!BB3","v":"年"},{"$f":"'（様式第１）融資計画書'!BC3","v":""},null,null,null,null,"項目","個人情報の取得及び利用に関する同意","年","月","日","指定金融機関_住所","指定金融機関_名称","指定金融機関_役職名","指定金融機関_代表者名","利子補給対象事業者_住所","利子補給対象事業者_名称","利子補給対象事業者_役職名","利子補給対象事業者_代表者名","融資名称","融資計画の内容","融資額","元金均等返済額","最終弁済額","融資期間_自：","融資期間_至：","融資利率","内　交付対象融資額","元金均等返済額","最終弁済額","交付対象融資期間_自：","交付対象融資期間_至：","利子補給率","利子補給金交付申請額（円）合計_単位期間Ⅰ","利子補給金交付申請額（円）合計_単位期間Ⅱ","利子補給金交付申請額合計（円）","融資備考欄","協調融資","シンジケートローン","事業者名","設備等利用者名","都道府県","市区町村","丁目・番地","業種大分類","業種分類項目名","資本金","従業員数","企業の内容","企業の規模","都道府県","市区町村","丁目・番地","対象要件１","対象要件２","設備導入区分１","設備導入区分2","導入設備の概要","対象事業の概要","経営革新計画の承認有無","経営革新計画の承認取得年","指定金融機関_担当部署等","指定金融機関_担当者名","指定金融機関_連絡先電話番号","指定金融機関_連絡先E-MAIL","利子補給対象事業者_担当部署等","利子補給対象事業者_担当者名","利子補給対象事業者_連絡先電話番号","利子補給対象事業者_連絡先E-MAIL","受付番号","年","月","日","指定金融機関_住所","指定金融機関_名称","指定金融機関_役職","指定金融機関_代表者名","交付方針決定日","交付方針決定通知番号","利子補給対象事業者名","融資名称","利子補給金交付申請額","交付対象融資の内容","融資額","元金均等返済額","最終弁済額","融資期間_自：","融資期間_至：","融資利率","内　交付対象融資額","元金均等返済額","最終弁済額","交付対象融資期間_自：","交付対象融資期間_至：","利子補給率","利子補給金交付申請額（円）合計_単位期間Ⅰ","利子補給金交付申請額（円）合計_単位期間Ⅱ","利子補給金交付申請額合計（円）","融資備考欄","協調融資","シンジケートローン","事業者名","設備等利用者名","都道府県","市区町村","丁目・番地","業種大分類","業種分類項目名","資本金","従業員数","企業の内容","企業の規模","都道府県","市区町村","丁目・番地","対象要件１","対象要件２","設備導入区分１","設備導入区分2","導入設備の概要","対象事業の概要","年","月","日","指定金融機関_住所","指定金融機関_名称","指定金融機関_役職","指定金融機関_代表者名","交付決定日","交付決定番号","利子補給対象事業者名","融資名称","利子補給金額","交付対象融資の内容","融資額","元金均等返済額","最終弁済額","融資期間_自：","融資期間_至：","融資利率","内　交付対象融資額","元金均等返済額","最終弁済額","交付対象融資期間_自：","交付対象融資期間_至：","利子補給率","利子補給金交付申請額（円）合計_単位期間Ⅰ","利子補給金交付申請額（円）合計_単位期間Ⅱ","利子補給金交付申請額合計（円）","融資備考欄","協調融資","シンジケートローン","事業者名","設備等利用者名","都道府県","市区町村","丁目・番地","業種大分類","業種分類項目名","資本金","従業員数","企業の内容","企業の規模","都道府県","市区町村","丁目・番地","対象要件１","対象要件２","設備導入区分１","設備導入区分2","導入設備の概要","対象事業の概要","給与支給総額の\n伸び率が年平均1.5%を\n達成できているか","未達成の事由","未達成の事由（その他）",{"$error":"#REF!"},{"$error":"#REF!"},{"$error":"#REF!"},{"$error":"#REF!"},{"$error":"#REF!"},{"$error":"#REF!"},{"$error":"#REF!"},{"$error":"#REF!"},{"$error":"#REF!"},{"$error":"#REF!"},{"$error":"#REF!"},{"$error":"#REF!"},{"$error":"#REF!"},{"$error":"#REF!"},{"$error":"#REF!"},{"$error":"#REF!"},{"$error":"#REF!"},{"$error":"#REF!"},{"$error":"#REF!"},{"$error":"#REF!"},"年","月","日","指定金融機関_住所","指定金融機関_名称","指定金融機関_役職","指定金融機関_代表者名","交付決定日","交付決定番号","利子補給対象事業者名","融資名称","利子補給金概算払請求金額","金融機関名","銀行コード\n（4桁）","支店名","支店コード\n（3桁）","預金の種別","口座番号\n（7桁）","預金の名義","預金の名義\n（ｶﾅ）","年間見込み省エネルギー率[%]","年間見込み省エネルギー量[kl]","トップランナー基準","トップランナー基準の区分名又は数値","トップランナー基準の数値（導入設備）","比較指標/トップランナー基準","添付資料の根拠記載箇所","省エネ要因","導入設備_製品名","導入設備_製造メーカー","導入設備_型番","導入設備_導入台数","導入設備_1台あたりの使用エネルギー","導入設備_年間エネルギー使用量計算式","導入設備_計算結果","一代前モデル_製品名","一代前モデル_製造メーカー","一代前モデル_型番","一代前モデル_導入台数","一代前モデル_1台あたりの使用エネルギー","一代前モデル_年間エネルギー使用量計算式","一代前モデル_計算結果","年間見込み省エネルギー量__計算結果","年間見込み省エネルギー量_原油換算計算式","年間見込み省エネルギー量原油換算計算結果","年間見込み省エネルギー率_自動計算","トップランナー基準","トップランナー基準の区分名又は数値","トップランナー基準の数値（導入設備）","比較指標/トップランナー基準","添付資料の根拠記載箇所","省エネ要因","導入設備_製品名","導入設備_製造メーカー","導入設備_型番","導入設備_導入台数","導入設備_1台あたりの使用エネルギー","導入設備_年間エネルギー使用量計算式","導入設備_計算結果","一代前モデル_製品名","一代前モデル_製造メーカー","一代前モデル_型番","一代前モデル_導入台数","一代前モデル_1台あたりの使用エネルギー","一代前モデル_年間エネルギー使用量計算式","一代前モデル_計算結果","年間見込み省エネルギー量__計算結果","年間見込み省エネルギー量_原油換算計算式","年間見込み省エネルギー量原油換算計算結果","年間見込み省エネルギー率_自動計算","トップランナー基準","トップランナー基準の区分名又は数値","トップランナー基準の数値（導入設備）","比較指標/トップランナー基準","添付資料の根拠記載箇所","省エネ要因","導入設備_製品名","導入設備_製造メーカー","導入設備_型番","導入設備_導入台数","導入設備_1台あたりの使用エネルギー","導入設備_年間エネルギー使用量計算式","導入設備_計算結果","一代前モデル_製品名","一代前モデル_製造メーカー","一代前モデル_型番","一代前モデル_導入台数","一代前モデル_1台あたりの使用エネルギー","一代前モデル_年間エネルギー使用量計算式","一代前モデル_計算結果","年間見込み省エネルギー量__計算結果","年間見込み省エネルギー量_原油換算計算式","年間見込み省エネルギー量原油換算計算結果","年間見込み省エネルギー率_自動計算","トップランナー基準","トップランナー基準の区分名又は数値","トップランナー基準の数値（導入設備）","比較指標/トップランナー基準","添付資料の根拠記載箇所","省エネ要因","導入設備_製品名","導入設備_製造メーカー","導入設備_型番","導入設備_導入台数","導入設備_1台あたりの使用エネルギー","導入設備_年間エネルギー使用量計算式","導入設備_計算結果","一代前モデル_製品名","一代前モデル_製造メーカー","一代前モデル_型番","一代前モデル_導入台数","一代前モデル_1台あたりの使用エネルギー","一代前モデル_年間エネルギー使用量計算式","一代前モデル_計算結果","年間見込み省エネルギー量__計算結果","年間見込み省エネルギー量_原油換算計算式","年間見込み省エネルギー量原油換算計算結果","年間見込み省エネルギー率_自動計算","トップランナー基準","トップランナー基準の区分名又は数値","トップランナー基準の数値（導入設備）","比較指標/トップランナー基準","添付資料の根拠記載箇所","省エネ要因","導入設備_製品名","導入設備_製造メーカー","導入設備_型番","導入設備_導入台数","導入設備_1台あたりの使用エネルギー","導入設備_年間エネルギー使用量計算式","導入設備_計算結果","一代前モデル_製品名","一代前モデル_製造メーカー","一代前モデル_型番","一代前モデル_導入台数","一代前モデル_1台あたりの使用エネルギー","一代前モデル_年間エネルギー使用量計算式","一代前モデル_計算結果","年間見込み省エネルギー量__計算結果","年間見込み省エネルギー量_原油換算計算式","年間見込み省エネルギー量原油換算計算結果","年間見込み省エネルギー率_自動計算","トップランナー基準","トップランナー基準の区分名又は数値","トップランナー基準の数値（導入設備）","比較指標/トップランナー基準","添付資料の根拠記載箇所","省エネ要因","導入設備_製品名","導入設備_製造メーカー","導入設備_型番","導入設備_導入台数","導入設備_1台あたりの使用エネルギー","導入設備_年間エネルギー使用量計算式","導入設備_計算結果","一代前モデル_製品名","一代前モデル_製造メーカー","一代前モデル_型番","一代前モデル_導入台数","一代前モデル_1台あたりの使用エネルギー","一代前モデル_年間エネルギー使用量計算式","一代前モデル_計算結果","年間見込み省エネルギー量__計算結果","年間見込み省エネルギー量_原油換算計算式","年間見込み省エネルギー量原油換算計算結果","年間見込み省エネルギー率_自動計算","トップランナー基準","トップランナー基準の区分名又は数値","トップランナー基準の数値（導入設備）","比較指標/トップランナー基準","添付資料の根拠記載箇所","省エネ要因","導入設備_製品名","導入設備_製造メーカー","導入設備_型番","導入設備_導入台数","導入設備_1台あたりの使用エネルギー","導入設備_年間エネルギー使用量計算式","導入設備_計算結果","一代前モデル_製品名","一代前モデル_製造メーカー","一代前モデル_型番","一代前モデル_導入台数","一代前モデル_1台あたりの使用エネルギー","一代前モデル_年間エネルギー使用量計算式","一代前モデル_計算結果","年間見込み省エネルギー量__計算結果","年間見込み省エネルギー量_原油換算計算式","年間見込み省エネルギー量原油換算計算結果","年間見込み省エネルギー率_自動計算","トップランナー基準","トップランナー基準の区分名又は数値","トップランナー基準の数値（導入設備）","比較指標/トップランナー基準","添付資料の根拠記載箇所","省エネ要因","導入設備_製品名","導入設備_製造メーカー","導入設備_型番","導入設備_導入台数","導入設備_1台あたりの使用エネルギー","導入設備_年間エネルギー使用量計算式","導入設備_計算結果","一代前モデル_製品名","一代前モデル_製造メーカー","一代前モデル_型番","一代前モデル_導入台数","一代前モデル_1台あたりの使用エネルギー","一代前モデル_年間エネルギー使用量計算式","一代前モデル_計算結果","年間見込み省エネルギー量__計算結果","年間見込み省エネルギー量_原油換算計算式","年間見込み省エネルギー量原油換算計算結果","年間見込み省エネルギー率_自動計算","トップランナー基準","トップランナー基準の区分名又は数値","トップランナー基準の数値（導入設備）","比較指標/トップランナー基準","添付資料の根拠記載箇所","省エネ要因","導入設備_製品名","導入設備_製造メーカー","導入設備_型番","導入設備_導入台数","導入設備_1台あたりの使用エネルギー","導入設備_年間エネルギー使用量計算式","導入設備_計算結果","一代前モデル_製品名","一代前モデル_製造メーカー","一代前モデル_型番","一代前モデル_導入台数","一代前モデル_1台あたりの使用エネルギー","一代前モデル_年間エネルギー使用量計算式","一代前モデル_計算結果","年間見込み省エネルギー量__計算結果","年間見込み省エネルギー量_原油換算計算式","年間見込み省エネルギー量原油換算計算結果","年間見込み省エネルギー率_自動計算","トップランナー基準","トップランナー基準の区分名又は数値","トップランナー基準の数値（導入設備）","比較指標/トップランナー基準","添付資料の根拠記載箇所","省エネ要因","導入設備_製品名","導入設備_製造メーカー","導入設備_型番","導入設備_導入台数","導入設備_1台あたりの使用エネルギー","導入設備_年間エネルギー使用量計算式","導入設備_計算結果","一代前モデル_製品名","一代前モデル_製造メーカー","一代前モデル_型番","一代前モデル_導入台数","一代前モデル_1台あたりの使用エネルギー","一代前モデル_年間エネルギー使用量計算式","一代前モデル_計算結果","年間見込み省エネルギー量__計算結果","年間見込み省エネルギー量_原油換算計算式","年間見込み省エネルギー量原油換算計算結果","年間見込み省エネルギー率_自動計算","トップランナー基準","トップランナー基準の区分名又は数値","トップランナー基準の数値（導入設備）","比較指標/トップランナー基準","添付資料の根拠記載箇所","省エネ要因","導入設備_製品名","導入設備_製造メーカー","導入設備_型番","導入設備_導入台数","導入設備_1台あたりの使用エネルギー","導入設備_年間エネルギー使用量計算式","導入設備_計算結果","一代前モデル_製品名","一代前モデル_製造メーカー","一代前モデル_型番","一代前モデル_導入台数","一代前モデル_1台あたりの使用エネルギー","一代前モデル_年間エネルギー使用量計算式","一代前モデル_計算結果","年間見込み省エネルギー量__計算結果","年間見込み省エネルギー量_原油換算計算式","年間見込み省エネルギー量原油換算計算結果","年間見込み省エネルギー率_自動計算","トップランナー基準","トップランナー基準の区分名又は数値","トップランナー基準の数値（導入設備）","比較指標/トップランナー基準","添付資料の根拠記載箇所","省エネ要因","導入設備_製品名","導入設備_製造メーカー","導入設備_型番","導入設備_導入台数","導入設備_1台あたりの使用エネルギー","導入設備_年間エネルギー使用量計算式","導入設備_計算結果","一代前モデル_製品名","一代前モデル_製造メーカー","一代前モデル_型番","一代前モデル_導入台数","一代前モデル_1台あたりの使用エネルギー","一代前モデル_年間エネルギー使用量計算式","一代前モデル_計算結果","年間見込み省エネルギー量__計算結果","年間見込み省エネルギー量_原油換算計算式","年間見込み省エネルギー量原油換算計算結果","年間見込み省エネルギー率_自動計算","トップランナー基準","トップランナー基準の区分名又は数値","トップランナー基準の数値（導入設備）","比較指標/トップランナー基準","添付資料の根拠記載箇所","省エネ要因","導入設備_製品名","導入設備_製造メーカー","導入設備_型番","導入設備_導入台数","導入設備_1台あたりの使用エネルギー","導入設備_年間エネルギー使用量計算式","導入設備_計算結果","一代前モデル_製品名","一代前モデル_製造メーカー","一代前モデル_型番","一代前モデル_導入台数","一代前モデル_1台あたりの使用エネルギー","一代前モデル_年間エネルギー使用量計算式","一代前モデル_計算結果","年間見込み省エネルギー量__計算結果","年間見込み省エネルギー量_原油換算計算式","年間見込み省エネルギー量原油換算計算結果","年間見込み省エネルギー率_自動計算","トップランナー基準","トップランナー基準の区分名又は数値","トップランナー基準の数値（導入設備）","比較指標/トップランナー基準","添付資料の根拠記載箇所","省エネ要因","導入設備_製品名","導入設備_製造メーカー","導入設備_型番","導入設備_導入台数","導入設備_1台あたりの使用エネルギー","導入設備_年間エネルギー使用量計算式","導入設備_計算結果","一代前モデル_製品名","一代前モデル_製造メーカー","一代前モデル_型番","一代前モデル_導入台数","一代前モデル_1台あたりの使用エネルギー","一代前モデル_年間エネルギー使用量計算式","一代前モデル_計算結果","年間見込み省エネルギー量__計算結果","年間見込み省エネルギー量_原油換算計算式","年間見込み省エネルギー量原油換算計算結果","年間見込み省エネルギー率_自動計算","トップランナー基準","トップランナー基準の区分名又は数値","トップランナー基準の数値（導入設備）","比較指標/トップランナー基準","添付資料の根拠記載箇所","省エネ要因","導入設備_製品名","導入設備_製造メーカー","導入設備_型番","導入設備_導入台数","導入設備_1台あたりの使用エネルギー","導入設備_年間エネルギー使用量計算式","導入設備_計算結果","一代前モデル_製品名","一代前モデル_製造メーカー","一代前モデル_型番","一代前モデル_導入台数","一代前モデル_1台あたりの使用エネルギー","一代前モデル_年間エネルギー使用量計算式","一代前モデル_計算結果","年間見込み省エネルギー量__計算結果","年間見込み省エネルギー量_原油換算計算式","年間見込み省エネルギー量原油換算計算結果","年間見込み省エネルギー率_自動計算","トップランナー基準","トップランナー基準の区分名又は数値","トップランナー基準の数値（導入設備）","比較指標/トップランナー基準","添付資料の根拠記載箇所","省エネ要因","導入設備_製品名","導入設備_製造メーカー","導入設備_型番","導入設備_導入台数","導入設備_1台あたりの使用エネルギー","導入設備_年間エネルギー使用量計算式","導入設備_計算結果","一代前モデル_製品名","一代前モデル_製造メーカー","一代前モデル_型番","一代前モデル_導入台数","一代前モデル_1台あたりの使用エネルギー","一代前モデル_年間エネルギー使用量計算式","一代前モデル_計算結果","年間見込み省エネルギー量__計算結果","年間見込み省エネルギー量_原油換算計算式","年間見込み省エネルギー量原油換算計算結果","年間見込み省エネルギー率_自動計算","トップランナー基準","トップランナー基準の区分名又は数値","トップランナー基準の数値（導入設備）","比較指標/トップランナー基準","添付資料の根拠記載箇所","省エネ要因","導入設備_製品名","導入設備_製造メーカー","導入設備_型番","導入設備_導入台数","導入設備_1台あたりの使用エネルギー","導入設備_年間エネルギー使用量計算式","導入設備_計算結果","一代前モデル_製品名","一代前モデル_製造メーカー","一代前モデル_型番","一代前モデル_導入台数","一代前モデル_1台あたりの使用エネルギー","一代前モデル_年間エネルギー使用量計算式","一代前モデル_計算結果","年間見込み省エネルギー量__計算結果","年間見込み省エネルギー量_原油換算計算式","年間見込み省エネルギー量原油換算計算結果","年間見込み省エネルギー率_自動計算","トップランナー基準","トップランナー基準の区分名又は数値","トップランナー基準の数値（導入設備）","比較指標/トップランナー基準","添付資料の根拠記載箇所","省エネ要因","導入設備_製品名","導入設備_製造メーカー","導入設備_型番","導入設備_導入台数","導入設備_1台あたりの使用エネルギー","導入設備_年間エネルギー使用量計算式","導入設備_計算結果","一代前モデル_製品名","一代前モデル_製造メーカー","一代前モデル_型番","一代前モデル_導入台数","一代前モデル_1台あたりの使用エネルギー","一代前モデル_年間エネルギー使用量計算式","一代前モデル_計算結果","年間見込み省エネルギー量__計算結果","年間見込み省エネルギー量_原油換算計算式","年間見込み省エネルギー量原油換算計算結果","年間見込み省エネルギー率_自動計算","トップランナー基準","トップランナー基準の区分名又は数値","トップランナー基準の数値（導入設備）","比較指標/トップランナー基準","添付資料の根拠記載箇所","省エネ要因","導入設備_製品名","導入設備_製造メーカー","導入設備_型番","導入設備_導入台数","導入設備_1台あたりの使用エネルギー","導入設備_年間エネルギー使用量計算式","導入設備_計算結果","一代前モデル_製品名","一代前モデル_製造メーカー","一代前モデル_型番","一代前モデル_導入台数","一代前モデル_1台あたりの使用エネルギー","一代前モデル_年間エネルギー使用量計算式","一代前モデル_計算結果","年間見込み省エネルギー量__計算結果","年間見込み省エネルギー量_原油換算計算式","年間見込み省エネルギー量原油換算計算結果","年間見込み省エネルギー率_自動計算","トップランナー基準","トップランナー基準の区分名又は数値","トップランナー基準の数値（導入設備）","比較指標/トップランナー基準","添付資料の根拠記載箇所","省エネ要因","導入設備_製品名","導入設備_製造メーカー","導入設備_型番","導入設備_導入台数","導入設備_1台あたりの使用エネルギー","導入設備_年間エネルギー使用量計算式","導入設備_計算結果","一代前モデル_製品名","一代前モデル_製造メーカー","一代前モデル_型番","一代前モデル_導入台数","一代前モデル_1台あたりの使用エネルギー","一代前モデル_年間エネルギー使用量計算式","一代前モデル_計算結果","年間見込み省エネルギー量__計算結果","年間見込み省エネルギー量_原油換算計算式","年間見込み省エネルギー量原油換算計算結果","年間見込み省エネルギー率_自動計算","トップランナー基準","トップランナー基準の区分名又は数値","トップランナー基準の数値（導入設備）","比較指標/トップランナー基準","添付資料の根拠記載箇所","省エネ要因","導入設備_製品名","導入設備_製造メーカー","導入設備_型番","導入設備_導入台数","導入設備_1台あたりの使用エネルギー","導入設備_年間エネルギー使用量計算式","導入設備_計算結果","一代前モデル_製品名","一代前モデル_製造メーカー","一代前モデル_型番","一代前モデル_導入台数","一代前モデル_1台あたりの使用エネルギー","一代前モデル_年間エネルギー使用量計算式","一代前モデル_計算結果","年間見込み省エネルギー量__計算結果","年間見込み省エネルギー量_原油換算計算式","年間見込み省エネルギー量原油換算計算結果","年間見込み省エネルギー率_自動計算","トップランナー基準","トップランナー基準の区分名又は数値","トップランナー基準の数値（導入設備）","比較指標/トップランナー基準","添付資料の根拠記載箇所","省エネ要因","導入設備_製品名","導入設備_製造メーカー","導入設備_型番","導入設備_導入台数","導入設備_1台あたりの使用エネルギー","導入設備_年間エネルギー使用量計算式","導入設備_計算結果","一代前モデル_製品名","一代前モデル_製造メーカー","一代前モデル_型番","一代前モデル_導入台数","一代前モデル_1台あたりの使用エネルギー","一代前モデル_年間エネルギー使用量計算式","一代前モデル_計算結果","年間見込み省エネルギー量__計算結果","年間見込み省エネルギー量_原油換算計算式","年間見込み省エネルギー量原油換算計算結果","年間見込み省エネルギー率_自動計算","トップランナー基準","トップランナー基準の区分名又は数値","トップランナー基準の数値（導入設備）","比較指標/トップランナー基準","添付資料の根拠記載箇所","省エネ要因","導入設備_製品名","導入設備_製造メーカー","導入設備_型番","導入設備_導入台数","導入設備_1台あたりの使用エネルギー","導入設備_年間エネルギー使用量計算式","導入設備_計算結果","一代前モデル_製品名","一代前モデル_製造メーカー","一代前モデル_型番","一代前モデル_導入台数","一代前モデル_1台あたりの使用エネルギー","一代前モデル_年間エネルギー使用量計算式","一代前モデル_計算結果","年間見込み省エネルギー量__計算結果","年間見込み省エネルギー量_原油換算計算式","年間見込み省エネルギー量原油換算計算結果","年間見込み省エネルギー率_自動計算","トップランナー基準","トップランナー基準の区分名又は数値","トップランナー基準の数値（導入設備）","比較指標/トップランナー基準","添付資料の根拠記載箇所","省エネ要因","導入設備_製品名","導入設備_製造メーカー","導入設備_型番","導入設備_導入台数","導入設備_1台あたりの使用エネルギー","導入設備_年間エネルギー使用量計算式","導入設備_計算結果","一代前モデル_製品名","一代前モデル_製造メーカー","一代前モデル_型番","一代前モデル_導入台数","一代前モデル_1台あたりの使用エネルギー","一代前モデル_年間エネルギー使用量計算式","一代前モデル_計算結果","年間見込み省エネルギー量__計算結果","年間見込み省エネルギー量_原油換算計算式","年間見込み省エネルギー量原油換算計算結果","年間見込み省エネルギー率_自動計算","トップランナー基準","トップランナー基準の区分名又は数値","トップランナー基準の数値（導入設備）","比較指標/トップランナー基準","添付資料の根拠記載箇所","省エネ要因","導入設備_製品名","導入設備_製造メーカー","導入設備_型番","導入設備_導入台数","導入設備_1台あたりの使用エネルギー","導入設備_年間エネルギー使用量計算式","導入設備_計算結果","一代前モデル_製品名","一代前モデル_製造メーカー","一代前モデル_型番","一代前モデル_導入台数","一代前モデル_1台あたりの使用エネルギー","一代前モデル_年間エネルギー使用量計算式","一代前モデル_計算結果","年間見込み省エネルギー量__計算結果","年間見込み省エネルギー量_原油換算計算式","年間見込み省エネルギー量原油換算計算結果","年間見込み省エネルギー率_自動計算","トップランナー基準","トップランナー基準の区分名又は数値","トップランナー基準の数値（導入設備）","比較指標/トップランナー基準","添付資料の根拠記載箇所","省エネ要因","導入設備_製品名","導入設備_製造メーカー","導入設備_型番","導入設備_導入台数","導入設備_1台あたりの使用エネルギー","導入設備_年間エネルギー使用量計算式","導入設備_計算結果","一代前モデル_製品名","一代前モデル_製造メーカー","一代前モデル_型番","一代前モデル_導入台数","一代前モデル_1台あたりの使用エネルギー","一代前モデル_年間エネルギー使用量計算式","一代前モデル_計算結果","年間見込み省エネルギー量__計算結果","年間見込み省エネルギー量_原油換算計算式","年間見込み省エネルギー量原油換算計算結果","年間見込み省エネルギー率_自動計算","トップランナー基準","トップランナー基準の区分名又は数値","トップランナー基準の数値（導入設備）","比較指標/トップランナー基準","添付資料の根拠記載箇所","省エネ要因","導入設備_製品名","導入設備_製造メーカー","導入設備_型番","導入設備_導入台数","導入設備_1台あたりの使用エネルギー","導入設備_年間エネルギー使用量計算式","導入設備_計算結果","一代前モデル_製品名","一代前モデル_製造メーカー","一代前モデル_型番","一代前モデル_導入台数","一代前モデル_1台あたりの使用エネルギー","一代前モデル_年間エネルギー使用量計算式","一代前モデル_計算結果","年間見込み省エネルギー量__計算結果","年間見込み省エネルギー量_原油換算計算式","年間見込み省エネルギー量原油換算計算結果","年間見込み省エネルギー率_自動計算","トップランナー基準","トップランナー基準の区分名又は数値","トップランナー基準の数値（導入設備）","比較指標/トップランナー基準","添付資料の根拠記載箇所","省エネ要因","導入設備_製品名","導入設備_製造メーカー","導入設備_型番","導入設備_導入台数","導入設備_1台あたりの使用エネルギー","導入設備_年間エネルギー使用量計算式","導入設備_計算結果","一代前モデル_製品名","一代前モデル_製造メーカー","一代前モデル_型番","一代前モデル_導入台数","一代前モデル_1台あたりの使用エネルギー","一代前モデル_年間エネルギー使用量計算式","一代前モデル_計算結果","年間見込み省エネルギー量__計算結果","年間見込み省エネルギー量_原油換算計算式","年間見込み省エネルギー量原油換算計算結果","年間見込み省エネルギー率_自動計算","トップランナー基準","トップランナー基準の区分名又は数値","トップランナー基準の数値（導入設備）","比較指標/トップランナー基準","添付資料の根拠記載箇所","省エネ要因","導入設備_製品名","導入設備_製造メーカー","導入設備_型番","導入設備_導入台数","導入設備_1台あたりの使用エネルギー","導入設備_年間エネルギー使用量計算式","導入設備_計算結果","一代前モデル_製品名","一代前モデル_製造メーカー","一代前モデル_型番","一代前モデル_導入台数","一代前モデル_1台あたりの使用エネルギー","一代前モデル_年間エネルギー使用量計算式","一代前モデル_計算結果","年間見込み省エネルギー量__計算結果","年間見込み省エネルギー量_原油換算計算式","年間見込み省エネルギー量原油換算計算結果","年間見込み省エネルギー率_自動計算","トップランナー基準","トップランナー基準の区分名又は数値","トップランナー基準の数値（導入設備）","比較指標/トップランナー基準","添付資料の根拠記載箇所","省エネ要因","導入設備_製品名","導入設備_製造メーカー","導入設備_型番","導入設備_導入台数","導入設備_1台あたりの使用エネルギー","導入設備_年間エネルギー使用量計算式","導入設備_計算結果","一代前モデル_製品名","一代前モデル_製造メーカー","一代前モデル_型番","一代前モデル_導入台数","一代前モデル_1台あたりの使用エネルギー","一代前モデル_年間エネルギー使用量計算式","一代前モデル_計算結果","年間見込み省エネルギー量__計算結果","年間見込み省エネルギー量_原油換算計算式","年間見込み省エネルギー量原油換算計算結果","年間見込み省エネルギー率_自動計算","トップランナー基準","トップランナー基準の区分名又は数値","トップランナー基準の数値（導入設備）","比較指標/トップランナー基準","添付資料の根拠記載箇所","省エネ要因","導入設備_製品名","導入設備_製造メーカー","導入設備_型番","導入設備_導入台数","導入設備_1台あたりの使用エネルギー","導入設備_年間エネルギー使用量計算式","導入設備_計算結果","一代前モデル_製品名","一代前モデル_製造メーカー","一代前モデル_型番","一代前モデル_導入台数","一代前モデル_1台あたりの使用エネルギー","一代前モデル_年間エネルギー使用量計算式","一代前モデル_計算結果","年間見込み省エネルギー量__計算結果","年間見込み省エネルギー量_原油換算計算式","年間見込み省エネルギー量原油換算計算結果","年間見込み省エネルギー率_自動計算","トップランナー基準","トップランナー基準の区分名又は数値","トップランナー基準の数値（導入設備）","比較指標/トップランナー基準","添付資料の根拠記載箇所","省エネ要因","導入設備_製品名","導入設備_製造メーカー","導入設備_型番","導入設備_導入台数","導入設備_1台あたりの使用エネルギー","導入設備_年間エネルギー使用量計算式","導入設備_計算結果","一代前モデル_製品名","一代前モデル_製造メーカー","一代前モデル_型番","一代前モデル_導入台数","一代前モデル_1台あたりの使用エネルギー","一代前モデル_年間エネルギー使用量計算式","一代前モデル_計算結果","年間見込み省エネルギー量__計算結果","年間見込み省エネルギー量_原油換算計算式","年間見込み省エネルギー量原油換算計算結果","年間見込み省エネルギー率_自動計算","トップランナー基準","トップランナー基準の区分名又は数値","トップランナー基準の数値（導入設備）","比較指標/トップランナー基準","添付資料の根拠記載箇所","省エネ要因","導入設備_製品名","導入設備_製造メーカー","導入設備_型番","導入設備_導入台数","導入設備_1台あたりの使用エネルギー","導入設備_年間エネルギー使用量計算式","導入設備_計算結果","一代前モデル_製品名","一代前モデル_製造メーカー","一代前モデル_型番","一代前モデル_導入台数","一代前モデル_1台あたりの使用エネルギー","一代前モデル_年間エネルギー使用量計算式","一代前モデル_計算結果","年間見込み省エネルギー量__計算結果","年間見込み省エネルギー量_原油換算計算式","年間見込み省エネルギー量原油換算計算結果","年間見込み省エネルギー率_自動計算","トップランナー基準","トップランナー基準の区分名又は数値","トップランナー基準の数値（導入設備）","比較指標/トップランナー基準","添付資料の根拠記載箇所","省エネ要因","導入設備_製品名","導入設備_製造メーカー","導入設備_型番","導入設備_導入台数","導入設備_1台あたりの使用エネルギー","導入設備_年間エネルギー使用量計算式","導入設備_計算結果","一代前モデル_製品名","一代前モデル_製造メーカー","一代前モデル_型番","一代前モデル_導入台数","一代前モデル_1台あたりの使用エネルギー","一代前モデル_年間エネルギー使用量計算式","一代前モデル_計算結果","年間見込み省エネルギー量__計算結果","年間見込み省エネルギー量_原油換算計算式","年間見込み省エネルギー量原油換算計算結果","年間見込み省エネルギー率_自動計算","トップランナー基準","トップランナー基準の区分名又は数値","トップランナー基準の数値（導入設備）","比較指標/トップランナー基準","添付資料の根拠記載箇所","省エネ要因","導入設備_製品名","導入設備_製造メーカー","導入設備_型番","導入設備_導入台数","導入設備_1台あたりの使用エネルギー","導入設備_年間エネルギー使用量計算式","導入設備_計算結果","一代前モデル_製品名","一代前モデル_製造メーカー","一代前モデル_型番","一代前モデル_導入台数","一代前モデル_1台あたりの使用エネルギー","一代前モデル_年間エネルギー使用量計算式","一代前モデル_計算結果","年間見込み省エネルギー量__計算結果","年間見込み省エネルギー量_原油換算計算式","年間見込み省エネルギー量原油換算計算結果","年間見込み省エネルギー率_自動計算","トップランナー基準","トップランナー基準の区分名又は数値","トップランナー基準の数値（導入設備）","比較指標/トップランナー基準","添付資料の根拠記載箇所","省エネ要因","導入設備_製品名","導入設備_製造メーカー","導入設備_型番","導入設備_導入台数","導入設備_1台あたりの使用エネルギー","導入設備_年間エネルギー使用量計算式","導入設備_計算結果","一代前モデル_製品名","一代前モデル_製造メーカー","一代前モデル_型番","一代前モデル_導入台数","一代前モデル_1台あたりの使用エネルギー","一代前モデル_年間エネルギー使用量計算式","一代前モデル_計算結果","年間見込み省エネルギー量__計算結果","年間見込み省エネルギー量_原油換算計算式","年間見込み省エネルギー量原油換算計算結果","年間見込み省エネルギー率_自動計算","トップランナー基準","トップランナー基準の区分名又は数値","トップランナー基準の数値（導入設備）","比較指標/トップランナー基準","添付資料の根拠記載箇所","省エネ要因","導入設備_製品名","導入設備_製造メーカー","導入設備_型番","導入設備_導入台数","導入設備_1台あたりの使用エネルギー","導入設備_年間エネルギー使用量計算式","導入設備_計算結果","一代前モデル_製品名","一代前モデル_製造メーカー","一代前モデル_型番","一代前モデル_導入台数","一代前モデル_1台あたりの使用エネルギー","一代前モデル_年間エネルギー使用量計算式","一代前モデル_計算結果","年間見込み省エネルギー量__計算結果","年間見込み省エネルギー量_原油換算計算式","年間見込み省エネルギー量原油換算計算結果","年間見込み省エネルギー率_自動計算","トップランナー基準","トップランナー基準の区分名又は数値","トップランナー基準の数値（導入設備）","比較指標/トップランナー基準","添付資料の根拠記載箇所","省エネ要因","導入設備_製品名","導入設備_製造メーカー","導入設備_型番","導入設備_導入台数","導入設備_1台あたりの使用エネルギー","導入設備_年間エネルギー使用量計算式","導入設備_計算結果","一代前モデル_製品名","一代前モデル_製造メーカー","一代前モデル_型番","一代前モデル_導入台数","一代前モデル_1台あたりの使用エネルギー","一代前モデル_年間エネルギー使用量計算式","一代前モデル_計算結果","年間見込み省エネルギー量__計算結果","年間見込み省エネルギー量_原油換算計算式","年間見込み省エネルギー量原油換算計算結果","年間見込み省エネルギー率_自動計算","トップランナー基準","トップランナー基準の区分名又は数値","トップランナー基準の数値（導入設備）","比較指標/トップランナー基準","添付資料の根拠記載箇所","省エネ要因","導入設備_製品名","導入設備_製造メーカー","導入設備_型番","導入設備_導入台数","導入設備_1台あたりの使用エネルギー","導入設備_年間エネルギー使用量計算式","導入設備_計算結果","一代前モデル_製品名","一代前モデル_製造メーカー","一代前モデル_型番","一代前モデル_導入台数","一代前モデル_1台あたりの使用エネルギー","一代前モデル_年間エネルギー使用量計算式","一代前モデル_計算結果","年間見込み省エネルギー量__計算結果","年間見込み省エネルギー量_原油換算計算式","年間見込み省エネルギー量原油換算計算結果","年間見込み省エネルギー率_自動計算","トップランナー基準","トップランナー基準の区分名又は数値","トップランナー基準の数値（導入設備）","比較指標/トップランナー基準","添付資料の根拠記載箇所","省エネ要因","導入設備_製品名","導入設備_製造メーカー","導入設備_型番","導入設備_導入台数","導入設備_1台あたりの使用エネルギー","導入設備_年間エネルギー使用量計算式","導入設備_計算結果","一代前モデル_製品名","一代前モデル_製造メーカー","一代前モデル_型番","一代前モデル_導入台数","一代前モデル_1台あたりの使用エネルギー","一代前モデル_年間エネルギー使用量計算式","一代前モデル_計算結果","年間見込み省エネルギー量__計算結果","年間見込み省エネルギー量_原油換算計算式","年間見込み省エネルギー量原油換算計算結果","年間見込み省エネルギー率_自動計算","トップランナー基準","トップランナー基準の区分名又は数値","トップランナー基準の数値（導入設備）","比較指標/トップランナー基準","添付資料の根拠記載箇所","省エネ要因","導入設備_製品名","導入設備_製造メーカー","導入設備_型番","導入設備_導入台数","導入設備_1台あたりの使用エネルギー","導入設備_年間エネルギー使用量計算式","導入設備_計算結果","一代前モデル_製品名","一代前モデル_製造メーカー","一代前モデル_型番","一代前モデル_導入台数","一代前モデル_1台あたりの使用エネルギー","一代前モデル_年間エネルギー使用量計算式","一代前モデル_計算結果","年間見込み省エネルギー量__計算結果","年間見込み省エネルギー量_原油換算計算式","年間見込み省エネルギー量原油換算計算結果","年間見込み省エネルギー率_自動計算","トップランナー基準","トップランナー基準の区分名又は数値","トップランナー基準の数値（導入設備）","比較指標/トップランナー基準","添付資料の根拠記載箇所","省エネ要因","導入設備_製品名","導入設備_製造メーカー","導入設備_型番","導入設備_導入台数","導入設備_1台あたりの使用エネルギー","導入設備_年間エネルギー使用量計算式","導入設備_計算結果","一代前モデル_製品名","一代前モデル_製造メーカー","一代前モデル_型番","一代前モデル_導入台数","一代前モデル_1台あたりの使用エネルギー","一代前モデル_年間エネルギー使用量計算式","一代前モデル_計算結果","年間見込み省エネルギー量__計算結果","年間見込み省エネルギー量_原油換算計算式","年間見込み省エネルギー量原油換算計算結果","年間見込み省エネルギー率_自動計算","トップランナー基準","トップランナー基準の区分名又は数値","トップランナー基準の数値（導入設備）","比較指標/トップランナー基準","添付資料の根拠記載箇所","省エネ要因","導入設備_製品名","導入設備_製造メーカー","導入設備_型番","導入設備_導入台数","導入設備_1台あたりの使用エネルギー","導入設備_年間エネルギー使用量計算式","導入設備_計算結果","一代前モデル_製品名","一代前モデル_製造メーカー","一代前モデル_型番","一代前モデル_導入台数","一代前モデル_1台あたりの使用エネルギー","一代前モデル_年間エネルギー使用量計算式","一代前モデル_計算結果","年間見込み省エネルギー量__計算結果","年間見込み省エネルギー量_原油換算計算式","年間見込み省エネルギー量原油換算計算結果","年間見込み省エネルギー率_自動計算","トップランナー基準","トップランナー基準の区分名又は数値","トップランナー基準の数値（導入設備）","比較指標/トップランナー基準","添付資料の根拠記載箇所","省エネ要因","導入設備_製品名","導入設備_製造メーカー","導入設備_型番","導入設備_導入台数","導入設備_1台あたりの使用エネルギー","導入設備_年間エネルギー使用量計算式","導入設備_計算結果","一代前モデル_製品名","一代前モデル_製造メーカー","一代前モデル_型番","一代前モデル_導入台数","一代前モデル_1台あたりの使用エネルギー","一代前モデル_年間エネルギー使用量計算式","一代前モデル_計算結果","年間見込み省エネルギー量__計算結果","年間見込み省エネルギー量_原油換算計算式","年間見込み省エネルギー量原油換算計算結果","年間見込み省エネルギー率_自動計算","トップランナー基準","トップランナー基準の区分名又は数値","トップランナー基準の数値（導入設備）","比較指標/トップランナー基準","添付資料の根拠記載箇所","省エネ要因","導入設備_製品名","導入設備_製造メーカー","導入設備_型番","導入設備_導入台数","導入設備_1台あたりの使用エネルギー","導入設備_年間エネルギー使用量計算式","導入設備_計算結果","一代前モデル_製品名","一代前モデル_製造メーカー","一代前モデル_型番","一代前モデル_導入台数","一代前モデル_1台あたりの使用エネルギー","一代前モデル_年間エネルギー使用量計算式","一代前モデル_計算結果","年間見込み省エネルギー量__計算結果","年間見込み省エネルギー量_原油換算計算式","年間見込み省エネルギー量原油換算計算結果","年間見込み省エネルギー率_自動計算","トップランナー基準","トップランナー基準の区分名又は数値","トップランナー基準の数値（導入設備）","比較指標/トップランナー基準","添付資料の根拠記載箇所","省エネ要因","導入設備_製品名","導入設備_製造メーカー","導入設備_型番","導入設備_導入台数","導入設備_1台あたりの使用エネルギー","導入設備_年間エネルギー使用量計算式","導入設備_計算結果","一代前モデル_製品名","一代前モデル_製造メーカー","一代前モデル_型番","一代前モデル_導入台数","一代前モデル_1台あたりの使用エネルギー","一代前モデル_年間エネルギー使用量計算式","一代前モデル_計算結果","年間見込み省エネルギー量__計算結果","年間見込み省エネルギー量_原油換算計算式","年間見込み省エネルギー量原油換算計算結果","年間見込み省エネルギー率_自動計算","トップランナー基準","トップランナー基準の区分名又は数値","トップランナー基準の数値（導入設備）","比較指標/トップランナー基準","添付資料の根拠記載箇所","省エネ要因","導入設備_製品名","導入設備_製造メーカー","導入設備_型番","導入設備_導入台数","導入設備_1台あたりの使用エネルギー","導入設備_年間エネルギー使用量計算式","導入設備_計算結果","一代前モデル_製品名","一代前モデル_製造メーカー","一代前モデル_型番","一代前モデル_導入台数","一代前モデル_1台あたりの使用エネルギー","一代前モデル_年間エネルギー使用量計算式","一代前モデル_計算結果","年間見込み省エネルギー量__計算結果","年間見込み省エネルギー量_原油換算計算式","年間見込み省エネルギー量原油換算計算結果","年間見込み省エネルギー率_自動計算","トップランナー基準","トップランナー基準の区分名又は数値","トップランナー基準の数値（導入設備）","比較指標/トップランナー基準","添付資料の根拠記載箇所","省エネ要因","導入設備_製品名","導入設備_製造メーカー","導入設備_型番","導入設備_導入台数","導入設備_1台あたりの使用エネルギー","導入設備_年間エネルギー使用量計算式","導入設備_計算結果","一代前モデル_製品名","一代前モデル_製造メーカー","一代前モデル_型番","一代前モデル_導入台数","一代前モデル_1台あたりの使用エネルギー","一代前モデル_年間エネルギー使用量計算式","一代前モデル_計算結果","年間見込み省エネルギー量__計算結果","年間見込み省エネルギー量_原油換算計算式","年間見込み省エネルギー量原油換算計算結果","年間見込み省エネルギー率_自動計算","トップランナー基準","トップランナー基準の区分名又は数値","トップランナー基準の数値（導入設備）","比較指標/トップランナー基準","添付資料の根拠記載箇所","省エネ要因","導入設備_製品名","導入設備_製造メーカー","導入設備_型番","導入設備_導入台数","導入設備_1台あたりの使用エネルギー","導入設備_年間エネルギー使用量計算式","導入設備_計算結果","一代前モデル_製品名","一代前モデル_製造メーカー","一代前モデル_型番","一代前モデル_導入台数","一代前モデル_1台あたりの使用エネルギー","一代前モデル_年間エネルギー使用量計算式","一代前モデル_計算結果","年間見込み省エネルギー量__計算結果","年間見込み省エネルギー量_原油換算計算式","年間見込み省エネルギー量原油換算計算結果","年間見込み省エネルギー率_自動計算","トップランナー基準","トップランナー基準の区分名又は数値","トップランナー基準の数値（導入設備）","比較指標/トップランナー基準","添付資料の根拠記載箇所","省エネ要因","導入設備_製品名","導入設備_製造メーカー","導入設備_型番","導入設備_導入台数","導入設備_1台あたりの使用エネルギー","導入設備_年間エネルギー使用量計算式","導入設備_計算結果","一代前モデル_製品名","一代前モデル_製造メーカー","一代前モデル_型番","一代前モデル_導入台数","一代前モデル_1台あたりの使用エネルギー","一代前モデル_年間エネルギー使用量計算式","一代前モデル_計算結果","年間見込み省エネルギー量__計算結果","年間見込み省エネルギー量_原油換算計算式","年間見込み省エネルギー量原油換算計算結果","年間見込み省エネルギー率_自動計算","トップランナー基準","トップランナー基準の区分名又は数値","トップランナー基準の数値（導入設備）","比較指標/トップランナー基準","添付資料の根拠記載箇所","省エネ要因","導入設備_製品名","導入設備_製造メーカー","導入設備_型番","導入設備_導入台数","導入設備_1台あたりの使用エネルギー","導入設備_年間エネルギー使用量計算式","導入設備_計算結果","一代前モデル_製品名","一代前モデル_製造メーカー","一代前モデル_型番","一代前モデル_導入台数","一代前モデル_1台あたりの使用エネルギー","一代前モデル_年間エネルギー使用量計算式","一代前モデル_計算結果","年間見込み省エネルギー量__計算結果","年間見込み省エネルギー量_原油換算計算式","年間見込み省エネルギー量原油換算計算結果","年間見込み省エネルギー率_自動計算","トップランナー基準","トップランナー基準の区分名又は数値","トップランナー基準の数値（導入設備）","比較指標/トップランナー基準","添付資料の根拠記載箇所","省エネ要因","導入設備_製品名","導入設備_製造メーカー","導入設備_型番","導入設備_導入台数","導入設備_1台あたりの使用エネルギー","導入設備_年間エネルギー使用量計算式","導入設備_計算結果","一代前モデル_製品名","一代前モデル_製造メーカー","一代前モデル_型番","一代前モデル_導入台数","一代前モデル_1台あたりの使用エネルギー","一代前モデル_年間エネルギー使用量計算式","一代前モデル_計算結果","年間見込み省エネルギー量__計算結果","年間見込み省エネルギー量_原油換算計算式","年間見込み省エネルギー量原油換算計算結果","年間見込み省エネルギー率_自動計算","トップランナー基準","トップランナー基準の区分名又は数値","トップランナー基準の数値（導入設備）","比較指標/トップランナー基準","添付資料の根拠記載箇所","省エネ要因","導入設備_製品名","導入設備_製造メーカー","導入設備_型番","導入設備_導入台数","導入設備_1台あたりの使用エネルギー","導入設備_年間エネルギー使用量計算式","導入設備_計算結果","一代前モデル_製品名","一代前モデル_製造メーカー","一代前モデル_型番","一代前モデル_導入台数","一代前モデル_1台あたりの使用エネルギー","一代前モデル_年間エネルギー使用量計算式","一代前モデル_計算結果","年間見込み省エネルギー量__計算結果","年間見込み省エネルギー量_原油換算計算式","年間見込み省エネルギー量原油換算計算結果","年間見込み省エネルギー率_自動計算","トップランナー基準","トップランナー基準の区分名又は数値","トップランナー基準の数値（導入設備）","比較指標/トップランナー基準","添付資料の根拠記載箇所","省エネ要因","導入設備_製品名","導入設備_製造メーカー","導入設備_型番","導入設備_導入台数","導入設備_1台あたりの使用エネルギー","導入設備_年間エネルギー使用量計算式","導入設備_計算結果","一代前モデル_製品名","一代前モデル_製造メーカー","一代前モデル_型番","一代前モデル_導入台数","一代前モデル_1台あたりの使用エネルギー","一代前モデル_年間エネルギー使用量計算式","一代前モデル_計算結果","年間見込み省エネルギー量__計算結果","年間見込み省エネルギー量_原油換算計算式","年間見込み省エネルギー量原油換算計算結果","年間見込み省エネルギー率_自動計算","トップランナー基準","トップランナー基準の区分名又は数値","トップランナー基準の数値（導入設備）","比較指標/トップランナー基準","添付資料の根拠記載箇所","省エネ要因","導入設備_製品名","導入設備_製造メーカー","導入設備_型番","導入設備_導入台数","導入設備_1台あたりの使用エネルギー","導入設備_年間エネルギー使用量計算式","導入設備_計算結果","一代前モデル_製品名","一代前モデル_製造メーカー","一代前モデル_型番","一代前モデル_導入台数","一代前モデル_1台あたりの使用エネルギー","一代前モデル_年間エネルギー使用量計算式","一代前モデル_計算結果","年間見込み省エネルギー量__計算結果","年間見込み省エネルギー量_原油換算計算式","年間見込み省エネルギー量原油換算計算結果","年間見込み省エネルギー率_自動計算","トップランナー基準","トップランナー基準の区分名又は数値","トップランナー基準の数値（導入設備）","比較指標/トップランナー基準","添付資料の根拠記載箇所","省エネ要因","導入設備_製品名","導入設備_製造メーカー","導入設備_型番","導入設備_導入台数","導入設備_1台あたりの使用エネルギー","導入設備_年間エネルギー使用量計算式","導入設備_計算結果","一代前モデル_製品名","一代前モデル_製造メーカー","一代前モデル_型番","一代前モデル_導入台数","一代前モデル_1台あたりの使用エネルギー","一代前モデル_年間エネルギー使用量計算式","一代前モデル_計算結果","年間見込み省エネルギー量__計算結果","年間見込み省エネルギー量_原油換算計算式","年間見込み省エネルギー量原油換算計算結果","年間見込み省エネルギー率_自動計算","トップランナー基準","トップランナー基準の区分名又は数値","トップランナー基準の数値（導入設備）","比較指標/トップランナー基準","添付資料の根拠記載箇所","省エネ要因","導入設備_製品名","導入設備_製造メーカー","導入設備_型番","導入設備_導入台数","導入設備_1台あたりの使用エネルギー","導入設備_年間エネルギー使用量計算式","導入設備_計算結果","一代前モデル_製品名","一代前モデル_製造メーカー","一代前モデル_型番","一代前モデル_導入台数","一代前モデル_1台あたりの使用エネルギー","一代前モデル_年間エネルギー使用量計算式","一代前モデル_計算結果","年間見込み省エネルギー量__計算結果","年間見込み省エネルギー量_原油換算計算式","年間見込み省エネルギー量原油換算計算結果","年間見込み省エネルギー率_自動計算","トップランナー基準","トップランナー基準の区分名又は数値","トップランナー基準の数値（導入設備）","比較指標/トップランナー基準","添付資料の根拠記載箇所","省エネ要因","導入設備_製品名","導入設備_製造メーカー","導入設備_型番","導入設備_導入台数","導入設備_1台あたりの使用エネルギー","導入設備_年間エネルギー使用量計算式","導入設備_計算結果","一代前モデル_製品名","一代前モデル_製造メーカー","一代前モデル_型番","一代前モデル_導入台数","一代前モデル_1台あたりの使用エネルギー","一代前モデル_年間エネルギー使用量計算式","一代前モデル_計算結果","年間見込み省エネルギー量__計算結果","年間見込み省エネルギー量_原油換算計算式","年間見込み省エネルギー量原油換算計算結果","年間見込み省エネルギー率_自動計算","トップランナー基準","トップランナー基準の区分名又は数値","トップランナー基準の数値（導入設備）","比較指標/トップランナー基準","添付資料の根拠記載箇所","省エネ要因","導入設備_製品名","導入設備_製造メーカー","導入設備_型番","導入設備_導入台数","導入設備_1台あたりの使用エネルギー","導入設備_年間エネルギー使用量計算式","導入設備_計算結果","一代前モデル_製品名","一代前モデル_製造メーカー","一代前モデル_型番","一代前モデル_導入台数","一代前モデル_1台あたりの使用エネルギー","一代前モデル_年間エネルギー使用量計算式","一代前モデル_計算結果","年間見込み省エネルギー量__計算結果","年間見込み省エネルギー量_原油換算計算式","年間見込み省エネルギー量原油換算計算結果","年間見込み省エネルギー率_自動計算","トップランナー基準","トップランナー基準の区分名又は数値","トップランナー基準の数値（導入設備）","比較指標/トップランナー基準","添付資料の根拠記載箇所","省エネ要因","導入設備_製品名","導入設備_製造メーカー","導入設備_型番","導入設備_導入台数","導入設備_1台あたりの使用エネルギー","導入設備_年間エネルギー使用量計算式","導入設備_計算結果","一代前モデル_製品名","一代前モデル_製造メーカー","一代前モデル_型番","一代前モデル_導入台数","一代前モデル_1台あたりの使用エネルギー","一代前モデル_年間エネルギー使用量計算式","一代前モデル_計算結果","年間見込み省エネルギー量__計算結果","年間見込み省エネルギー量_原油換算計算式","年間見込み省エネルギー量原油換算計算結果","年間見込み省エネルギー率_自動計算","【A】 事業実施前の生産量_式","【Ｂ】事業実施前の年間エネルギー使用量[kl]_式","【A】 事業実施前の生産量_解","【Ｂ】事業実施前の年間エネルギー使用量[kl]_解","【Ｃ】事業実施前のエネルギー消費原単位","【D】 事業実施後の生産量_式","【E】事業実施後の年間エネルギー使用量[kl]_式","【D】 事業実施後の生産量_解","【E】事業実施後の年間エネルギー使用量[kl]_解","【F】事業実施後のエネルギー消費原単位","【Ｇ】エネルギー消費原単位改善率","【H】年間見込み省エネルギー量[kl]","対象要件内容","利用データセンター名称","データセンターのＰＵＥ値","省エネルギー取組概要","導入機器","削減効果（計画値）","省エネルギー取組概要","年間見込み省エネルギー率[%]","年間見込み省エネルギー量[kl]"]
[{"$f":"ROW()-1","v":3},{"$f":"'（様式第１）融資計画書'!BA4","v":"様式第1_N6"},{"$f":"'（様式第１）融資計画書'!BB4","v":"月"},{"$f":"'（様式第１）融資計画書'!BC4","v":""},null,null,null,null,"内容","","","","","","","","","","","","","","","","","","","","","","","","","","","","",0,"","","","","","","","","","","","","","","","","","","","","","","","","","","","","","","","","","","","","","","","","","","","","","","","","","","","","","","","","","","","","",0,"","","","","","","","","","","","","","","","","","","","","","","","","","","","","","","","","","","","","","","","","","","","","","","","","","",0,"","","","","","","","","","","","","","","","","","","","","","","","","","",{"$error":"#REF!"},{"$error":"#REF!"},{"$error":"#REF!"},{"$error":"#REF!"},{"$error":"#REF!"},{"$error":"#REF!"},{"$error":"#REF!"},{"$error":"#REF!"},{"$error":"#REF!"},{"$error":"#REF!"},{"$error":"#REF!"},{"$error":"#REF!"},{"$error":"#REF!"},{"$error":"#REF!"},{"$error":"#REF!"},{"$error":"#REF!"},{"$error":"#REF!"},{"$error":"#REF!"},{"$error":"#REF!"},{"$error":"#REF!"},"","","","","","","","","","","","","","","","","","","","","",0,0,0,0,0,0,0,0,0,0,"台",0,0,"単位を選択してください",0,0,0,"台",0,0,"単位を選択してください","0単位を選択してください",0,0,"",0,0,0,0,0,0,0,0,0,"台",0,0,"単位を選択してください",0,0,0,"台",0,0,"単位を選択してください","0単位を選択してください",0,0,"",0,0,0,0,0,0,0,0,0,"台",0,0,"単位を選択してください",0,0,0,"台",0,0,"単位を選択してください","0単位を選択してください",0,0,"",0,0,0,0,0,0,0,0,0,"台",0,0,"単位を選択してください",0,0,0,"台",0,0,"単位を選択してください","0単位を選択してください",0,0,"",0,0,0,0,0,0,0,0,0,"台",0,0,"単位を選択してください",0,0,0,"台",0,0,"単位を選択してください","0単位を選択してください",0,0,"",0,0,0,0,0,0,0,0,0,"台",0,0,"単位を選択してください",0,0,0,"台",0,0,"単位を選択してください","0単位を選択してください",0,0,"",0,0,0,0,0,0,0,0,0,"台",0,0,"単位を選択してください",0,0,0,"台",0,0,"単位を選択してください","0単位を選択してください",0,0,"",0,0,0,0,0,0,0,0,0,"台",0,0,"単位を選択してください",0,0,0,"台",0,0,"単位を選択してください","0単位を選択してください",0,0,"",0,0,0,0,0,0,0,0,0,"台",0,0,"単位を選択してください",0,0,0,"台",0,0,"単位を選択してください","0単位を選択してください",0,0,"",0,0,0,0,0,0,0,0,0,"台",0,0,"単位を選択してください",0,0,0,"台",0,0,"単位を選択してください","0単位を選択してください",0,0,"",0,0,0,0,0,0,0,0,0,"台",0,0,"単位を選択してください",0,0,0,"台",0,0,"単位を選択してください","0単位を選択してください",0,0,"",0,0,0,0,0,0,0,0,0,"台",0,0,"単位を選択してください",0,0,0,"台",0,0,"単位を選択してください","0単位を選択してください",0,0,"",0,0,0,0,0,0,0,0,0,"台",0,0,"単位を選択してください",0,0,0,"台",0,0,"単位を選択してください","0単位を選択してください",0,0,"",0,0,0,0,0,0,0,0,0,"台",0,0,"単位を選択してください",0,0,0,"台",0,0,"単位を選択してください","0単位を選択してください",0,0,"",0,0,0,0,0,0,0,0,0,"台",0,0,"単位を選択してください",0,0,0,"台",0,0,"単位を選択してください","0単位を選択してください",0,0,"",0,0,0,0,0,0,0,0,0,"台",0,0,"単位を選択してください",0,0,0,"台",0,0,"単位を選択してください","0単位を選択してください",0,0,"",0,0,0,0,0,0,0,0,0,"台",0,0,"単位を選択してください",0,0,0,"台",0,0,"単位を選択してください","0単位を選択してください",0,0,"",0,0,0,0,0,0,0,0,0,"台",0,0,"単位を選択してください",0,0,0,"台",0,0,"単位を選択してください","0単位を選択してください",0,0,"",0,0,0,0,0,0,0,0,0,"台",0,0,"単位を選択してください",0,0,0,"台",0,0,"単位を選択してください","0単位を選択してください",0,0,"",0,0,0,0,0,0,0,0,0,"台",0,0,"単位を選択してください",0,0,0,"台",0,0,"単位を選択してください","0単位を選択してください",0,0,"",0,0,0,0,0,0,0,0,0,"台",0,0,"単位を選択してください",0,0,0,"台",0,0,"単位を選択してください","0単位を選択してください",0,0,"",0,0,0,0,0,0,0,0,0,"台",0,0,"単位を選択してください",0,0,0,"台",0,0,"単位を選択してください","0単位を選択してください",0,0,"",0,0,0,0,0,0,0,0,0,"台",0,0,"単位を選択してください",0,0,0,"台",0,0,"単位を選択してください","0単位を選択してください",0,0,"",0,0,0,0,0,0,0,0,0,"台",0,0,"単位を選択してください",0,0,0,"台",0,0,"単位を選択してください","0単位を選択してください",0,0,"",0,0,0,0,0,0,0,0,0,"台",0,0,"単位を選択してください",0,0,0,"台",0,0,"単位を選択してください","0単位を選択してください",0,0,"",0,0,0,0,0,0,0,0,0,"台",0,0,"単位を選択してください",0,0,0,"台",0,0,"単位を選択してください","0単位を選択してください",0,0,"",0,0,0,0,0,0,0,0,0,"台",0,0,"単位を選択してください",0,0,0,"台",0,0,"単位を選択してください","0単位を選択してください",0,0,"",0,0,0,0,0,0,0,0,0,"台",0,0,"単位を選択してください",0,0,0,"台",0,0,"単位を選択してください","0単位を選択してください",0,0,"",0,0,0,0,0,0,0,0,0,"台",0,0,"単位を選択してください",0,0,0,"台",0,0,"単位を選択してください","0単位を選択してください",0,0,"",0,0,0,0,0,0,0,0,0,"台",0,0,"単位を選択してください",0,0,0,"台",0,0,"単位を選択してください","0単位を選択してください",0,0,"",0,0,0,0,0,0,0,0,0,"台",0,0,"単位を選択してください",0,0,0,"台",0,0,"単位を選択してください","0単位を選択してください",0,0,"",0,0,0,0,0,0,0,0,0,"台",0,0,"単位を選択してください",0,0,0,"台",0,0,"単位を選択してください","0単位を選択してください",0,0,"",0,0,0,0,0,0,0,0,0,"台",0,0,"単位を選択してください",0,0,0,"台",0,0,"単位を選択してください","0単位を選択してください",0,0,"",0,0,0,0,0,0,0,0,0,"台",0,0,"単位を選択してください",0,0,0,"台",0,0,"単位を選択してください","0単位を選択してください",0,0,"",0,0,0,0,0,0,0,0,0,"台",0,0,"単位を選択してください",0,0,0,"台",0,0,"単位を選択してください","0単位を選択してください",0,0,"",0,0,0,0,0,0,0,0,0,"台",0,0,"単位を選択してください",0,0,0,"台",0,0,"単位を選択してください","0単位を選択してください",0,0,"",0,0,0,0,0,0,0,0,0,"台",0,0,"単位を選択してください",0,0,0,"台",0,0,"単位を選択してください","0単位を選択してください",0,0,"",0,0,0,0,0,0,0,0,0,"台",0,0,"単位を選択してください",0,0,0,"台",0,0,"単位を選択してください","0単位を選択してください",0,0,"",0,0,0,0,0,0,0,0,0,"台",0,0,"単位を選択してください",0,0,0,"台",0,0,"単位を選択してください","0単位を選択してください",0,0,"",0,0,0,0,0,0,0,0,0,"台",0,0,"単位を選択してください",0,0,0,"台",0,0,"単位を選択してください","0単位を選択してください",0,0,"",0,0,0,0,0,0,0,0,0,"台",0,0,"単位を選択してください",0,0,0,"台",0,0,"単位を選択してください","0単位を選択してください",0,0,"",0,0,0,0,0,0,0,0,0,"台",0,0,"単位を選択してください",0,0,0,"台",0,0,"単位を選択してください","0単位を選択してください",0,0,"",0,0,0,0,0,0,0,0,0,"台",0,0,"単位を選択してください",0,0,0,"台",0,0,"単位を選択してください","0単位を選択してください",0,0,"",0,0,0,0,0,0,0,0,0,"台",0,0,"単位を選択してください",0,0,0,"台",0,0,"単位を選択してください","0単位を選択してください",0,0,"",0,0,0,0,0,0,0,0,0,"台",0,0,"単位を選択してください",0,0,0,"台",0,0,"単位を選択してください","0単位を選択してください",0,0,"",0,0,0,0,0,0,0,0,0,"台",0,0,"単位を選択してください",0,0,0,"台",0,0,"単位を選択してください","0単位を選択してください",0,0,"",0,0,0,0,0,0,0,0,0,"台",0,0,"単位を選択してください",0,0,0,"台",0,0,"単位を選択してください","0単位を選択してください",0,0,"",0,0,0,0,0,0,0,0,0,"台",0,0,"単位を選択してください",0,0,0,"台",0,0,"単位を選択してください","0単位を選択してください",0,0,"",0,0,0,0,0,0,0,0,0,"台",0,0,"単位を選択してください",0,0,0,"台",0,0,"単位を選択してください","0単位を選択してください",0,0,"",0,0,0,0,0,0,0,0,0,"台",0,0,"単位を選択してください",0,0,0,"台",0,0,"単位を選択してください","0単位を選択してください",0,0,"",0,0,0,0,0,0,0,0,0,"台",0,0,"単位を選択してください",0,0,0,"台",0,0,"単位を選択してください","0単位を選択してください",0,0,"",0,0,0,0,0,0,0,0,0,"台",0,0,"単位を選択してください",0,0,0,"台",0,0,"単位を選択してください","0単位を選択してください",0,0,"",0,0,0,0,0,0,0,0,0,"台",0,0,"単位を選択してください",0,0,0,"台",0,0,"単位を選択してください","0単位を選択してください",0,0,"",0,0,0,0,0,0,0,0,0,"台",0,0,"単位を選択してください",0,0,0,"台",0,0,"単位を選択してください","0単位を選択してください",0,0,"",0,0,0,0,0,0,0,0,0,"台",0,0,"単位を選択してください",0,0,0,"台",0,0,"単位を選択してください","0単位を選択してください",0,0,"",0,0,0,0,0,0,0,0,0,"台",0,0,"単位を選択してください",0,0,0,"台",0,0,"単位を選択してください","0単位を選択してください",0,0,"",0,0,0,0,0,0,0,0,0,"台",0,0,"単位を選択してください",0,0,0,"台",0,0,"単位を選択してください","0単位を選択してください",0,0,"",0,0,0,0,0,0,0,0,0,"台",0,0,"単位を選択してください",0,0,0,"台",0,0,"単位を選択してください","0単位を選択してください",0,0,"",0,0,0,0,0,0,0,0,0,"台",0,0,"単位を選択してください",0,0,0,"台",0,0,"単位を選択してください","0単位を選択してください",0,0,"",0,0,0,0,0,0,0,0,0,"台",0,0,"単位を選択してください",0,0,0,"台",0,0,"単位を選択してください","0単位を選択してください",0,0,"","","","","","【Ａ】と【Ｂ】に値を入力してくださいkl/","","","","","【Ｄ】と【Ｅ】に値を入力してくださいkl/t","【Ｃ】と【Ｆ】に値を入力してください","【B】と【I】が入力された状態にしてくださいkl","","","","","","","","",""]
[4,{"$f":"'（様式第１）融資計画書'!BA5","v":"様式第1_P6"},{"$f":"'（様式第１）融資計画書'!BB5","v":"日"},{"$f":"'（様式第１）融資計画書'!BC5","v":""}]
[5,{"$f":"'（様式第１）融資計画書'!BA6","v":"様式第1_K16"},{"$f":"'（様式第１）融資計画書'!BB6","v":"指定金融機関_住所"},{"$f":"'（様式第１）融資計画書'!BC6","v":""}]
[6,{"$f":"'（様式第１）融資計画書'!BA7","v":"様式第1_K19"},{"$f":"'（様式第１）融資計画書'!BB7","v":"指定金融機関_名称"},{"$f":"'（様式第１）融資計画書'!BC7","v":""}]
[7,{"$f":"'（様式第１）融資計画書'!BA8","v":"様式第1_K22"},{"$f":"'（様式第１）融資計画書'!BB8","v":"指定金融機関_役職名"},{"$f":"'（様式第１）融資計画書'!BC8","v":""}]
[8,{"$f":"'（様式第１）融資計画書'!BA9","v":"様式第1_K24"},{"$f":"'（様式第１）融資計画書'!BB9","v":"指定金融機関_代表者名"},{"$f":"'（様式第１）融資計画書'!BC9","v":""}]
[9,{"$f":"'（様式第１）融資計画書'!BA10","v":"様式第1_K27"},{"$f":"'（様式第１）融資計画書'!BB10","v":"利子補給対象事業者_住所"},{"$f":"'（様式第１）融資計画書'!BC10","v":""}]
[10,{"$f":"'（様式第１）融資計画書'!BA11","v":"様式第1_K30"},{"$f":"'（様式第１）融資計画書'!BB11","v":"利子補給対象事業者_名称"},{"$f":"'（様式第１）融資計画書'!BC11","v":""}]
[11,{"$f":"'（様式第１）融資計画書'!BA12","v":"様式第1_K33"},{"$f":"'（様式第１）融資計画書'!BB12","v":"利子補給対象事業者_役職名"},{"$f":"'（様式第１）融資計画書'!BC12","v":""}]
[12,{"$f":"'（様式第１）融資計画書'!BA13","v":"様式第1_K35"},{"$f":"'（様式第１）融資計画書'!BB13","v":"利子補給対象事業者_代表者名"},{"$f":"'（様式第１）融資計画書'!BC13","v":""}]
[13,{"$f":"'（様式第１）融資計画書'!BA14","v":"様式第1_B72"},{"$f":"'（様式第１）融資計画書'!BB14","v":"融資名称"},{"$f":"'（様式第１）融資計画書'!BC14","v":""}]
[14,{"$f":"'（様式第１）融資計画書'!BA15","v":"様式第1_B76"},{"$f":"'（様式第１）融資計画書'!BB15","v":"融資計画の内容"},{"$f":"'（様式第１）融資計画書'!BC15","v":""}]
[15,{"$f":"'（別添１）融資計画詳細１（交付申請）'!BA3","v":"別添1_C9"},{"$f":"'（別添１）融資計画詳細１'!BB3","v":"融資額"},{"$f":"'（別添１）融資計画詳細１'!BC3","v":""}]
[16,{"$f":"'（別添１）融資計画詳細１（交付申請）'!BA4","v":"別添1_C11"},{"$f":"'（別添１）融資計画詳細１'!BB4","v":"元金均等返済額"},{"$f":"'（別添１）融資計画詳細１'!BC4","v":""}]
[17,{"$f":"'（別添１）融資計画詳細１（交付申請）'!BA5","v":"別添1_C13"},{"$f":"'（別添１）融資計画詳細１'!BB5","v":"最終弁済額"},{"$f":"'（別添１）融資計画詳細１'!BC5","v":""}]
[18,{"$f":"'（別添１）融資計画詳細１（交付申請）'!BA6","v":"別添1_C15"},{"$f":"'（別添１）融資計画詳細１'!BB6","v":"融資期間_自："},{"$f":"'（別添１）融資計画詳細１'!BC6","v":""}]
[19,{"$f":"'（別添１）融資計画詳細１（交付申請）'!BA7","v":"別添1_C17"},{"$f":"'（別添１）融資計画詳細１'!BB7","v":"融資期間_至："},{"$f":"'（別添１）融資計画詳細１'!BC7","v":""}]
[20,{"$f":"'（別添１）融資計画詳細１（交付申請）'!BA8","v":"別添1_C19"},{"$f":"'（別添１）融資計画詳細１'!BB8","v":"融資利率"},{"$f":"'（別添１）融資計画詳細１'!BC8","v":""}]
[21,{"$f":"'（別添１）融資計画詳細１（交付申請）'!BA9","v":"別添1_C22"},{"$f":"'（別添１）融資計画詳細１'!BB9","v":"内　交付対象融資額"},{"$f":"'（別添１）融資計画詳細１'!BC9","v":""}]
[22,{"$f":"'（別添１）融資計画詳細１（交付申請）'!BA10","v":"別添1_C24"},{"$f":"'（別添１）融資計画詳細１'!BB10","v":"元金均等返済額"},{"$f":"'（別添１）融資計画詳細１'!BC10","v":""}]
[23,{"$f":"'（別添１）融資計画詳細１（交付申請）'!BA11","v":"別添1_C26"},{"$f":"'（別添１）融資計画詳細１'!BB11","v":"最終弁済額"},{"$f":"'（別添１）融資計画詳細１'!BC11","v":""}]
[24,{"$f":"'（別添１）融資計画詳細１（交付申請）'!BA12","v":"別添1_C28"},{"$f":"'（別添１）融資計画詳細１'!BB12","v":"交付対象融資期間_自："},{"$f":"'（別添１）融資計画詳細１'!BC12","v":""}]
[25,{"$f":"'（別添１）融資計画詳細１（交付申請）'!BA13","v":"別添1_C30"},{"$f":"'（別添１）融資計画詳細１'!BB13","v":"交付対象融資期間_至："},{"$f":"'（別添１）融資計画詳細１'!BC13","v":""}]
[26,{"$f":"'（別添１）融資計画詳細１（交付申請）'!BA14","v":"別添1_C32"},{"$f":"'（別添１）融資計画詳細１'!BB14","v":"利子補給率"},{"$f":"'（別添１）融資計画詳細１'!BC14","v":""}]
[27,{"$f":"'（別添１）融資計画詳細１（交付申請）'!BA15","v":"別添1_M43"},{"$f":"'（別添１）融資計画詳細１'!BB15","v":"利子補給金交付申請額（円）合計_単位期間Ⅰ"},{"$f":"'（別添１）融資計画詳細１'!BC15","v":""}]
[28,{"$f":"'（別添１）融資計画詳細１（交付申請）'!BA16","v":"別添1_M51"},{"$f":"'（別添１）融資計画詳細１'!BB16","v":"利子補給金交付申請額（円）合計_単位期間Ⅱ"},{"$f":"'（別添１）融資計画詳細１'!BC16","v":""}]
[29,{"$f":"'（別添１）融資計画詳細１（交付申請）'!BA17","v":"別添1_N35"},{"$f":"'（別添１）融資計画詳細１'!BB17","v":"利子補給金交付申請額合計（円）"},{"$f":"'（別添１）融資計画詳細１'!BC17","v":0}]
[30,{"$f":"'（別添１）融資計画詳細１（交付申請）'!BA18","v":"別添1_I11"},{"$f":"'（別添１）融資計画詳細１'!BB18","v":"融資備考欄"},{"$f":"'（別添１）融資計画詳細１'!BC18","v":""}]
[31,{"$f":"'（別添１）融資計画詳細１（交付申請）'!BA19","v":"別添1_I20"},{"$f":"'（別添１）融資計画詳細１'!BB19","v":"協調融資"},{"$f":"'（別添１）融資計画詳細１'!BC19","v":""}]
[32,{"$f":"'（別添１）融資計画詳細１（交付申請）'!BA20","v":"別添1_I28"},{"$f":"'（別添１）融資計画詳細１'!BB20","v":"シンジケートローン"},{"$f":"'（別添１）融資計画詳細１'!BC20","v":""}]
[33,{"$f":"'（別添１）融資計画詳細２'!BG3","v":"別添1-2_D9"},{"$f":"'（別添１）融資計画詳細２'!BH3","v":"事業者名"},{"$f":"'（別添１）融資計画詳細２'!BI3","v":""}]
[34,{"$f":"'（別添１）融資計画詳細２'!BG4","v":"別添1-2_D11"},{"$f":"'（別添１）融資計画詳細２'!BH4","v":"設備等利用者名"},{"$f":"'（別添１）融資計画詳細２'!BI4","v":""}]
[35,{"$f":"'（別添１）融資計画詳細２'!BG5","v":"別添1-2_D13"},{"$f":"'（別添１）融資計画詳細２'!BH5","v":"都道府県"},{"$f":"'（別添１）融資計画詳細２'!BI5","v":""}]
[36,{"$f":"'（別添１）融資計画詳細２'!BG6","v":"別添1-2_D15"},{"$f":"'（別添１）融資計画詳細２'!BH6","v":"市区町村"},{"$f":"'（別添１）融資計画詳細２'!BI6","v":""}]
[37,{"$f":"'（別添１）融資計画詳細２'!BG7","v":"別添1-2_D17"},{"$f":"'（別添１）融資計画詳細２'!BH7","v":"丁目・番地"},{"$f":"'（別添１）融資計画詳細２'!BI7","v":""}]
[38,{"$f":"'（別添１）融資計画詳細２'!BG8","v":"別添1-2_D19"},{"$f":"'（別添１）融資計画詳細２'!BH8","v":"業種大分類"},{"$f":"'（別添１）融資計画詳細２'!BI8","v":""}]
[39,{"$f":"'（別添１）融資計画詳細２'!BG9","v":"別添1-2_D21"},{"$f":"'（別添１）融資計画詳細２'!BH9","v":"業種分類項目名"},{"$f":"'（別添１）融資計画詳細２'!BI9","v":""}]
[40,{"$f":"'（別添１）融資計画詳細２'!BG10","v":"別添1-2_D23"},{"$f":"'（別添１）融資計画詳細２'!BH10","v":"資本金"},{"$f":"'（別添１）融資計画詳細２'!BI10","v":""}]
[41,{"$f":"'（別添１）融資計画詳細２'!BG11","v":"別添1-2_D25"},{"$f":"'（別添１）融資計画詳細２'!BH11","v":"従業員数"},{"$f":"'（別添１）融資計画詳細２'!BI11","v":""}]
[42,{"$f":"'（別添１）融資計画詳細２'!BG12","v":"別添1-2_D27"},{"$f":"'（別添１）融資計画詳細２'!BH12","v":"企業の内容"},{"$f":"'（別添１）融資計画詳細２'!BI12","v":""}]
[43,{"$f":"'（別添１）融資計画詳細２'!BG13","v":"別添1-2_D29"},{"$f":"'（別添１）融資計画詳細２'!BH13","v":"企業の規模"},{"$f":"'（別添１）融資計画詳細２'!BI13","v":""}]
[44,{"$f":"'（別添１）融資計画詳細２'!BG14","v":"別添1-2_D34"},{"$f":"'（別添１）融資計画詳細２'!BH14","v":"都道府県"},{"$f":"'（別添１）融資計画詳細２'!BI14","v":""}]
[45,{"$f":"'（別添１）融資計画詳細２'!BG15","v":"別添1-2_D36"},{"$f":"'（別添１）融資計画詳細２'!BH15","v":"市区町村"},{"$f":"'（別添１）融資計画詳細２'!BI15","v":""}]
[46,{"$f":"'（別添１）融資計画詳細２'!BG16","v":"別添1-2_D38"},{"$f":"'（別添１）融資計画詳細２'!BH16","v":"丁目・番地"},{"$f":"'（別添１）融資計画詳細２'!BI16","v":""}]
[47,{"$f":"'（別添１）融資計画詳細２'!BG17","v":"別添1-2_D43～55"},{"$f":"'（別添１）融資計画詳細２'!BH17","v":"対象要件１"},{"$f":"'（別添１）融資計画詳細２'!BI17","v":""}]
[48,{"$f":"'（別添１）融資計画詳細２'!BG18","v":"別添1-2_D43～55"},{"$f":"'（別添１）融資計画詳細２'!BH18","v":"対象要件２"},{"$f":"'（別添１）融資計画詳細２'!BI18","v":""}]
[49,{"$f":"'（別添１）融資計画詳細２'!BG19","v":"別添1-2_D61"},{"$f":"'（別添１）融資計画詳細２'!BH19","v":"設備導入区分１"},{"$f":"'（別添１）融資計画詳細２'!BI19","v":""}]
[50,{"$f":"'（別添１）融資計画詳細２'!BG20","v":"別添1-2_D61"},{"$f":"'（別添１）融資計画詳細２'!BH20","v":"設備導入区分2"},{"$f":"'（別添１）融資計画詳細２'!BI20","v":""}]
[51,{"$f":"'（別添１）融資計画詳細２'!BG21","v":"別添1-2_D63"},{"$f":"'（別添１）融資計画詳細２'!BH21","v":"導入設備の概要"},{"$f":"'（別添１）融資計画詳細２'!BI21","v":""}]
[52,{"$f":"'（別添１）融資計画詳細２'!BG22","v":"別添1-2_D73"},{"$f":"'（別添１）融資計画詳細２'!BH22","v":"対象事業の概要"},{"$f":"'（別添１）融資計画詳細２'!BI22","v":""}]
[53,{"$f":"'（別添１）融資計画詳細２'!BG23","v":"別添1-2_D86"},{"$f":"'（別添１）融資計画詳細２'!BH23","v":"経営革新計画の承認有無"},{"$f":"'（別添１）融資計画詳細２'!BI23","v":""}]
[54,{"$f":"'（別添１）融資計画詳細２'!BG24","v":"別添1-2_D90"},{"$f":"'（別添１）融資計画詳細２'!BH24","v":"経営革新計画の承認取得年"},{"$f":"'（別添１）融資計画詳細２'!BI24","v":""}]
[55,{"$f":"'（別添１）融資計画詳細３'!BA3","v":"別添1-3_F10"},{"$f":"'（別添１）融資計画詳細３'!BB3","v":"指定金融機関_担当部署等"},{"$f":"'（別添１）融資計画詳細３'!BC3","v":""}]
[56,{"$f":"'（別添１）融資計画詳細３'!BA4","v":"別添1-3_F13"},{"$f":"'（別添１）融資計画詳細３'!BB4","v":"指定金融機関_担当者名"},{"$f":"'（別添１）融資計画詳細３'!BC4","v":""}]
[57,{"$f":"'（別添１）融資計画詳細３'!BA5","v":"別添1-3_F16"},{"$f":"'（別添１）融資計画詳細３'!BB5","v":"指定金融機関_連絡先電話番号"},{"$f":"'（別添１）融資計画詳細３'!BC5","v":""}]
[58,{"$f":"'（別添１）融資計画詳細３'!BA6","v":"別添1-3_F19"},{"$f":"'（別添１）融資計画詳細３'!BB6","v":"指定金融機関_連絡先E-MAIL"},{"$f":"'（別添１）融資計画詳細３'!BC6","v":""}]
[59,{"$f":"'（別添１）融資計画詳細３'!BA7","v":"別添1-3_F25"},{"$f":"'（別添１）融資計画詳細３'!BB7","v":"利子補給対象事業者_担当部署等"},{"$f":"'（別添１）融資計画詳細３'!BC7","v":""}]
[60,{"$f":"'（別添１）融資計画詳細３'!BA8","v":"別添1-3_F28"},{"$f":"'（別添１）融資計画詳細３'!BB8","v":"利子補給対象事業者_担当者名"},{"$f":"'（別添１）融資計画詳細３'!BC8","v":""}]
[61,{"$f":"'（別添１）融資計画詳細３'!BA9","v":"別添1-3_F31"},{"$f":"'（別添１）融資計画詳細３'!BB9","v":"利子補給対象事業者_連絡先電話番号"},{"$f":"'（別添１）融資計画詳細３'!BC9","v":""}]
[62,{"$f":"'（別添１）融資計画詳細３'!BA10","v":"別添1-3_F34"},{"$f":"'（別添１）融資計画詳細３'!BB10","v":"利子補給対象事業者_連絡先E-MAIL"},{"$f":"'（別添１）融資計画詳細３'!BC10","v":""}]
[63,{"$f":"'（様式第３）交付申請書（新規融資案件）'!BA3","v":"様式第3_L2"},{"$f":"'（様式第３）交付申請書（新規融資案件）'!BB3","v":"受付番号"},{"$f":"'（様式第３）交付申請書（新規融資案件）'!BC3","v":""}]
[64,{"$f":"'（様式第３）交付申請書（新規融資案件）'!BA4","v":"様式第3_L4"},{"$f":"'（様式第３）交付申請書（新規融資案件）'!BB4","v":"年"},{"$f":"'（様式第３）交付申請書（新規融資案件）'!BC4","v":""}]
[65,{"$f":"'（様式第３）交付申請書（新規融資案件）'!BA5","v":"様式第3_N4"},{"$f":"'（様式第３）交付申請書（新規融資案件）'!BB5","v":"月"},{"$f":"'（様式第３）交付申請書（新規融資案件）'!BC5","v":""}]
[66,{"$f":"'（様式第３）交付申請書（新規融資案件）'!BA6","v":"様式第3_P4"},{"$f":"'（様式第３）交付申請書（新規融資案件）'!BB6","v":"日"},{"$f":"'（様式第３）交付申請書（新規融資案件）'!BC6","v":""}]
[{"$f":"ROW()-1","v":67},{"$f":"'（様式第３）交付申請書（新規融資案件）'!BA7","v":"様式第3_K14"},{"$f":"'（様式第３）交付申請書（新規融資案件）'!BB7","v":"指定金融機関_住所"},{"$f":"'（様式第３）交付申請書（新規融資案件）'!BC7","v":""}]
[68,{"$f":"'（様式第３）交付申請書（新規融資案件）'!BA8","v":"様式第3_K17"},{"$f":"'（様式第３）交付申請書（新規融資案件）'!BB8","v":"指定金融機関_名称"},{"$f":"'（様式第３）交付申請書（新規融資案件）'!BC8","v":""}]
[69,{"$f":"'（様式第３）交付申請書（新規融資案件）'!BA9","v":"様式第3_K20"},{"$f":"'（様式第３）交付申請書（新規融資案件）'!BB9","v":"指定金融機関_役職"},{"$f":"'（様式第３）交付申請書（新規融資案件）'!BC9","v":""}]
[70,{"$f":"'（様式第３）交付申請書（新規融資案件）'!BA10","v":"様式第3_K22"},{"$f":"'（様式第３）交付申請書（新規融資案件）'!BB10","v":"指定金融機関_代表者名"},{"$f":"'（様式第３）交付申請書（新規融資案件）'!BC10","v":""}]
[71,{"$f":"'（様式第３）交付申請書（新規融資案件）'!BA11","v":"様式第3_A37"},{"$f":"'（様式第３）交付申請書（新規融資案件）'!BB11","v":"交付方針決定日"},{"$f":"'（様式第３）交付申請書（新規融資案件）'!BC11","v":""}]
[72,{"$f":"'（様式第３）交付申請書（新規融資案件）'!BA12","v":"様式第3_J37"},{"$f":"'（様式第３）交付申請書（新規融資案件）'!BB12","v":"交付方針決定通知番号"},{"$f":"'（様式第３）交付申請書（新規融資案件）'!BC12","v":""}]
[73,{"$f":"'（様式第３）交付申請書（新規融資案件）'!BA13","v":"様式第3_B69"},{"$f":"'（様式第３）交付申請書（新規融資案件）'!BB13","v":"利子補給対象事業者名"},{"$f":"'（様式第３）交付申請書（新規融資案件）'!BC13","v":""}]
[74,{"$f":"'（様式第３）交付申請書（新規融資案件）'!BA14","v":"様式第3_B73"},{"$f":"'（様式第３）交付申請書（新規融資案件）'!BB14","v":"融資名称"},{"$f":"'（様式第３）交付申請書（新規融資案件）'!BC14","v":""}]
[75,{"$f":"'（様式第３）交付申請書（新規融資案件）'!BA15","v":"様式第3_B77"},{"$f":"'（様式第３）交付申請書（新規融資案件）'!BB15","v":"利子補給金交付申請額"},{"$f":"'（様式第３）交付申請書（新規融資案件）'!BC15","v":""}]
[76,{"$f":"'（様式第３）交付申請書（新規融資案件）'!BA16","v":"様式第3_B81"},{"$f":"'（様式第３）交付申請書（新規融資案件）'!BB16","v":"交付対象融資の内容"},{"$f":"'（様式第３）交付申請書（新規融資案件）'!BC16","v":""}]
[77,{"$f":"'（別添１）融資計画詳細１（交付申請）'!BA3","v":"別添1_C9"},{"$f":"'（別添１）融資計画詳細１（交付申請）'!BB3","v":"融資額"},{"$f":"'（別添１）融資計画詳細１（交付申請）'!BC3","v":""}]
[78,{"$f":"'（別添１）融資計画詳細１（交付申請）'!BA4","v":"別添1_C11"},{"$f":"'（別添１）融資計画詳細１（交付申請）'!BB4","v":"元金均等返済額"},{"$f":"'（別添１）融資計画詳細１（交付申請）'!BC4","v":""}]
[79,{"$f":"'（別添１）融資計画詳細１（交付申請）'!BA5","v":"別添1_C13"},{"$f":"'（別添１）融資計画詳細１（交付申請）'!BB5","v":"最終弁済額"},{"$f":"'（別添１）融資計画詳細１（交付申請）'!BC5","v":""}]
[80,{"$f":"'（別添１）融資計画詳細１（交付申請）'!BA6","v":"別添1_C15"},{"$f":"'（別添１）融資計画詳細１（交付申請）'!BB6","v":"融資期間_自："},{"$f":"'（別添１）融資計画詳細１（交付申請）'!BC6","v":""}]
[81,{"$f":"'（別添１）融資計画詳細１（交付申請）'!BA7","v":"別添1_C17"},{"$f":"'（別添１）融資計画詳細１（交付申請）'!BB7","v":"融資期間_至："},{"$f":"'（別添１）融資計画詳細１（交付申請）'!BC7","v":""}]
[82,{"$f":"'（別添１）融資計画詳細１（交付申請）'!BA8","v":"別添1_C19"},{"$f":"'（別添１）融資計画詳細１（交付申請）'!BB8","v":"融資利率"},{"$f":"'（別添１）融資計画詳細１（交付申請）'!BC8","v":""}]
[83,{"$f":"'（別添１）融資計画詳細１（交付申請）'!BA9","v":"別添1_C22"},{"$f":"'（別添１）融資計画詳細１（交付申請）'!BB9","v":"内　交付対象融資額"},{"$f":"'（別添１）融資計画詳細１（交付申請）'!BC9","v":""}]
[84,{"$f":"'（別添１）融資計画詳細１（交付申請）'!BA10","v":"別添1_C24"},{"$f":"'（別添１）融資計画詳細１（交付申請）'!BB10","v":"元金均等返済額"},{"$f":"'（別添１）融資計画詳細１（交付申請）'!BC10","v":""}]
[85,{"$f":"'（別添１）融資計画詳細１（交付申請）'!BA11","v":"別添1_C26"},{"$f":"'（別添１）融資計画詳細１（交付申請）'!BB11","v":"最終弁済額"},{"$f":"'（別添１）融資計画詳細１（交付申請）'!BC11","v":""}]
[86,{"$f":"'（別添１）融資計画詳細１（交付申請）'!BA12","v":"別添1_C28"},{"$f":"'（別添１）融資計画詳細１（交付申請）'!BB12","v":"交付対象融資期間_自："},{"$f":"'（別添１）融資計画詳細１（交付申請）'!BC12","v":""}]
[87,{"$f":"'（別添１）融資計画詳細１（交付申請）'!BA13","v":"別添1_C30"},{"$f":"'（別添１）融資計画詳細１（交付申請）'!BB13","v":"交付対象融資期間_至："},{"$f":"'（別添１）融資計画詳細１（交付申請）'!BC13","v":""}]
[88,{"$f":"'（別添１）融資計画詳細１（交付申請）'!BA14","v":"別添1_C32"},{"$f":"'（別添１）融資計画詳細１（交付申請）'!BB14","v":"利子補給率"},{"$f":"'（別添１）融資計画詳細１（交付申請）'!BC14","v":""}]
[89,{"$f":"'（別添１）融資計画詳細１（交付申請）'!BA15","v":"別添1_M43"},{"$f":"'（別添１）融資計画詳細１（交付申請）'!BB15","v":"利子補給金交付申請額（円）合計_単位期間Ⅰ"},{"$f":"'（別添１）融資計画詳細１（交付申請）'!BC15","v":""}]
[90,{"$f":"'（別添１）融資計画詳細１（交付申請）'!BA16","v":"別添1_M51"},{"$f":"'（別添１）融資計画詳細１（交付申請）'!BB16","v":"利子補給金交付申請額（円）合計_単位期間Ⅱ"},{"$f":"'（別添１）融資計画詳細１（交付申請）'!BC16","v":""}]
[91,{"$f":"'（別添１）融資計画詳細１（交付申請）'!BA17","v":"別添1_N35"},{"$f":"'（別添１）融資計画詳細１（交付申請）'!BB17","v":"利子補給金交付申請額合計（円）"},{"$f":"'（別添１）融資計画詳細１（交付申請）'!BC17","v":0}]
[92,{"$f":"'（別添１）融資計画詳細１（交付申請）'!BA18","v":"別添1_I11"},{"$f":"'（別添１）融資計画詳細１（交付申請）'!BB18","v":"融資備考欄"},{"$f":"'（別添１）融資計画詳細１（交付申請）'!BC18","v":""}]
[93,{"$f":"'（別添１）融資計画詳細１（交付申請）'!BA19","v":"別添1_I20"},{"$f":"'（別添１）融資計画詳細１（交付申請）'!BB19","v":"協調融資"},{"$f":"'（別添１）融資計画詳細１（交付申請）'!BC19","v":""}]
[94,{"$f":"'（別添１）融資計画詳細１（交付申請）'!BA20","v":"別添1_I28"},{"$f":"'（別添１）融資計画詳細１（交付申請）'!BB20","v":"シンジケートローン"},{"$f":"'（別添１）融資計画詳細１（交付申請）'!BC20","v":""}]
[95,{"$f":"'（別添１）融資計画詳細２（交付申請）'!BG3","v":"別添1-2_D9"},{"$f":"'（別添１）融資計画詳細２（交付申請）'!BH3","v":"事業者名"},{"$f":"'（別添１）融資計画詳細２（交付申請）'!BI3","v":""}]
[96,{"$f":"'（別添１）融資計画詳細２（交付申請）'!BG4","v":"別添1-2_D11"},{"$f":"'（別添１）融資計画詳細２（交付申請）'!BH4","v":"設備等利用者名"},{"$f":"'（別添１）融資計画詳細２（交付申請）'!BI4","v":""}]
[97,{"$f":"'（別添１）融資計画詳細２（交付申請）'!BG5","v":"別添1-2_D13"},{"$f":"'（別添１）融資計画詳細２（交付申請）'!BH5","v":"都道府県"},{"$f":"'（別添１）融資計画詳細２（交付申請）'!BI5","v":""}]
[98,{"$f":"'（別添１）融資計画詳細２（交付申請）'!BG6","v":"別添1-2_D15"},{"$f":"'（別添１）融資計画詳細２（交付申請）'!BH6","v":"市区町村"},{"$f":"'（別添１）融資計画詳細２（交付申請）'!BI6","v":""}]
[99,{"$f":"'（別添１）融資計画詳細２（交付申請）'!BG7","v":"別添1-2_D17"},{"$f":"'（別添１）融資計画詳細２（交付申請）'!BH7","v":"丁目・番地"},{"$f":"'（別添１）融資計画詳細２（交付申請）'!BI7","v":""}]
[100,{"$f":"'（別添１）融資計画詳細２（交付申請）'!BG8","v":"別添1-2_D19"},{"$f":"'（別添１）融資計画詳細２（交付申請）'!BH8","v":"業種大分類"},{"$f":"'（別添１）融資計画詳細２（交付申請）'!BI8","v":""}]
[101,{"$f":"'（別添１）融資計画詳細２（交付申請）'!BG9","v":"別添1-2_D21"},{"$f":"'（別添１）融資計画詳細２（交付申請）'!BH9","v":"業種分類項目名"},{"$f":"'（別添１）融資計画詳細２（交付申請）'!BI9","v":""}]
[102,{"$f":"'（別添１）融資計画詳細２（交付申請）'!BG10","v":"別添1-2_D23"},{"$f":"'（別添１）融資計画詳細２（交付申請）'!BH10","v":"資本金"},{"$f":"'（別添１）融資計画詳細２（交付申請）'!BI10","v":""}]
[103,{"$f":"'（別添１）融資計画詳細２（交付申請）'!BG11","v":"別添1-2_D25"},{"$f":"'（別添１）融資計画詳細２（交付申請）'!BH11","v":"従業員数"},{"$f":"'（別添１）融資計画詳細２（交付申請）'!BI11","v":""}]
[104,{"$f":"'（別添１）融資計画詳細２（交付申請）'!BG12","v":"別添1-2_D27"},{"$f":"'（別添１）融資計画詳細２（交付申請）'!BH12","v":"企業の内容"},{"$f":"'（別添１）融資計画詳細２（交付申請）'!BI12","v":""}]
[105,{"$f":"'（別添１）融資計画詳細２（交付申請）'!BG13","v":"別添1-2_D29"},{"$f":"'（別添１）融資計画詳細２（交付申請）'!BH13","v":"企業の規模"},{"$f":"'（別添１）融資計画詳細２（交付申請）'!BI13","v":""}]
[106,{"$f":"'（別添１）融資計画詳細２（交付申請）'!BG14","v":"別添1-2_D34"},{"$f":"'（別添１）融資計画詳細２（交付申請）'!BH14","v":"都道府県"},{"$f":"'（別添１）融資計画詳細２（交付申請）'!BI14","v":""}]
[107,{"$f":"'（別添１）融資計画詳細２（交付申請）'!BG15","v":"別添1-2_D36"},{"$f":"'（別添１）融資計画詳細２（交付申請）'!BH15","v":"市区町村"},{"$f":"'（別添１）融資計画詳細２（交付申請）'!BI15","v":""}]
[108,{"$f":"'（別添１）融資計画詳細２（交付申請）'!BG16","v":"別添1-2_D38"},{"$f":"'（別添１）融資計画詳細２（交付申請）'!BH16","v":"丁目・番地"},{"$f":"'（別添１）融資計画詳細２（交付申請）'!BI16","v":""}]
[109,{"$f":"'（別添１）融資計画詳細２（交付申請）'!BG17","v":"別添1-2_D43～55"},{"$f":"'（別添１）融資計画詳細２（交付申請）'!BH17","v":"対象要件１"},{"$f":"'（別添１）融資計画詳細２（交付申請）'!BI17","v":""}]
[110,{"$f":"'（別添１）融資計画詳細２（交付申請）'!BG18","v":"別添1-2_D43～55"},{"$f":"'（別添１）融資計画詳細２（交付申請）'!BH18","v":"対象要件２"},{"$f":"'（別添１）融資計画詳細２（交付申請）'!BI18","v":""}]
[111,{"$f":"'（別添１）融資計画詳細２（交付申請）'!BG19","v":"別添1-2_D61"},{"$f":"'（別添１）融資計画詳細２（交付申請）'!BH19","v":"設備導入区分１"},{"$f":"'（別添１）融資計画詳細２（交付申請）'!BI19","v":""}]
[112,{"$f":"'（別添１）融資計画詳細２（交付申請）'!BG20","v":"別添1-2_D61"},{"$f":"'（別添１）融資計画詳細２（交付申請）'!BH20","v":"設備導入区分2"},{"$f":"'（別添１）融資計画詳細２（交付申請）'!BI20","v":""}]
[113,{"$f":"'（別添１）融資計画詳細２（交付申請）'!BG21","v":"別添1-2_D63"},{"$f":"'（別添１）融資計画詳細２（交付申請）'!BH21","v":"導入設備の概要"},{"$f":"'（別添１）融資計画詳細２（交付申請）'!BI21","v":""}]
[114,{"$f":"'（別添１）融資計画詳細２（交付申請）'!BG22","v":"別添1-2_D73"},{"$f":"'（別添１）融資計画詳細２（交付申請）'!BH22","v":"対象事業の概要"},{"$f":"'（別添１）融資計画詳細２（交付申請）'!BI22","v":""}]
[115,{"$f":"'（様式第９）実績報告書'!BA4","v":"様式第9_L6"},{"$f":"'（様式第９）実績報告書'!BB4","v":"年"},{"$f":"'（様式第９）実績報告書'!BC4","v":""}]
[116,{"$f":"'（様式第９）実績報告書'!BA5","v":"様式第9_N6"},{"$f":"'（様式第９）実績報告書'!BB5","v":"月"},{"$f":"'（様式第９）実績報告書'!BC5","v":""}]
[117,{"$f":"'（様式第９）実績報告書'!BA6","v":"様式第9_P6"},{"$f":"'（様式第９）実績報告書'!BB6","v":"日"},{"$f":"'（様式第９）実績報告書'!BC6","v":""}]
[118,{"$f":"'（様式第９）実績報告書'!BA7","v":"様式第9_K16"},{"$f":"'（様式第９）実績報告書'!BB7","v":"指定金融機関_住所"},{"$f":"'（様式第９）実績報告書'!BC7","v":""}]
[119,{"$f":"'（様式第９）実績報告書'!BA8","v":"様式第9_K19"},{"$f":"'（様式第９）実績報告書'!BB8","v":"指定金融機関_名称"},{"$f":"'（様式第９）実績報告書'!BC8","v":""}]
[120,{"$f":"'（様式第９）実績報告書'!BA9","v":"様式第9_K22"},{"$f":"'（様式第９）実績報告書'!BB9","v":"指定金融機関_役職"},{"$f":"'（様式第９）実績報告書'!BC9","v":""}]
[121,{"$f":"'（様式第９）実績報告書'!BA10","v":"様式第9_K24"},{"$f":"'（様式第９）実績報告書'!BB10","v":"指定金融機関_代表者名"},{"$f":"'（様式第９）実績報告書'!BC10","v":""}]
[122,{"$f":"'（様式第９）実績報告書'!BA11","v":"様式第9_A40"},{"$f":"'（様式第９）実績報告書'!BB11","v":"交付決定日"},{"$f":"'（様式第９）実績報告書'!BC11","v":""}]
[123,{"$f":"'（様式第９）実績報告書'!BA12","v":"様式第9_H40"},{"$f":"'（様式第９）実績報告書'!BB12","v":"交付決定番号"},{"$f":"'（様式第９）実績報告書'!BC12","v":""}]
[124,{"$f":"'（様式第９）実績報告書'!BA13","v":"様式第9_B71"},{"$f":"'（様式第９）実績報告書'!BB13","v":"利子補給対象事業者名"},{"$f":"'（様式第９）実績報告書'!BC13","v":""}]
[125,{"$f":"'（様式第９）実績報告書'!BA14","v":"様式第9_B75"},{"$f":"'（様式第９）実績報告書'!BB14","v":"融資名称"},{"$f":"'（様式第９）実績報告書'!BC14","v":""}]
[126,{"$f":"'（様式第９）実績報告書'!BA15","v":"様式第9_B79"},{"$f":"'（様式第９）実績報告書'!BB15","v":"利子補給金額"},{"$f":"'（様式第９）実績報告書'!BC15","v":""}]
[127,{"$f":"'（様式第９）実績報告書'!BA16","v":"様式第9_B83"},{"$f":"'（様式第９）実績報告書'!BB16","v":"交付対象融資の内容"},{"$f":"'（様式第９）実績報告書'!BC16","v":""}]
[128,{"$f":"'（別添1）融資計画詳細１（実績報告）'!BA3","v":"別添1_C9"},{"$f":"'（別添1）融資計画詳細１（実績報告）'!BB3","v":"融資額"},{"$f":"'（別添1）融資計画詳細１（実績報告）'!BC3","v":""}]
[129,{"$f":"'（別添1）融資計画詳細１（実績報告）'!BA4","v":"別添1_C11"},{"$f":"'（別添1）融資計画詳細１（実績報告）'!BB4","v":"元金均等返済額"},{"$f":"'（別添1）融資計画詳細１（実績報告）'!BC4","v":""}]
[130,{"$f":"'（別添1）融資計画詳細１（実績報告）'!BA7","v":"別添1_C13"},{"$f":"'（別添1）融資計画詳細１（実績報告）'!BB7","v":"最終弁済額"},{"$f":"'（別添1）融資計画詳細１（実績報告）'!BC7","v":""}]
[131,{"$f":"'（別添1）融資計画詳細１（実績報告）'!BA8","v":"別添1_C15"},{"$f":"'（別添1）融資計画詳細１（実績報告）'!BB8","v":"融資期間_自："},{"$f":"'（別添1）融資計画詳細１（実績報告）'!BC8","v":""}]
[132,{"$f":"'（別添1）融資計画詳細１（実績報告）'!BA9","v":"別添1_C17"},{"$f":"'（別添1）融資計画詳細１（実績報告）'!BB9","v":"融資期間_至："},{"$f":"'（別添1）融資計画詳細１（実績報告）'!BC9","v":""}]
[{"$f":"ROW()-1","v":133},{"$f":"'（別添1）融資計画詳細１（実績報告）'!BA10","v":"別添1_C19"},{"$f":"'（別添1）融資計画詳細１（実績報告）'!BB10","v":"融資利率"},{"$f":"'（別添1）融資計画詳細１（実績報告）'!BC10","v":""}]
[134,{"$f":"'（別添1）融資計画詳細１（実績報告）'!BA11","v":"別添1_C22"},{"$f":"'（別添1）融資計画詳細１（実績報告）'!BB11","v":"内　交付対象融資額"},{"$f":"'（別添1）融資計画詳細１（実績報告）'!BC11","v":""}]
[135,{"$f":"'（別添1）融資計画詳細１（実績報告）'!BA12","v":"別添1_C24"},{"$f":"'（別添1）融資計画詳細１（実績報告）'!BB12","v":"元金均等返済額"},{"$f":"'（別添1）融資計画詳細１（実績報告）'!BC12","v":""}]
[136,{"$f":"'（別添1）融資計画詳細１（実績報告）'!BA13","v":"別添1_C26"},{"$f":"'（別添1）融資計画詳細１（実績報告）'!BB13","v":"最終弁済額"},{"$f":"'（別添1）融資計画詳細１（実績報告）'!BC13","v":""}]
[137,{"$f":"'（別添1）融資計画詳細１（実績報告）'!BA14","v":"別添1_C28"},{"$f":"'（別添1）融資計画詳細１（実績報告）'!BB14","v":"交付対象融資期間_自："},{"$f":"'（別添1）融資計画詳細１（実績報告）'!BC14","v":""}]
[138,{"$f":"'（別添1）融資計画詳細１（実績報告）'!BA15","v":"別添1_C30"},{"$f":"'（別添1）融資計画詳細１（実績報告）'!BB15","v":"交付対象融資期間_至："},{"$f":"'（別添1）融資計画詳細１（実績報告）'!BC15","v":""}]
[139,{"$f":"'（別添1）融資計画詳細１（実績報告）'!BA16","v":"別添1_C32"},{"$f":"'（別添1）融資計画詳細１（実績報告）'!BB16","v":"利子補給率"},{"$f":"'（別添1）融資計画詳細１（実績報告）'!BC16","v":""}]
[140,{"$f":"'（別添1）融資計画詳細１（実績報告）'!BA17","v":"別添1_M43"},{"$f":"'（別添1）融資計画詳細１（実績報告）'!BB17","v":"利子補給金交付申請額（円）合計_単位期間Ⅰ"},{"$f":"'（別添1）融資計画詳細１（実績報告）'!BC17","v":""}]
[141,{"$f":"'（別添1）融資計画詳細１（実績報告）'!BA18","v":"別添1_M51"},{"$f":"'（別添1）融資計画詳細１（実績報告）'!BB18","v":"利子補給金交付申請額（円）合計_単位期間Ⅱ"},{"$f":"'（別添1）融資計画詳細１（実績報告）'!BC18","v":""}]
[142,{"$f":"'（別添1）融資計画詳細１（実績報告）'!BA19","v":"別添1_N35"},{"$f":"'（別添1）融資計画詳細１（実績報告）'!BB19","v":"利子補給金交付申請額合計（円）"},{"$f":"'（別添1）融資計画詳細１（実績報告）'!BC19","v":0}]
[143,{"$f":"'（別添1）融資計画詳細１（実績報告）'!BA20","v":"別添1_I11"},{"$f":"'（別添1）融資計画詳細１（実績報告）'!BB20","v":"融資備考欄"},{"$f":"'（別添1）融資計画詳細１（実績報告）'!BC20","v":""}]
[144,{"$f":"'（別添1）融資計画詳細１（実績報告）'!BA21","v":"別添1_I21"},{"$f":"'（別添1）融資計画詳細１（実績報告）'!BB21","v":"協調融資"},{"$f":"'（別添1）融資計画詳細１（実績報告）'!BC21","v":""}]
[145,{"$f":"'（別添1）融資計画詳細１（実績報告）'!BA22","v":"別添1_I28"},{"$f":"'（別添1）融資計画詳細１（実績報告）'!BB22","v":"シンジケートローン"},{"$f":"'（別添1）融資計画詳細１（実績報告）'!BC22","v":""}]
[146,{"$f":"'（別添１）融資計画詳細２（実績報告）'!BG3","v":"別添1-2_D9"},{"$f":"'（別添１）融資計画詳細２（実績報告）'!BH3","v":"事業者名"},{"$f":"'（別添１）融資計画詳細２（実績報告）'!BI3","v":""}]
[147,{"$f":"'（別添１）融資計画詳細２（実績報告）'!BG4","v":"別添1-2_D11"},{"$f":"'（別添１）融資計画詳細２（実績報告）'!BH4","v":"設備等利用者名"},{"$f":"'（別添１）融資計画詳細２（実績報告）'!BI4","v":""}]
[148,{"$f":"'（別添１）融資計画詳細２（実績報告）'!BG5","v":"別添1-2_D13"},{"$f":"'（別添１）融資計画詳細２（実績報告）'!BH5","v":"都道府県"},{"$f":"'（別添１）融資計画詳細２（実績報告）'!BI5","v":""}]
[149,{"$f":"'（別添１）融資計画詳細２（実績報告）'!BG6","v":"別添1-2_D15"},{"$f":"'（別添１）融資計画詳細２（実績報告）'!BH6","v":"市区町村"},{"$f":"'（別添１）融資計画詳細２（実績報告）'!BI6","v":""}]
[150,{"$f":"'（別添１）融資計画詳細２（実績報告）'!BG7","v":"別添1-2_D17"},{"$f":"'（別添１）融資計画詳細２（実績報告）'!BH7","v":"丁目・番地"},{"$f":"'（別添１）融資計画詳細２（実績報告）'!BI7","v":""}]
[151,{"$f":"'（別添１）融資計画詳細２（実績報告）'!BG8","v":"別添1-2_D19"},{"$f":"'（別添１）融資計画詳細２（実績報告）'!BH8","v":"業種大分類"},{"$f":"'（別添１）融資計画詳細２（実績報告）'!BI8","v":""}]
[152,{"$f":"'（別添１）融資計画詳細２（実績報告）'!BG9","v":"別添1-2_D21"},{"$f":"'（別添１）融資計画詳細２（実績報告）'!BH9","v":"業種分類項目名"},{"$f":"'（別添１）融資計画詳細２（実績報告）'!BI9","v":""}]
[153,{"$f":"'（別添１）融資計画詳細２（実績報告）'!BG10","v":"別添1-2_D23"},{"$f":"'（別添１）融資計画詳細２（実績報告）'!BH10","v":"資本金"},{"$f":"'（別添１）融資計画詳細２（実績報告）'!BI10","v":""}]
[154,{"$f":"'（別添１）融資計画詳細２（実績報告）'!BG11","v":"別添1-2_D25"},{"$f":"'（別添１）融資計画詳細２（実績報告）'!BH11","v":"従業員数"},{"$f":"'（別添１）融資計画詳細２（実績報告）'!BI11","v":""}]
[155,{"$f":"'（別添１）融資計画詳細２（実績報告）'!BG12","v":"別添1-2_D27"},{"$f":"'（別添１）融資計画詳細２（実績報告）'!BH12","v":"企業の内容"},{"$f":"'（別添１）融資計画詳細２（実績報告）'!BI12","v":""}]
[156,{"$f":"'（別添１）融資計画詳細２（実績報告）'!BG13","v":"別添1-2_D29"},{"$f":"'（別添１）融資計画詳細２（実績報告）'!BH13","v":"企業の規模"},{"$f":"'（別添１）融資計画詳細２（実績報告）'!BI13","v":""}]
[157,{"$f":"'（別添１）融資計画詳細２（実績報告）'!BG14","v":"別添1-2_D34"},{"$f":"'（別添１）融資計画詳細２（実績報告）'!BH14","v":"都道府県"},{"$f":"'（別添１）融資計画詳細２（実績報告）'!BI14","v":""}]
[158,{"$f":"'（別添１）融資計画詳細２（実績報告）'!BG15","v":"別添1-2_D36"},{"$f":"'（別添１）融資計画詳細２（実績報告）'!BH15","v":"市区町村"},{"$f":"'（別添１）融資計画詳細２（実績報告）'!BI15","v":""}]
[159,{"$f":"'（別添１）融資計画詳細２（実績報告）'!BG16","v":"別添1-2_D38"},{"$f":"'（別添１）融資計画詳細２（実績報告）'!BH16","v":"丁目・番地"},{"$f":"'（別添１）融資計画詳細２（実績報告）'!BI16","v":""}]
[160,{"$f":"'（別添１）融資計画詳細２（実績報告）'!BG17","v":"別添1-2_D43～55"},{"$f":"'（別添１）融資計画詳細２（実績報告）'!BH17","v":"対象要件１"},{"$f":"'（別添１）融資計画詳細２（実績報告）'!BI17","v":""}]
[161,{"$f":"'（別添１）融資計画詳細２（実績報告）'!BG18","v":"別添1-2_D43～55"},{"$f":"'（別添１）融資計画詳細２（実績報告）'!BH18","v":"対象要件２"},{"$f":"'（別添１）融資計画詳細２（実績報告）'!BI18","v":""}]
[162,{"$f":"'（別添１）融資計画詳細２（実績報告）'!BG19","v":"別添1-2_D61"},{"$f":"'（別添１）融資計画詳細２（実績報告）'!BH19","v":"設備導入区分１"},{"$f":"'（別添１）融資計画詳細２（実績報告）'!BI19","v":""}]
[163,{"$f":"'（別添１）融資計画詳細２（実績報告）'!BG20","v":"別添1-2_D61"},{"$f":"'（別添１）融資計画詳細２（実績報告）'!BH20","v":"設備導入区分2"},{"$f":"'（別添１）融資計画詳細２（実績報告）'!BI20","v":""}]
[164,{"$f":"'（別添１）融資計画詳細２（実績報告）'!BG21","v":"別添1-2_D63"},{"$f":"'（別添１）融資計画詳細２（実績報告）'!BH21","v":"導入設備の概要"},{"$f":"'（別添１）融資計画詳細２（実績報告）'!BI21","v":""}]
[165,{"$f":"'（別添１）融資計画詳細２（実績報告）'!BG22","v":"別添1-2_D73"},{"$f":"'（別添１）融資計画詳細２（実績報告）'!BH22","v":"対象事業の概要"},{"$f":"'（別添１）融資計画詳細２（実績報告）'!BI22","v":""}]
[166,{"$f":"'（別添１）融資計画詳細２（実績報告）'!BG23","v":"別添1-2_D86"},{"$f":"'（別添１）融資計画詳細２（実績報告）'!BH23","v":"給与支給総額の\n伸び率が年平均1.5%を\n達成できているか"},{"$f":"'（別添１）融資計画詳細２（実績報告）'!BI23","v":""}]
[167,{"$f":"'（別添１）融資計画詳細２（実績報告）'!BG24","v":"別添1-2_D90"},{"$f":"'（別添１）融資計画詳細２（実績報告）'!BH24","v":"未達成の事由"},{"$f":"'（別添１）融資計画詳細２（実績報告）'!BI24","v":""}]
[168,{"$f":"'（別添１）融資計画詳細２（実績報告）'!BG25","v":"別添1-2_D91"},{"$f":"'（別添１）融資計画詳細２（実績報告）'!BH25","v":"未達成の事由（その他）"},{"$f":"'（別添１）融資計画詳細２（実績報告）'!BI25","v":""}]
[{"$f":"ROW()-1","v":169},{"$f":"#REF!","v":{"$error":"#REF!"}},{"$f":"#REF!","v":{"$error":"#REF!"}},{"$f":"#REF!","v":{"$error":"#REF!"}}]
[170,{"$f":"#REF!","v":{"$error":"#REF!"}},{"$f":"#REF!","v":{"$error":"#REF!"}},{"$f":"#REF!","v":{"$error":"#REF!"}}]
[171,{"$f":"#REF!","v":{"$error":"#REF!"}},{"$f":"#REF!","v":{"$error":"#REF!"}},{"$f":"#REF!","v":{"$error":"#REF!"}}]
[172,{"$f":"#REF!","v":{"$error":"#REF!"}},{"$f":"#REF!","v":{"$error":"#REF!"}},{"$f":"#REF!","v":{"$error":"#REF!"}}]
[173,{"$f":"#REF!","v":{"$error":"#REF!"}},{"$f":"#REF!","v":{"$error":"#REF!"}},{"$f":"#REF!","v":{"$error":"#REF!"}}]
[174,{"$f":"#REF!","v":{"$error":"#REF!"}},{"$f":"#REF!","v":{"$error":"#REF!"}},{"$f":"#REF!","v":{"$error":"#REF!"}}]
[175,{"$f":"#REF!","v":{"$error":"#REF!"}},{"$f":"#REF!","v":{"$error":"#REF!"}},{"$f":"#REF!","v":{"$error":"#REF!"}}]
[176,{"$f":"#REF!","v":{"$error":"#REF!"}},{"$f":"#REF!","v":{"$error":"#REF!"}},{"$f":"#REF!","v":{"$error":"#REF!"}}]
[177,{"$f":"#REF!","v":{"$error":"#REF!"}},{"$f":"#REF!","v":{"$error":"#REF!"}},{"$f":"#REF!","v":{"$error":"#REF!"}}]
[178,{"$f":"#REF!","v":{"$error":"#REF!"}},{"$f":"#REF!","v":{"$error":"#REF!"}},{"$f":"#REF!","v":{"$error":"#REF!"}}]
[179,{"$f":"#REF!","v":{"$error":"#REF!"}},{"$f":"#REF!","v":{"$error":"#REF!"}},{"$f":"#REF!","v":{"$error":"#REF!"}}]
[180,{"$f":"#REF!","v":{"$error":"#REF!"}},{"$f":"#REF!","v":{"$error":"#REF!"}},{"$f":"#REF!","v":{"$error":"#REF!"}}]
[181,{"$f":"#REF!","v":{"$error":"#REF!"}},{"$f":"#REF!","v":{"$error":"#REF!"}},{"$f":"#REF!","v":{"$error":"#REF!"}}]
[182,{"$f":"#REF!","v":{"$error":"#REF!"}},{"$f":"#REF!","v":{"$error":"#REF!"}},{"$f":"#REF!","v":{"$error":"#REF!"}}]
[183,{"$f":"#REF!","v":{"$error":"#REF!"}},{"$f":"#REF!","v":{"$error":"#REF!"}},{"$f":"#REF!","v":{"$error":"#REF!"}}]
[184,{"$f":"#REF!","v":{"$error":"#REF!"}},{"$f":"#REF!","v":{"$error":"#REF!"}},{"$f":"#REF!","v":{"$error":"#REF!"}}]
[185,{"$f":"#REF!","v":{"$error":"#REF!"}},{"$f":"#REF!","v":{"$error":"#REF!"}},{"$f":"#REF!","v":{"$error":"#REF!"}}]
[186,{"$f":"#REF!","v":{"$error":"#REF!"}},{"$f":"#REF!","v":{"$error":"#REF!"}},{"$f":"#REF!","v":{"$error":"#REF!"}}]
[187,{"$f":"#REF!","v":{"$error":"#REF!"}},{"$f":"#REF!","v":{"$error":"#REF!"}},{"$f":"#REF!","v":{"$error":"#REF!"}}]
[188,{"$f":"#REF!","v":{"$error":"#REF!"}},{"$f":"#REF!","v":{"$error":"#REF!"}},{"$f":"#REF!","v":{"$error":"#REF!"}}]
[189,{"$f":"'（様式第１１）精算払請求書'!BA4","v":"様式第11精_L6"},{"$f":"'（様式第１１）精算払請求書'!BB4","v":"年"},{"$f":"'（様式第１１）精算払請求書'!BC4","v":""}]
[190,{"$f":"'（様式第１１）精算払請求書'!BA5","v":"様式第11精_N6"},{"$f":"'（様式第１１）精算払請求書'!BB5","v":"月"},{"$f":"'（様式第１１）精算払請求書'!BC5","v":""}]
[191,{"$f":"'（様式第１１）精算払請求書'!BA6","v":"様式第11精_P6"},{"$f":"'（様式第１１）精算払請求書'!BB6","v":"日"},{"$f":"'（様式第１１）精算払請求書'!BC6","v":""}]
[192,{"$f":"'（様式第１１）精算払請求書'!BA7","v":"様式第11精_K16"},{"$f":"'（様式第１１）精算払請求書'!BB7","v":"指定金融機関_住所"},{"$f":"'（様式第１１）精算払請求書'!BC7","v":""}]
[193,{"$f":"'（様式第１１）精算払請求書'!BA8","v":"様式第11精_K19"},{"$f":"'（様式第１１）精算払請求書'!BB8","v":"指定金融機関_名称"},{"$f":"'（様式第１１）精算払請求書'!BC8","v":""}]
[194,{"$f":"'（様式第１１）精算払請求書'!BA9","v":"様式第11精_K22"},{"$f":"'（様式第１１）精算払請求書'!BB9","v":"指定金融機関_役職"},{"$f":"'（様式第１１）精算払請求書'!BC9","v":""}]
[195,{"$f":"'（様式第１１）精算払請求書'!BA10","v":"様式第11精_K24"},{"$f":"'（様式第１１）精算払請求書'!BB10","v":"指定金融機関_代表者名"},{"$f":"'（様式第１１）精算払請求書'!BC10","v":""}]
[196,{"$f":"'（様式第１１）精算払請求書'!BA11","v":"様式第11精_A40"},{"$f":"'（様式第１１）精算払請求書'!BB11","v":"交付決定日"},{"$f":"'（様式第１１）精算払請求書'!BC11","v":""}]
[197,{"$f":"'（様式第１１）精算払請求書'!BA12","v":"様式第11精_H40"},{"$f":"'（様式第１１）精算払請求書'!BB12","v":"交付決定番号"},{"$f":"'（様式第１１）精算払請求書'!BC12","v":""}]
[198,{"$f":"'（様式第１１）精算払請求書'!BA13","v":"様式第11精_B71"},{"$f":"'（様式第１１）精算払請求書'!BB13","v":"利子補給対象事業者名"},{"$f":"'（様式第１１）精算払請求書'!BC13","v":""}]
[199,{"$f":"'（様式第１１）精算払請求書'!BA14","v":"様式第11精_B75"},{"$f":"'（様式第１１）精算払請求書'!BB14","v":"融資名称"},{"$f":"'（様式第１１）精算払請求書'!BC14","v":""}]
[200,{"$f":"'（様式第１１）精算払請求書'!BA15","v":"様式第11精_B79"},{"$f":"'（様式第１１）精算払請求書'!BB15","v":"利子補給金概算払請求金額"},{"$f":"'（様式第１１）精算払請求書'!BC15","v":""}]
[201,{"$f":"'（様式第１１）精算払請求書'!BA16","v":"様式第11精_D85"},{"$f":"'（様式第１１）精算払請求書'!BB16","v":"金融機関名"},{"$f":"'（様式第１１）精算払請求書'!BC16","v":""}]
[{"$f":"ROW()-1","v":202},{"$f":"'（様式第１１）精算払請求書'!BA17","v":"様式第11精_K85"},{"$f":"'（様式第１１）精算払請求書'!BB17","v":"銀行コード\n（4桁）"},{"$f":"'（様式第１１）精算払請求書'!BC17","v":""}]
[203,{"$f":"'（様式第１１）精算払請求書'!BA18","v":"様式第11精_D87"},{"$f":"'（様式第１１）精算払請求書'!BB18","v":"支店名"},{"$f":"'（様式第１１）精算払請求書'!BC18","v":""}]
[204,{"$f":"'（様式第１１）精算払請求書'!BA19","v":"様式第11精_K87"},{"$f":"'（様式第１１）精算払請求書'!BB19","v":"支店コード\n（3桁）"},{"$f":"'（様式第１１）精算払請求書'!BC19","v":""}]
[205,{"$f":"'（様式第１１）精算払請求書'!BA20","v":"様式第11精_D89"},{"$f":"'（様式第１１）精算払請求書'!BB20","v":"預金の種別"},{"$f":"'（様式第１１）精算払請求書'!BC20","v":""}]
[206,{"$f":"'（様式第１１）精算払請求書'!BA21","v":"様式第11精_K89"},{"$f":"'（様式第１１）精算払請求書'!BB21","v":"口座番号\n（7桁）"},{"$f":"'（様式第１１）精算払請求書'!BC21","v":""}]
[207,{"$f":"'（様式第１１）精算払請求書'!BA22","v":"様式第11精_D91"},{"$f":"'（様式第１１）精算払請求書'!BB22","v":"預金の名義"},{"$f":"'（様式第１１）精算払請求書'!BC22","v":""}]
[208,{"$f":"'（様式第１１）精算払請求書'!BA23","v":"様式第11精_K91"},{"$f":"'（様式第１１）精算払請求書'!BB23","v":"預金の名義\n（ｶﾅ）"},{"$f":"'（様式第１１）精算払請求書'!BC23","v":""}]
[209,"別添4_0_1_G4",{"$f":"'（別添４）エネルギー消費効率の根拠（要件ア）'!E4","v":"年間見込み省エネルギー率[%]"},{"$f":"'（別添４）エネルギー消費効率の根拠（要件ア）'!G4","v":""}]
[210,"別添4_0_2_G5",{"$f":"'（別添４）エネルギー消費効率の根拠（要件ア）'!E5","v":"年間見込み省エネルギー量[kl]"},{"$f":"'（別添４）エネルギー消費効率の根拠（要件ア）'!G5","v":0}]
[211,{"$f":"'（別添４）エネルギー消費効率の根拠（要件ア）'!D41","v":"別添4_1_1_D9"},{"$f":"'（別添４）エネルギー消費効率の根拠（要件ア）'!E41","v":"トップランナー基準"},{"$f":"'（別添４）エネルギー消費効率の根拠（要件ア）'!F41","v":0}]
[212,{"$f":"'（別添４）エネルギー消費効率の根拠（要件ア）'!D42","v":"別添4_1_2_D10"},{"$f":"'（別添４）エネルギー消費効率の根拠（要件ア）'!E42","v":"トップランナー基準の区分名又は数値"},{"$f":"'（別添４）エネルギー消費効率の根拠（要件ア）'!F42","v":0}]
[213,{"$f":"'（別添４）エネルギー消費効率の根拠（要件ア）'!D43","v":"別添4_1_3_D11"},{"$f":"'（別添４）エネルギー消費効率の根拠（要件ア）'!E43","v":"トップランナー基準の数値（導入設備）"},{"$f":"'（別添４）エネルギー消費効率の根拠（要件ア）'!F43","v":0}]
[214,{"$f":"'（別添４）エネルギー消費効率の根拠（要件ア）'!D44","v":"別添4_1_4_D12"},{"$f":"'（別添４）エネルギー消費効率の根拠（要件ア）'!E44","v":"比較指標/トップランナー基準"},{"$f":"'（別添４）エネルギー消費効率の根拠（要件ア）'!F44","v":0}]
[215,{"$f":"'（別添４）エネルギー消費効率の根拠（要件ア）'!D45","v":"別添4_1_5_D13"},{"$f":"'（別添４）エネルギー消費効率の根拠（要件ア）'!E45","v":"添付資料の根拠記載箇所"},{"$f":"'（別添４）エネルギー消費効率の根拠（要件ア）'!F45","v":0}]
[216,{"$f":"'（別添４）エネルギー消費効率の根拠（要件ア）'!D46","v":"別添4_1_6_D14"},{"$f":"'（別添４）エネルギー消費効率の根拠（要件ア）'!E46","v":"省エネ要因"},{"$f":"'（別添４）エネルギー消費効率の根拠（要件ア）'!F46","v":0}]
[217,{"$f":"'（別添４）エネルギー消費効率の根拠（要件ア）'!D47","v":"別添4_1_7_D16"},{"$f":"'（別添４）エネルギー消費効率の根拠（要件ア）'!E47","v":"導入設備_製品名"},{"$f":"'（別添４）エネルギー消費効率の根拠（要件ア）'!F47","v":0}]
[218,{"$f":"'（別添４）エネルギー消費効率の根拠（要件ア）'!D48","v":"別添4_1_8_D17"},{"$f":"'（別添４）エネルギー消費効率の根拠（要件ア）'!E48","v":"導入設備_製造メーカー"},{"$f":"'（別添４）エネルギー消費効率の根拠（要件ア）'!F48","v":0}]
[219,{"$f":"'（別添４）エネルギー消費効率の根拠（要件ア）'!D49","v":"別添4_1_9_D18"},{"$f":"'（別添４）エネルギー消費効率の根拠（要件ア）'!E49","v":"導入設備_型番"},{"$f":"'（別添４）エネルギー消費効率の根拠（要件ア）'!F49","v":0}]
[220,{"$f":"'（別添４）エネルギー消費効率の根拠（要件ア）'!D50","v":"別添4_1_10_D19&E19"},{"$f":"'（別添４）エネルギー消費効率の根拠（要件ア）'!E50","v":"導入設備_導入台数"},{"$f":"'（別添４）エネルギー消費効率の根拠（要件ア）'!F50","v":"台"}]
[221,{"$f":"'（別添４）エネルギー消費効率の根拠（要件ア）'!D51","v":"別添4_1_11_D20"},{"$f":"'（別添４）エネルギー消費効率の根拠（要件ア）'!E51","v":"導入設備_1台あたりの使用エネルギー"},{"$f":"'（別添４）エネルギー消費効率の根拠（要件ア）'!F51","v":0}]
[222,{"$f":"'（別添４）エネルギー消費効率の根拠（要件ア）'!D52","v":"別添4_1_12_D21"},{"$f":"'（別添４）エネルギー消費効率の根拠（要件ア）'!E52","v":"導入設備_年間エネルギー使用量計算式"},{"$f":"'（別添４）エネルギー消費効率の根拠（要件ア）'!F52","v":0}]
[223,{"$f":"'（別添４）エネルギー消費効率の根拠（要件ア）'!D53","v":"別添4_1_13_D22&E22"},{"$f":"'（別添４）エネルギー消費効率の根拠（要件ア）'!E53","v":"導入設備_計算結果"},{"$f":"'（別添４）エネルギー消費効率の根拠（要件ア）'!F53","v":"単位を選択してください"}]
[224,{"$f":"'（別添４）エネルギー消費効率の根拠（要件ア）'!D54","v":"別添4_1_14_F16"},{"$f":"'（別添４）エネルギー消費効率の根拠（要件ア）'!E54","v":"一代前モデル_製品名"},{"$f":"'（別添４）エネルギー消費効率の根拠（要件ア）'!F54","v":0}]
[225,{"$f":"'（別添４）エネルギー消費効率の根拠（要件ア）'!D55","v":"別添4_1_15_F17"},{"$f":"'（別添４）エネルギー消費効率の根拠（要件ア）'!E55","v":"一代前モデル_製造メーカー"},{"$f":"'（別添４）エネルギー消費効率の根拠（要件ア）'!F55","v":0}]
[226,{"$f":"'（別添４）エネルギー消費効率の根拠（要件ア）'!D56","v":"別添4_1_16_F18"},{"$f":"'（別添４）エネルギー消費効率の根拠（要件ア）'!E56","v":"一代前モデル_型番"},{"$f":"'（別添４）エネルギー消費効率の根拠（要件ア）'!F56","v":0}]
[227,{"$f":"'（別添４）エネルギー消費効率の根拠（要件ア）'!D57","v":"別添4_1_17_F19&G19"},{"$f":"'（別添４）エネルギー消費効率の根拠（要件ア）'!E57","v":"一代前モデル_導入台数"},{"$f":"'（別添４）エネルギー消費効率の根拠（要件ア）'!F57","v":"台"}]
[228,{"$f":"'（別添４）エネルギー消費効率の根拠（要件ア）'!D58","v":"別添4_1_18_F20"},{"$f":"'（別添４）エネルギー消費効率の根拠（要件ア）'!E58","v":"一代前モデル_1台あたりの使用エネルギー"},{"$f":"'（別添４）エネルギー消費効率の根拠（要件ア）'!F58","v":0}]
[229,{"$f":"'（別添４）エネルギー消費効率の根拠（要件ア）'!D59","v":"別添4_1_19_F21"},{"$f":"'（別添４）エネルギー消費効率の根拠（要件ア）'!E59","v":"一代前モデル_年間エネルギー使用量計算式"},{"$f":"'（別添４）エネルギー消費効率の根拠（要件ア）'!F59","v":0}]
[230,{"$f":"'（別添４）エネルギー消費効率の根拠（要件ア）'!D60","v":"別添4_1_20_F22&G22"},{"$f":"'（別添４）エネルギー消費効率の根拠（要件ア）'!E60","v":"一代前モデル_計算結果"},{"$f":"'（別添４）エネルギー消費効率の根拠（要件ア）'!F60","v":"単位を選択してください"}]
[231,{"$f":"'（別添４）エネルギー消費効率の根拠（要件ア）'!D61","v":"別添4_1_21_D23&E23"},{"$f":"'（別添４）エネルギー消費効率の根拠（要件ア）'!E61","v":"年間見込み省エネルギー量__計算結果"},{"$f":"'（別添４）エネルギー消費効率の根拠（要件ア）'!F61","v":"0単位を選択してください"}]
[232,{"$f":"'（別添４）エネルギー消費効率の根拠（要件ア）'!D62","v":"別添4_1_22_D25"},{"$f":"'（別添４）エネルギー消費効率の根拠（要件ア）'!E62","v":"年間見込み省エネルギー量_原油換算計算式"},{"$f":"'（別添４）エネルギー消費効率の根拠（要件ア）'!F62","v":0}]
[233,{"$f":"'（別添４）エネルギー消費効率の根拠（要件ア）'!D63","v":"別添4_1_23_D26"},{"$f":"'（別添４）エネルギー消費効率の根拠（要件ア）'!E63","v":"年間見込み省エネルギー量原油換算計算結果"},{"$f":"'（別添４）エネルギー消費効率の根拠（要件ア）'!F63","v":0}]
[234,{"$f":"'（別添４）エネルギー消費効率の根拠（要件ア）'!D64","v":"別添4_1_24_D27"},{"$f":"'（別添４）エネルギー消費効率の根拠（要件ア）'!E64","v":"年間見込み省エネルギー率_自動計算"},{"$f":"'（別添４）エネルギー消費効率の根拠（要件ア）'!F64","v":""}]
[235,{"$f":"'（別添４）エネルギー消費効率の根拠（要件ア）'!H41","v":"別添4_2_1_H9"},{"$f":"'（別添４）エネルギー消費効率の根拠（要件ア）'!I41","v":"トップランナー基準"},{"$f":"'（別添４）エネルギー消費効率の根拠（要件ア）'!J41","v":0}]
[236,{"$f":"'（別添４）エネルギー消費効率の根拠（要件ア）'!H42","v":"別添4_2_2_H10"},{"$f":"'（別添４）エネルギー消費効率の根拠（要件ア）'!I42","v":"トップランナー基準の区分名又は数値"},{"$f":"'（別添４）エネルギー消費効率の根拠（要件ア）'!J42","v":0}]
[237,{"$f":"'（別添４）エネルギー消費効率の根拠（要件ア）'!H43","v":"別添4_2_3_H11"},{"$f":"'（別添４）エネルギー消費効率の根拠（要件ア）'!I43","v":"トップランナー基準の数値（導入設備）"},{"$f":"'（別添４）エネルギー消費効率の根拠（要件ア）'!J43","v":0}]
[238,{"$f":"'（別添４）エネルギー消費効率の根拠（要件ア）'!H44","v":"別添4_2_4_H12"},{"$f":"'（別添４）エネルギー消費効率の根拠（要件ア）'!I44","v":"比較指標/トップランナー基準"},{"$f":"'（別添４）エネルギー消費効率の根拠（要件ア）'!J44","v":0}]
[239,{"$f":"'（別添４）エネルギー消費効率の根拠（要件ア）'!H45","v":"別添4_2_5_H13"},{"$f":"'（別添４）エネルギー消費効率の根拠（要件ア）'!I45","v":"添付資料の根拠記載箇所"},{"$f":"'（別添４）エネルギー消費効率の根拠（要件ア）'!J45","v":0}]
[240,{"$f":"'（別添４）エネルギー消費効率の根拠（要件ア）'!H46","v":"別添4_2_6_H14"},{"$f":"'（別添４）エネルギー消費効率の根拠（要件ア）'!I46","v":"省エネ要因"},{"$f":"'（別添４）エネルギー消費効率の根拠（要件ア）'!J46","v":0}]
[241,{"$f":"'（別添４）エネルギー消費効率の根拠（要件ア）'!H47","v":"別添4_2_7_H16"},{"$f":"'（別添４）エネルギー消費効率の根拠（要件ア）'!I47","v":"導入設備_製品名"},{"$f":"'（別添４）エネルギー消費効率の根拠（要件ア）'!J47","v":0}]
[242,{"$f":"'（別添４）エネルギー消費効率の根拠（要件ア）'!H48","v":"別添4_2_8_H17"},{"$f":"'（別添４）エネルギー消費効率の根拠（要件ア）'!I48","v":"導入設備_製造メーカー"},{"$f":"'（別添４）エネルギー消費効率の根拠（要件ア）'!J48","v":0}]
[243,{"$f":"'（別添４）エネルギー消費効率の根拠（要件ア）'!H49","v":"別添4_2_9_H18"},{"$f":"'（別添４）エネルギー消費効率の根拠（要件ア）'!I49","v":"導入設備_型番"},{"$f":"'（別添４）エネルギー消費効率の根拠（要件ア）'!J49","v":0}]
[244,{"$f":"'（別添４）エネルギー消費効率の根拠（要件ア）'!H50","v":"別添4_2_10_H19&I19"},{"$f":"'（別添４）エネルギー消費効率の根拠（要件ア）'!I50","v":"導入設備_導入台数"},{"$f":"'（別添４）エネルギー消費効率の根拠（要件ア）'!J50","v":"台"}]
[245,{"$f":"'（別添４）エネルギー消費効率の根拠（要件ア）'!H51","v":"別添4_2_11_H20"},{"$f":"'（別添４）エネルギー消費効率の根拠（要件ア）'!I51","v":"導入設備_1台あたりの使用エネルギー"},{"$f":"'（別添４）エネルギー消費効率の根拠（要件ア）'!J51","v":0}]
[246,{"$f":"'（別添４）エネルギー消費効率の根拠（要件ア）'!H52","v":"別添4_2_12_H21"},{"$f":"'（別添４）エネルギー消費効率の根拠（要件ア）'!I52","v":"導入設備_年間エネルギー使用量計算式"},{"$f":"'（別添４）エネルギー消費効率の根拠（要件ア）'!J52","v":0}]
[247,{"$f":"'（別添４）エネルギー消費効率の根拠（要件ア）'!H53","v":"別添4_2_13_H22&I22"},{"$f":"'（別添４）エネルギー消費効率の根拠（要件ア）'!I53","v":"導入設備_計算結果"},{"$f":"'（別添４）エネルギー消費効率の根拠（要件ア）'!J53","v":"単位を選択してください"}]
[248,{"$f":"'（別添４）エネルギー消費効率の根拠（要件ア）'!H54","v":"別添4_2_14_J16"},{"$f":"'（別添４）エネルギー消費効率の根拠（要件ア）'!I54","v":"一代前モデル_製品名"},{"$f":"'（別添４）エネルギー消費効率の根拠（要件ア）'!J54","v":0}]
[249,{"$f":"'（別添４）エネルギー消費効率の根拠（要件ア）'!H55","v":"別添4_2_15_J17"},{"$f":"'（別添４）エネルギー消費効率の根拠（要件ア）'!I55","v":"一代前モデル_製造メーカー"},{"$f":"'（別添４）エネルギー消費効率の根拠（要件ア）'!J55","v":0}]
[250,{"$f":"'（別添４）エネルギー消費効率の根拠（要件ア）'!H56","v":"別添4_2_16_J18"},{"$f":"'（別添４）エネルギー消費効率の根拠（要件ア）'!I56","v":"一代前モデル_型番"},{"$f":"'（別添４）エネルギー消費効率の根拠（要件ア）'!J56","v":0}]
[251,{"$f":"'（別添４）エネルギー消費効率の根拠（要件ア）'!H57","v":"別添4_2_17_J19&K19"},{"$f":"'（別添４）エネルギー消費効率の根拠（要件ア）'!I57","v":"一代前モデル_導入台数"},{"$f":"'（別添４）エネルギー消費効率の根拠（要件ア）'!J57","v":"台"}]
[252,{"$f":"'（別添４）エネルギー消費効率の根拠（要件ア）'!H58","v":"別添4_2_18_J20"},{"$f":"'（別添４）エネルギー消費効率の根拠（要件ア）'!I58","v":"一代前モデル_1台あたりの使用エネルギー"},{"$f":"'（別添４）エネルギー消費効率の根拠（要件ア）'!J58","v":0}]
[253,{"$f":"'（別添４）エネルギー消費効率の根拠（要件ア）'!H59","v":"別添4_2_19_J21"},{"$f":"'（別添４）エネルギー消費効率の根拠（要件ア）'!I59","v":"一代前モデル_年間エネルギー使用量計算式"},{"$f":"'（別添４）エネルギー消費効率の根拠（要件ア）'!J59","v":0}]
[254,{"$f":"'（別添４）エネルギー消費効率の根拠（要件ア）'!H60","v":"別添4_2_20_J22&K22"},{"$f":"'（別添４）エネルギー消費効率の根拠（要件ア）'!I60","v":"一代前モデル_計算結果"},{"$f":"'（別添４）エネルギー消費効率の根拠（要件ア）'!J60","v":"単位を選択してください"}]
[255,{"$f":"'（別添４）エネルギー消費効率の根拠（要件ア）'!H61","v":"別添4_2_21_H23&I23"},{"$f":"'（別添４）エネルギー消費効率の根拠（要件ア）'!I61","v":"年間見込み省エネルギー量__計算結果"},{"$f":"'（別添４）エネルギー消費効率の根拠（要件ア）'!J61","v":"0単位を選択してください"}]
[256,{"$f":"'（別添４）エネルギー消費効率の根拠（要件ア）'!H62","v":"別添4_2_22_H25"},{"$f":"'（別添４）エネルギー消費効率の根拠（要件ア）'!I62","v":"年間見込み省エネルギー量_原油換算計算式"},{"$f":"'（別添４）エネルギー消費効率の根拠（要件ア）'!J62","v":0}]
[257,{"$f":"'（別添４）エネルギー消費効率の根拠（要件ア）'!H63","v":"別添4_2_23_H26"},{"$f":"'（別添４）エネルギー消費効率の根拠（要件ア）'!I63","v":"年間見込み省エネルギー量原油換算計算結果"},{"$f":"'（別添４）エネルギー消費効率の根拠（要件ア）'!J63","v":0}]
[258,{"$f":"'（別添４）エネルギー消費効率の根拠（要件ア）'!H64","v":"別添4_2_24_H27"},{"$f":"'（別添４）エネルギー消費効率の根拠（要件ア）'!I64","v":"年間見込み省エネルギー率_自動計算"},{"$f":"'（別添４）エネルギー消費効率の根拠（要件ア）'!J64","v":""}]
[259,{"$f":"'（別添４）エネルギー消費効率の根拠（要件ア）'!L41","v":"別添4_3_1_L9"},{"$f":"'（別添４）エネルギー消費効率の根拠（要件ア）'!M41","v":"トップランナー基準"},{"$f":"'（別添４）エネルギー消費効率の根拠（要件ア）'!N41","v":0}]
[260,{"$f":"'（別添４）エネルギー消費効率の根拠（要件ア）'!L42","v":"別添4_3_2_L10"},{"$f":"'（別添４）エネルギー消費効率の根拠（要件ア）'!M42","v":"トップランナー基準の区分名又は数値"},{"$f":"'（別添４）エネルギー消費効率の根拠（要件ア）'!N42","v":0}]
[261,{"$f":"'（別添４）エネルギー消費効率の根拠（要件ア）'!L43","v":"別添4_3_3_L11"},{"$f":"'（別添４）エネルギー消費効率の根拠（要件ア）'!M43","v":"トップランナー基準の数値（導入設備）"},{"$f":"'（別添４）エネルギー消費効率の根拠（要件ア）'!N43","v":0}]
[262,{"$f":"'（別添４）エネルギー消費効率の根拠（要件ア）'!L44","v":"別添4_3_4_L12"},{"$f":"'（別添４）エネルギー消費効率の根拠（要件ア）'!M44","v":"比較指標/トップランナー基準"},{"$f":"'（別添４）エネルギー消費効率の根拠（要件ア）'!N44","v":0}]
[263,{"$f":"'（別添４）エネルギー消費効率の根拠（要件ア）'!L45","v":"別添4_3_5_L13"},{"$f":"'（別添４）エネルギー消費効率の根拠（要件ア）'!M45","v":"添付資料の根拠記載箇所"},{"$f":"'（別添４）エネルギー消費効率の根拠（要件ア）'!N45","v":0}]
[264,{"$f":"'（別添４）エネルギー消費効率の根拠（要件ア）'!L46","v":"別添4_3_6_L14"},{"$f":"'（別添４）エネルギー消費効率の根拠（要件ア）'!M46","v":"省エネ要因"},{"$f":"'（別添４）エネルギー消費効率の根拠（要件ア）'!N46","v":0}]
[265,{"$f":"'（別添４）エネルギー消費効率の根拠（要件ア）'!L47","v":"別添4_3_7_L16"},{"$f":"'（別添４）エネルギー消費効率の根拠（要件ア）'!M47","v":"導入設備_製品名"},{"$f":"'（別添４）エネルギー消費効率の根拠（要件ア）'!N47","v":0}]
[266,{"$f":"'（別添４）エネルギー消費効率の根拠（要件ア）'!L48","v":"別添4_3_8_L17"},{"$f":"'（別添４）エネルギー消費効率の根拠（要件ア）'!M48","v":"導入設備_製造メーカー"},{"$f":"'（別添４）エネルギー消費効率の根拠（要件ア）'!N48","v":0}]
[267,{"$f":"'（別添４）エネルギー消費効率の根拠（要件ア）'!L49","v":"別添4_3_9_L18"},{"$f":"'（別添４）エネルギー消費効率の根拠（要件ア）'!M49","v":"導入設備_型番"},{"$f":"'（別添４）エネルギー消費効率の根拠（要件ア）'!N49","v":0}]
[{"$f":"ROW()-1","v":268},{"$f":"'（別添４）エネルギー消費効率の根拠（要件ア）'!L50","v":"別添4_3_10_L19&M19"},{"$f":"'（別添４）エネルギー消費効率の根拠（要件ア）'!M50","v":"導入設備_導入台数"},{"$f":"'（別添４）エネルギー消費効率の根拠（要件ア）'!N50","v":"台"}]
[269,{"$f":"'（別添４）エネルギー消費効率の根拠（要件ア）'!L51","v":"別添4_3_11_L20"},{"$f":"'（別添４）エネルギー消費効率の根拠（要件ア）'!M51","v":"導入設備_1台あたりの使用エネルギー"},{"$f":"'（別添４）エネルギー消費効率の根拠（要件ア）'!N51","v":0}]
[270,{"$f":"'（別添４）エネルギー消費効率の根拠（要件ア）'!L52","v":"別添4_3_12_L21"},{"$f":"'（別添４）エネルギー消費効率の根拠（要件ア）'!M52","v":"導入設備_年間エネルギー使用量計算式"},{"$f":"'（別添４）エネルギー消費効率の根拠（要件ア）'!N52","v":0}]
[271,{"$f":"'（別添４）エネルギー消費効率の根拠（要件ア）'!L53","v":"別添4_3_13_L22&M22"},{"$f":"'（別添４）エネルギー消費効率の根拠（要件ア）'!M53","v":"導入設備_計算結果"},{"$f":"'（別添４）エネルギー消費効率の根拠（要件ア）'!N53","v":"単位を選択してください"}]
[272,{"$f":"'（別添４）エネルギー消費効率の根拠（要件ア）'!L54","v":"別添4_3_14_N16"},{"$f":"'（別添４）エネルギー消費効率の根拠（要件ア）'!M54","v":"一代前モデル_製品名"},{"$f":"'（別添４）エネルギー消費効率の根拠（要件ア）'!N54","v":0}]
[273,{"$f":"'（別添４）エネルギー消費効率の根拠（要件ア）'!L55","v":"別添4_3_15_N17"},{"$f":"'（別添４）エネルギー消費効率の根拠（要件ア）'!M55","v":"一代前モデル_製造メーカー"},{"$f":"'（別添４）エネルギー消費効率の根拠（要件ア）'!N55","v":0}]
[274,{"$f":"'（別添４）エネルギー消費効率の根拠（要件ア）'!L56","v":"別添4_3_16_N18"},{"$f":"'（別添４）エネルギー消費効率の根拠（要件ア）'!M56","v":"一代前モデル_型番"},{"$f":"'（別添４）エネルギー消費効率の根拠（要件ア）'!N56","v":0}]
[275,{"$f":"'（別添４）エネルギー消費効率の根拠（要件ア）'!L57","v":"別添4_3_17_N19&O19"},{"$f":"'（別添４）エネルギー消費効率の根拠（要件ア）'!M57","v":"一代前モデル_導入台数"},{"$f":"'（別添４）エネルギー消費効率の根拠（要件ア）'!N57","v":"台"}]
[276,{"$f":"'（別添４）エネルギー消費効率の根拠（要件ア）'!L58","v":"別添4_3_18_N20"},{"$f":"'（別添４）エネルギー消費効率の根拠（要件ア）'!M58","v":"一代前モデル_1台あたりの使用エネルギー"},{"$f":"'（別添４）エネルギー消費効率の根拠（要件ア）'!N58","v":0}]
[277,{"$f":"'（別添４）エネルギー消費効率の根拠（要件ア）'!L59","v":"別添4_3_19_N21"},{"$f":"'（別添４）エネルギー消費効率の根拠（要件ア）'!M59","v":"一代前モデル_年間エネルギー使用量計算式"},{"$f":"'（別添４）エネルギー消費効率の根拠（要件ア）'!N59","v":0}]
[278,{"$f":"'（別添４）エネルギー消費効率の根拠（要件ア）'!L60","v":"別添4_3_20_N22&O22"},{"$f":"'（別添４）エネルギー消費効率の根拠（要件ア）'!M60","v":"一代前モデル_計算結果"},{"$f":"'（別添４）エネルギー消費効率の根拠（要件ア）'!N60","v":"単位を選択してください"}]
[279,{"$f":"'（別添４）エネルギー消費効率の根拠（要件ア）'!L61","v":"別添4_3_21_L23&M23"},{"$f":"'（別添４）エネルギー消費効率の根拠（要件ア）'!M61","v":"年間見込み省エネルギー量__計算結果"},{"$f":"'（別添４）エネルギー消費効率の根拠（要件ア）'!N61","v":"0単位を選択してください"}]
[280,{"$f":"'（別添４）エネルギー消費効率の根拠（要件ア）'!L62","v":"別添4_3_22_L25"},{"$f":"'（別添４）エネルギー消費効率の根拠（要件ア）'!M62","v":"年間見込み省エネルギー量_原油換算計算式"},{"$f":"'（別添４）エネルギー消費効率の根拠（要件ア）'!N62","v":0}]
[281,{"$f":"'（別添４）エネルギー消費効率の根拠（要件ア）'!L63","v":"別添4_3_23_L26"},{"$f":"'（別添４）エネルギー消費効率の根拠（要件ア）'!M63","v":"年間見込み省エネルギー量原油換算計算結果"},{"$f":"'（別添４）エネルギー消費効率の根拠（要件ア）'!N63","v":0}]
[282,{"$f":"'（別添４）エネルギー消費効率の根拠（要件ア）'!L64","v":"別添4_3_24_L27"},{"$f":"'（別添４）エネルギー消費効率の根拠（要件ア）'!M64","v":"年間見込み省エネルギー率_自動計算"},{"$f":"'（別添４）エネルギー消費効率の根拠（要件ア）'!N64","v":""}]
[283,{"$f":"'（別添４）エネルギー消費効率の根拠（要件ア）'!P41","v":"別添4_4_1_P9"},{"$f":"'（別添４）エネルギー消費効率の根拠（要件ア）'!Q41","v":"トップランナー基準"},{"$f":"'（別添４）エネルギー消費効率の根拠（要件ア）'!R41","v":0}]
[284,{"$f":"'（別添４）エネルギー消費効率の根拠（要件ア）'!P42","v":"別添4_4_2_P10"},{"$f":"'（別添４）エネルギー消費効率の根拠（要件ア）'!Q42","v":"トップランナー基準の区分名又は数値"},{"$f":"'（別添４）エネルギー消費効率の根拠（要件ア）'!R42","v":0}]
[285,{"$f":"'（別添４）エネルギー消費効率の根拠（要件ア）'!P43","v":"別添4_4_3_P11"},{"$f":"'（別添４）エネルギー消費効率の根拠（要件ア）'!Q43","v":"トップランナー基準の数値（導入設備）"},{"$f":"'（別添４）エネルギー消費効率の根拠（要件ア）'!R43","v":0}]
[286,{"$f":"'（別添４）エネルギー消費効率の根拠（要件ア）'!P44","v":"別添4_4_4_P12"},{"$f":"'（別添４）エネルギー消費効率の根拠（要件ア）'!Q44","v":"比較指標/トップランナー基準"},{"$f":"'（別添４）エネルギー消費効率の根拠（要件ア）'!R44","v":0}]
[287,{"$f":"'（別添４）エネルギー消費効率の根拠（要件ア）'!P45","v":"別添4_4_5_P13"},{"$f":"'（別添４）エネルギー消費効率の根拠（要件ア）'!Q45","v":"添付資料の根拠記載箇所"},{"$f":"'（別添４）エネルギー消費効率の根拠（要件ア）'!R45","v":0}]
[288,{"$f":"'（別添４）エネルギー消費効率の根拠（要件ア）'!P46","v":"別添4_4_6_P14"},{"$f":"'（別添４）エネルギー消費効率の根拠（要件ア）'!Q46","v":"省エネ要因"},{"$f":"'（別添４）エネルギー消費効率の根拠（要件ア）'!R46","v":0}]
[289,{"$f":"'（別添４）エネルギー消費効率の根拠（要件ア）'!P47","v":"別添4_4_7_P16"},{"$f":"'（別添４）エネルギー消費効率の根拠（要件ア）'!Q47","v":"導入設備_製品名"},{"$f":"'（別添４）エネルギー消費効率の根拠（要件ア）'!R47","v":0}]
[290,{"$f":"'（別添４）エネルギー消費効率の根拠（要件ア）'!P48","v":"別添4_4_8_P17"},{"$f":"'（別添４）エネルギー消費効率の根拠（要件ア）'!Q48","v":"導入設備_製造メーカー"},{"$f":"'（別添４）エネルギー消費効率の根拠（要件ア）'!R48","v":0}]
[291,{"$f":"'（別添４）エネルギー消費効率の根拠（要件ア）'!P49","v":"別添4_4_9_P18"},{"$f":"'（別添４）エネルギー消費効率の根拠（要件ア）'!Q49","v":"導入設備_型番"},{"$f":"'（別添４）エネルギー消費効率の根拠（要件ア）'!R49","v":0}]
[292,{"$f":"'（別添４）エネルギー消費効率の根拠（要件ア）'!P50","v":"別添4_4_10_P19&Q19"},{"$f":"'（別添４）エネルギー消費効率の根拠（要件ア）'!Q50","v":"導入設備_導入台数"},{"$f":"'（別添４）エネルギー消費効率の根拠（要件ア）'!R50","v":"台"}]
[293,{"$f":"'（別添４）エネルギー消費効率の根拠（要件ア）'!P51","v":"別添4_4_11_P20"},{"$f":"'（別添４）エネルギー消費効率の根拠（要件ア）'!Q51","v":"導入設備_1台あたりの使用エネルギー"},{"$f":"'（別添４）エネルギー消費効率の根拠（要件ア）'!R51","v":0}]
[294,{"$f":"'（別添４）エネルギー消費効率の根拠（要件ア）'!P52","v":"別添4_4_12_P21"},{"$f":"'（別添４）エネルギー消費効率の根拠（要件ア）'!Q52","v":"導入設備_年間エネルギー使用量計算式"},{"$f":"'（別添４）エネルギー消費効率の根拠（要件ア）'!R52","v":0}]
[295,{"$f":"'（別添４）エネルギー消費効率の根拠（要件ア）'!P53","v":"別添4_4_13_P22&Q22"},{"$f":"'（別添４）エネルギー消費効率の根拠（要件ア）'!Q53","v":"導入設備_計算結果"},{"$f":"'（別添４）エネルギー消費効率の根拠（要件ア）'!R53","v":"単位を選択してください"}]
[296,{"$f":"'（別添４）エネルギー消費効率の根拠（要件ア）'!P54","v":"別添4_4_14_R16"},{"$f":"'（別添４）エネルギー消費効率の根拠（要件ア）'!Q54","v":"一代前モデル_製品名"},{"$f":"'（別添４）エネルギー消費効率の根拠（要件ア）'!R54","v":0}]
[297,{"$f":"'（別添４）エネルギー消費効率の根拠（要件ア）'!P55","v":"別添4_4_15_R17"},{"$f":"'（別添４）エネルギー消費効率の根拠（要件ア）'!Q55","v":"一代前モデル_製造メーカー"},{"$f":"'（別添４）エネルギー消費効率の根拠（要件ア）'!R55","v":0}]
[298,{"$f":"'（別添４）エネルギー消費効率の根拠（要件ア）'!P56","v":"別添4_4_16_R18"},{"$f":"'（別添４）エネルギー消費効率の根拠（要件ア）'!Q56","v":"一代前モデル_型番"},{"$f":"'（別添４）エネルギー消費効率の根拠（要件ア）'!R56","v":0}]
[299,{"$f":"'（別添４）エネルギー消費効率の根拠（要件ア）'!P57","v":"別添4_4_17_R19&S19"},{"$f":"'（別添４）エネルギー消費効率の根拠（要件ア）'!Q57","v":"一代前モデル_導入台数"},{"$f":"'（別添４）エネルギー消費効率の根拠（要件ア）'!R57","v":"台"}]
[300,{"$f":"'（別添４）エネルギー消費効率の根拠（要件ア）'!P58","v":"別添4_4_18_R20"},{"$f":"'（別添４）エネルギー消費効率の根拠（要件ア）'!Q58","v":"一代前モデル_1台あたりの使用エネルギー"},{"$f":"'（別添４）エネルギー消費効率の根拠（要件ア）'!R58","v":0}]
[301,{"$f":"'（別添４）エネルギー消費効率の根拠（要件ア）'!P59","v":"別添4_4_19_R21"},{"$f":"'（別添４）エネルギー消費効率の根拠（要件ア）'!Q59","v":"一代前モデル_年間エネルギー使用量計算式"},{"$f":"'（別添４）エネルギー消費効率の根拠（要件ア）'!R59","v":0}]
[302,{"$f":"'（別添４）エネルギー消費効率の根拠（要件ア）'!P60","v":"別添4_4_20_R22&S22"},{"$f":"'（別添４）エネルギー消費効率の根拠（要件ア）'!Q60","v":"一代前モデル_計算結果"},{"$f":"'（別添４）エネルギー消費効率の根拠（要件ア）'!R60","v":"単位を選択してください"}]
[303,{"$f":"'（別添４）エネルギー消費効率の根拠（要件ア）'!P61","v":"別添4_4_21_P23&Q23"},{"$f":"'（別添４）エネルギー消費効率の根拠（要件ア）'!Q61","v":"年間見込み省エネルギー量__計算結果"},{"$f":"'（別添４）エネルギー消費効率の根拠（要件ア）'!R61","v":"0単位を選択してください"}]
[304,{"$f":"'（別添４）エネルギー消費効率の根拠（要件ア）'!P62","v":"別添4_4_22_P25"},{"$f":"'（別添４）エネルギー消費効率の根拠（要件ア）'!Q62","v":"年間見込み省エネルギー量_原油換算計算式"},{"$f":"'（別添４）エネルギー消費効率の根拠（要件ア）'!R62","v":0}]
[305,{"$f":"'（別添４）エネルギー消費効率の根拠（要件ア）'!P63","v":"別添4_4_23_P26"},{"$f":"'（別添４）エネルギー消費効率の根拠（要件ア）'!Q63","v":"年間見込み省エネルギー量原油換算計算結果"},{"$f":"'（別添４）エネルギー消費効率の根拠（要件ア）'!R63","v":0}]
[306,{"$f":"'（別添４）エネルギー消費効率の根拠（要件ア）'!P64","v":"別添4_4_24_P27"},{"$f":"'（別添４）エネルギー消費効率の根拠（要件ア）'!Q64","v":"年間見込み省エネルギー率_自動計算"},{"$f":"'（別添４）エネルギー消費効率の根拠（要件ア）'!R64","v":""}]
[307,{"$f":"'（別添４）エネルギー消費効率の根拠（要件ア）'!T41","v":"別添4_5_1_T9"},{"$f":"'（別添４）エネルギー消費効率の根拠（要件ア）'!U41","v":"トップランナー基準"},{"$f":"'（別添４）エネルギー消費効率の根拠（要件ア）'!V41","v":0}]
[308,{"$f":"'（別添４）エネルギー消費効率の根拠（要件ア）'!T42","v":"別添4_5_2_T10"},{"$f":"'（別添４）エネルギー消費効率の根拠（要件ア）'!U42","v":"トップランナー基準の区分名又は数値"},{"$f":"'（別添４）エネルギー消費効率の根拠（要件ア）'!V42","v":0}]
[309,{"$f":"'（別添４）エネルギー消費効率の根拠（要件ア）'!T43","v":"別添4_5_3_T11"},{"$f":"'（別添４）エネルギー消費効率の根拠（要件ア）'!U43","v":"トップランナー基準の数値（導入設備）"},{"$f":"'（別添４）エネルギー消費効率の根拠（要件ア）'!V43","v":0}]
[310,{"$f":"'（別添４）エネルギー消費効率の根拠（要件ア）'!T44","v":"別添4_5_4_T12"},{"$f":"'（別添４）エネルギー消費効率の根拠（要件ア）'!U44","v":"比較指標/トップランナー基準"},{"$f":"'（別添４）エネルギー消費効率の根拠（要件ア）'!V44","v":0}]
[311,{"$f":"'（別添４）エネルギー消費効率の根拠（要件ア）'!T45","v":"別添4_5_5_T13"},{"$f":"'（別添４）エネルギー消費効率の根拠（要件ア）'!U45","v":"添付資料の根拠記載箇所"},{"$f":"'（別添４）エネルギー消費効率の根拠（要件ア）'!V45","v":0}]
[312,{"$f":"'（別添４）エネルギー消費効率の根拠（要件ア）'!T46","v":"別添4_5_6_T14"},{"$f":"'（別添４）エネルギー消費効率の根拠（要件ア）'!U46","v":"省エネ要因"},{"$f":"'（別添４）エネルギー消費効率の根拠（要件ア）'!V46","v":0}]
[313,{"$f":"'（別添４）エネルギー消費効率の根拠（要件ア）'!T47","v":"別添4_5_7_T16"},{"$f":"'（別添４）エネルギー消費効率の根拠（要件ア）'!U47","v":"導入設備_製品名"},{"$f":"'（別添４）エネルギー消費効率の根拠（要件ア）'!V47","v":0}]
[314,{"$f":"'（別添４）エネルギー消費効率の根拠（要件ア）'!T48","v":"別添4_5_8_T17"},{"$f":"'（別添４）エネルギー消費効率の根拠（要件ア）'!U48","v":"導入設備_製造メーカー"},{"$f":"'（別添４）エネルギー消費効率の根拠（要件ア）'!V48","v":0}]
[315,{"$f":"'（別添４）エネルギー消費効率の根拠（要件ア）'!T49","v":"別添4_5_9_T18"},{"$f":"'（別添４）エネルギー消費効率の根拠（要件ア）'!U49","v":"導入設備_型番"},{"$f":"'（別添４）エネルギー消費効率の根拠（要件ア）'!V49","v":0}]
[316,{"$f":"'（別添４）エネルギー消費効率の根拠（要件ア）'!T50","v":"別添4_5_10_T19&U19"},{"$f":"'（別添４）エネルギー消費効率の根拠（要件ア）'!U50","v":"導入設備_導入台数"},{"$f":"'（別添４）エネルギー消費効率の根拠（要件ア）'!V50","v":"台"}]
[317,{"$f":"'（別添４）エネルギー消費効率の根拠（要件ア）'!T51","v":"別添4_5_11_T20"},{"$f":"'（別添４）エネルギー消費効率の根拠（要件ア）'!U51","v":"導入設備_1台あたりの使用エネルギー"},{"$f":"'（別添４）エネルギー消費効率の根拠（要件ア）'!V51","v":0}]
[318,{"$f":"'（別添４）エネルギー消費効率の根拠（要件ア）'!T52","v":"別添4_5_12_T21"},{"$f":"'（別添４）エネルギー消費効率の根拠（要件ア）'!U52","v":"導入設備_年間エネルギー使用量計算式"},{"$f":"'（別添４）エネルギー消費効率の根拠（要件ア）'!V52","v":0}]
[319,{"$f":"'（別添４）エネルギー消費効率の根拠（要件ア）'!T53","v":"別添4_5_13_T22&U22"},{"$f":"'（別添４）エネルギー消費効率の根拠（要件ア）'!U53","v":"導入設備_計算結果"},{"$f":"'（別添４）エネルギー消費効率の根拠（要件ア）'!V53","v":"単位を選択してください"}]
[320,{"$f":"'（別添４）エネルギー消費効率の根拠（要件ア）'!T54","v":"別添4_5_14_V16"},{"$f":"'（別添４）エネルギー消費効率の根拠（要件ア）'!U54","v":"一代前モデル_製品名"},{"$f":"'（別添４）エネルギー消費効率の根拠（要件ア）'!V54","v":0}]
[321,{"$f":"'（別添４）エネルギー消費効率の根拠（要件ア）'!T55","v":"別添4_5_15_V17"},{"$f":"'（別添４）エネルギー消費効率の根拠（要件ア）'!U55","v":"一代前モデル_製造メーカー"},{"$f":"'（別添４）エネルギー消費効率の根拠（要件ア）'!V55","v":0}]
[322,{"$f":"'（別添４）エネルギー消費効率の根拠（要件ア）'!T56","v":"別添4_5_16_V18"},{"$f":"'（別添４）エネルギー消費効率の根拠（要件ア）'!U56","v":"一代前モデル_型番"},{"$f":"'（別添４）エネルギー消費効率の根拠（要件ア）'!V56","v":0}]
[323,{"$f":"'（別添４）エネルギー消費効率の根拠（要件ア）'!T57","v":"別添4_5_17_V19&W19"},{"$f":"'（別添４）エネルギー消費効率の根拠（要件ア）'!U57","v":"一代前モデル_導入台数"},{"$f":"'（別添４）エネルギー消費効率の根拠（要件ア）'!V57","v":"台"}]
[324,{"$f":"'（別添４）エネルギー消費効率の根拠（要件ア）'!T58","v":"別添4_5_18_V20"},{"$f":"'（別添４）エネルギー消費効率の根拠（要件ア）'!U58","v":"一代前モデル_1台あたりの使用エネルギー"},{"$f":"'（別添４）エネルギー消費効率の根拠（要件ア）'!V58","v":0}]
[325,{"$f":"'（別添４）エネルギー消費効率の根拠（要件ア）'!T59","v":"別添4_5_19_V21"},{"$f":"'（別添４）エネルギー消費効率の根拠（要件ア）'!U59","v":"一代前モデル_年間エネルギー使用量計算式"},{"$f":"'（別添４）エネルギー消費効率の根拠（要件ア）'!V59","v":0}]
[326,{"$f":"'（別添４）エネルギー消費効率の根拠（要件ア）'!T60","v":"別添4_5_20_V22&W22"},{"$f":"'（別添４）エネルギー消費効率の根拠（要件ア）'!U60","v":"一代前モデル_計算結果"},{"$f":"'（別添４）エネルギー消費効率の根拠（要件ア）'!V60","v":"単位を選択してください"}]
[327,{"$f":"'（別添４）エネルギー消費効率の根拠（要件ア）'!T61","v":"別添4_5_21_T23&U23"},{"$f":"'（別添４）エネルギー消費効率の根拠（要件ア）'!U61","v":"年間見込み省エネルギー量__計算結果"},{"$f":"'（別添４）エネルギー消費効率の根拠（要件ア）'!V61","v":"0単位を選択してください"}]
[328,{"$f":"'（別添４）エネルギー消費効率の根拠（要件ア）'!T62","v":"別添4_5_22_T25"},{"$f":"'（別添４）エネルギー消費効率の根拠（要件ア）'!U62","v":"年間見込み省エネルギー量_原油換算計算式"},{"$f":"'（別添４）エネルギー消費効率の根拠（要件ア）'!V62","v":0}]
[329,{"$f":"'（別添４）エネルギー消費効率の根拠（要件ア）'!T63","v":"別添4_5_23_T26"},{"$f":"'（別添４）エネルギー消費効率の根拠（要件ア）'!U63","v":"年間見込み省エネルギー量原油換算計算結果"},{"$f":"'（別添４）エネルギー消費効率の根拠（要件ア）'!V63","v":0}]
[330,{"$f":"'（別添４）エネルギー消費効率の根拠（要件ア）'!T64","v":"別添4_5_24_T27"},{"$f":"'（別添４）エネルギー消費効率の根拠（要件ア）'!U64","v":"年間見込み省エネルギー率_自動計算"},{"$f":"'（別添４）エネルギー消費効率の根拠（要件ア）'!V64","v":""}]
[331,{"$f":"'（別添４）エネルギー消費効率の根拠（要件ア）'!X41","v":"別添4_6_1_X9"},{"$f":"'（別添４）エネルギー消費効率の根拠（要件ア）'!Y41","v":"トップランナー基準"},{"$f":"'（別添４）エネルギー消費効率の根拠（要件ア）'!Z41","v":0}]
[{"$f":"ROW()-1","v":332},{"$f":"'（別添４）エネルギー消費効率の根拠（要件ア）'!X42","v":"別添4_6_2_X10"},{"$f":"'（別添４）エネルギー消費効率の根拠（要件ア）'!Y42","v":"トップランナー基準の区分名又は数値"},{"$f":"'（別添４）エネルギー消費効率の根拠（要件ア）'!Z42","v":0}]
[333,{"$f":"'（別添４）エネルギー消費効率の根拠（要件ア）'!X43","v":"別添4_6_3_X11"},{"$f":"'（別添４）エネルギー消費効率の根拠（要件ア）'!Y43","v":"トップランナー基準の数値（導入設備）"},{"$f":"'（別添４）エネルギー消費効率の根拠（要件ア）'!Z43","v":0}]
[334,{"$f":"'（別添４）エネルギー消費効率の根拠（要件ア）'!X44","v":"別添4_6_4_X12"},{"$f":"'（別添４）エネルギー消費効率の根拠（要件ア）'!Y44","v":"比較指標/トップランナー基準"},{"$f":"'（別添４）エネルギー消費効率の根拠（要件ア）'!Z44","v":0}]
[335,{"$f":"'（別添４）エネルギー消費効率の根拠（要件ア）'!X45","v":"別添4_6_5_X13"},{"$f":"'（別添４）エネルギー消費効率の根拠（要件ア）'!Y45","v":"添付資料の根拠記載箇所"},{"$f":"'（別添４）エネルギー消費効率の根拠（要件ア）'!Z45","v":0}]
[336,{"$f":"'（別添４）エネルギー消費効率の根拠（要件ア）'!X46","v":"別添4_6_6_X14"},{"$f":"'（別添４）エネルギー消費効率の根拠（要件ア）'!Y46","v":"省エネ要因"},{"$f":"'（別添４）エネルギー消費効率の根拠（要件ア）'!Z46","v":0}]
[337,{"$f":"'（別添４）エネルギー消費効率の根拠（要件ア）'!X47","v":"別添4_6_7_X16"},{"$f":"'（別添４）エネルギー消費効率の根拠（要件ア）'!Y47","v":"導入設備_製品名"},{"$f":"'（別添４）エネルギー消費効率の根拠（要件ア）'!Z47","v":0}]
[338,{"$f":"'（別添４）エネルギー消費効率の根拠（要件ア）'!X48","v":"別添4_6_8_X17"},{"$f":"'（別添４）エネルギー消費効率の根拠（要件ア）'!Y48","v":"導入設備_製造メーカー"},{"$f":"'（別添４）エネルギー消費効率の根拠（要件ア）'!Z48","v":0}]
[339,{"$f":"'（別添４）エネルギー消費効率の根拠（要件ア）'!X49","v":"別添4_6_9_X18"},{"$f":"'（別添４）エネルギー消費効率の根拠（要件ア）'!Y49","v":"導入設備_型番"},{"$f":"'（別添４）エネルギー消費効率の根拠（要件ア）'!Z49","v":0}]
[340,{"$f":"'（別添４）エネルギー消費効率の根拠（要件ア）'!X50","v":"別添4_6_10_X19&Y19"},{"$f":"'（別添４）エネルギー消費効率の根拠（要件ア）'!Y50","v":"導入設備_導入台数"},{"$f":"'（別添４）エネルギー消費効率の根拠（要件ア）'!Z50","v":"台"}]
[341,{"$f":"'（別添４）エネルギー消費効率の根拠（要件ア）'!X51","v":"別添4_6_11_X20"},{"$f":"'（別添４）エネルギー消費効率の根拠（要件ア）'!Y51","v":"導入設備_1台あたりの使用エネルギー"},{"$f":"'（別添４）エネルギー消費効率の根拠（要件ア）'!Z51","v":0}]
[342,{"$f":"'（別添４）エネルギー消費効率の根拠（要件ア）'!X52","v":"別添4_6_12_X21"},{"$f":"'（別添４）エネルギー消費効率の根拠（要件ア）'!Y52","v":"導入設備_年間エネルギー使用量計算式"},{"$f":"'（別添４）エネルギー消費効率の根拠（要件ア）'!Z52","v":0}]
[343,{"$f":"'（別添４）エネルギー消費効率の根拠（要件ア）'!X53","v":"別添4_6_13_X22&Y22"},{"$f":"'（別添４）エネルギー消費効率の根拠（要件ア）'!Y53","v":"導入設備_計算結果"},{"$f":"'（別添４）エネルギー消費効率の根拠（要件ア）'!Z53","v":"単位を選択してください"}]
[344,{"$f":"'（別添４）エネルギー消費効率の根拠（要件ア）'!X54","v":"別添4_6_14_Z16"},{"$f":"'（別添４）エネルギー消費効率の根拠（要件ア）'!Y54","v":"一代前モデル_製品名"},{"$f":"'（別添４）エネルギー消費効率の根拠（要件ア）'!Z54","v":0}]
[345,{"$f":"'（別添４）エネルギー消費効率の根拠（要件ア）'!X55","v":"別添4_6_15_Z17"},{"$f":"'（別添４）エネルギー消費効率の根拠（要件ア）'!Y55","v":"一代前モデル_製造メーカー"},{"$f":"'（別添４）エネルギー消費効率の根拠（要件ア）'!Z55","v":0}]
[346,{"$f":"'（別添４）エネルギー消費効率の根拠（要件ア）'!X56","v":"別添4_6_16_Z18"},{"$f":"'（別添４）エネルギー消費効率の根拠（要件ア）'!Y56","v":"一代前モデル_型番"},{"$f":"'（別添４）エネルギー消費効率の根拠（要件ア）'!Z56","v":0}]
[347,{"$f":"'（別添４）エネルギー消費効率の根拠（要件ア）'!X57","v":"別添4_6_17_Z19&AA19"},{"$f":"'（別添４）エネルギー消費効率の根拠（要件ア）'!Y57","v":"一代前モデル_導入台数"},{"$f":"'（別添４）エネルギー消費効率の根拠（要件ア）'!Z57","v":"台"}]
[348,{"$f":"'（別添４）エネルギー消費効率の根拠（要件ア）'!X58","v":"別添4_6_18_Z20"},{"$f":"'（別添４）エネルギー消費効率の根拠（要件ア）'!Y58","v":"一代前モデル_1台あたりの使用エネルギー"},{"$f":"'（別添４）エネルギー消費効率の根拠（要件ア）'!Z58","v":0}]
[349,{"$f":"'（別添４）エネルギー消費効率の根拠（要件ア）'!X59","v":"別添4_6_19_Z21"},{"$f":"'（別添４）エネルギー消費効率の根拠（要件ア）'!Y59","v":"一代前モデル_年間エネルギー使用量計算式"},{"$f":"'（別添４）エネルギー消費効率の根拠（要件ア）'!Z59","v":0}]
[350,{"$f":"'（別添４）エネルギー消費効率の根拠（要件ア）'!X60","v":"別添4_6_20_Z22&AA22"},{"$f":"'（別添４）エネルギー消費効率の根拠（要件ア）'!Y60","v":"一代前モデル_計算結果"},{"$f":"'（別添４）エネルギー消費効率の根拠（要件ア）'!Z60","v":"単位を選択してください"}]
[351,{"$f":"'（別添４）エネルギー消費効率の根拠（要件ア）'!X61","v":"別添4_6_21_X23&Y23"},{"$f":"'（別添４）エネルギー消費効率の根拠（要件ア）'!Y61","v":"年間見込み省エネルギー量__計算結果"},{"$f":"'（別添４）エネルギー消費効率の根拠（要件ア）'!Z61","v":"0単位を選択してください"}]
[352,{"$f":"'（別添４）エネルギー消費効率の根拠（要件ア）'!X62","v":"別添4_6_22_X25"},{"$f":"'（別添４）エネルギー消費効率の根拠（要件ア）'!Y62","v":"年間見込み省エネルギー量_原油換算計算式"},{"$f":"'（別添４）エネルギー消費効率の根拠（要件ア）'!Z62","v":0}]
[353,{"$f":"'（別添４）エネルギー消費効率の根拠（要件ア）'!X63","v":"別添4_6_23_X26"},{"$f":"'（別添４）エネルギー消費効率の根拠（要件ア）'!Y63","v":"年間見込み省エネルギー量原油換算計算結果"},{"$f":"'（別添４）エネルギー消費効率の根拠（要件ア）'!Z63","v":0}]
[354,{"$f":"'（別添４）エネルギー消費効率の根拠（要件ア）'!X64","v":"別添4_6_24_X27"},{"$f":"'（別添４）エネルギー消費効率の根拠（要件ア）'!Y64","v":"年間見込み省エネルギー率_自動計算"},{"$f":"'（別添４）エネルギー消費効率の根拠（要件ア）'!Z64","v":""}]
[355,{"$f":"'（別添４）エネルギー消費効率の根拠（要件ア）'!AB41","v":"別添4_7_1_AB9"},{"$f":"'（別添４）エネルギー消費効率の根拠（要件ア）'!AC41","v":"トップランナー基準"},{"$f":"'（別添４）エネルギー消費効率の根拠（要件ア）'!AD41","v":0}]
[356,{"$f":"'（別添４）エネルギー消費効率の根拠（要件ア）'!AB42","v":"別添4_7_2_AB10"},{"$f":"'（別添４）エネルギー消費効率の根拠（要件ア）'!AC42","v":"トップランナー基準の区分名又は数値"},{"$f":"'（別添４）エネルギー消費効率の根拠（要件ア）'!AD42","v":0}]
[357,{"$f":"'（別添４）エネルギー消費効率の根拠（要件ア）'!AB43","v":"別添4_7_3_AB11"},{"$f":"'（別添４）エネルギー消費効率の根拠（要件ア）'!AC43","v":"トップランナー基準の数値（導入設備）"},{"$f":"'（別添４）エネルギー消費効率の根拠（要件ア）'!AD43","v":0}]
[358,{"$f":"'（別添４）エネルギー消費効率の根拠（要件ア）'!AB44","v":"別添4_7_4_AB12"},{"$f":"'（別添４）エネルギー消費効率の根拠（要件ア）'!AC44","v":"比較指標/トップランナー基準"},{"$f":"'（別添４）エネルギー消費効率の根拠（要件ア）'!AD44","v":0}]
[359,{"$f":"'（別添４）エネルギー消費効率の根拠（要件ア）'!AB45","v":"別添4_7_5_AB13"},{"$f":"'（別添４）エネルギー消費効率の根拠（要件ア）'!AC45","v":"添付資料の根拠記載箇所"},{"$f":"'（別添４）エネルギー消費効率の根拠（要件ア）'!AD45","v":0}]
[360,{"$f":"'（別添４）エネルギー消費効率の根拠（要件ア）'!AB46","v":"別添4_7_6_AB14"},{"$f":"'（別添４）エネルギー消費効率の根拠（要件ア）'!AC46","v":"省エネ要因"},{"$f":"'（別添４）エネルギー消費効率の根拠（要件ア）'!AD46","v":0}]
[361,{"$f":"'（別添４）エネルギー消費効率の根拠（要件ア）'!AB47","v":"別添4_7_7_AB16"},{"$f":"'（別添４）エネルギー消費効率の根拠（要件ア）'!AC47","v":"導入設備_製品名"},{"$f":"'（別添４）エネルギー消費効率の根拠（要件ア）'!AD47","v":0}]
[362,{"$f":"'（別添４）エネルギー消費効率の根拠（要件ア）'!AB48","v":"別添4_7_8_AB17"},{"$f":"'（別添４）エネルギー消費効率の根拠（要件ア）'!AC48","v":"導入設備_製造メーカー"},{"$f":"'（別添４）エネルギー消費効率の根拠（要件ア）'!AD48","v":0}]
[363,{"$f":"'（別添４）エネルギー消費効率の根拠（要件ア）'!AB49","v":"別添4_7_9_AB18"},{"$f":"'（別添４）エネルギー消費効率の根拠（要件ア）'!AC49","v":"導入設備_型番"},{"$f":"'（別添４）エネルギー消費効率の根拠（要件ア）'!AD49","v":0}]
[364,{"$f":"'（別添４）エネルギー消費効率の根拠（要件ア）'!AB50","v":"別添4_7_10_AB19&AC19"},{"$f":"'（別添４）エネルギー消費効率の根拠（要件ア）'!AC50","v":"導入設備_導入台数"},{"$f":"'（別添４）エネルギー消費効率の根拠（要件ア）'!AD50","v":"台"}]
[365,{"$f":"'（別添４）エネルギー消費効率の根拠（要件ア）'!AB51","v":"別添4_7_11_AB20"},{"$f":"'（別添４）エネルギー消費効率の根拠（要件ア）'!AC51","v":"導入設備_1台あたりの使用エネルギー"},{"$f":"'（別添４）エネルギー消費効率の根拠（要件ア）'!AD51","v":0}]
[366,{"$f":"'（別添４）エネルギー消費効率の根拠（要件ア）'!AB52","v":"別添4_7_12_AB21"},{"$f":"'（別添４）エネルギー消費効率の根拠（要件ア）'!AC52","v":"導入設備_年間エネルギー使用量計算式"},{"$f":"'（別添４）エネルギー消費効率の根拠（要件ア）'!AD52","v":0}]
[367,{"$f":"'（別添４）エネルギー消費効率の根拠（要件ア）'!AB53","v":"別添4_7_13_AB22&AC22"},{"$f":"'（別添４）エネルギー消費効率の根拠（要件ア）'!AC53","v":"導入設備_計算結果"},{"$f":"'（別添４）エネルギー消費効率の根拠（要件ア）'!AD53","v":"単位を選択してください"}]
[368,{"$f":"'（別添４）エネルギー消費効率の根拠（要件ア）'!AB54","v":"別添4_7_14_AD16"},{"$f":"'（別添４）エネルギー消費効率の根拠（要件ア）'!AC54","v":"一代前モデル_製品名"},{"$f":"'（別添４）エネルギー消費効率の根拠（要件ア）'!AD54","v":0}]
[369,{"$f":"'（別添４）エネルギー消費効率の根拠（要件ア）'!AB55","v":"別添4_7_15_AD17"},{"$f":"'（別添４）エネルギー消費効率の根拠（要件ア）'!AC55","v":"一代前モデル_製造メーカー"},{"$f":"'（別添４）エネルギー消費効率の根拠（要件ア）'!AD55","v":0}]
[370,{"$f":"'（別添４）エネルギー消費効率の根拠（要件ア）'!AB56","v":"別添4_7_16_AD18"},{"$f":"'（別添４）エネルギー消費効率の根拠（要件ア）'!AC56","v":"一代前モデル_型番"},{"$f":"'（別添４）エネルギー消費効率の根拠（要件ア）'!AD56","v":0}]
[371,{"$f":"'（別添４）エネルギー消費効率の根拠（要件ア）'!AB57","v":"別添4_7_17_AD19&AE19"},{"$f":"'（別添４）エネルギー消費効率の根拠（要件ア）'!AC57","v":"一代前モデル_導入台数"},{"$f":"'（別添４）エネルギー消費効率の根拠（要件ア）'!AD57","v":"台"}]
[372,{"$f":"'（別添４）エネルギー消費効率の根拠（要件ア）'!AB58","v":"別添4_7_18_AD20"},{"$f":"'（別添４）エネルギー消費効率の根拠（要件ア）'!AC58","v":"一代前モデル_1台あたりの使用エネルギー"},{"$f":"'（別添４）エネルギー消費効率の根拠（要件ア）'!AD58","v":0}]
[373,{"$f":"'（別添４）エネルギー消費効率の根拠（要件ア）'!AB59","v":"別添4_7_19_AD21"},{"$f":"'（別添４）エネルギー消費効率の根拠（要件ア）'!AC59","v":"一代前モデル_年間エネルギー使用量計算式"},{"$f":"'（別添４）エネルギー消費効率の根拠（要件ア）'!AD59","v":0}]
[374,{"$f":"'（別添４）エネルギー消費効率の根拠（要件ア）'!AB60","v":"別添4_7_20_AD22&AE22"},{"$f":"'（別添４）エネルギー消費効率の根拠（要件ア）'!AC60","v":"一代前モデル_計算結果"},{"$f":"'（別添４）エネルギー消費効率の根拠（要件ア）'!AD60","v":"単位を選択してください"}]
[375,{"$f":"'（別添４）エネルギー消費効率の根拠（要件ア）'!AB61","v":"別添4_7_21_AB23&AC23"},{"$f":"'（別添４）エネルギー消費効率の根拠（要件ア）'!AC61","v":"年間見込み省エネルギー量__計算結果"},{"$f":"'（別添４）エネルギー消費効率の根拠（要件ア）'!AD61","v":"0単位を選択してください"}]
[376,{"$f":"'（別添４）エネルギー消費効率の根拠（要件ア）'!AB62","v":"別添4_7_22_AB25"},{"$f":"'（別添４）エネルギー消費効率の根拠（要件ア）'!AC62","v":"年間見込み省エネルギー量_原油換算計算式"},{"$f":"'（別添４）エネルギー消費効率の根拠（要件ア）'!AD62","v":0}]
[377,{"$f":"'（別添４）エネルギー消費効率の根拠（要件ア）'!AB63","v":"別添4_7_23_AB26"},{"$f":"'（別添４）エネルギー消費効率の根拠（要件ア）'!AC63","v":"年間見込み省エネルギー量原油換算計算結果"},{"$f":"'（別添４）エネルギー消費効率の根拠（要件ア）'!AD63","v":0}]
[378,{"$f":"'（別添４）エネルギー消費効率の根拠（要件ア）'!AB64","v":"別添4_7_24_AB27"},{"$f":"'（別添４）エネルギー消費効率の根拠（要件ア）'!AC64","v":"年間見込み省エネルギー率_自動計算"},{"$f":"'（別添４）エネルギー消費効率の根拠（要件ア）'!AD64","v":""}]
[379,{"$f":"'（別添４）エネルギー消費効率の根拠（要件ア）'!AF41","v":"別添4_8_1_AF9"},{"$f":"'（別添４）エネルギー消費効率の根拠（要件ア）'!AG41","v":"トップランナー基準"},{"$f":"'（別添４）エネルギー消費効率の根拠（要件ア）'!AH41","v":0}]
[380,{"$f":"'（別添４）エネルギー消費効率の根拠（要件ア）'!AF42","v":"別添4_8_2_AF10"},{"$f":"'（別添４）エネルギー消費効率の根拠（要件ア）'!AG42","v":"トップランナー基準の区分名又は数値"},{"$f":"'（別添４）エネルギー消費効率の根拠（要件ア）'!AH42","v":0}]
[381,{"$f":"'（別添４）エネルギー消費効率の根拠（要件ア）'!AF43","v":"別添4_8_3_AF11"},{"$f":"'（別添４）エネルギー消費効率の根拠（要件ア）'!AG43","v":"トップランナー基準の数値（導入設備）"},{"$f":"'（別添４）エネルギー消費効率の根拠（要件ア）'!AH43","v":0}]
[382,{"$f":"'（別添４）エネルギー消費効率の根拠（要件ア）'!AF44","v":"別添4_8_4_AF12"},{"$f":"'（別添４）エネルギー消費効率の根拠（要件ア）'!AG44","v":"比較指標/トップランナー基準"},{"$f":"'（別添４）エネルギー消費効率の根拠（要件ア）'!AH44","v":0}]
[383,{"$f":"'（別添４）エネルギー消費効率の根拠（要件ア）'!AF45","v":"別添4_8_5_AF13"},{"$f":"'（別添４）エネルギー消費効率の根拠（要件ア）'!AG45","v":"添付資料の根拠記載箇所"},{"$f":"'（別添４）エネルギー消費効率の根拠（要件ア）'!AH45","v":0}]
[384,{"$f":"'（別添４）エネルギー消費効率の根拠（要件ア）'!AF46","v":"別添4_8_6_AF14"},{"$f":"'（別添４）エネルギー消費効率の根拠（要件ア）'!AG46","v":"省エネ要因"},{"$f":"'（別添４）エネルギー消費効率の根拠（要件ア）'!AH46","v":0}]
[385,{"$f":"'（別添４）エネルギー消費効率の根拠（要件ア）'!AF47","v":"別添4_8_7_AF16"},{"$f":"'（別添４）エネルギー消費効率の根拠（要件ア）'!AG47","v":"導入設備_製品名"},{"$f":"'（別添４）エネルギー消費効率の根拠（要件ア）'!AH47","v":0}]
[386,{"$f":"'（別添４）エネルギー消費効率の根拠（要件ア）'!AF48","v":"別添4_8_8_AF17"},{"$f":"'（別添４）エネルギー消費効率の根拠（要件ア）'!AG48","v":"導入設備_製造メーカー"},{"$f":"'（別添４）エネルギー消費効率の根拠（要件ア）'!AH48","v":0}]
[387,{"$f":"'（別添４）エネルギー消費効率の根拠（要件ア）'!AF49","v":"別添4_8_9_AF18"},{"$f":"'（別添４）エネルギー消費効率の根拠（要件ア）'!AG49","v":"導入設備_型番"},{"$f":"'（別添４）エネルギー消費効率の根拠（要件ア）'!AH49","v":0}]
[388,{"$f":"'（別添４）エネルギー消費効率の根拠（要件ア）'!AF50","v":"別添4_8_10_AF19&AG19"},{"$f":"'（別添４）エネルギー消費効率の根拠（要件ア）'!AG50","v":"導入設備_導入台数"},{"$f":"'（別添４）エネルギー消費効率の根拠（要件ア）'!AH50","v":"台"}]
[389,{"$f":"'（別添４）エネルギー消費効率の根拠（要件ア）'!AF51","v":"別添4_8_11_AF20"},{"$f":"'（別添４）エネルギー消費効率の根拠（要件ア）'!AG51","v":"導入設備_1台あたりの使用エネルギー"},{"$f":"'（別添４）エネルギー消費効率の根拠（要件ア）'!AH51","v":0}]
[390,{"$f":"'（別添４）エネルギー消費効率の根拠（要件ア）'!AF52","v":"別添4_8_12_AF21"},{"$f":"'（別添４）エネルギー消費効率の根拠（要件ア）'!AG52","v":"導入設備_年間エネルギー使用量計算式"},{"$f":"'（別添４）エネルギー消費効率の根拠（要件ア）'!AH52","v":0}]
[391,{"$f":"'（別添４）エネルギー消費効率の根拠（要件ア）'!AF53","v":"別添4_8_13_AF22&AG22"},{"$f":"'（別添４）エネルギー消費効率の根拠（要件ア）'!AG53","v":"導入設備_計算結果"},{"$f":"'（別添４）エネルギー消費効率の根拠（要件ア）'!AH53","v":"単位を選択してください"}]
[392,{"$f":"'（別添４）エネルギー消費効率の根拠（要件ア）'!AF54","v":"別添4_8_14_AH16"},{"$f":"'（別添４）エネルギー消費効率の根拠（要件ア）'!AG54","v":"一代前モデル_製品名"},{"$f":"'（別添４）エネルギー消費効率の根拠（要件ア）'!AH54","v":0}]
[393,{"$f":"'（別添４）エネルギー消費効率の根拠（要件ア）'!AF55","v":"別添4_8_15_AH17"},{"$f":"'（別添４）エネルギー消費効率の根拠（要件ア）'!AG55","v":"一代前モデル_製造メーカー"},{"$f":"'（別添４）エネルギー消費効率の根拠（要件ア）'!AH55","v":0}]
[394,{"$f":"'（別添４）エネルギー消費効率の根拠（要件ア）'!AF56","v":"別添4_8_16_AH18"},{"$f":"'（別添４）エネルギー消費効率の根拠（要件ア）'!AG56","v":"一代前モデル_型番"},{"$f":"'（別添４）エネルギー消費効率の根拠（要件ア）'!AH56","v":0}]
[395,{"$f":"'（別添４）エネルギー消費効率の根拠（要件ア）'!AF57","v":"別添4_8_17_AH19&AI19"},{"$f":"'（別添４）エネルギー消費効率の根拠（要件ア）'!AG57","v":"一代前モデル_導入台数"},{"$f":"'（別添４）エネルギー消費効率の根拠（要件ア）'!AH57","v":"台"}]
[{"$f":"ROW()-1","v":396},{"$f":"'（別添４）エネルギー消費効率の根拠（要件ア）'!AF58","v":"別添4_8_18_AH20"},{"$f":"'（別添４）エネルギー消費効率の根拠（要件ア）'!AG58","v":"一代前モデル_1台あたりの使用エネルギー"},{"$f":"'（別添４）エネルギー消費効率の根拠（要件ア）'!AH58","v":0}]
[397,{"$f":"'（別添４）エネルギー消費効率の根拠（要件ア）'!AF59","v":"別添4_8_19_AH21"},{"$f":"'（別添４）エネルギー消費効率の根拠（要件ア）'!AG59","v":"一代前モデル_年間エネルギー使用量計算式"},{"$f":"'（別添４）エネルギー消費効率の根拠（要件ア）'!AH59","v":0}]
[398,{"$f":"'（別添４）エネルギー消費効率の根拠（要件ア）'!AF60","v":"別添4_8_20_AH22&AI22"},{"$f":"'（別添４）エネルギー消費効率の根拠（要件ア）'!AG60","v":"一代前モデル_計算結果"},{"$f":"'（別添４）エネルギー消費効率の根拠（要件ア）'!AH60","v":"単位を選択してください"}]
[399,{"$f":"'（別添４）エネルギー消費効率の根拠（要件ア）'!AF61","v":"別添4_8_21_AF23&AG23"},{"$f":"'（別添４）エネルギー消費効率の根拠（要件ア）'!AG61","v":"年間見込み省エネルギー量__計算結果"},{"$f":"'（別添４）エネルギー消費効率の根拠（要件ア）'!AH61","v":"0単位を選択してください"}]
[400,{"$f":"'（別添４）エネルギー消費効率の根拠（要件ア）'!AF62","v":"別添4_8_22_AF25"},{"$f":"'（別添４）エネルギー消費効率の根拠（要件ア）'!AG62","v":"年間見込み省エネルギー量_原油換算計算式"},{"$f":"'（別添４）エネルギー消費効率の根拠（要件ア）'!AH62","v":0}]
[401,{"$f":"'（別添４）エネルギー消費効率の根拠（要件ア）'!AF63","v":"別添4_8_23_AF26"},{"$f":"'（別添４）エネルギー消費効率の根拠（要件ア）'!AG63","v":"年間見込み省エネルギー量原油換算計算結果"},{"$f":"'（別添４）エネルギー消費効率の根拠（要件ア）'!AH63","v":0}]
[402,{"$f":"'（別添４）エネルギー消費効率の根拠（要件ア）'!AF64","v":"別添4_8_24_AF27"},{"$f":"'（別添４）エネルギー消費効率の根拠（要件ア）'!AG64","v":"年間見込み省エネルギー率_自動計算"},{"$f":"'（別添４）エネルギー消費効率の根拠（要件ア）'!AH64","v":""}]
[403,{"$f":"'（別添４）エネルギー消費効率の根拠（要件ア）'!AJ41","v":"別添4_9_1_AJ9"},{"$f":"'（別添４）エネルギー消費効率の根拠（要件ア）'!AK41","v":"トップランナー基準"},{"$f":"'（別添４）エネルギー消費効率の根拠（要件ア）'!AL41","v":0}]
[404,{"$f":"'（別添４）エネルギー消費効率の根拠（要件ア）'!AJ42","v":"別添4_9_2_AJ10"},{"$f":"'（別添４）エネルギー消費効率の根拠（要件ア）'!AK42","v":"トップランナー基準の区分名又は数値"},{"$f":"'（別添４）エネルギー消費効率の根拠（要件ア）'!AL42","v":0}]
[405,{"$f":"'（別添４）エネルギー消費効率の根拠（要件ア）'!AJ43","v":"別添4_9_3_AJ11"},{"$f":"'（別添４）エネルギー消費効率の根拠（要件ア）'!AK43","v":"トップランナー基準の数値（導入設備）"},{"$f":"'（別添４）エネルギー消費効率の根拠（要件ア）'!AL43","v":0}]
[406,{"$f":"'（別添４）エネルギー消費効率の根拠（要件ア）'!AJ44","v":"別添4_9_4_AJ12"},{"$f":"'（別添４）エネルギー消費効率の根拠（要件ア）'!AK44","v":"比較指標/トップランナー基準"},{"$f":"'（別添４）エネルギー消費効率の根拠（要件ア）'!AL44","v":0}]
[407,{"$f":"'（別添４）エネルギー消費効率の根拠（要件ア）'!AJ45","v":"別添4_9_5_AJ13"},{"$f":"'（別添４）エネルギー消費効率の根拠（要件ア）'!AK45","v":"添付資料の根拠記載箇所"},{"$f":"'（別添４）エネルギー消費効率の根拠（要件ア）'!AL45","v":0}]
[408,{"$f":"'（別添４）エネルギー消費効率の根拠（要件ア）'!AJ46","v":"別添4_9_6_AJ14"},{"$f":"'（別添４）エネルギー消費効率の根拠（要件ア）'!AK46","v":"省エネ要因"},{"$f":"'（別添４）エネルギー消費効率の根拠（要件ア）'!AL46","v":0}]
[409,{"$f":"'（別添４）エネルギー消費効率の根拠（要件ア）'!AJ47","v":"別添4_9_7_AJ16"},{"$f":"'（別添４）エネルギー消費効率の根拠（要件ア）'!AK47","v":"導入設備_製品名"},{"$f":"'（別添４）エネルギー消費効率の根拠（要件ア）'!AL47","v":0}]
[410,{"$f":"'（別添４）エネルギー消費効率の根拠（要件ア）'!AJ48","v":"別添4_9_8_AJ17"},{"$f":"'（別添４）エネルギー消費効率の根拠（要件ア）'!AK48","v":"導入設備_製造メーカー"},{"$f":"'（別添４）エネルギー消費効率の根拠（要件ア）'!AL48","v":0}]
[411,{"$f":"'（別添４）エネルギー消費効率の根拠（要件ア）'!AJ49","v":"別添4_9_9_AJ18"},{"$f":"'（別添４）エネルギー消費効率の根拠（要件ア）'!AK49","v":"導入設備_型番"},{"$f":"'（別添４）エネルギー消費効率の根拠（要件ア）'!AL49","v":0}]
[412,{"$f":"'（別添４）エネルギー消費効率の根拠（要件ア）'!AJ50","v":"別添4_9_10_AJ19&AK19"},{"$f":"'（別添４）エネルギー消費効率の根拠（要件ア）'!AK50","v":"導入設備_導入台数"},{"$f":"'（別添４）エネルギー消費効率の根拠（要件ア）'!AL50","v":"台"}]
[413,{"$f":"'（別添４）エネルギー消費効率の根拠（要件ア）'!AJ51","v":"別添4_9_11_AJ20"},{"$f":"'（別添４）エネルギー消費効率の根拠（要件ア）'!AK51","v":"導入設備_1台あたりの使用エネルギー"},{"$f":"'（別添４）エネルギー消費効率の根拠（要件ア）'!AL51","v":0}]
[414,{"$f":"'（別添４）エネルギー消費効率の根拠（要件ア）'!AJ52","v":"別添4_9_12_AJ21"},{"$f":"'（別添４）エネルギー消費効率の根拠（要件ア）'!AK52","v":"導入設備_年間エネルギー使用量計算式"},{"$f":"'（別添４）エネルギー消費効率の根拠（要件ア）'!AL52","v":0}]
[415,{"$f":"'（別添４）エネルギー消費効率の根拠（要件ア）'!AJ53","v":"別添4_9_13_AJ22&AK22"},{"$f":"'（別添４）エネルギー消費効率の根拠（要件ア）'!AK53","v":"導入設備_計算結果"},{"$f":"'（別添４）エネルギー消費効率の根拠（要件ア）'!AL53","v":"単位を選択してください"}]
[416,{"$f":"'（別添４）エネルギー消費効率の根拠（要件ア）'!AJ54","v":"別添4_9_14_AL16"},{"$f":"'（別添４）エネルギー消費効率の根拠（要件ア）'!AK54","v":"一代前モデル_製品名"},{"$f":"'（別添４）エネルギー消費効率の根拠（要件ア）'!AL54","v":0}]
[417,{"$f":"'（別添４）エネルギー消費効率の根拠（要件ア）'!AJ55","v":"別添4_9_15_AL17"},{"$f":"'（別添４）エネルギー消費効率の根拠（要件ア）'!AK55","v":"一代前モデル_製造メーカー"},{"$f":"'（別添４）エネルギー消費効率の根拠（要件ア）'!AL55","v":0}]
[418,{"$f":"'（別添４）エネルギー消費効率の根拠（要件ア）'!AJ56","v":"別添4_9_16_AL18"},{"$f":"'（別添４）エネルギー消費効率の根拠（要件ア）'!AK56","v":"一代前モデル_型番"},{"$f":"'（別添４）エネルギー消費効率の根拠（要件ア）'!AL56","v":0}]
[419,{"$f":"'（別添４）エネルギー消費効率の根拠（要件ア）'!AJ57","v":"別添4_9_17_AL19&AM19"},{"$f":"'（別添４）エネルギー消費効率の根拠（要件ア）'!AK57","v":"一代前モデル_導入台数"},{"$f":"'（別添４）エネルギー消費効率の根拠（要件ア）'!AL57","v":"台"}]
[420,{"$f":"'（別添４）エネルギー消費効率の根拠（要件ア）'!AJ58","v":"別添4_9_18_AL20"},{"$f":"'（別添４）エネルギー消費効率の根拠（要件ア）'!AK58","v":"一代前モデル_1台あたりの使用エネルギー"},{"$f":"'（別添４）エネルギー消費効率の根拠（要件ア）'!AL58","v":0}]
[421,{"$f":"'（別添４）エネルギー消費効率の根拠（要件ア）'!AJ59","v":"別添4_9_19_AL21"},{"$f":"'（別添４）エネルギー消費効率の根拠（要件ア）'!AK59","v":"一代前モデル_年間エネルギー使用量計算式"},{"$f":"'（別添４）エネルギー消費効率の根拠（要件ア）'!AL59","v":0}]
[422,{"$f":"'（別添４）エネルギー消費効率の根拠（要件ア）'!AJ60","v":"別添4_9_20_AL22&AM22"},{"$f":"'（別添４）エネルギー消費効率の根拠（要件ア）'!AK60","v":"一代前モデル_計算結果"},{"$f":"'（別添４）エネルギー消費効率の根拠（要件ア）'!AL60","v":"単位を選択してください"}]
[423,{"$f":"'（別添４）エネルギー消費効率の根拠（要件ア）'!AJ61","v":"別添4_9_21_AJ23&AK23"},{"$f":"'（別添４）エネルギー消費効率の根拠（要件ア）'!AK61","v":"年間見込み省エネルギー量__計算結果"},{"$f":"'（別添４）エネルギー消費効率の根拠（要件ア）'!AL61","v":"0単位を選択してください"}]
[424,{"$f":"'（別添４）エネルギー消費効率の根拠（要件ア）'!AJ62","v":"別添4_9_22_AJ25"},{"$f":"'（別添４）エネルギー消費効率の根拠（要件ア）'!AK62","v":"年間見込み省エネルギー量_原油換算計算式"},{"$f":"'（別添４）エネルギー消費効率の根拠（要件ア）'!AL62","v":0}]
[425,{"$f":"'（別添４）エネルギー消費効率の根拠（要件ア）'!AJ63","v":"別添4_9_23_AJ26"},{"$f":"'（別添４）エネルギー消費効率の根拠（要件ア）'!AK63","v":"年間見込み省エネルギー量原油換算計算結果"},{"$f":"'（別添４）エネルギー消費効率の根拠（要件ア）'!AL63","v":0}]
[426,{"$f":"'（別添４）エネルギー消費効率の根拠（要件ア）'!AJ64","v":"別添4_9_24_AJ27"},{"$f":"'（別添４）エネルギー消費効率の根拠（要件ア）'!AK64","v":"年間見込み省エネルギー率_自動計算"},{"$f":"'（別添４）エネルギー消費効率の根拠（要件ア）'!AL64","v":""}]
[427,{"$f":"'（別添４）エネルギー消費効率の根拠（要件ア）'!AN41","v":"別添4_10_1_AN9"},{"$f":"'（別添４）エネルギー消費効率の根拠（要件ア）'!AO41","v":"トップランナー基準"},{"$f":"'（別添４）エネルギー消費効率の根拠（要件ア）'!AP41","v":0}]
[428,{"$f":"'（別添４）エネルギー消費効率の根拠（要件ア）'!AN42","v":"別添4_10_2_AN10"},{"$f":"'（別添４）エネルギー消費効率の根拠（要件ア）'!AO42","v":"トップランナー基準の区分名又は数値"},{"$f":"'（別添４）エネルギー消費効率の根拠（要件ア）'!AP42","v":0}]
[429,{"$f":"'（別添４）エネルギー消費効率の根拠（要件ア）'!AN43","v":"別添4_10_3_AN11"},{"$f":"'（別添４）エネルギー消費効率の根拠（要件ア）'!AO43","v":"トップランナー基準の数値（導入設備）"},{"$f":"'（別添４）エネルギー消費効率の根拠（要件ア）'!AP43","v":0}]
[430,{"$f":"'（別添４）エネルギー消費効率の根拠（要件ア）'!AN44","v":"別添4_10_4_AN12"},{"$f":"'（別添４）エネルギー消費効率の根拠（要件ア）'!AO44","v":"比較指標/トップランナー基準"},{"$f":"'（別添４）エネルギー消費効率の根拠（要件ア）'!AP44","v":0}]
[431,{"$f":"'（別添４）エネルギー消費効率の根拠（要件ア）'!AN45","v":"別添4_10_5_AN13"},{"$f":"'（別添４）エネルギー消費効率の根拠（要件ア）'!AO45","v":"添付資料の根拠記載箇所"},{"$f":"'（別添４）エネルギー消費効率の根拠（要件ア）'!AP45","v":0}]
[432,{"$f":"'（別添４）エネルギー消費効率の根拠（要件ア）'!AN46","v":"別添4_10_6_AN14"},{"$f":"'（別添４）エネルギー消費効率の根拠（要件ア）'!AO46","v":"省エネ要因"},{"$f":"'（別添４）エネルギー消費効率の根拠（要件ア）'!AP46","v":0}]
[433,{"$f":"'（別添４）エネルギー消費効率の根拠（要件ア）'!AN47","v":"別添4_10_7_AN16"},{"$f":"'（別添４）エネルギー消費効率の根拠（要件ア）'!AO47","v":"導入設備_製品名"},{"$f":"'（別添４）エネルギー消費効率の根拠（要件ア）'!AP47","v":0}]
[434,{"$f":"'（別添４）エネルギー消費効率の根拠（要件ア）'!AN48","v":"別添4_10_8_AN17"},{"$f":"'（別添４）エネルギー消費効率の根拠（要件ア）'!AO48","v":"導入設備_製造メーカー"},{"$f":"'（別添４）エネルギー消費効率の根拠（要件ア）'!AP48","v":0}]
[435,{"$f":"'（別添４）エネルギー消費効率の根拠（要件ア）'!AN49","v":"別添4_10_9_AN18"},{"$f":"'（別添４）エネルギー消費効率の根拠（要件ア）'!AO49","v":"導入設備_型番"},{"$f":"'（別添４）エネルギー消費効率の根拠（要件ア）'!AP49","v":0}]
[436,{"$f":"'（別添４）エネルギー消費効率の根拠（要件ア）'!AN50","v":"別添4_10_10_AN19&AO19"},{"$f":"'（別添４）エネルギー消費効率の根拠（要件ア）'!AO50","v":"導入設備_導入台数"},{"$f":"'（別添４）エネルギー消費効率の根拠（要件ア）'!AP50","v":"台"}]
[437,{"$f":"'（別添４）エネルギー消費効率の根拠（要件ア）'!AN51","v":"別添4_10_11_AN20"},{"$f":"'（別添４）エネルギー消費効率の根拠（要件ア）'!AO51","v":"導入設備_1台あたりの使用エネルギー"},{"$f":"'（別添４）エネルギー消費効率の根拠（要件ア）'!AP51","v":0}]
[438,{"$f":"'（別添４）エネルギー消費効率の根拠（要件ア）'!AN52","v":"別添4_10_12_AN21"},{"$f":"'（別添４）エネルギー消費効率の根拠（要件ア）'!AO52","v":"導入設備_年間エネルギー使用量計算式"},{"$f":"'（別添４）エネルギー消費効率の根拠（要件ア）'!AP52","v":0}]
[439,{"$f":"'（別添４）エネルギー消費効率の根拠（要件ア）'!AN53","v":"別添4_10_13_AN22&AO22"},{"$f":"'（別添４）エネルギー消費効率の根拠（要件ア）'!AO53","v":"導入設備_計算結果"},{"$f":"'（別添４）エネルギー消費効率の根拠（要件ア）'!AP53","v":"単位を選択してください"}]
[440,{"$f":"'（別添４）エネルギー消費効率の根拠（要件ア）'!AN54","v":"別添4_10_14_AP16"},{"$f":"'（別添４）エネルギー消費効率の根拠（要件ア）'!AO54","v":"一代前モデル_製品名"},{"$f":"'（別添４）エネルギー消費効率の根拠（要件ア）'!AP54","v":0}]
[441,{"$f":"'（別添４）エネルギー消費効率の根拠（要件ア）'!AN55","v":"別添4_10_15_AP17"},{"$f":"'（別添４）エネルギー消費効率の根拠（要件ア）'!AO55","v":"一代前モデル_製造メーカー"},{"$f":"'（別添４）エネルギー消費効率の根拠（要件ア）'!AP55","v":0}]
[442,{"$f":"'（別添４）エネルギー消費効率の根拠（要件ア）'!AN56","v":"別添4_10_16_AP18"},{"$f":"'（別添４）エネルギー消費効率の根拠（要件ア）'!AO56","v":"一代前モデル_型番"},{"$f":"'（別添４）エネルギー消費効率の根拠（要件ア）'!AP56","v":0}]
[443,{"$f":"'（別添４）エネルギー消費効率の根拠（要件ア）'!AN57","v":"別添4_10_17_AP19&AQ19"},{"$f":"'（別添４）エネルギー消費効率の根拠（要件ア）'!AO57","v":"一代前モデル_導入台数"},{"$f":"'（別添４）エネルギー消費効率の根拠（要件ア）'!AP57","v":"台"}]
[444,{"$f":"'（別添４）エネルギー消費効率の根拠（要件ア）'!AN58","v":"別添4_10_18_AP20"},{"$f":"'（別添４）エネルギー消費効率の根拠（要件ア）'!AO58","v":"一代前モデル_1台あたりの使用エネルギー"},{"$f":"'（別添４）エネルギー消費効率の根拠（要件ア）'!AP58","v":0}]
[445,{"$f":"'（別添４）エネルギー消費効率の根拠（要件ア）'!AN59","v":"別添4_10_19_AP21"},{"$f":"'（別添４）エネルギー消費効率の根拠（要件ア）'!AO59","v":"一代前モデル_年間エネルギー使用量計算式"},{"$f":"'（別添４）エネルギー消費効率の根拠（要件ア）'!AP59","v":0}]
[446,{"$f":"'（別添４）エネルギー消費効率の根拠（要件ア）'!AN60","v":"別添4_10_20_AP22&AQ22"},{"$f":"'（別添４）エネルギー消費効率の根拠（要件ア）'!AO60","v":"一代前モデル_計算結果"},{"$f":"'（別添４）エネルギー消費効率の根拠（要件ア）'!AP60","v":"単位を選択してください"}]
[447,{"$f":"'（別添４）エネルギー消費効率の根拠（要件ア）'!AN61","v":"別添4_10_21_AN23&AO23"},{"$f":"'（別添４）エネルギー消費効率の根拠（要件ア）'!AO61","v":"年間見込み省エネルギー量__計算結果"},{"$f":"'（別添４）エネルギー消費効率の根拠（要件ア）'!AP61","v":"0単位を選択してください"}]
[448,{"$f":"'（別添４）エネルギー消費効率の根拠（要件ア）'!AN62","v":"別添4_10_22_AN25"},{"$f":"'（別添４）エネルギー消費効率の根拠（要件ア）'!AO62","v":"年間見込み省エネルギー量_原油換算計算式"},{"$f":"'（別添４）エネルギー消費効率の根拠（要件ア）'!AP62","v":0}]
[449,{"$f":"'（別添４）エネルギー消費効率の根拠（要件ア）'!AN63","v":"別添4_10_23_AN26"},{"$f":"'（別添４）エネルギー消費効率の根拠（要件ア）'!AO63","v":"年間見込み省エネルギー量原油換算計算結果"},{"$f":"'（別添４）エネルギー消費効率の根拠（要件ア）'!AP63","v":0}]
[450,{"$f":"'（別添４）エネルギー消費効率の根拠（要件ア）'!AN64","v":"別添4_10_24_AN27"},{"$f":"'（別添４）エネルギー消費効率の根拠（要件ア）'!AO64","v":"年間見込み省エネルギー率_自動計算"},{"$f":"'（別添４）エネルギー消費効率の根拠（要件ア）'!AP64","v":""}]
[451,{"$f":"'（別添４）エネルギー消費効率の根拠（要件ア）'!AR41","v":"別添4_11_1_AR9"},{"$f":"'（別添４）エネルギー消費効率の根拠（要件ア）'!AS41","v":"トップランナー基準"},{"$f":"'（別添４）エネルギー消費効率の根拠（要件ア）'!AT41","v":0}]
[452,{"$f":"'（別添４）エネルギー消費効率の根拠（要件ア）'!AR42","v":"別添4_11_2_AR10"},{"$f":"'（別添４）エネルギー消費効率の根拠（要件ア）'!AS42","v":"トップランナー基準の区分名又は数値"},{"$f":"'（別添４）エネルギー消費効率の根拠（要件ア）'!AT42","v":0}]
[453,{"$f":"'（別添４）エネルギー消費効率の根拠（要件ア）'!AR43","v":"別添4_11_3_AR11"},{"$f":"'（別添４）エネルギー消費効率の根拠（要件ア）'!AS43","v":"トップランナー基準の数値（導入設備）"},{"$f":"'（別添４）エネルギー消費効率の根拠（要件ア）'!AT43","v":0}]
[454,{"$f":"'（別添４）エネルギー消費効率の根拠（要件ア）'!AR44","v":"別添4_11_4_AR12"},{"$f":"'（別添４）エネルギー消費効率の根拠（要件ア）'!AS44","v":"比較指標/トップランナー基準"},{"$f":"'（別添４）エネルギー消費効率の根拠（要件ア）'!AT44","v":0}]
[455,{"$f":"'（別添４）エネルギー消費効率の根拠（要件ア）'!AR45","v":"別添4_11_5_AR13"},{"$f":"'（別添４）エネルギー消費効率の根拠（要件ア）'!AS45","v":"添付資料の根拠記載箇所"},{"$f":"'（別添４）エネルギー消費効率の根拠（要件ア）'!AT45","v":0}]
[456,{"$f":"'（別添４）エネルギー消費効率の根拠（要件ア）'!AR46","v":"別添4_11_6_AR14"},{"$f":"'（別添４）エネルギー消費効率の根拠（要件ア）'!AS46","v":"省エネ要因"},{"$f":"'（別添４）エネルギー消費効率の根拠（要件ア）'!AT46","v":0}]
[457,{"$f":"'（別添４）エネルギー消費効率の根拠（要件ア）'!AR47","v":"別添4_11_7_AR16"},{"$f":"'（別添４）エネルギー消費効率の根拠（要件ア）'!AS47","v":"導入設備_製品名"},{"$f":"'（別添４）エネルギー消費効率の根拠（要件ア）'!AT47","v":0}]
[458,{"$f":"'（別添４）エネルギー消費効率の根拠（要件ア）'!AR48","v":"別添4_11_8_AR17"},{"$f":"'（別添４）エネルギー消費効率の根拠（要件ア）'!AS48","v":"導入設備_製造メーカー"},{"$f":"'（別添４）エネルギー消費効率の根拠（要件ア）'!AT48","v":0}]
[459,{"$f":"'（別添４）エネルギー消費効率の根拠（要件ア）'!AR49","v":"別添4_11_9_AR18"},{"$f":"'（別添４）エネルギー消費効率の根拠（要件ア）'!AS49","v":"導入設備_型番"},{"$f":"'（別添４）エネルギー消費効率の根拠（要件ア）'!AT49","v":0}]
[{"$f":"ROW()-1","v":460},{"$f":"'（別添４）エネルギー消費効率の根拠（要件ア）'!AR50","v":"別添4_11_10_AR19&AS19"},{"$f":"'（別添４）エネルギー消費効率の根拠（要件ア）'!AS50","v":"導入設備_導入台数"},{"$f":"'（別添４）エネルギー消費効率の根拠（要件ア）'!AT50","v":"台"}]
[461,{"$f":"'（別添４）エネルギー消費効率の根拠（要件ア）'!AR51","v":"別添4_11_11_AR20"},{"$f":"'（別添４）エネルギー消費効率の根拠（要件ア）'!AS51","v":"導入設備_1台あたりの使用エネルギー"},{"$f":"'（別添４）エネルギー消費効率の根拠（要件ア）'!AT51","v":0}]
[462,{"$f":"'（別添４）エネルギー消費効率の根拠（要件ア）'!AR52","v":"別添4_11_12_AR21"},{"$f":"'（別添４）エネルギー消費効率の根拠（要件ア）'!AS52","v":"導入設備_年間エネルギー使用量計算式"},{"$f":"'（別添４）エネルギー消費効率の根拠（要件ア）'!AT52","v":0}]
[463,{"$f":"'（別添４）エネルギー消費効率の根拠（要件ア）'!AR53","v":"別添4_11_13_AR22&AS22"},{"$f":"'（別添４）エネルギー消費効率の根拠（要件ア）'!AS53","v":"導入設備_計算結果"},{"$f":"'（別添４）エネルギー消費効率の根拠（要件ア）'!AT53","v":"単位を選択してください"}]
[464,{"$f":"'（別添４）エネルギー消費効率の根拠（要件ア）'!AR54","v":"別添4_11_14_AT16"},{"$f":"'（別添４）エネルギー消費効率の根拠（要件ア）'!AS54","v":"一代前モデル_製品名"},{"$f":"'（別添４）エネルギー消費効率の根拠（要件ア）'!AT54","v":0}]
[465,{"$f":"'（別添４）エネルギー消費効率の根拠（要件ア）'!AR55","v":"別添4_11_15_AT17"},{"$f":"'（別添４）エネルギー消費効率の根拠（要件ア）'!AS55","v":"一代前モデル_製造メーカー"},{"$f":"'（別添４）エネルギー消費効率の根拠（要件ア）'!AT55","v":0}]
[466,{"$f":"'（別添４）エネルギー消費効率の根拠（要件ア）'!AR56","v":"別添4_11_16_AT18"},{"$f":"'（別添４）エネルギー消費効率の根拠（要件ア）'!AS56","v":"一代前モデル_型番"},{"$f":"'（別添４）エネルギー消費効率の根拠（要件ア）'!AT56","v":0}]
[467,{"$f":"'（別添４）エネルギー消費効率の根拠（要件ア）'!AR57","v":"別添4_11_17_AT19&AU19"},{"$f":"'（別添４）エネルギー消費効率の根拠（要件ア）'!AS57","v":"一代前モデル_導入台数"},{"$f":"'（別添４）エネルギー消費効率の根拠（要件ア）'!AT57","v":"台"}]
[468,{"$f":"'（別添４）エネルギー消費効率の根拠（要件ア）'!AR58","v":"別添4_11_18_AT20"},{"$f":"'（別添４）エネルギー消費効率の根拠（要件ア）'!AS58","v":"一代前モデル_1台あたりの使用エネルギー"},{"$f":"'（別添４）エネルギー消費効率の根拠（要件ア）'!AT58","v":0}]
[469,{"$f":"'（別添４）エネルギー消費効率の根拠（要件ア）'!AR59","v":"別添4_11_19_AT21"},{"$f":"'（別添４）エネルギー消費効率の根拠（要件ア）'!AS59","v":"一代前モデル_年間エネルギー使用量計算式"},{"$f":"'（別添４）エネルギー消費効率の根拠（要件ア）'!AT59","v":0}]
[470,{"$f":"'（別添４）エネルギー消費効率の根拠（要件ア）'!AR60","v":"別添4_11_20_AT22&AU22"},{"$f":"'（別添４）エネルギー消費効率の根拠（要件ア）'!AS60","v":"一代前モデル_計算結果"},{"$f":"'（別添４）エネルギー消費効率の根拠（要件ア）'!AT60","v":"単位を選択してください"}]
[471,{"$f":"'（別添４）エネルギー消費効率の根拠（要件ア）'!AR61","v":"別添4_11_21_AR23&AS23"},{"$f":"'（別添４）エネルギー消費効率の根拠（要件ア）'!AS61","v":"年間見込み省エネルギー量__計算結果"},{"$f":"'（別添４）エネルギー消費効率の根拠（要件ア）'!AT61","v":"0単位を選択してください"}]
[472,{"$f":"'（別添４）エネルギー消費効率の根拠（要件ア）'!AR62","v":"別添4_11_22_AR25"},{"$f":"'（別添４）エネルギー消費効率の根拠（要件ア）'!AS62","v":"年間見込み省エネルギー量_原油換算計算式"},{"$f":"'（別添４）エネルギー消費効率の根拠（要件ア）'!AT62","v":0}]
[473,{"$f":"'（別添４）エネルギー消費効率の根拠（要件ア）'!AR63","v":"別添4_11_23_AR26"},{"$f":"'（別添４）エネルギー消費効率の根拠（要件ア）'!AS63","v":"年間見込み省エネルギー量原油換算計算結果"},{"$f":"'（別添４）エネルギー消費効率の根拠（要件ア）'!AT63","v":0}]
[474,{"$f":"'（別添４）エネルギー消費効率の根拠（要件ア）'!AR64","v":"別添4_11_24_AR27"},{"$f":"'（別添４）エネルギー消費効率の根拠（要件ア）'!AS64","v":"年間見込み省エネルギー率_自動計算"},{"$f":"'（別添４）エネルギー消費効率の根拠（要件ア）'!AT64","v":""}]
[475,{"$f":"'（別添４）エネルギー消費効率の根拠（要件ア）'!AV41","v":"別添4_12_1_AV9"},{"$f":"'（別添４）エネルギー消費効率の根拠（要件ア）'!AW41","v":"トップランナー基準"},{"$f":"'（別添４）エネルギー消費効率の根拠（要件ア）'!AX41","v":0}]
[476,{"$f":"'（別添４）エネルギー消費効率の根拠（要件ア）'!AV42","v":"別添4_12_2_AV10"},{"$f":"'（別添４）エネルギー消費効率の根拠（要件ア）'!AW42","v":"トップランナー基準の区分名又は数値"},{"$f":"'（別添４）エネルギー消費効率の根拠（要件ア）'!AX42","v":0}]
[477,{"$f":"'（別添４）エネルギー消費効率の根拠（要件ア）'!AV43","v":"別添4_12_3_AV11"},{"$f":"'（別添４）エネルギー消費効率の根拠（要件ア）'!AW43","v":"トップランナー基準の数値（導入設備）"},{"$f":"'（別添４）エネルギー消費効率の根拠（要件ア）'!AX43","v":0}]
[478,{"$f":"'（別添４）エネルギー消費効率の根拠（要件ア）'!AV44","v":"別添4_12_4_AV12"},{"$f":"'（別添４）エネルギー消費効率の根拠（要件ア）'!AW44","v":"比較指標/トップランナー基準"},{"$f":"'（別添４）エネルギー消費効率の根拠（要件ア）'!AX44","v":0}]
[479,{"$f":"'（別添４）エネルギー消費効率の根拠（要件ア）'!AV45","v":"別添4_12_5_AV13"},{"$f":"'（別添４）エネルギー消費効率の根拠（要件ア）'!AW45","v":"添付資料の根拠記載箇所"},{"$f":"'（別添４）エネルギー消費効率の根拠（要件ア）'!AX45","v":0}]
[480,{"$f":"'（別添４）エネルギー消費効率の根拠（要件ア）'!AV46","v":"別添4_12_6_AV14"},{"$f":"'（別添４）エネルギー消費効率の根拠（要件ア）'!AW46","v":"省エネ要因"},{"$f":"'（別添４）エネルギー消費効率の根拠（要件ア）'!AX46","v":0}]
[481,{"$f":"'（別添４）エネルギー消費効率の根拠（要件ア）'!AV47","v":"別添4_12_7_AV16"},{"$f":"'（別添４）エネルギー消費効率の根拠（要件ア）'!AW47","v":"導入設備_製品名"},{"$f":"'（別添４）エネルギー消費効率の根拠（要件ア）'!AX47","v":0}]
[482,{"$f":"'（別添４）エネルギー消費効率の根拠（要件ア）'!AV48","v":"別添4_12_8_AV17"},{"$f":"'（別添４）エネルギー消費効率の根拠（要件ア）'!AW48","v":"導入設備_製造メーカー"},{"$f":"'（別添４）エネルギー消費効率の根拠（要件ア）'!AX48","v":0}]
[483,{"$f":"'（別添４）エネルギー消費効率の根拠（要件ア）'!AV49","v":"別添4_12_9_AV18"},{"$f":"'（別添４）エネルギー消費効率の根拠（要件ア）'!AW49","v":"導入設備_型番"},{"$f":"'（別添４）エネルギー消費効率の根拠（要件ア）'!AX49","v":0}]
[484,{"$f":"'（別添４）エネルギー消費効率の根拠（要件ア）'!AV50","v":"別添4_12_10_AV19&AW19"},{"$f":"'（別添４）エネルギー消費効率の根拠（要件ア）'!AW50","v":"導入設備_導入台数"},{"$f":"'（別添４）エネルギー消費効率の根拠（要件ア）'!AX50","v":"台"}]
[485,{"$f":"'（別添４）エネルギー消費効率の根拠（要件ア）'!AV51","v":"別添4_12_11_AV20"},{"$f":"'（別添４）エネルギー消費効率の根拠（要件ア）'!AW51","v":"導入設備_1台あたりの使用エネルギー"},{"$f":"'（別添４）エネルギー消費効率の根拠（要件ア）'!AX51","v":0}]
[486,{"$f":"'（別添４）エネルギー消費効率の根拠（要件ア）'!AV52","v":"別添4_12_12_AV21"},{"$f":"'（別添４）エネルギー消費効率の根拠（要件ア）'!AW52","v":"導入設備_年間エネルギー使用量計算式"},{"$f":"'（別添４）エネルギー消費効率の根拠（要件ア）'!AX52","v":0}]
[487,{"$f":"'（別添４）エネルギー消費効率の根拠（要件ア）'!AV53","v":"別添4_12_13_AV22&AW22"},{"$f":"'（別添４）エネルギー消費効率の根拠（要件ア）'!AW53","v":"導入設備_計算結果"},{"$f":"'（別添４）エネルギー消費効率の根拠（要件ア）'!AX53","v":"単位を選択してください"}]
[488,{"$f":"'（別添４）エネルギー消費効率の根拠（要件ア）'!AV54","v":"別添4_12_14_AX16"},{"$f":"'（別添４）エネルギー消費効率の根拠（要件ア）'!AW54","v":"一代前モデル_製品名"},{"$f":"'（別添４）エネルギー消費効率の根拠（要件ア）'!AX54","v":0}]
[489,{"$f":"'（別添４）エネルギー消費効率の根拠（要件ア）'!AV55","v":"別添4_12_15_AX17"},{"$f":"'（別添４）エネルギー消費効率の根拠（要件ア）'!AW55","v":"一代前モデル_製造メーカー"},{"$f":"'（別添４）エネルギー消費効率の根拠（要件ア）'!AX55","v":0}]
[490,{"$f":"'（別添４）エネルギー消費効率の根拠（要件ア）'!AV56","v":"別添4_12_16_AX18"},{"$f":"'（別添４）エネルギー消費効率の根拠（要件ア）'!AW56","v":"一代前モデル_型番"},{"$f":"'（別添４）エネルギー消費効率の根拠（要件ア）'!AX56","v":0}]
[491,{"$f":"'（別添４）エネルギー消費効率の根拠（要件ア）'!AV57","v":"別添4_12_17_AX19&AY19"},{"$f":"'（別添４）エネルギー消費効率の根拠（要件ア）'!AW57","v":"一代前モデル_導入台数"},{"$f":"'（別添４）エネルギー消費効率の根拠（要件ア）'!AX57","v":"台"}]
[492,{"$f":"'（別添４）エネルギー消費効率の根拠（要件ア）'!AV58","v":"別添4_12_18_AX20"},{"$f":"'（別添４）エネルギー消費効率の根拠（要件ア）'!AW58","v":"一代前モデル_1台あたりの使用エネルギー"},{"$f":"'（別添４）エネルギー消費効率の根拠（要件ア）'!AX58","v":0}]
[493,{"$f":"'（別添４）エネルギー消費効率の根拠（要件ア）'!AV59","v":"別添4_12_19_AX21"},{"$f":"'（別添４）エネルギー消費効率の根拠（要件ア）'!AW59","v":"一代前モデル_年間エネルギー使用量計算式"},{"$f":"'（別添４）エネルギー消費効率の根拠（要件ア）'!AX59","v":0}]
[494,{"$f":"'（別添４）エネルギー消費効率の根拠（要件ア）'!AV60","v":"別添4_12_20_AX22&AY22"},{"$f":"'（別添４）エネルギー消費効率の根拠（要件ア）'!AW60","v":"一代前モデル_計算結果"},{"$f":"'（別添４）エネルギー消費効率の根拠（要件ア）'!AX60","v":"単位を選択してください"}]
[495,{"$f":"'（別添４）エネルギー消費効率の根拠（要件ア）'!AV61","v":"別添4_12_21_AV23&AW23"},{"$f":"'（別添４）エネルギー消費効率の根拠（要件ア）'!AW61","v":"年間見込み省エネルギー量__計算結果"},{"$f":"'（別添４）エネルギー消費効率の根拠（要件ア）'!AX61","v":"0単位を選択してください"}]
[496,{"$f":"'（別添４）エネルギー消費効率の根拠（要件ア）'!AV62","v":"別添4_12_22_AV25"},{"$f":"'（別添４）エネルギー消費効率の根拠（要件ア）'!AW62","v":"年間見込み省エネルギー量_原油換算計算式"},{"$f":"'（別添４）エネルギー消費効率の根拠（要件ア）'!AX62","v":0}]
[497,{"$f":"'（別添４）エネルギー消費効率の根拠（要件ア）'!AV63","v":"別添4_12_23_AV26"},{"$f":"'（別添４）エネルギー消費効率の根拠（要件ア）'!AW63","v":"年間見込み省エネルギー量原油換算計算結果"},{"$f":"'（別添４）エネルギー消費効率の根拠（要件ア）'!AX63","v":0}]
[498,{"$f":"'（別添４）エネルギー消費効率の根拠（要件ア）'!AV64","v":"別添4_12_24_AV27"},{"$f":"'（別添４）エネルギー消費効率の根拠（要件ア）'!AW64","v":"年間見込み省エネルギー率_自動計算"},{"$f":"'（別添４）エネルギー消費効率の根拠（要件ア）'!AX64","v":""}]
[499,{"$f":"'（別添４）エネルギー消費効率の根拠（要件ア）'!AZ41","v":"別添4_13_1_AZ9"},{"$f":"'（別添４）エネルギー消費効率の根拠（要件ア）'!BA41","v":"トップランナー基準"},{"$f":"'（別添４）エネルギー消費効率の根拠（要件ア）'!BB41","v":0}]
[500,{"$f":"'（別添４）エネルギー消費効率の根拠（要件ア）'!AZ42","v":"別添4_13_2_AZ10"},{"$f":"'（別添４）エネルギー消費効率の根拠（要件ア）'!BA42","v":"トップランナー基準の区分名又は数値"},{"$f":"'（別添４）エネルギー消費効率の根拠（要件ア）'!BB42","v":0}]
[501,{"$f":"'（別添４）エネルギー消費効率の根拠（要件ア）'!AZ43","v":"別添4_13_3_AZ11"},{"$f":"'（別添４）エネルギー消費効率の根拠（要件ア）'!BA43","v":"トップランナー基準の数値（導入設備）"},{"$f":"'（別添４）エネルギー消費効率の根拠（要件ア）'!BB43","v":0}]
[502,{"$f":"'（別添４）エネルギー消費効率の根拠（要件ア）'!AZ44","v":"別添4_13_4_AZ12"},{"$f":"'（別添４）エネルギー消費効率の根拠（要件ア）'!BA44","v":"比較指標/トップランナー基準"},{"$f":"'（別添４）エネルギー消費効率の根拠（要件ア）'!BB44","v":0}]
[503,{"$f":"'（別添４）エネルギー消費効率の根拠（要件ア）'!AZ45","v":"別添4_13_5_AZ13"},{"$f":"'（別添４）エネルギー消費効率の根拠（要件ア）'!BA45","v":"添付資料の根拠記載箇所"},{"$f":"'（別添４）エネルギー消費効率の根拠（要件ア）'!BB45","v":0}]
[504,{"$f":"'（別添４）エネルギー消費効率の根拠（要件ア）'!AZ46","v":"別添4_13_6_AZ14"},{"$f":"'（別添４）エネルギー消費効率の根拠（要件ア）'!BA46","v":"省エネ要因"},{"$f":"'（別添４）エネルギー消費効率の根拠（要件ア）'!BB46","v":0}]
[505,{"$f":"'（別添４）エネルギー消費効率の根拠（要件ア）'!AZ47","v":"別添4_13_7_AZ16"},{"$f":"'（別添４）エネルギー消費効率の根拠（要件ア）'!BA47","v":"導入設備_製品名"},{"$f":"'（別添４）エネルギー消費効率の根拠（要件ア）'!BB47","v":0}]
[506,{"$f":"'（別添４）エネルギー消費効率の根拠（要件ア）'!AZ48","v":"別添4_13_8_AZ17"},{"$f":"'（別添４）エネルギー消費効率の根拠（要件ア）'!BA48","v":"導入設備_製造メーカー"},{"$f":"'（別添４）エネルギー消費効率の根拠（要件ア）'!BB48","v":0}]
[507,{"$f":"'（別添４）エネルギー消費効率の根拠（要件ア）'!AZ49","v":"別添4_13_9_AZ18"},{"$f":"'（別添４）エネルギー消費効率の根拠（要件ア）'!BA49","v":"導入設備_型番"},{"$f":"'（別添４）エネルギー消費効率の根拠（要件ア）'!BB49","v":0}]
[508,{"$f":"'（別添４）エネルギー消費効率の根拠（要件ア）'!AZ50","v":"別添4_13_10_AZ19&BA19"},{"$f":"'（別添４）エネルギー消費効率の根拠（要件ア）'!BA50","v":"導入設備_導入台数"},{"$f":"'（別添４）エネルギー消費効率の根拠（要件ア）'!BB50","v":"台"}]
[509,{"$f":"'（別添４）エネルギー消費効率の根拠（要件ア）'!AZ51","v":"別添4_13_11_AZ20"},{"$f":"'（別添４）エネルギー消費効率の根拠（要件ア）'!BA51","v":"導入設備_1台あたりの使用エネルギー"},{"$f":"'（別添４）エネルギー消費効率の根拠（要件ア）'!BB51","v":0}]
[510,{"$f":"'（別添４）エネルギー消費効率の根拠（要件ア）'!AZ52","v":"別添4_13_12_AZ21"},{"$f":"'（別添４）エネルギー消費効率の根拠（要件ア）'!BA52","v":"導入設備_年間エネルギー使用量計算式"},{"$f":"'（別添４）エネルギー消費効率の根拠（要件ア）'!BB52","v":0}]
[511,{"$f":"'（別添４）エネルギー消費効率の根拠（要件ア）'!AZ53","v":"別添4_13_13_AZ22&BA22"},{"$f":"'（別添４）エネルギー消費効率の根拠（要件ア）'!BA53","v":"導入設備_計算結果"},{"$f":"'（別添４）エネルギー消費効率の根拠（要件ア）'!BB53","v":"単位を選択してください"}]
[512,{"$f":"'（別添４）エネルギー消費効率の根拠（要件ア）'!AZ54","v":"別添4_13_14_BB16"},{"$f":"'（別添４）エネルギー消費効率の根拠（要件ア）'!BA54","v":"一代前モデル_製品名"},{"$f":"'（別添４）エネルギー消費効率の根拠（要件ア）'!BB54","v":0}]
[513,{"$f":"'（別添４）エネルギー消費効率の根拠（要件ア）'!AZ55","v":"別添4_13_15_BB17"},{"$f":"'（別添４）エネルギー消費効率の根拠（要件ア）'!BA55","v":"一代前モデル_製造メーカー"},{"$f":"'（別添４）エネルギー消費効率の根拠（要件ア）'!BB55","v":0}]
[514,{"$f":"'（別添４）エネルギー消費効率の根拠（要件ア）'!AZ56","v":"別添4_13_16_BB18"},{"$f":"'（別添４）エネルギー消費効率の根拠（要件ア）'!BA56","v":"一代前モデル_型番"},{"$f":"'（別添４）エネルギー消費効率の根拠（要件ア）'!BB56","v":0}]
[515,{"$f":"'（別添４）エネルギー消費効率の根拠（要件ア）'!AZ57","v":"別添4_13_17_BB19&BC19"},{"$f":"'（別添４）エネルギー消費効率の根拠（要件ア）'!BA57","v":"一代前モデル_導入台数"},{"$f":"'（別添４）エネルギー消費効率の根拠（要件ア）'!BB57","v":"台"}]
[516,{"$f":"'（別添４）エネルギー消費効率の根拠（要件ア）'!AZ58","v":"別添4_13_18_BB20"},{"$f":"'（別添４）エネルギー消費効率の根拠（要件ア）'!BA58","v":"一代前モデル_1台あたりの使用エネルギー"},{"$f":"'（別添４）エネルギー消費効率の根拠（要件ア）'!BB58","v":0}]
[517,{"$f":"'（別添４）エネルギー消費効率の根拠（要件ア）'!AZ59","v":"別添4_13_19_BB21"},{"$f":"'（別添４）エネルギー消費効率の根拠（要件ア）'!BA59","v":"一代前モデル_年間エネルギー使用量計算式"},{"$f":"'（別添４）エネルギー消費効率の根拠（要件ア）'!BB59","v":0}]
[518,{"$f":"'（別添４）エネルギー消費効率の根拠（要件ア）'!AZ60","v":"別添4_13_20_BB22&BC22"},{"$f":"'（別添４）エネルギー消費効率の根拠（要件ア）'!BA60","v":"一代前モデル_計算結果"},{"$f":"'（別添４）エネルギー消費効率の根拠（要件ア）'!BB60","v":"単位を選択してください"}]
[519,{"$f":"'（別添４）エネルギー消費効率の根拠（要件ア）'!AZ61","v":"別添4_13_21_AZ23&BA23"},{"$f":"'（別添４）エネルギー消費効率の根拠（要件ア）'!BA61","v":"年間見込み省エネルギー量__計算結果"},{"$f":"'（別添４）エネルギー消費効率の根拠（要件ア）'!BB61","v":"0単位を選択してください"}]
[520,{"$f":"'（別添４）エネルギー消費効率の根拠（要件ア）'!AZ62","v":"別添4_13_22_AZ25"},{"$f":"'（別添４）エネルギー消費効率の根拠（要件ア）'!BA62","v":"年間見込み省エネルギー量_原油換算計算式"},{"$f":"'（別添４）エネルギー消費効率の根拠（要件ア）'!BB62","v":0}]
[521,{"$f":"'（別添４）エネルギー消費効率の根拠（要件ア）'!AZ63","v":"別添4_13_23_AZ26"},{"$f":"'（別添４）エネルギー消費効率の根拠（要件ア）'!BA63","v":"年間見込み省エネルギー量原油換算計算結果"},{"$f":"'（別添４）エネルギー消費効率の根拠（要件ア）'!BB63","v":0}]
[522,{"$f":"'（別添４）エネルギー消費効率の根拠（要件ア）'!AZ64","v":"別添4_13_24_AZ27"},{"$f":"'（別添４）エネルギー消費効率の根拠（要件ア）'!BA64","v":"年間見込み省エネルギー率_自動計算"},{"$f":"'（別添４）エネルギー消費効率の根拠（要件ア）'!BB64","v":""}]
[523,{"$f":"'（別添４）エネルギー消費効率の根拠（要件ア）'!BD41","v":"別添4_14_1_BD9"},{"$f":"'（別添４）エネルギー消費効率の根拠（要件ア）'!BE41","v":"トップランナー基準"},{"$f":"'（別添４）エネルギー消費効率の根拠（要件ア）'!BF41","v":0}]
[{"$f":"ROW()-1","v":524},{"$f":"'（別添４）エネルギー消費効率の根拠（要件ア）'!BD42","v":"別添4_14_2_BD10"},{"$f":"'（別添４）エネルギー消費効率の根拠（要件ア）'!BE42","v":"トップランナー基準の区分名又は数値"},{"$f":"'（別添４）エネルギー消費効率の根拠（要件ア）'!BF42","v":0}]
[525,{"$f":"'（別添４）エネルギー消費効率の根拠（要件ア）'!BD43","v":"別添4_14_3_BD11"},{"$f":"'（別添４）エネルギー消費効率の根拠（要件ア）'!BE43","v":"トップランナー基準の数値（導入設備）"},{"$f":"'（別添４）エネルギー消費効率の根拠（要件ア）'!BF43","v":0}]
[526,{"$f":"'（別添４）エネルギー消費効率の根拠（要件ア）'!BD44","v":"別添4_14_4_BD12"},{"$f":"'（別添４）エネルギー消費効率の根拠（要件ア）'!BE44","v":"比較指標/トップランナー基準"},{"$f":"'（別添４）エネルギー消費効率の根拠（要件ア）'!BF44","v":0}]
[527,{"$f":"'（別添４）エネルギー消費効率の根拠（要件ア）'!BD45","v":"別添4_14_5_BD13"},{"$f":"'（別添４）エネルギー消費効率の根拠（要件ア）'!BE45","v":"添付資料の根拠記載箇所"},{"$f":"'（別添４）エネルギー消費効率の根拠（要件ア）'!BF45","v":0}]
[528,{"$f":"'（別添４）エネルギー消費効率の根拠（要件ア）'!BD46","v":"別添4_14_6_BD14"},{"$f":"'（別添４）エネルギー消費効率の根拠（要件ア）'!BE46","v":"省エネ要因"},{"$f":"'（別添４）エネルギー消費効率の根拠（要件ア）'!BF46","v":0}]
[529,{"$f":"'（別添４）エネルギー消費効率の根拠（要件ア）'!BD47","v":"別添4_14_7_BD16"},{"$f":"'（別添４）エネルギー消費効率の根拠（要件ア）'!BE47","v":"導入設備_製品名"},{"$f":"'（別添４）エネルギー消費効率の根拠（要件ア）'!BF47","v":0}]
[530,{"$f":"'（別添４）エネルギー消費効率の根拠（要件ア）'!BD48","v":"別添4_14_8_BD17"},{"$f":"'（別添４）エネルギー消費効率の根拠（要件ア）'!BE48","v":"導入設備_製造メーカー"},{"$f":"'（別添４）エネルギー消費効率の根拠（要件ア）'!BF48","v":0}]
[531,{"$f":"'（別添４）エネルギー消費効率の根拠（要件ア）'!BD49","v":"別添4_14_9_BD18"},{"$f":"'（別添４）エネルギー消費効率の根拠（要件ア）'!BE49","v":"導入設備_型番"},{"$f":"'（別添４）エネルギー消費効率の根拠（要件ア）'!BF49","v":0}]
[532,{"$f":"'（別添４）エネルギー消費効率の根拠（要件ア）'!BD50","v":"別添4_14_10_BD19&BE19"},{"$f":"'（別添４）エネルギー消費効率の根拠（要件ア）'!BE50","v":"導入設備_導入台数"},{"$f":"'（別添４）エネルギー消費効率の根拠（要件ア）'!BF50","v":"台"}]
[533,{"$f":"'（別添４）エネルギー消費効率の根拠（要件ア）'!BD51","v":"別添4_14_11_BD20"},{"$f":"'（別添４）エネルギー消費効率の根拠（要件ア）'!BE51","v":"導入設備_1台あたりの使用エネルギー"},{"$f":"'（別添４）エネルギー消費効率の根拠（要件ア）'!BF51","v":0}]
[534,{"$f":"'（別添４）エネルギー消費効率の根拠（要件ア）'!BD52","v":"別添4_14_12_BD21"},{"$f":"'（別添４）エネルギー消費効率の根拠（要件ア）'!BE52","v":"導入設備_年間エネルギー使用量計算式"},{"$f":"'（別添４）エネルギー消費効率の根拠（要件ア）'!BF52","v":0}]
[535,{"$f":"'（別添４）エネルギー消費効率の根拠（要件ア）'!BD53","v":"別添4_14_13_BD22&BE22"},{"$f":"'（別添４）エネルギー消費効率の根拠（要件ア）'!BE53","v":"導入設備_計算結果"},{"$f":"'（別添４）エネルギー消費効率の根拠（要件ア）'!BF53","v":"単位を選択してください"}]
[536,{"$f":"'（別添４）エネルギー消費効率の根拠（要件ア）'!BD54","v":"別添4_14_14_BF16"},{"$f":"'（別添４）エネルギー消費効率の根拠（要件ア）'!BE54","v":"一代前モデル_製品名"},{"$f":"'（別添４）エネルギー消費効率の根拠（要件ア）'!BF54","v":0}]
[537,{"$f":"'（別添４）エネルギー消費効率の根拠（要件ア）'!BD55","v":"別添4_14_15_BF17"},{"$f":"'（別添４）エネルギー消費効率の根拠（要件ア）'!BE55","v":"一代前モデル_製造メーカー"},{"$f":"'（別添４）エネルギー消費効率の根拠（要件ア）'!BF55","v":0}]
[538,{"$f":"'（別添４）エネルギー消費効率の根拠（要件ア）'!BD56","v":"別添4_14_16_BF18"},{"$f":"'（別添４）エネルギー消費効率の根拠（要件ア）'!BE56","v":"一代前モデル_型番"},{"$f":"'（別添４）エネルギー消費効率の根拠（要件ア）'!BF56","v":0}]
[539,{"$f":"'（別添４）エネルギー消費効率の根拠（要件ア）'!BD57","v":"別添4_14_17_BF19&BG19"},{"$f":"'（別添４）エネルギー消費効率の根拠（要件ア）'!BE57","v":"一代前モデル_導入台数"},{"$f":"'（別添４）エネルギー消費効率の根拠（要件ア）'!BF57","v":"台"}]
[540,{"$f":"'（別添４）エネルギー消費効率の根拠（要件ア）'!BD58","v":"別添4_14_18_BF20"},{"$f":"'（別添４）エネルギー消費効率の根拠（要件ア）'!BE58","v":"一代前モデル_1台あたりの使用エネルギー"},{"$f":"'（別添４）エネルギー消費効率の根拠（要件ア）'!BF58","v":0}]
[541,{"$f":"'（別添４）エネルギー消費効率の根拠（要件ア）'!BD59","v":"別添4_14_19_BF21"},{"$f":"'（別添４）エネルギー消費効率の根拠（要件ア）'!BE59","v":"一代前モデル_年間エネルギー使用量計算式"},{"$f":"'（別添４）エネルギー消費効率の根拠（要件ア）'!BF59","v":0}]
[542,{"$f":"'（別添４）エネルギー消費効率の根拠（要件ア）'!BD60","v":"別添4_14_20_BF22&BG22"},{"$f":"'（別添４）エネルギー消費効率の根拠（要件ア）'!BE60","v":"一代前モデル_計算結果"},{"$f":"'（別添４）エネルギー消費効率の根拠（要件ア）'!BF60","v":"単位を選択してください"}]
[543,{"$f":"'（別添４）エネルギー消費効率の根拠（要件ア）'!BD61","v":"別添4_14_21_BD23&BE23"},{"$f":"'（別添４）エネルギー消費効率の根拠（要件ア）'!BE61","v":"年間見込み省エネルギー量__計算結果"},{"$f":"'（別添４）エネルギー消費効率の根拠（要件ア）'!BF61","v":"0単位を選択してください"}]
[544,{"$f":"'（別添４）エネルギー消費効率の根拠（要件ア）'!BD62","v":"別添4_14_22_BD25"},{"$f":"'（別添４）エネルギー消費効率の根拠（要件ア）'!BE62","v":"年間見込み省エネルギー量_原油換算計算式"},{"$f":"'（別添４）エネルギー消費効率の根拠（要件ア）'!BF62","v":0}]
[545,{"$f":"'（別添４）エネルギー消費効率の根拠（要件ア）'!BD63","v":"別添4_14_23_BD26"},{"$f":"'（別添４）エネルギー消費効率の根拠（要件ア）'!BE63","v":"年間見込み省エネルギー量原油換算計算結果"},{"$f":"'（別添４）エネルギー消費効率の根拠（要件ア）'!BF63","v":0}]
[546,{"$f":"'（別添４）エネルギー消費効率の根拠（要件ア）'!BD64","v":"別添4_14_24_BD27"},{"$f":"'（別添４）エネルギー消費効率の根拠（要件ア）'!BE64","v":"年間見込み省エネルギー率_自動計算"},{"$f":"'（別添４）エネルギー消費効率の根拠（要件ア）'!BF64","v":""}]
[547,{"$f":"'（別添４）エネルギー消費効率の根拠（要件ア）'!BH41","v":"別添4_15_1_BH9"},{"$f":"'（別添４）エネルギー消費効率の根拠（要件ア）'!BI41","v":"トップランナー基準"},{"$f":"'（別添４）エネルギー消費効率の根拠（要件ア）'!BJ41","v":0}]
[548,{"$f":"'（別添４）エネルギー消費効率の根拠（要件ア）'!BH42","v":"別添4_15_2_BH10"},{"$f":"'（別添４）エネルギー消費効率の根拠（要件ア）'!BI42","v":"トップランナー基準の区分名又は数値"},{"$f":"'（別添４）エネルギー消費効率の根拠（要件ア）'!BJ42","v":0}]
[549,{"$f":"'（別添４）エネルギー消費効率の根拠（要件ア）'!BH43","v":"別添4_15_3_BH11"},{"$f":"'（別添４）エネルギー消費効率の根拠（要件ア）'!BI43","v":"トップランナー基準の数値（導入設備）"},{"$f":"'（別添４）エネルギー消費効率の根拠（要件ア）'!BJ43","v":0}]
[550,{"$f":"'（別添４）エネルギー消費効率の根拠（要件ア）'!BH44","v":"別添4_15_4_BH12"},{"$f":"'（別添４）エネルギー消費効率の根拠（要件ア）'!BI44","v":"比較指標/トップランナー基準"},{"$f":"'（別添４）エネルギー消費効率の根拠（要件ア）'!BJ44","v":0}]
[551,{"$f":"'（別添４）エネルギー消費効率の根拠（要件ア）'!BH45","v":"別添4_15_5_BH13"},{"$f":"'（別添４）エネルギー消費効率の根拠（要件ア）'!BI45","v":"添付資料の根拠記載箇所"},{"$f":"'（別添４）エネルギー消費効率の根拠（要件ア）'!BJ45","v":0}]
[552,{"$f":"'（別添４）エネルギー消費効率の根拠（要件ア）'!BH46","v":"別添4_15_6_BH14"},{"$f":"'（別添４）エネルギー消費効率の根拠（要件ア）'!BI46","v":"省エネ要因"},{"$f":"'（別添４）エネルギー消費効率の根拠（要件ア）'!BJ46","v":0}]
[553,{"$f":"'（別添４）エネルギー消費効率の根拠（要件ア）'!BH47","v":"別添4_15_7_BH16"},{"$f":"'（別添４）エネルギー消費効率の根拠（要件ア）'!BI47","v":"導入設備_製品名"},{"$f":"'（別添４）エネルギー消費効率の根拠（要件ア）'!BJ47","v":0}]
[554,{"$f":"'（別添４）エネルギー消費効率の根拠（要件ア）'!BH48","v":"別添4_15_8_BH17"},{"$f":"'（別添４）エネルギー消費効率の根拠（要件ア）'!BI48","v":"導入設備_製造メーカー"},{"$f":"'（別添４）エネルギー消費効率の根拠（要件ア）'!BJ48","v":0}]
[555,{"$f":"'（別添４）エネルギー消費効率の根拠（要件ア）'!BH49","v":"別添4_15_9_BH18"},{"$f":"'（別添４）エネルギー消費効率の根拠（要件ア）'!BI49","v":"導入設備_型番"},{"$f":"'（別添４）エネルギー消費効率の根拠（要件ア）'!BJ49","v":0}]
[556,{"$f":"'（別添４）エネルギー消費効率の根拠（要件ア）'!BH50","v":"別添4_15_10_BH19&BI19"},{"$f":"'（別添４）エネルギー消費効率の根拠（要件ア）'!BI50","v":"導入設備_導入台数"},{"$f":"'（別添４）エネルギー消費効率の根拠（要件ア）'!BJ50","v":"台"}]
[557,{"$f":"'（別添４）エネルギー消費効率の根拠（要件ア）'!BH51","v":"別添4_15_11_BH20"},{"$f":"'（別添４）エネルギー消費効率の根拠（要件ア）'!BI51","v":"導入設備_1台あたりの使用エネルギー"},{"$f":"'（別添４）エネルギー消費効率の根拠（要件ア）'!BJ51","v":0}]
[558,{"$f":"'（別添４）エネルギー消費効率の根拠（要件ア）'!BH52","v":"別添4_15_12_BH21"},{"$f":"'（別添４）エネルギー消費効率の根拠（要件ア）'!BI52","v":"導入設備_年間エネルギー使用量計算式"},{"$f":"'（別添４）エネルギー消費効率の根拠（要件ア）'!BJ52","v":0}]
[559,{"$f":"'（別添４）エネルギー消費効率の根拠（要件ア）'!BH53","v":"別添4_15_13_BH22&BI22"},{"$f":"'（別添４）エネルギー消費効率の根拠（要件ア）'!BI53","v":"導入設備_計算結果"},{"$f":"'（別添４）エネルギー消費効率の根拠（要件ア）'!BJ53","v":"単位を選択してください"}]
[560,{"$f":"'（別添４）エネルギー消費効率の根拠（要件ア）'!BH54","v":"別添4_15_14_BJ16"},{"$f":"'（別添４）エネルギー消費効率の根拠（要件ア）'!BI54","v":"一代前モデル_製品名"},{"$f":"'（別添４）エネルギー消費効率の根拠（要件ア）'!BJ54","v":0}]
[561,{"$f":"'（別添４）エネルギー消費効率の根拠（要件ア）'!BH55","v":"別添4_15_15_BJ17"},{"$f":"'（別添４）エネルギー消費効率の根拠（要件ア）'!BI55","v":"一代前モデル_製造メーカー"},{"$f":"'（別添４）エネルギー消費効率の根拠（要件ア）'!BJ55","v":0}]
[562,{"$f":"'（別添４）エネルギー消費効率の根拠（要件ア）'!BH56","v":"別添4_15_16_BJ18"},{"$f":"'（別添４）エネルギー消費効率の根拠（要件ア）'!BI56","v":"一代前モデル_型番"},{"$f":"'（別添４）エネルギー消費効率の根拠（要件ア）'!BJ56","v":0}]
[563,{"$f":"'（別添４）エネルギー消費効率の根拠（要件ア）'!BH57","v":"別添4_15_17_BJ19&BK19"},{"$f":"'（別添４）エネルギー消費効率の根拠（要件ア）'!BI57","v":"一代前モデル_導入台数"},{"$f":"'（別添４）エネルギー消費効率の根拠（要件ア）'!BJ57","v":"台"}]
[564,{"$f":"'（別添４）エネルギー消費効率の根拠（要件ア）'!BH58","v":"別添4_15_18_BJ20"},{"$f":"'（別添４）エネルギー消費効率の根拠（要件ア）'!BI58","v":"一代前モデル_1台あたりの使用エネルギー"},{"$f":"'（別添４）エネルギー消費効率の根拠（要件ア）'!BJ58","v":0}]
[565,{"$f":"'（別添４）エネルギー消費効率の根拠（要件ア）'!BH59","v":"別添4_15_19_BJ21"},{"$f":"'（別添４）エネルギー消費効率の根拠（要件ア）'!BI59","v":"一代前モデル_年間エネルギー使用量計算式"},{"$f":"'（別添４）エネルギー消費効率の根拠（要件ア）'!BJ59","v":0}]
[566,{"$f":"'（別添４）エネルギー消費効率の根拠（要件ア）'!BH60","v":"別添4_15_20_BJ22&BK22"},{"$f":"'（別添４）エネルギー消費効率の根拠（要件ア）'!BI60","v":"一代前モデル_計算結果"},{"$f":"'（別添４）エネルギー消費効率の根拠（要件ア）'!BJ60","v":"単位を選択してください"}]
[567,{"$f":"'（別添４）エネルギー消費効率の根拠（要件ア）'!BH61","v":"別添4_15_21_BH23&BI23"},{"$f":"'（別添４）エネルギー消費効率の根拠（要件ア）'!BI61","v":"年間見込み省エネルギー量__計算結果"},{"$f":"'（別添４）エネルギー消費効率の根拠（要件ア）'!BJ61","v":"0単位を選択してください"}]
[568,{"$f":"'（別添４）エネルギー消費効率の根拠（要件ア）'!BH62","v":"別添4_15_22_BH25"},{"$f":"'（別添４）エネルギー消費効率の根拠（要件ア）'!BI62","v":"年間見込み省エネルギー量_原油換算計算式"},{"$f":"'（別添４）エネルギー消費効率の根拠（要件ア）'!BJ62","v":0}]
[569,{"$f":"'（別添４）エネルギー消費効率の根拠（要件ア）'!BH63","v":"別添4_15_23_BH26"},{"$f":"'（別添４）エネルギー消費効率の根拠（要件ア）'!BI63","v":"年間見込み省エネルギー量原油換算計算結果"},{"$f":"'（別添４）エネルギー消費効率の根拠（要件ア）'!BJ63","v":0}]
[570,{"$f":"'（別添４）エネルギー消費効率の根拠（要件ア）'!BH64","v":"別添4_15_24_BH27"},{"$f":"'（別添４）エネルギー消費効率の根拠（要件ア）'!BI64","v":"年間見込み省エネルギー率_自動計算"},{"$f":"'（別添４）エネルギー消費効率の根拠（要件ア）'!BJ64","v":""}]
[571,{"$f":"'（別添４）エネルギー消費効率の根拠（要件ア）'!BL41","v":"別添4_16_1_BL9"},{"$f":"'（別添４）エネルギー消費効率の根拠（要件ア）'!BM41","v":"トップランナー基準"},{"$f":"'（別添４）エネルギー消費効率の根拠（要件ア）'!BN41","v":0}]
[572,{"$f":"'（別添４）エネルギー消費効率の根拠（要件ア）'!BL42","v":"別添4_16_2_BL10"},{"$f":"'（別添４）エネルギー消費効率の根拠（要件ア）'!BM42","v":"トップランナー基準の区分名又は数値"},{"$f":"'（別添４）エネルギー消費効率の根拠（要件ア）'!BN42","v":0}]
[573,{"$f":"'（別添４）エネルギー消費効率の根拠（要件ア）'!BL43","v":"別添4_16_3_BL11"},{"$f":"'（別添４）エネルギー消費効率の根拠（要件ア）'!BM43","v":"トップランナー基準の数値（導入設備）"},{"$f":"'（別添４）エネルギー消費効率の根拠（要件ア）'!BN43","v":0}]
[574,{"$f":"'（別添４）エネルギー消費効率の根拠（要件ア）'!BL44","v":"別添4_16_4_BL12"},{"$f":"'（別添４）エネルギー消費効率の根拠（要件ア）'!BM44","v":"比較指標/トップランナー基準"},{"$f":"'（別添４）エネルギー消費効率の根拠（要件ア）'!BN44","v":0}]
[575,{"$f":"'（別添４）エネルギー消費効率の根拠（要件ア）'!BL45","v":"別添4_16_5_BL13"},{"$f":"'（別添４）エネルギー消費効率の根拠（要件ア）'!BM45","v":"添付資料の根拠記載箇所"},{"$f":"'（別添４）エネルギー消費効率の根拠（要件ア）'!BN45","v":0}]
[576,{"$f":"'（別添４）エネルギー消費効率の根拠（要件ア）'!BL46","v":"別添4_16_6_BL14"},{"$f":"'（別添４）エネルギー消費効率の根拠（要件ア）'!BM46","v":"省エネ要因"},{"$f":"'（別添４）エネルギー消費効率の根拠（要件ア）'!BN46","v":0}]
[577,{"$f":"'（別添４）エネルギー消費効率の根拠（要件ア）'!BL47","v":"別添4_16_7_BL16"},{"$f":"'（別添４）エネルギー消費効率の根拠（要件ア）'!BM47","v":"導入設備_製品名"},{"$f":"'（別添４）エネルギー消費効率の根拠（要件ア）'!BN47","v":0}]
[578,{"$f":"'（別添４）エネルギー消費効率の根拠（要件ア）'!BL48","v":"別添4_16_8_BL17"},{"$f":"'（別添４）エネルギー消費効率の根拠（要件ア）'!BM48","v":"導入設備_製造メーカー"},{"$f":"'（別添４）エネルギー消費効率の根拠（要件ア）'!BN48","v":0}]
[579,{"$f":"'（別添４）エネルギー消費効率の根拠（要件ア）'!BL49","v":"別添4_16_9_BL18"},{"$f":"'（別添４）エネルギー消費効率の根拠（要件ア）'!BM49","v":"導入設備_型番"},{"$f":"'（別添４）エネルギー消費効率の根拠（要件ア）'!BN49","v":0}]
[580,{"$f":"'（別添４）エネルギー消費効率の根拠（要件ア）'!BL50","v":"別添4_16_10_BL19&BM19"},{"$f":"'（別添４）エネルギー消費効率の根拠（要件ア）'!BM50","v":"導入設備_導入台数"},{"$f":"'（別添４）エネルギー消費効率の根拠（要件ア）'!BN50","v":"台"}]
[581,{"$f":"'（別添４）エネルギー消費効率の根拠（要件ア）'!BL51","v":"別添4_16_11_BL20"},{"$f":"'（別添４）エネルギー消費効率の根拠（要件ア）'!BM51","v":"導入設備_1台あたりの使用エネルギー"},{"$f":"'（別添４）エネルギー消費効率の根拠（要件ア）'!BN51","v":0}]
[582,{"$f":"'（別添４）エネルギー消費効率の根拠（要件ア）'!BL52","v":"別添4_16_12_BL21"},{"$f":"'（別添４）エネルギー消費効率の根拠（要件ア）'!BM52","v":"導入設備_年間エネルギー使用量計算式"},{"$f":"'（別添４）エネルギー消費効率の根拠（要件ア）'!BN52","v":0}]
[583,{"$f":"'（別添４）エネルギー消費効率の根拠（要件ア）'!BL53","v":"別添4_16_13_BL22&BM22"},{"$f":"'（別添４）エネルギー消費効率の根拠（要件ア）'!BM53","v":"導入設備_計算結果"},{"$f":"'（別添４）エネルギー消費効率の根拠（要件ア）'!BN53","v":"単位を選択してください"}]
[584,{"$f":"'（別添４）エネルギー消費効率の根拠（要件ア）'!BL54","v":"別添4_16_14_BN16"},{"$f":"'（別添４）エネルギー消費効率の根拠（要件ア）'!BM54","v":"一代前モデル_製品名"},{"$f":"'（別添４）エネルギー消費効率の根拠（要件ア）'!BN54","v":0}]
[585,{"$f":"'（別添４）エネルギー消費効率の根拠（要件ア）'!BL55","v":"別添4_16_15_BN17"},{"$f":"'（別添４）エネルギー消費効率の根拠（要件ア）'!BM55","v":"一代前モデル_製造メーカー"},{"$f":"'（別添４）エネルギー消費効率の根拠（要件ア）'!BN55","v":0}]
[586,{"$f":"'（別添４）エネルギー消費効率の根拠（要件ア）'!BL56","v":"別添4_16_16_BN18"},{"$f":"'（別添４）エネルギー消費効率の根拠（要件ア）'!BM56","v":"一代前モデル_型番"},{"$f":"'（別添４）エネルギー消費効率の根拠（要件ア）'!BN56","v":0}]
[587,{"$f":"'（別添４）エネルギー消費効率の根拠（要件ア）'!BL57","v":"別添4_16_17_BN19&BO19"},{"$f":"'（別添４）エネルギー消費効率の根拠（要件ア）'!BM57","v":"一代前モデル_導入台数"},{"$f":"'（別添４）エネルギー消費効率の根拠（要件ア）'!BN57","v":"台"}]
[{"$f":"ROW()-1","v":588},{"$f":"'（別添４）エネルギー消費効率の根拠（要件ア）'!BL58","v":"別添4_16_18_BN20"},{"$f":"'（別添４）エネルギー消費効率の根拠（要件ア）'!BM58","v":"一代前モデル_1台あたりの使用エネルギー"},{"$f":"'（別添４）エネルギー消費効率の根拠（要件ア）'!BN58","v":0}]
[589,{"$f":"'（別添４）エネルギー消費効率の根拠（要件ア）'!BL59","v":"別添4_16_19_BN21"},{"$f":"'（別添４）エネルギー消費効率の根拠（要件ア）'!BM59","v":"一代前モデル_年間エネルギー使用量計算式"},{"$f":"'（別添４）エネルギー消費効率の根拠（要件ア）'!BN59","v":0}]
[590,{"$f":"'（別添４）エネルギー消費効率の根拠（要件ア）'!BL60","v":"別添4_16_20_BN22&BO22"},{"$f":"'（別添４）エネルギー消費効率の根拠（要件ア）'!BM60","v":"一代前モデル_計算結果"},{"$f":"'（別添４）エネルギー消費効率の根拠（要件ア）'!BN60","v":"単位を選択してください"}]
[591,{"$f":"'（別添４）エネルギー消費効率の根拠（要件ア）'!BL61","v":"別添4_16_21_BL23&BM23"},{"$f":"'（別添４）エネルギー消費効率の根拠（要件ア）'!BM61","v":"年間見込み省エネルギー量__計算結果"},{"$f":"'（別添４）エネルギー消費効率の根拠（要件ア）'!BN61","v":"0単位を選択してください"}]
[592,{"$f":"'（別添４）エネルギー消費効率の根拠（要件ア）'!BL62","v":"別添4_16_22_BL25"},{"$f":"'（別添４）エネルギー消費効率の根拠（要件ア）'!BM62","v":"年間見込み省エネルギー量_原油換算計算式"},{"$f":"'（別添４）エネルギー消費効率の根拠（要件ア）'!BN62","v":0}]
[593,{"$f":"'（別添４）エネルギー消費効率の根拠（要件ア）'!BL63","v":"別添4_16_23_BL26"},{"$f":"'（別添４）エネルギー消費効率の根拠（要件ア）'!BM63","v":"年間見込み省エネルギー量原油換算計算結果"},{"$f":"'（別添４）エネルギー消費効率の根拠（要件ア）'!BN63","v":0}]
[594,{"$f":"'（別添４）エネルギー消費効率の根拠（要件ア）'!BL64","v":"別添4_16_24_BL27"},{"$f":"'（別添４）エネルギー消費効率の根拠（要件ア）'!BM64","v":"年間見込み省エネルギー率_自動計算"},{"$f":"'（別添４）エネルギー消費効率の根拠（要件ア）'!BN64","v":""}]
[595,{"$f":"'（別添４）エネルギー消費効率の根拠（要件ア）'!BP41","v":"別添4_17_1_BP9"},{"$f":"'（別添４）エネルギー消費効率の根拠（要件ア）'!BQ41","v":"トップランナー基準"},{"$f":"'（別添４）エネルギー消費効率の根拠（要件ア）'!BR41","v":0}]
[596,{"$f":"'（別添４）エネルギー消費効率の根拠（要件ア）'!BP42","v":"別添4_17_2_BP10"},{"$f":"'（別添４）エネルギー消費効率の根拠（要件ア）'!BQ42","v":"トップランナー基準の区分名又は数値"},{"$f":"'（別添４）エネルギー消費効率の根拠（要件ア）'!BR42","v":0}]
[597,{"$f":"'（別添４）エネルギー消費効率の根拠（要件ア）'!BP43","v":"別添4_17_3_BP11"},{"$f":"'（別添４）エネルギー消費効率の根拠（要件ア）'!BQ43","v":"トップランナー基準の数値（導入設備）"},{"$f":"'（別添４）エネルギー消費効率の根拠（要件ア）'!BR43","v":0}]
[598,{"$f":"'（別添４）エネルギー消費効率の根拠（要件ア）'!BP44","v":"別添4_17_4_BP12"},{"$f":"'（別添４）エネルギー消費効率の根拠（要件ア）'!BQ44","v":"比較指標/トップランナー基準"},{"$f":"'（別添４）エネルギー消費効率の根拠（要件ア）'!BR44","v":0}]
[599,{"$f":"'（別添４）エネルギー消費効率の根拠（要件ア）'!BP45","v":"別添4_17_5_BP13"},{"$f":"'（別添４）エネルギー消費効率の根拠（要件ア）'!BQ45","v":"添付資料の根拠記載箇所"},{"$f":"'（別添４）エネルギー消費効率の根拠（要件ア）'!BR45","v":0}]
[600,{"$f":"'（別添４）エネルギー消費効率の根拠（要件ア）'!BP46","v":"別添4_17_6_BP14"},{"$f":"'（別添４）エネルギー消費効率の根拠（要件ア）'!BQ46","v":"省エネ要因"},{"$f":"'（別添４）エネルギー消費効率の根拠（要件ア）'!BR46","v":0}]
[601,{"$f":"'（別添４）エネルギー消費効率の根拠（要件ア）'!BP47","v":"別添4_17_7_BP16"},{"$f":"'（別添４）エネルギー消費効率の根拠（要件ア）'!BQ47","v":"導入設備_製品名"},{"$f":"'（別添４）エネルギー消費効率の根拠（要件ア）'!BR47","v":0}]
[602,{"$f":"'（別添４）エネルギー消費効率の根拠（要件ア）'!BP48","v":"別添4_17_8_BP17"},{"$f":"'（別添４）エネルギー消費効率の根拠（要件ア）'!BQ48","v":"導入設備_製造メーカー"},{"$f":"'（別添４）エネルギー消費効率の根拠（要件ア）'!BR48","v":0}]
[603,{"$f":"'（別添４）エネルギー消費効率の根拠（要件ア）'!BP49","v":"別添4_17_9_BP18"},{"$f":"'（別添４）エネルギー消費効率の根拠（要件ア）'!BQ49","v":"導入設備_型番"},{"$f":"'（別添４）エネルギー消費効率の根拠（要件ア）'!BR49","v":0}]
[604,{"$f":"'（別添４）エネルギー消費効率の根拠（要件ア）'!BP50","v":"別添4_17_10_BP19&BQ19"},{"$f":"'（別添４）エネルギー消費効率の根拠（要件ア）'!BQ50","v":"導入設備_導入台数"},{"$f":"'（別添４）エネルギー消費効率の根拠（要件ア）'!BR50","v":"台"}]
[605,{"$f":"'（別添４）エネルギー消費効率の根拠（要件ア）'!BP51","v":"別添4_17_11_BP20"},{"$f":"'（別添４）エネルギー消費効率の根拠（要件ア）'!BQ51","v":"導入設備_1台あたりの使用エネルギー"},{"$f":"'（別添４）エネルギー消費効率の根拠（要件ア）'!BR51","v":0}]
[606,{"$f":"'（別添４）エネルギー消費効率の根拠（要件ア）'!BP52","v":"別添4_17_12_BP21"},{"$f":"'（別添４）エネルギー消費効率の根拠（要件ア）'!BQ52","v":"導入設備_年間エネルギー使用量計算式"},{"$f":"'（別添４）エネルギー消費効率の根拠（要件ア）'!BR52","v":0}]
[607,{"$f":"'（別添４）エネルギー消費効率の根拠（要件ア）'!BP53","v":"別添4_17_13_BP22&BQ22"},{"$f":"'（別添４）エネルギー消費効率の根拠（要件ア）'!BQ53","v":"導入設備_計算結果"},{"$f":"'（別添４）エネルギー消費効率の根拠（要件ア）'!BR53","v":"単位を選択してください"}]
[608,{"$f":"'（別添４）エネルギー消費効率の根拠（要件ア）'!BP54","v":"別添4_17_14_BR16"},{"$f":"'（別添４）エネルギー消費効率の根拠（要件ア）'!BQ54","v":"一代前モデル_製品名"},{"$f":"'（別添４）エネルギー消費効率の根拠（要件ア）'!BR54","v":0}]
[609,{"$f":"'（別添４）エネルギー消費効率の根拠（要件ア）'!BP55","v":"別添4_17_15_BR17"},{"$f":"'（別添４）エネルギー消費効率の根拠（要件ア）'!BQ55","v":"一代前モデル_製造メーカー"},{"$f":"'（別添４）エネルギー消費効率の根拠（要件ア）'!BR55","v":0}]
[610,{"$f":"'（別添４）エネルギー消費効率の根拠（要件ア）'!BP56","v":"別添4_17_16_BR18"},{"$f":"'（別添４）エネルギー消費効率の根拠（要件ア）'!BQ56","v":"一代前モデル_型番"},{"$f":"'（別添４）エネルギー消費効率の根拠（要件ア）'!BR56","v":0}]
[611,{"$f":"'（別添４）エネルギー消費効率の根拠（要件ア）'!BP57","v":"別添4_17_17_BR19&BS19"},{"$f":"'（別添４）エネルギー消費効率の根拠（要件ア）'!BQ57","v":"一代前モデル_導入台数"},{"$f":"'（別添４）エネルギー消費効率の根拠（要件ア）'!BR57","v":"台"}]
[612,{"$f":"'（別添４）エネルギー消費効率の根拠（要件ア）'!BP58","v":"別添4_17_18_BR20"},{"$f":"'（別添４）エネルギー消費効率の根拠（要件ア）'!BQ58","v":"一代前モデル_1台あたりの使用エネルギー"},{"$f":"'（別添４）エネルギー消費効率の根拠（要件ア）'!BR58","v":0}]
[613,{"$f":"'（別添４）エネルギー消費効率の根拠（要件ア）'!BP59","v":"別添4_17_19_BR21"},{"$f":"'（別添４）エネルギー消費効率の根拠（要件ア）'!BQ59","v":"一代前モデル_年間エネルギー使用量計算式"},{"$f":"'（別添４）エネルギー消費効率の根拠（要件ア）'!BR59","v":0}]
[614,{"$f":"'（別添４）エネルギー消費効率の根拠（要件ア）'!BP60","v":"別添4_17_20_BR22&BS22"},{"$f":"'（別添４）エネルギー消費効率の根拠（要件ア）'!BQ60","v":"一代前モデル_計算結果"},{"$f":"'（別添４）エネルギー消費効率の根拠（要件ア）'!BR60","v":"単位を選択してください"}]
[615,{"$f":"'（別添４）エネルギー消費効率の根拠（要件ア）'!BP61","v":"別添4_17_21_BP23&BQ23"},{"$f":"'（別添４）エネルギー消費効率の根拠（要件ア）'!BQ61","v":"年間見込み省エネルギー量__計算結果"},{"$f":"'（別添４）エネルギー消費効率の根拠（要件ア）'!BR61","v":"0単位を選択してください"}]
[616,{"$f":"'（別添４）エネルギー消費効率の根拠（要件ア）'!BP62","v":"別添4_17_22_BP25"},{"$f":"'（別添４）エネルギー消費効率の根拠（要件ア）'!BQ62","v":"年間見込み省エネルギー量_原油換算計算式"},{"$f":"'（別添４）エネルギー消費効率の根拠（要件ア）'!BR62","v":0}]
[617,{"$f":"'（別添４）エネルギー消費効率の根拠（要件ア）'!BP63","v":"別添4_17_23_BP26"},{"$f":"'（別添４）エネルギー消費効率の根拠（要件ア）'!BQ63","v":"年間見込み省エネルギー量原油換算計算結果"},{"$f":"'（別添４）エネルギー消費効率の根拠（要件ア）'!BR63","v":0}]
[618,{"$f":"'（別添４）エネルギー消費効率の根拠（要件ア）'!BP64","v":"別添4_17_24_BP27"},{"$f":"'（別添４）エネルギー消費効率の根拠（要件ア）'!BQ64","v":"年間見込み省エネルギー率_自動計算"},{"$f":"'（別添４）エネルギー消費効率の根拠（要件ア）'!BR64","v":""}]
[619,{"$f":"'（別添４）エネルギー消費効率の根拠（要件ア）'!BT41","v":"別添4_18_1_BT9"},{"$f":"'（別添４）エネルギー消費効率の根拠（要件ア）'!BU41","v":"トップランナー基準"},{"$f":"'（別添４）エネルギー消費効率の根拠（要件ア）'!BV41","v":0}]
[620,{"$f":"'（別添４）エネルギー消費効率の根拠（要件ア）'!BT42","v":"別添4_18_2_BT10"},{"$f":"'（別添４）エネルギー消費効率の根拠（要件ア）'!BU42","v":"トップランナー基準の区分名又は数値"},{"$f":"'（別添４）エネルギー消費効率の根拠（要件ア）'!BV42","v":0}]
[621,{"$f":"'（別添４）エネルギー消費効率の根拠（要件ア）'!BT43","v":"別添4_18_3_BT11"},{"$f":"'（別添４）エネルギー消費効率の根拠（要件ア）'!BU43","v":"トップランナー基準の数値（導入設備）"},{"$f":"'（別添４）エネルギー消費効率の根拠（要件ア）'!BV43","v":0}]
[622,{"$f":"'（別添４）エネルギー消費効率の根拠（要件ア）'!BT44","v":"別添4_18_4_BT12"},{"$f":"'（別添４）エネルギー消費効率の根拠（要件ア）'!BU44","v":"比較指標/トップランナー基準"},{"$f":"'（別添４）エネルギー消費効率の根拠（要件ア）'!BV44","v":0}]
[623,{"$f":"'（別添４）エネルギー消費効率の根拠（要件ア）'!BT45","v":"別添4_18_5_BT13"},{"$f":"'（別添４）エネルギー消費効率の根拠（要件ア）'!BU45","v":"添付資料の根拠記載箇所"},{"$f":"'（別添４）エネルギー消費効率の根拠（要件ア）'!BV45","v":0}]
[624,{"$f":"'（別添４）エネルギー消費効率の根拠（要件ア）'!BT46","v":"別添4_18_6_BT14"},{"$f":"'（別添４）エネルギー消費効率の根拠（要件ア）'!BU46","v":"省エネ要因"},{"$f":"'（別添４）エネルギー消費効率の根拠（要件ア）'!BV46","v":0}]
[625,{"$f":"'（別添４）エネルギー消費効率の根拠（要件ア）'!BT47","v":"別添4_18_7_BT16"},{"$f":"'（別添４）エネルギー消費効率の根拠（要件ア）'!BU47","v":"導入設備_製品名"},{"$f":"'（別添４）エネルギー消費効率の根拠（要件ア）'!BV47","v":0}]
[626,{"$f":"'（別添４）エネルギー消費効率の根拠（要件ア）'!BT48","v":"別添4_18_8_BT17"},{"$f":"'（別添４）エネルギー消費効率の根拠（要件ア）'!BU48","v":"導入設備_製造メーカー"},{"$f":"'（別添４）エネルギー消費効率の根拠（要件ア）'!BV48","v":0}]
[627,{"$f":"'（別添４）エネルギー消費効率の根拠（要件ア）'!BT49","v":"別添4_18_9_BT18"},{"$f":"'（別添４）エネルギー消費効率の根拠（要件ア）'!BU49","v":"導入設備_型番"},{"$f":"'（別添４）エネルギー消費効率の根拠（要件ア）'!BV49","v":0}]
[628,{"$f":"'（別添４）エネルギー消費効率の根拠（要件ア）'!BT50","v":"別添4_18_10_BT19&BU19"},{"$f":"'（別添４）エネルギー消費効率の根拠（要件ア）'!BU50","v":"導入設備_導入台数"},{"$f":"'（別添４）エネルギー消費効率の根拠（要件ア）'!BV50","v":"台"}]
[629,{"$f":"'（別添４）エネルギー消費効率の根拠（要件ア）'!BT51","v":"別添4_18_11_BT20"},{"$f":"'（別添４）エネルギー消費効率の根拠（要件ア）'!BU51","v":"導入設備_1台あたりの使用エネルギー"},{"$f":"'（別添４）エネルギー消費効率の根拠（要件ア）'!BV51","v":0}]
[630,{"$f":"'（別添４）エネルギー消費効率の根拠（要件ア）'!BT52","v":"別添4_18_12_BT21"},{"$f":"'（別添４）エネルギー消費効率の根拠（要件ア）'!BU52","v":"導入設備_年間エネルギー使用量計算式"},{"$f":"'（別添４）エネルギー消費効率の根拠（要件ア）'!BV52","v":0}]
[631,{"$f":"'（別添４）エネルギー消費効率の根拠（要件ア）'!BT53","v":"別添4_18_13_BT22&BU22"},{"$f":"'（別添４）エネルギー消費効率の根拠（要件ア）'!BU53","v":"導入設備_計算結果"},{"$f":"'（別添４）エネルギー消費効率の根拠（要件ア）'!BV53","v":"単位を選択してください"}]
[632,{"$f":"'（別添４）エネルギー消費効率の根拠（要件ア）'!BT54","v":"別添4_18_14_BV16"},{"$f":"'（別添４）エネルギー消費効率の根拠（要件ア）'!BU54","v":"一代前モデル_製品名"},{"$f":"'（別添４）エネルギー消費効率の根拠（要件ア）'!BV54","v":0}]
[633,{"$f":"'（別添４）エネルギー消費効率の根拠（要件ア）'!BT55","v":"別添4_18_15_BV17"},{"$f":"'（別添４）エネルギー消費効率の根拠（要件ア）'!BU55","v":"一代前モデル_製造メーカー"},{"$f":"'（別添４）エネルギー消費効率の根拠（要件ア）'!BV55","v":0}]
[634,{"$f":"'（別添４）エネルギー消費効率の根拠（要件ア）'!BT56","v":"別添4_18_16_BV18"},{"$f":"'（別添４）エネルギー消費効率の根拠（要件ア）'!BU56","v":"一代前モデル_型番"},{"$f":"'（別添４）エネルギー消費効率の根拠（要件ア）'!BV56","v":0}]
[635,{"$f":"'（別添４）エネルギー消費効率の根拠（要件ア）'!BT57","v":"別添4_18_17_BV19&BW19"},{"$f":"'（別添４）エネルギー消費効率の根拠（要件ア）'!BU57","v":"一代前モデル_導入台数"},{"$f":"'（別添４）エネルギー消費効率の根拠（要件ア）'!BV57","v":"台"}]
[636,{"$f":"'（別添４）エネルギー消費効率の根拠（要件ア）'!BT58","v":"別添4_18_18_BV20"},{"$f":"'（別添４）エネルギー消費効率の根拠（要件ア）'!BU58","v":"一代前モデル_1台あたりの使用エネルギー"},{"$f":"'（別添４）エネルギー消費効率の根拠（要件ア）'!BV58","v":0}]
[637,{"$f":"'（別添４）エネルギー消費効率の根拠（要件ア）'!BT59","v":"別添4_18_19_BV21"},{"$f":"'（別添４）エネルギー消費効率の根拠（要件ア）'!BU59","v":"一代前モデル_年間エネルギー使用量計算式"},{"$f":"'（別添４）エネルギー消費効率の根拠（要件ア）'!BV59","v":0}]
[638,{"$f":"'（別添４）エネルギー消費効率の根拠（要件ア）'!BT60","v":"別添4_18_20_BV22&BW22"},{"$f":"'（別添４）エネルギー消費効率の根拠（要件ア）'!BU60","v":"一代前モデル_計算結果"},{"$f":"'（別添４）エネルギー消費効率の根拠（要件ア）'!BV60","v":"単位を選択してください"}]
[639,{"$f":"'（別添４）エネルギー消費効率の根拠（要件ア）'!BT61","v":"別添4_18_21_BT23&BU23"},{"$f":"'（別添４）エネルギー消費効率の根拠（要件ア）'!BU61","v":"年間見込み省エネルギー量__計算結果"},{"$f":"'（別添４）エネルギー消費効率の根拠（要件ア）'!BV61","v":"0単位を選択してください"}]
[640,{"$f":"'（別添４）エネルギー消費効率の根拠（要件ア）'!BT62","v":"別添4_18_22_BT25"},{"$f":"'（別添４）エネルギー消費効率の根拠（要件ア）'!BU62","v":"年間見込み省エネルギー量_原油換算計算式"},{"$f":"'（別添４）エネルギー消費効率の根拠（要件ア）'!BV62","v":0}]
[641,{"$f":"'（別添４）エネルギー消費効率の根拠（要件ア）'!BT63","v":"別添4_18_23_BT26"},{"$f":"'（別添４）エネルギー消費効率の根拠（要件ア）'!BU63","v":"年間見込み省エネルギー量原油換算計算結果"},{"$f":"'（別添４）エネルギー消費効率の根拠（要件ア）'!BV63","v":0}]
[642,{"$f":"'（別添４）エネルギー消費効率の根拠（要件ア）'!BT64","v":"別添4_18_24_BT27"},{"$f":"'（別添４）エネルギー消費効率の根拠（要件ア）'!BU64","v":"年間見込み省エネルギー率_自動計算"},{"$f":"'（別添４）エネルギー消費効率の根拠（要件ア）'!BV64","v":""}]
[643,{"$f":"'（別添４）エネルギー消費効率の根拠（要件ア）'!BX41","v":"別添4_19_1_BX9"},{"$f":"'（別添４）エネルギー消費効率の根拠（要件ア）'!BY41","v":"トップランナー基準"},{"$f":"'（別添４）エネルギー消費効率の根拠（要件ア）'!BZ41","v":0}]
[644,{"$f":"'（別添４）エネルギー消費効率の根拠（要件ア）'!BX42","v":"別添4_19_2_BX10"},{"$f":"'（別添４）エネルギー消費効率の根拠（要件ア）'!BY42","v":"トップランナー基準の区分名又は数値"},{"$f":"'（別添４）エネルギー消費効率の根拠（要件ア）'!BZ42","v":0}]
[645,{"$f":"'（別添４）エネルギー消費効率の根拠（要件ア）'!BX43","v":"別添4_19_3_BX11"},{"$f":"'（別添４）エネルギー消費効率の根拠（要件ア）'!BY43","v":"トップランナー基準の数値（導入設備）"},{"$f":"'（別添４）エネルギー消費効率の根拠（要件ア）'!BZ43","v":0}]
[646,{"$f":"'（別添４）エネルギー消費効率の根拠（要件ア）'!BX44","v":"別添4_19_4_BX12"},{"$f":"'（別添４）エネルギー消費効率の根拠（要件ア）'!BY44","v":"比較指標/トップランナー基準"},{"$f":"'（別添４）エネルギー消費効率の根拠（要件ア）'!BZ44","v":0}]
[647,{"$f":"'（別添４）エネルギー消費効率の根拠（要件ア）'!BX45","v":"別添4_19_5_BX13"},{"$f":"'（別添４）エネルギー消費効率の根拠（要件ア）'!BY45","v":"添付資料の根拠記載箇所"},{"$f":"'（別添４）エネルギー消費効率の根拠（要件ア）'!BZ45","v":0}]
[648,{"$f":"'（別添４）エネルギー消費効率の根拠（要件ア）'!BX46","v":"別添4_19_6_BX14"},{"$f":"'（別添４）エネルギー消費効率の根拠（要件ア）'!BY46","v":"省エネ要因"},{"$f":"'（別添４）エネルギー消費効率の根拠（要件ア）'!BZ46","v":0}]
[649,{"$f":"'（別添４）エネルギー消費効率の根拠（要件ア）'!BX47","v":"別添4_19_7_BX16"},{"$f":"'（別添４）エネルギー消費効率の根拠（要件ア）'!BY47","v":"導入設備_製品名"},{"$f":"'（別添４）エネルギー消費効率の根拠（要件ア）'!BZ47","v":0}]
[650,{"$f":"'（別添４）エネルギー消費効率の根拠（要件ア）'!BX48","v":"別添4_19_8_BX17"},{"$f":"'（別添４）エネルギー消費効率の根拠（要件ア）'!BY48","v":"導入設備_製造メーカー"},{"$f":"'（別添４）エネルギー消費効率の根拠（要件ア）'!BZ48","v":0}]
[651,{"$f":"'（別添４）エネルギー消費効率の根拠（要件ア）'!BX49","v":"別添4_19_9_BX18"},{"$f":"'（別添４）エネルギー消費効率の根拠（要件ア）'!BY49","v":"導入設備_型番"},{"$f":"'（別添４）エネルギー消費効率の根拠（要件ア）'!BZ49","v":0}]
[{"$f":"ROW()-1","v":652},{"$f":"'（別添４）エネルギー消費効率の根拠（要件ア）'!BX50","v":"別添4_19_10_BX19&BY19"},{"$f":"'（別添４）エネルギー消費効率の根拠（要件ア）'!BY50","v":"導入設備_導入台数"},{"$f":"'（別添４）エネルギー消費効率の根拠（要件ア）'!BZ50","v":"台"}]
[653,{"$f":"'（別添４）エネルギー消費効率の根拠（要件ア）'!BX51","v":"別添4_19_11_BX20"},{"$f":"'（別添４）エネルギー消費効率の根拠（要件ア）'!BY51","v":"導入設備_1台あたりの使用エネルギー"},{"$f":"'（別添４）エネルギー消費効率の根拠（要件ア）'!BZ51","v":0}]
[654,{"$f":"'（別添４）エネルギー消費効率の根拠（要件ア）'!BX52","v":"別添4_19_12_BX21"},{"$f":"'（別添４）エネルギー消費効率の根拠（要件ア）'!BY52","v":"導入設備_年間エネルギー使用量計算式"},{"$f":"'（別添４）エネルギー消費効率の根拠（要件ア）'!BZ52","v":0}]
[655,{"$f":"'（別添４）エネルギー消費効率の根拠（要件ア）'!BX53","v":"別添4_19_13_BX22&BY22"},{"$f":"'（別添４）エネルギー消費効率の根拠（要件ア）'!BY53","v":"導入設備_計算結果"},{"$f":"'（別添４）エネルギー消費効率の根拠（要件ア）'!BZ53","v":"単位を選択してください"}]
[656,{"$f":"'（別添４）エネルギー消費効率の根拠（要件ア）'!BX54","v":"別添4_19_14_BZ16"},{"$f":"'（別添４）エネルギー消費効率の根拠（要件ア）'!BY54","v":"一代前モデル_製品名"},{"$f":"'（別添４）エネルギー消費効率の根拠（要件ア）'!BZ54","v":0}]
[657,{"$f":"'（別添４）エネルギー消費効率の根拠（要件ア）'!BX55","v":"別添4_19_15_BZ17"},{"$f":"'（別添４）エネルギー消費効率の根拠（要件ア）'!BY55","v":"一代前モデル_製造メーカー"},{"$f":"'（別添４）エネルギー消費効率の根拠（要件ア）'!BZ55","v":0}]
[658,{"$f":"'（別添４）エネルギー消費効率の根拠（要件ア）'!BX56","v":"別添4_19_16_BZ18"},{"$f":"'（別添４）エネルギー消費効率の根拠（要件ア）'!BY56","v":"一代前モデル_型番"},{"$f":"'（別添４）エネルギー消費効率の根拠（要件ア）'!BZ56","v":0}]
[659,{"$f":"'（別添４）エネルギー消費効率の根拠（要件ア）'!BX57","v":"別添4_19_17_BZ19&CA19"},{"$f":"'（別添４）エネルギー消費効率の根拠（要件ア）'!BY57","v":"一代前モデル_導入台数"},{"$f":"'（別添４）エネルギー消費効率の根拠（要件ア）'!BZ57","v":"台"}]
[660,{"$f":"'（別添４）エネルギー消費効率の根拠（要件ア）'!BX58","v":"別添4_19_18_BZ20"},{"$f":"'（別添４）エネルギー消費効率の根拠（要件ア）'!BY58","v":"一代前モデル_1台あたりの使用エネルギー"},{"$f":"'（別添４）エネルギー消費効率の根拠（要件ア）'!BZ58","v":0}]
[661,{"$f":"'（別添４）エネルギー消費効率の根拠（要件ア）'!BX59","v":"別添4_19_19_BZ21"},{"$f":"'（別添４）エネルギー消費効率の根拠（要件ア）'!BY59","v":"一代前モデル_年間エネルギー使用量計算式"},{"$f":"'（別添４）エネルギー消費効率の根拠（要件ア）'!BZ59","v":0}]
[662,{"$f":"'（別添４）エネルギー消費効率の根拠（要件ア）'!BX60","v":"別添4_19_20_BZ22&CA22"},{"$f":"'（別添４）エネルギー消費効率の根拠（要件ア）'!BY60","v":"一代前モデル_計算結果"},{"$f":"'（別添４）エネルギー消費効率の根拠（要件ア）'!BZ60","v":"単位を選択してください"}]
[663,{"$f":"'（別添４）エネルギー消費効率の根拠（要件ア）'!BX61","v":"別添4_19_21_BX23&BY23"},{"$f":"'（別添４）エネルギー消費効率の根拠（要件ア）'!BY61","v":"年間見込み省エネルギー量__計算結果"},{"$f":"'（別添４）エネルギー消費効率の根拠（要件ア）'!BZ61","v":"0単位を選択してください"}]
[664,{"$f":"'（別添４）エネルギー消費効率の根拠（要件ア）'!BX62","v":"別添4_19_22_BX25"},{"$f":"'（別添４）エネルギー消費効率の根拠（要件ア）'!BY62","v":"年間見込み省エネルギー量_原油換算計算式"},{"$f":"'（別添４）エネルギー消費効率の根拠（要件ア）'!BZ62","v":0}]
[665,{"$f":"'（別添４）エネルギー消費効率の根拠（要件ア）'!BX63","v":"別添4_19_23_BX26"},{"$f":"'（別添４）エネルギー消費効率の根拠（要件ア）'!BY63","v":"年間見込み省エネルギー量原油換算計算結果"},{"$f":"'（別添４）エネルギー消費効率の根拠（要件ア）'!BZ63","v":0}]
[666,{"$f":"'（別添４）エネルギー消費効率の根拠（要件ア）'!BX64","v":"別添4_19_24_BX27"},{"$f":"'（別添４）エネルギー消費効率の根拠（要件ア）'!BY64","v":"年間見込み省エネルギー率_自動計算"},{"$f":"'（別添４）エネルギー消費効率の根拠（要件ア）'!BZ64","v":""}]
[667,{"$f":"'（別添４）エネルギー消費効率の根拠（要件ア）'!CB41","v":"別添4_20_1_CB9"},{"$f":"'（別添４）エネルギー消費効率の根拠（要件ア）'!CC41","v":"トップランナー基準"},{"$f":"'（別添４）エネルギー消費効率の根拠（要件ア）'!CD41","v":0}]
[668,{"$f":"'（別添４）エネルギー消費効率の根拠（要件ア）'!CB42","v":"別添4_20_2_CB10"},{"$f":"'（別添４）エネルギー消費効率の根拠（要件ア）'!CC42","v":"トップランナー基準の区分名又は数値"},{"$f":"'（別添４）エネルギー消費効率の根拠（要件ア）'!CD42","v":0}]
[669,{"$f":"'（別添４）エネルギー消費効率の根拠（要件ア）'!CB43","v":"別添4_20_3_CB11"},{"$f":"'（別添４）エネルギー消費効率の根拠（要件ア）'!CC43","v":"トップランナー基準の数値（導入設備）"},{"$f":"'（別添４）エネルギー消費効率の根拠（要件ア）'!CD43","v":0}]
[670,{"$f":"'（別添４）エネルギー消費効率の根拠（要件ア）'!CB44","v":"別添4_20_4_CB12"},{"$f":"'（別添４）エネルギー消費効率の根拠（要件ア）'!CC44","v":"比較指標/トップランナー基準"},{"$f":"'（別添４）エネルギー消費効率の根拠（要件ア）'!CD44","v":0}]
[671,{"$f":"'（別添４）エネルギー消費効率の根拠（要件ア）'!CB45","v":"別添4_20_5_CB13"},{"$f":"'（別添４）エネルギー消費効率の根拠（要件ア）'!CC45","v":"添付資料の根拠記載箇所"},{"$f":"'（別添４）エネルギー消費効率の根拠（要件ア）'!CD45","v":0}]
[672,{"$f":"'（別添４）エネルギー消費効率の根拠（要件ア）'!CB46","v":"別添4_20_6_CB14"},{"$f":"'（別添４）エネルギー消費効率の根拠（要件ア）'!CC46","v":"省エネ要因"},{"$f":"'（別添４）エネルギー消費効率の根拠（要件ア）'!CD46","v":0}]
[673,{"$f":"'（別添４）エネルギー消費効率の根拠（要件ア）'!CB47","v":"別添4_20_7_CB16"},{"$f":"'（別添４）エネルギー消費効率の根拠（要件ア）'!CC47","v":"導入設備_製品名"},{"$f":"'（別添４）エネルギー消費効率の根拠（要件ア）'!CD47","v":0}]
[674,{"$f":"'（別添４）エネルギー消費効率の根拠（要件ア）'!CB48","v":"別添4_20_8_CB17"},{"$f":"'（別添４）エネルギー消費効率の根拠（要件ア）'!CC48","v":"導入設備_製造メーカー"},{"$f":"'（別添４）エネルギー消費効率の根拠（要件ア）'!CD48","v":0}]
[675,{"$f":"'（別添４）エネルギー消費効率の根拠（要件ア）'!CB49","v":"別添4_20_9_CB18"},{"$f":"'（別添４）エネルギー消費効率の根拠（要件ア）'!CC49","v":"導入設備_型番"},{"$f":"'（別添４）エネルギー消費効率の根拠（要件ア）'!CD49","v":0}]
[676,{"$f":"'（別添４）エネルギー消費効率の根拠（要件ア）'!CB50","v":"別添4_20_10_CB19&CC19"},{"$f":"'（別添４）エネルギー消費効率の根拠（要件ア）'!CC50","v":"導入設備_導入台数"},{"$f":"'（別添４）エネルギー消費効率の根拠（要件ア）'!CD50","v":"台"}]
[677,{"$f":"'（別添４）エネルギー消費効率の根拠（要件ア）'!CB51","v":"別添4_20_11_CB20"},{"$f":"'（別添４）エネルギー消費効率の根拠（要件ア）'!CC51","v":"導入設備_1台あたりの使用エネルギー"},{"$f":"'（別添４）エネルギー消費効率の根拠（要件ア）'!CD51","v":0}]
[678,{"$f":"'（別添４）エネルギー消費効率の根拠（要件ア）'!CB52","v":"別添4_20_12_CB21"},{"$f":"'（別添４）エネルギー消費効率の根拠（要件ア）'!CC52","v":"導入設備_年間エネルギー使用量計算式"},{"$f":"'（別添４）エネルギー消費効率の根拠（要件ア）'!CD52","v":0}]
[679,{"$f":"'（別添４）エネルギー消費効率の根拠（要件ア）'!CB53","v":"別添4_20_13_CB22&CC22"},{"$f":"'（別添４）エネルギー消費効率の根拠（要件ア）'!CC53","v":"導入設備_計算結果"},{"$f":"'（別添４）エネルギー消費効率の根拠（要件ア）'!CD53","v":"単位を選択してください"}]
[680,{"$f":"'（別添４）エネルギー消費効率の根拠（要件ア）'!CB54","v":"別添4_20_14_CD16"},{"$f":"'（別添４）エネルギー消費効率の根拠（要件ア）'!CC54","v":"一代前モデル_製品名"},{"$f":"'（別添４）エネルギー消費効率の根拠（要件ア）'!CD54","v":0}]
[681,{"$f":"'（別添４）エネルギー消費効率の根拠（要件ア）'!CB55","v":"別添4_20_15_CD17"},{"$f":"'（別添４）エネルギー消費効率の根拠（要件ア）'!CC55","v":"一代前モデル_製造メーカー"},{"$f":"'（別添４）エネルギー消費効率の根拠（要件ア）'!CD55","v":0}]
[682,{"$f":"'（別添４）エネルギー消費効率の根拠（要件ア）'!CB56","v":"別添4_20_16_CD18"},{"$f":"'（別添４）エネルギー消費効率の根拠（要件ア）'!CC56","v":"一代前モデル_型番"},{"$f":"'（別添４）エネルギー消費効率の根拠（要件ア）'!CD56","v":0}]
[683,{"$f":"'（別添４）エネルギー消費効率の根拠（要件ア）'!CB57","v":"別添4_20_17_CD19&CE19"},{"$f":"'（別添４）エネルギー消費効率の根拠（要件ア）'!CC57","v":"一代前モデル_導入台数"},{"$f":"'（別添４）エネルギー消費効率の根拠（要件ア）'!CD57","v":"台"}]
[684,{"$f":"'（別添４）エネルギー消費効率の根拠（要件ア）'!CB58","v":"別添4_20_18_CD20"},{"$f":"'（別添４）エネルギー消費効率の根拠（要件ア）'!CC58","v":"一代前モデル_1台あたりの使用エネルギー"},{"$f":"'（別添４）エネルギー消費効率の根拠（要件ア）'!CD58","v":0}]
[685,{"$f":"'（別添４）エネルギー消費効率の根拠（要件ア）'!CB59","v":"別添4_20_19_CD21"},{"$f":"'（別添４）エネルギー消費効率の根拠（要件ア）'!CC59","v":"一代前モデル_年間エネルギー使用量計算式"},{"$f":"'（別添４）エネルギー消費効率の根拠（要件ア）'!CD59","v":0}]
[686,{"$f":"'（別添４）エネルギー消費効率の根拠（要件ア）'!CB60","v":"別添4_20_20_CD22&CE22"},{"$f":"'（別添４）エネルギー消費効率の根拠（要件ア）'!CC60","v":"一代前モデル_計算結果"},{"$f":"'（別添４）エネルギー消費効率の根拠（要件ア）'!CD60","v":"単位を選択してください"}]
[687,{"$f":"'（別添４）エネルギー消費効率の根拠（要件ア）'!CB61","v":"別添4_20_21_CB23&CC23"},{"$f":"'（別添４）エネルギー消費効率の根拠（要件ア）'!CC61","v":"年間見込み省エネルギー量__計算結果"},{"$f":"'（別添４）エネルギー消費効率の根拠（要件ア）'!CD61","v":"0単位を選択してください"}]
[688,{"$f":"'（別添４）エネルギー消費効率の根拠（要件ア）'!CB62","v":"別添4_20_22_CB25"},{"$f":"'（別添４）エネルギー消費効率の根拠（要件ア）'!CC62","v":"年間見込み省エネルギー量_原油換算計算式"},{"$f":"'（別添４）エネルギー消費効率の根拠（要件ア）'!CD62","v":0}]
[689,{"$f":"'（別添４）エネルギー消費効率の根拠（要件ア）'!CB63","v":"別添4_20_23_CB26"},{"$f":"'（別添４）エネルギー消費効率の根拠（要件ア）'!CC63","v":"年間見込み省エネルギー量原油換算計算結果"},{"$f":"'（別添４）エネルギー消費効率の根拠（要件ア）'!CD63","v":0}]
[690,{"$f":"'（別添４）エネルギー消費効率の根拠（要件ア）'!CB64","v":"別添4_20_24_CB27"},{"$f":"'（別添４）エネルギー消費効率の根拠（要件ア）'!CC64","v":"年間見込み省エネルギー率_自動計算"},{"$f":"'（別添４）エネルギー消費効率の根拠（要件ア）'!CD64","v":""}]
[691,{"$f":"'（別添４）エネルギー消費効率の根拠（要件ア）'!CF41","v":"別添4_21_1_CF9"},{"$f":"'（別添４）エネルギー消費効率の根拠（要件ア）'!CG41","v":"トップランナー基準"},{"$f":"'（別添４）エネルギー消費効率の根拠（要件ア）'!CH41","v":0}]
[692,{"$f":"'（別添４）エネルギー消費効率の根拠（要件ア）'!CF42","v":"別添4_21_2_CF10"},{"$f":"'（別添４）エネルギー消費効率の根拠（要件ア）'!CG42","v":"トップランナー基準の区分名又は数値"},{"$f":"'（別添４）エネルギー消費効率の根拠（要件ア）'!CH42","v":0}]
[693,{"$f":"'（別添４）エネルギー消費効率の根拠（要件ア）'!CF43","v":"別添4_21_3_CF11"},{"$f":"'（別添４）エネルギー消費効率の根拠（要件ア）'!CG43","v":"トップランナー基準の数値（導入設備）"},{"$f":"'（別添４）エネルギー消費効率の根拠（要件ア）'!CH43","v":0}]
[694,{"$f":"'（別添４）エネルギー消費効率の根拠（要件ア）'!CF44","v":"別添4_21_4_CF12"},{"$f":"'（別添４）エネルギー消費効率の根拠（要件ア）'!CG44","v":"比較指標/トップランナー基準"},{"$f":"'（別添４）エネルギー消費効率の根拠（要件ア）'!CH44","v":0}]
[695,{"$f":"'（別添４）エネルギー消費効率の根拠（要件ア）'!CF45","v":"別添4_21_5_CF13"},{"$f":"'（別添４）エネルギー消費効率の根拠（要件ア）'!CG45","v":"添付資料の根拠記載箇所"},{"$f":"'（別添４）エネルギー消費効率の根拠（要件ア）'!CH45","v":0}]
[696,{"$f":"'（別添４）エネルギー消費効率の根拠（要件ア）'!CF46","v":"別添4_21_6_CF14"},{"$f":"'（別添４）エネルギー消費効率の根拠（要件ア）'!CG46","v":"省エネ要因"},{"$f":"'（別添４）エネルギー消費効率の根拠（要件ア）'!CH46","v":0}]
[697,{"$f":"'（別添４）エネルギー消費効率の根拠（要件ア）'!CF47","v":"別添4_21_7_CF16"},{"$f":"'（別添４）エネルギー消費効率の根拠（要件ア）'!CG47","v":"導入設備_製品名"},{"$f":"'（別添４）エネルギー消費効率の根拠（要件ア）'!CH47","v":0}]
[698,{"$f":"'（別添４）エネルギー消費効率の根拠（要件ア）'!CF48","v":"別添4_21_8_CF17"},{"$f":"'（別添４）エネルギー消費効率の根拠（要件ア）'!CG48","v":"導入設備_製造メーカー"},{"$f":"'（別添４）エネルギー消費効率の根拠（要件ア）'!CH48","v":0}]
[699,{"$f":"'（別添４）エネルギー消費効率の根拠（要件ア）'!CF49","v":"別添4_21_9_CF18"},{"$f":"'（別添４）エネルギー消費効率の根拠（要件ア）'!CG49","v":"導入設備_型番"},{"$f":"'（別添４）エネルギー消費効率の根拠（要件ア）'!CH49","v":0}]
[700,{"$f":"'（別添４）エネルギー消費効率の根拠（要件ア）'!CF50","v":"別添4_21_10_CF19&CG19"},{"$f":"'（別添４）エネルギー消費効率の根拠（要件ア）'!CG50","v":"導入設備_導入台数"},{"$f":"'（別添４）エネルギー消費効率の根拠（要件ア）'!CH50","v":"台"}]
[701,{"$f":"'（別添４）エネルギー消費効率の根拠（要件ア）'!CF51","v":"別添4_21_11_CF20"},{"$f":"'（別添４）エネルギー消費効率の根拠（要件ア）'!CG51","v":"導入設備_1台あたりの使用エネルギー"},{"$f":"'（別添４）エネルギー消費効率の根拠（要件ア）'!CH51","v":0}]
[702,{"$f":"'（別添４）エネルギー消費効率の根拠（要件ア）'!CF52","v":"別添4_21_12_CF21"},{"$f":"'（別添４）エネルギー消費効率の根拠（要件ア）'!CG52","v":"導入設備_年間エネルギー使用量計算式"},{"$f":"'（別添４）エネルギー消費効率の根拠（要件ア）'!CH52","v":0}]
[703,{"$f":"'（別添４）エネルギー消費効率の根拠（要件ア）'!CF53","v":"別添4_21_13_CF22&CG22"},{"$f":"'（別添４）エネルギー消費効率の根拠（要件ア）'!CG53","v":"導入設備_計算結果"},{"$f":"'（別添４）エネルギー消費効率の根拠（要件ア）'!CH53","v":"単位を選択してください"}]
[704,{"$f":"'（別添４）エネルギー消費効率の根拠（要件ア）'!CF54","v":"別添4_21_14_CH16"},{"$f":"'（別添４）エネルギー消費効率の根拠（要件ア）'!CG54","v":"一代前モデル_製品名"},{"$f":"'（別添４）エネルギー消費効率の根拠（要件ア）'!CH54","v":0}]
[705,{"$f":"'（別添４）エネルギー消費効率の根拠（要件ア）'!CF55","v":"別添4_21_15_CH17"},{"$f":"'（別添４）エネルギー消費効率の根拠（要件ア）'!CG55","v":"一代前モデル_製造メーカー"},{"$f":"'（別添４）エネルギー消費効率の根拠（要件ア）'!CH55","v":0}]
[706,{"$f":"'（別添４）エネルギー消費効率の根拠（要件ア）'!CF56","v":"別添4_21_16_CH18"},{"$f":"'（別添４）エネルギー消費効率の根拠（要件ア）'!CG56","v":"一代前モデル_型番"},{"$f":"'（別添４）エネルギー消費効率の根拠（要件ア）'!CH56","v":0}]
[707,{"$f":"'（別添４）エネルギー消費効率の根拠（要件ア）'!CF57","v":"別添4_21_17_CH19&CI19"},{"$f":"'（別添４）エネルギー消費効率の根拠（要件ア）'!CG57","v":"一代前モデル_導入台数"},{"$f":"'（別添４）エネルギー消費効率の根拠（要件ア）'!CH57","v":"台"}]
[708,{"$f":"'（別添４）エネルギー消費効率の根拠（要件ア）'!CF58","v":"別添4_21_18_CH20"},{"$f":"'（別添４）エネルギー消費効率の根拠（要件ア）'!CG58","v":"一代前モデル_1台あたりの使用エネルギー"},{"$f":"'（別添４）エネルギー消費効率の根拠（要件ア）'!CH58","v":0}]
[709,{"$f":"'（別添４）エネルギー消費効率の根拠（要件ア）'!CF59","v":"別添4_21_19_CH21"},{"$f":"'（別添４）エネルギー消費効率の根拠（要件ア）'!CG59","v":"一代前モデル_年間エネルギー使用量計算式"},{"$f":"'（別添４）エネルギー消費効率の根拠（要件ア）'!CH59","v":0}]
[710,{"$f":"'（別添４）エネルギー消費効率の根拠（要件ア）'!CF60","v":"別添4_21_20_CH22&CI22"},{"$f":"'（別添４）エネルギー消費効率の根拠（要件ア）'!CG60","v":"一代前モデル_計算結果"},{"$f":"'（別添４）エネルギー消費効率の根拠（要件ア）'!CH60","v":"単位を選択してください"}]
[711,{"$f":"'（別添４）エネルギー消費効率の根拠（要件ア）'!CF61","v":"別添4_21_21_CF23&CG23"},{"$f":"'（別添４）エネルギー消費効率の根拠（要件ア）'!CG61","v":"年間見込み省エネルギー量__計算結果"},{"$f":"'（別添４）エネルギー消費効率の根拠（要件ア）'!CH61","v":"0単位を選択してください"}]
[712,{"$f":"'（別添４）エネルギー消費効率の根拠（要件ア）'!CF62","v":"別添4_21_22_CF25"},{"$f":"'（別添４）エネルギー消費効率の根拠（要件ア）'!CG62","v":"年間見込み省エネルギー量_原油換算計算式"},{"$f":"'（別添４）エネルギー消費効率の根拠（要件ア）'!CH62","v":0}]
[713,{"$f":"'（別添４）エネルギー消費効率の根拠（要件ア）'!CF63","v":"別添4_21_23_CF26"},{"$f":"'（別添４）エネルギー消費効率の根拠（要件ア）'!CG63","v":"年間見込み省エネルギー量原油換算計算結果"},{"$f":"'（別添４）エネルギー消費効率の根拠（要件ア）'!CH63","v":0}]
[714,{"$f":"'（別添４）エネルギー消費効率の根拠（要件ア）'!CF64","v":"別添4_21_24_CF27"},{"$f":"'（別添４）エネルギー消費効率の根拠（要件ア）'!CG64","v":"年間見込み省エネルギー率_自動計算"},{"$f":"'（別添４）エネルギー消費効率の根拠（要件ア）'!CH64","v":""}]
[715,{"$f":"'（別添４）エネルギー消費効率の根拠（要件ア）'!CJ41","v":"別添4_22_1_CJ9"},{"$f":"'（別添４）エネルギー消費効率の根拠（要件ア）'!CK41","v":"トップランナー基準"},{"$f":"'（別添４）エネルギー消費効率の根拠（要件ア）'!CL41","v":0}]
[{"$f":"ROW()-1","v":716},{"$f":"'（別添４）エネルギー消費効率の根拠（要件ア）'!CJ42","v":"別添4_22_2_CJ10"},{"$f":"'（別添４）エネルギー消費効率の根拠（要件ア）'!CK42","v":"トップランナー基準の区分名又は数値"},{"$f":"'（別添４）エネルギー消費効率の根拠（要件ア）'!CL42","v":0}]
[717,{"$f":"'（別添４）エネルギー消費効率の根拠（要件ア）'!CJ43","v":"別添4_22_3_CJ11"},{"$f":"'（別添４）エネルギー消費効率の根拠（要件ア）'!CK43","v":"トップランナー基準の数値（導入設備）"},{"$f":"'（別添４）エネルギー消費効率の根拠（要件ア）'!CL43","v":0}]
[718,{"$f":"'（別添４）エネルギー消費効率の根拠（要件ア）'!CJ44","v":"別添4_22_4_CJ12"},{"$f":"'（別添４）エネルギー消費効率の根拠（要件ア）'!CK44","v":"比較指標/トップランナー基準"},{"$f":"'（別添４）エネルギー消費効率の根拠（要件ア）'!CL44","v":0}]
[719,{"$f":"'（別添４）エネルギー消費効率の根拠（要件ア）'!CJ45","v":"別添4_22_5_CJ13"},{"$f":"'（別添４）エネルギー消費効率の根拠（要件ア）'!CK45","v":"添付資料の根拠記載箇所"},{"$f":"'（別添４）エネルギー消費効率の根拠（要件ア）'!CL45","v":0}]
[720,{"$f":"'（別添４）エネルギー消費効率の根拠（要件ア）'!CJ46","v":"別添4_22_6_CJ14"},{"$f":"'（別添４）エネルギー消費効率の根拠（要件ア）'!CK46","v":"省エネ要因"},{"$f":"'（別添４）エネルギー消費効率の根拠（要件ア）'!CL46","v":0}]
[721,{"$f":"'（別添４）エネルギー消費効率の根拠（要件ア）'!CJ47","v":"別添4_22_7_CJ16"},{"$f":"'（別添４）エネルギー消費効率の根拠（要件ア）'!CK47","v":"導入設備_製品名"},{"$f":"'（別添４）エネルギー消費効率の根拠（要件ア）'!CL47","v":0}]
[722,{"$f":"'（別添４）エネルギー消費効率の根拠（要件ア）'!CJ48","v":"別添4_22_8_CJ17"},{"$f":"'（別添４）エネルギー消費効率の根拠（要件ア）'!CK48","v":"導入設備_製造メーカー"},{"$f":"'（別添４）エネルギー消費効率の根拠（要件ア）'!CL48","v":0}]
[723,{"$f":"'（別添４）エネルギー消費効率の根拠（要件ア）'!CJ49","v":"別添4_22_9_CJ18"},{"$f":"'（別添４）エネルギー消費効率の根拠（要件ア）'!CK49","v":"導入設備_型番"},{"$f":"'（別添４）エネルギー消費効率の根拠（要件ア）'!CL49","v":0}]
[724,{"$f":"'（別添４）エネルギー消費効率の根拠（要件ア）'!CJ50","v":"別添4_22_10_CJ19&CK19"},{"$f":"'（別添４）エネルギー消費効率の根拠（要件ア）'!CK50","v":"導入設備_導入台数"},{"$f":"'（別添４）エネルギー消費効率の根拠（要件ア）'!CL50","v":"台"}]
[725,{"$f":"'（別添４）エネルギー消費効率の根拠（要件ア）'!CJ51","v":"別添4_22_11_CJ20"},{"$f":"'（別添４）エネルギー消費効率の根拠（要件ア）'!CK51","v":"導入設備_1台あたりの使用エネルギー"},{"$f":"'（別添４）エネルギー消費効率の根拠（要件ア）'!CL51","v":0}]
[726,{"$f":"'（別添４）エネルギー消費効率の根拠（要件ア）'!CJ52","v":"別添4_22_12_CJ21"},{"$f":"'（別添４）エネルギー消費効率の根拠（要件ア）'!CK52","v":"導入設備_年間エネルギー使用量計算式"},{"$f":"'（別添４）エネルギー消費効率の根拠（要件ア）'!CL52","v":0}]
[727,{"$f":"'（別添４）エネルギー消費効率の根拠（要件ア）'!CJ53","v":"別添4_22_13_CJ22&CK22"},{"$f":"'（別添４）エネルギー消費効率の根拠（要件ア）'!CK53","v":"導入設備_計算結果"},{"$f":"'（別添４）エネルギー消費効率の根拠（要件ア）'!CL53","v":"単位を選択してください"}]
[728,{"$f":"'（別添４）エネルギー消費効率の根拠（要件ア）'!CJ54","v":"別添4_22_14_CL16"},{"$f":"'（別添４）エネルギー消費効率の根拠（要件ア）'!CK54","v":"一代前モデル_製品名"},{"$f":"'（別添４）エネルギー消費効率の根拠（要件ア）'!CL54","v":0}]
[729,{"$f":"'（別添４）エネルギー消費効率の根拠（要件ア）'!CJ55","v":"別添4_22_15_CL17"},{"$f":"'（別添４）エネルギー消費効率の根拠（要件ア）'!CK55","v":"一代前モデル_製造メーカー"},{"$f":"'（別添４）エネルギー消費効率の根拠（要件ア）'!CL55","v":0}]
[730,{"$f":"'（別添４）エネルギー消費効率の根拠（要件ア）'!CJ56","v":"別添4_22_16_CL18"},{"$f":"'（別添４）エネルギー消費効率の根拠（要件ア）'!CK56","v":"一代前モデル_型番"},{"$f":"'（別添４）エネルギー消費効率の根拠（要件ア）'!CL56","v":0}]
[731,{"$f":"'（別添４）エネルギー消費効率の根拠（要件ア）'!CJ57","v":"別添4_22_17_CL19&CM19"},{"$f":"'（別添４）エネルギー消費効率の根拠（要件ア）'!CK57","v":"一代前モデル_導入台数"},{"$f":"'（別添４）エネルギー消費効率の根拠（要件ア）'!CL57","v":"台"}]
[732,{"$f":"'（別添４）エネルギー消費効率の根拠（要件ア）'!CJ58","v":"別添4_22_18_CL20"},{"$f":"'（別添４）エネルギー消費効率の根拠（要件ア）'!CK58","v":"一代前モデル_1台あたりの使用エネルギー"},{"$f":"'（別添４）エネルギー消費効率の根拠（要件ア）'!CL58","v":0}]
[733,{"$f":"'（別添４）エネルギー消費効率の根拠（要件ア）'!CJ59","v":"別添4_22_19_CL21"},{"$f":"'（別添４）エネルギー消費効率の根拠（要件ア）'!CK59","v":"一代前モデル_年間エネルギー使用量計算式"},{"$f":"'（別添４）エネルギー消費効率の根拠（要件ア）'!CL59","v":0}]
[734,{"$f":"'（別添４）エネルギー消費効率の根拠（要件ア）'!CJ60","v":"別添4_22_20_CL22&CM22"},{"$f":"'（別添４）エネルギー消費効率の根拠（要件ア）'!CK60","v":"一代前モデル_計算結果"},{"$f":"'（別添４）エネルギー消費効率の根拠（要件ア）'!CL60","v":"単位を選択してください"}]
[735,{"$f":"'（別添４）エネルギー消費効率の根拠（要件ア）'!CJ61","v":"別添4_22_21_CJ23&CK23"},{"$f":"'（別添４）エネルギー消費効率の根拠（要件ア）'!CK61","v":"年間見込み省エネルギー量__計算結果"},{"$f":"'（別添４）エネルギー消費効率の根拠（要件ア）'!CL61","v":"0単位を選択してください"}]
[736,{"$f":"'（別添４）エネルギー消費効率の根拠（要件ア）'!CJ62","v":"別添4_22_22_CJ25"},{"$f":"'（別添４）エネルギー消費効率の根拠（要件ア）'!CK62","v":"年間見込み省エネルギー量_原油換算計算式"},{"$f":"'（別添４）エネルギー消費効率の根拠（要件ア）'!CL62","v":0}]
[737,{"$f":"'（別添４）エネルギー消費効率の根拠（要件ア）'!CJ63","v":"別添4_22_23_CJ26"},{"$f":"'（別添４）エネルギー消費効率の根拠（要件ア）'!CK63","v":"年間見込み省エネルギー量原油換算計算結果"},{"$f":"'（別添４）エネルギー消費効率の根拠（要件ア）'!CL63","v":0}]
[738,{"$f":"'（別添４）エネルギー消費効率の根拠（要件ア）'!CJ64","v":"別添4_22_24_CJ27"},{"$f":"'（別添４）エネルギー消費効率の根拠（要件ア）'!CK64","v":"年間見込み省エネルギー率_自動計算"},{"$f":"'（別添４）エネルギー消費効率の根拠（要件ア）'!CL64","v":""}]
[739,{"$f":"'（別添４）エネルギー消費効率の根拠（要件ア）'!CN41","v":"別添4_23_1_CN9"},{"$f":"'（別添４）エネルギー消費効率の根拠（要件ア）'!CO41","v":"トップランナー基準"},{"$f":"'（別添４）エネルギー消費効率の根拠（要件ア）'!CP41","v":0}]
[740,{"$f":"'（別添４）エネルギー消費効率の根拠（要件ア）'!CN42","v":"別添4_23_2_CN10"},{"$f":"'（別添４）エネルギー消費効率の根拠（要件ア）'!CO42","v":"トップランナー基準の区分名又は数値"},{"$f":"'（別添４）エネルギー消費効率の根拠（要件ア）'!CP42","v":0}]
[741,{"$f":"'（別添４）エネルギー消費効率の根拠（要件ア）'!CN43","v":"別添4_23_3_CN11"},{"$f":"'（別添４）エネルギー消費効率の根拠（要件ア）'!CO43","v":"トップランナー基準の数値（導入設備）"},{"$f":"'（別添４）エネルギー消費効率の根拠（要件ア）'!CP43","v":0}]
[742,{"$f":"'（別添４）エネルギー消費効率の根拠（要件ア）'!CN44","v":"別添4_23_4_CN12"},{"$f":"'（別添４）エネルギー消費効率の根拠（要件ア）'!CO44","v":"比較指標/トップランナー基準"},{"$f":"'（別添４）エネルギー消費効率の根拠（要件ア）'!CP44","v":0}]
[743,{"$f":"'（別添４）エネルギー消費効率の根拠（要件ア）'!CN45","v":"別添4_23_5_CN13"},{"$f":"'（別添４）エネルギー消費効率の根拠（要件ア）'!CO45","v":"添付資料の根拠記載箇所"},{"$f":"'（別添４）エネルギー消費効率の根拠（要件ア）'!CP45","v":0}]
[744,{"$f":"'（別添４）エネルギー消費効率の根拠（要件ア）'!CN46","v":"別添4_23_6_CN14"},{"$f":"'（別添４）エネルギー消費効率の根拠（要件ア）'!CO46","v":"省エネ要因"},{"$f":"'（別添４）エネルギー消費効率の根拠（要件ア）'!CP46","v":0}]
[745,{"$f":"'（別添４）エネルギー消費効率の根拠（要件ア）'!CN47","v":"別添4_23_7_CN16"},{"$f":"'（別添４）エネルギー消費効率の根拠（要件ア）'!CO47","v":"導入設備_製品名"},{"$f":"'（別添４）エネルギー消費効率の根拠（要件ア）'!CP47","v":0}]
[746,{"$f":"'（別添４）エネルギー消費効率の根拠（要件ア）'!CN48","v":"別添4_23_8_CN17"},{"$f":"'（別添４）エネルギー消費効率の根拠（要件ア）'!CO48","v":"導入設備_製造メーカー"},{"$f":"'（別添４）エネルギー消費効率の根拠（要件ア）'!CP48","v":0}]
[747,{"$f":"'（別添４）エネルギー消費効率の根拠（要件ア）'!CN49","v":"別添4_23_9_CN18"},{"$f":"'（別添４）エネルギー消費効率の根拠（要件ア）'!CO49","v":"導入設備_型番"},{"$f":"'（別添４）エネルギー消費効率の根拠（要件ア）'!CP49","v":0}]
[748,{"$f":"'（別添４）エネルギー消費効率の根拠（要件ア）'!CN50","v":"別添4_23_10_CN19&CO19"},{"$f":"'（別添４）エネルギー消費効率の根拠（要件ア）'!CO50","v":"導入設備_導入台数"},{"$f":"'（別添４）エネルギー消費効率の根拠（要件ア）'!CP50","v":"台"}]
[749,{"$f":"'（別添４）エネルギー消費効率の根拠（要件ア）'!CN51","v":"別添4_23_11_CN20"},{"$f":"'（別添４）エネルギー消費効率の根拠（要件ア）'!CO51","v":"導入設備_1台あたりの使用エネルギー"},{"$f":"'（別添４）エネルギー消費効率の根拠（要件ア）'!CP51","v":0}]
[750,{"$f":"'（別添４）エネルギー消費効率の根拠（要件ア）'!CN52","v":"別添4_23_12_CN21"},{"$f":"'（別添４）エネルギー消費効率の根拠（要件ア）'!CO52","v":"導入設備_年間エネルギー使用量計算式"},{"$f":"'（別添４）エネルギー消費効率の根拠（要件ア）'!CP52","v":0}]
[751,{"$f":"'（別添４）エネルギー消費効率の根拠（要件ア）'!CN53","v":"別添4_23_13_CN22&CO22"},{"$f":"'（別添４）エネルギー消費効率の根拠（要件ア）'!CO53","v":"導入設備_計算結果"},{"$f":"'（別添４）エネルギー消費効率の根拠（要件ア）'!CP53","v":"単位を選択してください"}]
[752,{"$f":"'（別添４）エネルギー消費効率の根拠（要件ア）'!CN54","v":"別添4_23_14_CP16"},{"$f":"'（別添４）エネルギー消費効率の根拠（要件ア）'!CO54","v":"一代前モデル_製品名"},{"$f":"'（別添４）エネルギー消費効率の根拠（要件ア）'!CP54","v":0}]
[753,{"$f":"'（別添４）エネルギー消費効率の根拠（要件ア）'!CN55","v":"別添4_23_15_CP17"},{"$f":"'（別添４）エネルギー消費効率の根拠（要件ア）'!CO55","v":"一代前モデル_製造メーカー"},{"$f":"'（別添４）エネルギー消費効率の根拠（要件ア）'!CP55","v":0}]
[754,{"$f":"'（別添４）エネルギー消費効率の根拠（要件ア）'!CN56","v":"別添4_23_16_CP18"},{"$f":"'（別添４）エネルギー消費効率の根拠（要件ア）'!CO56","v":"一代前モデル_型番"},{"$f":"'（別添４）エネルギー消費効率の根拠（要件ア）'!CP56","v":0}]
[755,{"$f":"'（別添４）エネルギー消費効率の根拠（要件ア）'!CN57","v":"別添4_23_17_CP19&CQ19"},{"$f":"'（別添４）エネルギー消費効率の根拠（要件ア）'!CO57","v":"一代前モデル_導入台数"},{"$f":"'（別添４）エネルギー消費効率の根拠（要件ア）'!CP57","v":"台"}]
[756,{"$f":"'（別添４）エネルギー消費効率の根拠（要件ア）'!CN58","v":"別添4_23_18_CP20"},{"$f":"'（別添４）エネルギー消費効率の根拠（要件ア）'!CO58","v":"一代前モデル_1台あたりの使用エネルギー"},{"$f":"'（別添４）エネルギー消費効率の根拠（要件ア）'!CP58","v":0}]
[757,{"$f":"'（別添４）エネルギー消費効率の根拠（要件ア）'!CN59","v":"別添4_23_19_CP21"},{"$f":"'（別添４）エネルギー消費効率の根拠（要件ア）'!CO59","v":"一代前モデル_年間エネルギー使用量計算式"},{"$f":"'（別添４）エネルギー消費効率の根拠（要件ア）'!CP59","v":0}]
[758,{"$f":"'（別添４）エネルギー消費効率の根拠（要件ア）'!CN60","v":"別添4_23_20_CP22&CQ22"},{"$f":"'（別添４）エネルギー消費効率の根拠（要件ア）'!CO60","v":"一代前モデル_計算結果"},{"$f":"'（別添４）エネルギー消費効率の根拠（要件ア）'!CP60","v":"単位を選択してください"}]
[759,{"$f":"'（別添４）エネルギー消費効率の根拠（要件ア）'!CN61","v":"別添4_23_21_CN23&CO23"},{"$f":"'（別添４）エネルギー消費効率の根拠（要件ア）'!CO61","v":"年間見込み省エネルギー量__計算結果"},{"$f":"'（別添４）エネルギー消費効率の根拠（要件ア）'!CP61","v":"0単位を選択してください"}]
[760,{"$f":"'（別添４）エネルギー消費効率の根拠（要件ア）'!CN62","v":"別添4_23_22_CN25"},{"$f":"'（別添４）エネルギー消費効率の根拠（要件ア）'!CO62","v":"年間見込み省エネルギー量_原油換算計算式"},{"$f":"'（別添４）エネルギー消費効率の根拠（要件ア）'!CP62","v":0}]
[761,{"$f":"'（別添４）エネルギー消費効率の根拠（要件ア）'!CN63","v":"別添4_23_23_CN26"},{"$f":"'（別添４）エネルギー消費効率の根拠（要件ア）'!CO63","v":"年間見込み省エネルギー量原油換算計算結果"},{"$f":"'（別添４）エネルギー消費効率の根拠（要件ア）'!CP63","v":0}]
[762,{"$f":"'（別添４）エネルギー消費効率の根拠（要件ア）'!CN64","v":"別添4_23_24_CN27"},{"$f":"'（別添４）エネルギー消費効率の根拠（要件ア）'!CO64","v":"年間見込み省エネルギー率_自動計算"},{"$f":"'（別添４）エネルギー消費効率の根拠（要件ア）'!CP64","v":""}]
[763,{"$f":"'（別添４）エネルギー消費効率の根拠（要件ア）'!CR41","v":"別添4_24_1_CR9"},{"$f":"'（別添４）エネルギー消費効率の根拠（要件ア）'!CS41","v":"トップランナー基準"},{"$f":"'（別添４）エネルギー消費効率の根拠（要件ア）'!CT41","v":0}]
[764,{"$f":"'（別添４）エネルギー消費効率の根拠（要件ア）'!CR42","v":"別添4_24_2_CR10"},{"$f":"'（別添４）エネルギー消費効率の根拠（要件ア）'!CS42","v":"トップランナー基準の区分名又は数値"},{"$f":"'（別添４）エネルギー消費効率の根拠（要件ア）'!CT42","v":0}]
[765,{"$f":"'（別添４）エネルギー消費効率の根拠（要件ア）'!CR43","v":"別添4_24_3_CR11"},{"$f":"'（別添４）エネルギー消費効率の根拠（要件ア）'!CS43","v":"トップランナー基準の数値（導入設備）"},{"$f":"'（別添４）エネルギー消費効率の根拠（要件ア）'!CT43","v":0}]
[766,{"$f":"'（別添４）エネルギー消費効率の根拠（要件ア）'!CR44","v":"別添4_24_4_CR12"},{"$f":"'（別添４）エネルギー消費効率の根拠（要件ア）'!CS44","v":"比較指標/トップランナー基準"},{"$f":"'（別添４）エネルギー消費効率の根拠（要件ア）'!CT44","v":0}]
[767,{"$f":"'（別添４）エネルギー消費効率の根拠（要件ア）'!CR45","v":"別添4_24_5_CR13"},{"$f":"'（別添４）エネルギー消費効率の根拠（要件ア）'!CS45","v":"添付資料の根拠記載箇所"},{"$f":"'（別添４）エネルギー消費効率の根拠（要件ア）'!CT45","v":0}]
[768,{"$f":"'（別添４）エネルギー消費効率の根拠（要件ア）'!CR46","v":"別添4_24_6_CR14"},{"$f":"'（別添４）エネルギー消費効率の根拠（要件ア）'!CS46","v":"省エネ要因"},{"$f":"'（別添４）エネルギー消費効率の根拠（要件ア）'!CT46","v":0}]
[769,{"$f":"'（別添４）エネルギー消費効率の根拠（要件ア）'!CR47","v":"別添4_24_7_CR16"},{"$f":"'（別添４）エネルギー消費効率の根拠（要件ア）'!CS47","v":"導入設備_製品名"},{"$f":"'（別添４）エネルギー消費効率の根拠（要件ア）'!CT47","v":0}]
[770,{"$f":"'（別添４）エネルギー消費効率の根拠（要件ア）'!CR48","v":"別添4_24_8_CR17"},{"$f":"'（別添４）エネルギー消費効率の根拠（要件ア）'!CS48","v":"導入設備_製造メーカー"},{"$f":"'（別添４）エネルギー消費効率の根拠（要件ア）'!CT48","v":0}]
[771,{"$f":"'（別添４）エネルギー消費効率の根拠（要件ア）'!CR49","v":"別添4_24_9_CR18"},{"$f":"'（別添４）エネルギー消費効率の根拠（要件ア）'!CS49","v":"導入設備_型番"},{"$f":"'（別添４）エネルギー消費効率の根拠（要件ア）'!CT49","v":0}]
[772,{"$f":"'（別添４）エネルギー消費効率の根拠（要件ア）'!CR50","v":"別添4_24_10_CR19&CS19"},{"$f":"'（別添４）エネルギー消費効率の根拠（要件ア）'!CS50","v":"導入設備_導入台数"},{"$f":"'（別添４）エネルギー消費効率の根拠（要件ア）'!CT50","v":"台"}]
[773,{"$f":"'（別添４）エネルギー消費効率の根拠（要件ア）'!CR51","v":"別添4_24_11_CR20"},{"$f":"'（別添４）エネルギー消費効率の根拠（要件ア）'!CS51","v":"導入設備_1台あたりの使用エネルギー"},{"$f":"'（別添４）エネルギー消費効率の根拠（要件ア）'!CT51","v":0}]
[774,{"$f":"'（別添４）エネルギー消費効率の根拠（要件ア）'!CR52","v":"別添4_24_12_CR21"},{"$f":"'（別添４）エネルギー消費効率の根拠（要件ア）'!CS52","v":"導入設備_年間エネルギー使用量計算式"},{"$f":"'（別添４）エネルギー消費効率の根拠（要件ア）'!CT52","v":0}]
[775,{"$f":"'（別添４）エネルギー消費効率の根拠（要件ア）'!CR53","v":"別添4_24_13_CR22&CS22"},{"$f":"'（別添４）エネルギー消費効率の根拠（要件ア）'!CS53","v":"導入設備_計算結果"},{"$f":"'（別添４）エネルギー消費効率の根拠（要件ア）'!CT53","v":"単位を選択してください"}]
[776,{"$f":"'（別添４）エネルギー消費効率の根拠（要件ア）'!CR54","v":"別添4_24_14_CT16"},{"$f":"'（別添４）エネルギー消費効率の根拠（要件ア）'!CS54","v":"一代前モデル_製品名"},{"$f":"'（別添４）エネルギー消費効率の根拠（要件ア）'!CT54","v":0}]
[777,{"$f":"'（別添４）エネルギー消費効率の根拠（要件ア）'!CR55","v":"別添4_24_15_CT17"},{"$f":"'（別添４）エネルギー消費効率の根拠（要件ア）'!CS55","v":"一代前モデル_製造メーカー"},{"$f":"'（別添４）エネルギー消費効率の根拠（要件ア）'!CT55","v":0}]
[778,{"$f":"'（別添４）エネルギー消費効率の根拠（要件ア）'!CR56","v":"別添4_24_16_CT18"},{"$f":"'（別添４）エネルギー消費効率の根拠（要件ア）'!CS56","v":"一代前モデル_型番"},{"$f":"'（別添４）エネルギー消費効率の根拠（要件ア）'!CT56","v":0}]
[779,{"$f":"'（別添４）エネルギー消費効率の根拠（要件ア）'!CR57","v":"別添4_24_17_CT19&CU19"},{"$f":"'（別添４）エネルギー消費効率の根拠（要件ア）'!CS57","v":"一代前モデル_導入台数"},{"$f":"'（別添４）エネルギー消費効率の根拠（要件ア）'!CT57","v":"台"}]
[{"$f":"ROW()-1","v":780},{"$f":"'（別添４）エネルギー消費効率の根拠（要件ア）'!CR58","v":"別添4_24_18_CT20"},{"$f":"'（別添４）エネルギー消費効率の根拠（要件ア）'!CS58","v":"一代前モデル_1台あたりの使用エネルギー"},{"$f":"'（別添４）エネルギー消費効率の根拠（要件ア）'!CT58","v":0}]
[781,{"$f":"'（別添４）エネルギー消費効率の根拠（要件ア）'!CR59","v":"別添4_24_19_CT21"},{"$f":"'（別添４）エネルギー消費効率の根拠（要件ア）'!CS59","v":"一代前モデル_年間エネルギー使用量計算式"},{"$f":"'（別添４）エネルギー消費効率の根拠（要件ア）'!CT59","v":0}]
[782,{"$f":"'（別添４）エネルギー消費効率の根拠（要件ア）'!CR60","v":"別添4_24_20_CT22&CU22"},{"$f":"'（別添４）エネルギー消費効率の根拠（要件ア）'!CS60","v":"一代前モデル_計算結果"},{"$f":"'（別添４）エネルギー消費効率の根拠（要件ア）'!CT60","v":"単位を選択してください"}]
[783,{"$f":"'（別添４）エネルギー消費効率の根拠（要件ア）'!CR61","v":"別添4_24_21_CR23&CS23"},{"$f":"'（別添４）エネルギー消費効率の根拠（要件ア）'!CS61","v":"年間見込み省エネルギー量__計算結果"},{"$f":"'（別添４）エネルギー消費効率の根拠（要件ア）'!CT61","v":"0単位を選択してください"}]
[784,{"$f":"'（別添４）エネルギー消費効率の根拠（要件ア）'!CR62","v":"別添4_24_22_CR25"},{"$f":"'（別添４）エネルギー消費効率の根拠（要件ア）'!CS62","v":"年間見込み省エネルギー量_原油換算計算式"},{"$f":"'（別添４）エネルギー消費効率の根拠（要件ア）'!CT62","v":0}]
[785,{"$f":"'（別添４）エネルギー消費効率の根拠（要件ア）'!CR63","v":"別添4_24_23_CR26"},{"$f":"'（別添４）エネルギー消費効率の根拠（要件ア）'!CS63","v":"年間見込み省エネルギー量原油換算計算結果"},{"$f":"'（別添４）エネルギー消費効率の根拠（要件ア）'!CT63","v":0}]
[786,{"$f":"'（別添４）エネルギー消費効率の根拠（要件ア）'!CR64","v":"別添4_24_24_CR27"},{"$f":"'（別添４）エネルギー消費効率の根拠（要件ア）'!CS64","v":"年間見込み省エネルギー率_自動計算"},{"$f":"'（別添４）エネルギー消費効率の根拠（要件ア）'!CT64","v":""}]
[787,{"$f":"'（別添４）エネルギー消費効率の根拠（要件ア）'!CV41","v":"別添4_25_1_CV9"},{"$f":"'（別添４）エネルギー消費効率の根拠（要件ア）'!CW41","v":"トップランナー基準"},{"$f":"'（別添４）エネルギー消費効率の根拠（要件ア）'!CX41","v":0}]
[788,{"$f":"'（別添４）エネルギー消費効率の根拠（要件ア）'!CV42","v":"別添4_25_2_CV10"},{"$f":"'（別添４）エネルギー消費効率の根拠（要件ア）'!CW42","v":"トップランナー基準の区分名又は数値"},{"$f":"'（別添４）エネルギー消費効率の根拠（要件ア）'!CX42","v":0}]
[789,{"$f":"'（別添４）エネルギー消費効率の根拠（要件ア）'!CV43","v":"別添4_25_3_CV11"},{"$f":"'（別添４）エネルギー消費効率の根拠（要件ア）'!CW43","v":"トップランナー基準の数値（導入設備）"},{"$f":"'（別添４）エネルギー消費効率の根拠（要件ア）'!CX43","v":0}]
[790,{"$f":"'（別添４）エネルギー消費効率の根拠（要件ア）'!CV44","v":"別添4_25_4_CV12"},{"$f":"'（別添４）エネルギー消費効率の根拠（要件ア）'!CW44","v":"比較指標/トップランナー基準"},{"$f":"'（別添４）エネルギー消費効率の根拠（要件ア）'!CX44","v":0}]
[791,{"$f":"'（別添４）エネルギー消費効率の根拠（要件ア）'!CV45","v":"別添4_25_5_CV13"},{"$f":"'（別添４）エネルギー消費効率の根拠（要件ア）'!CW45","v":"添付資料の根拠記載箇所"},{"$f":"'（別添４）エネルギー消費効率の根拠（要件ア）'!CX45","v":0}]
[792,{"$f":"'（別添４）エネルギー消費効率の根拠（要件ア）'!CV46","v":"別添4_25_6_CV14"},{"$f":"'（別添４）エネルギー消費効率の根拠（要件ア）'!CW46","v":"省エネ要因"},{"$f":"'（別添４）エネルギー消費効率の根拠（要件ア）'!CX46","v":0}]
[793,{"$f":"'（別添４）エネルギー消費効率の根拠（要件ア）'!CV47","v":"別添4_25_7_CV16"},{"$f":"'（別添４）エネルギー消費効率の根拠（要件ア）'!CW47","v":"導入設備_製品名"},{"$f":"'（別添４）エネルギー消費効率の根拠（要件ア）'!CX47","v":0}]
[794,{"$f":"'（別添４）エネルギー消費効率の根拠（要件ア）'!CV48","v":"別添4_25_8_CV17"},{"$f":"'（別添４）エネルギー消費効率の根拠（要件ア）'!CW48","v":"導入設備_製造メーカー"},{"$f":"'（別添４）エネルギー消費効率の根拠（要件ア）'!CX48","v":0}]
[795,{"$f":"'（別添４）エネルギー消費効率の根拠（要件ア）'!CV49","v":"別添4_25_9_CV18"},{"$f":"'（別添４）エネルギー消費効率の根拠（要件ア）'!CW49","v":"導入設備_型番"},{"$f":"'（別添４）エネルギー消費効率の根拠（要件ア）'!CX49","v":0}]
[796,{"$f":"'（別添４）エネルギー消費効率の根拠（要件ア）'!CV50","v":"別添4_25_10_CV19&CW19"},{"$f":"'（別添４）エネルギー消費効率の根拠（要件ア）'!CW50","v":"導入設備_導入台数"},{"$f":"'（別添４）エネルギー消費効率の根拠（要件ア）'!CX50","v":"台"}]
[797,{"$f":"'（別添４）エネルギー消費効率の根拠（要件ア）'!CV51","v":"別添4_25_11_CV20"},{"$f":"'（別添４）エネルギー消費効率の根拠（要件ア）'!CW51","v":"導入設備_1台あたりの使用エネルギー"},{"$f":"'（別添４）エネルギー消費効率の根拠（要件ア）'!CX51","v":0}]
[798,{"$f":"'（別添４）エネルギー消費効率の根拠（要件ア）'!CV52","v":"別添4_25_12_CV21"},{"$f":"'（別添４）エネルギー消費効率の根拠（要件ア）'!CW52","v":"導入設備_年間エネルギー使用量計算式"},{"$f":"'（別添４）エネルギー消費効率の根拠（要件ア）'!CX52","v":0}]
[799,{"$f":"'（別添４）エネルギー消費効率の根拠（要件ア）'!CV53","v":"別添4_25_13_CV22&CW22"},{"$f":"'（別添４）エネルギー消費効率の根拠（要件ア）'!CW53","v":"導入設備_計算結果"},{"$f":"'（別添４）エネルギー消費効率の根拠（要件ア）'!CX53","v":"単位を選択してください"}]
[800,{"$f":"'（別添４）エネルギー消費効率の根拠（要件ア）'!CV54","v":"別添4_25_14_CX16"},{"$f":"'（別添４）エネルギー消費効率の根拠（要件ア）'!CW54","v":"一代前モデル_製品名"},{"$f":"'（別添４）エネルギー消費効率の根拠（要件ア）'!CX54","v":0}]
[801,{"$f":"'（別添４）エネルギー消費効率の根拠（要件ア）'!CV55","v":"別添4_25_15_CX17"},{"$f":"'（別添４）エネルギー消費効率の根拠（要件ア）'!CW55","v":"一代前モデル_製造メーカー"},{"$f":"'（別添４）エネルギー消費効率の根拠（要件ア）'!CX55","v":0}]
[802,{"$f":"'（別添４）エネルギー消費効率の根拠（要件ア）'!CV56","v":"別添4_25_16_CX18"},{"$f":"'（別添４）エネルギー消費効率の根拠（要件ア）'!CW56","v":"一代前モデル_型番"},{"$f":"'（別添４）エネルギー消費効率の根拠（要件ア）'!CX56","v":0}]
[803,{"$f":"'（別添４）エネルギー消費効率の根拠（要件ア）'!CV57","v":"別添4_25_17_CX19&CY19"},{"$f":"'（別添４）エネルギー消費効率の根拠（要件ア）'!CW57","v":"一代前モデル_導入台数"},{"$f":"'（別添４）エネルギー消費効率の根拠（要件ア）'!CX57","v":"台"}]
[804,{"$f":"'（別添４）エネルギー消費効率の根拠（要件ア）'!CV58","v":"別添4_25_18_CX20"},{"$f":"'（別添４）エネルギー消費効率の根拠（要件ア）'!CW58","v":"一代前モデル_1台あたりの使用エネルギー"},{"$f":"'（別添４）エネルギー消費効率の根拠（要件ア）'!CX58","v":0}]
[805,{"$f":"'（別添４）エネルギー消費効率の根拠（要件ア）'!CV59","v":"別添4_25_19_CX21"},{"$f":"'（別添４）エネルギー消費効率の根拠（要件ア）'!CW59","v":"一代前モデル_年間エネルギー使用量計算式"},{"$f":"'（別添４）エネルギー消費効率の根拠（要件ア）'!CX59","v":0}]
[806,{"$f":"'（別添４）エネルギー消費効率の根拠（要件ア）'!CV60","v":"別添4_25_20_CX22&CY22"},{"$f":"'（別添４）エネルギー消費効率の根拠（要件ア）'!CW60","v":"一代前モデル_計算結果"},{"$f":"'（別添４）エネルギー消費効率の根拠（要件ア）'!CX60","v":"単位を選択してください"}]
[807,{"$f":"'（別添４）エネルギー消費効率の根拠（要件ア）'!CV61","v":"別添4_25_21_CV23&CW23"},{"$f":"'（別添４）エネルギー消費効率の根拠（要件ア）'!CW61","v":"年間見込み省エネルギー量__計算結果"},{"$f":"'（別添４）エネルギー消費効率の根拠（要件ア）'!CX61","v":"0単位を選択してください"}]
[808,{"$f":"'（別添４）エネルギー消費効率の根拠（要件ア）'!CV62","v":"別添4_25_22_CV25"},{"$f":"'（別添４）エネルギー消費効率の根拠（要件ア）'!CW62","v":"年間見込み省エネルギー量_原油換算計算式"},{"$f":"'（別添４）エネルギー消費効率の根拠（要件ア）'!CX62","v":0}]
[809,{"$f":"'（別添４）エネルギー消費効率の根拠（要件ア）'!CV63","v":"別添4_25_23_CV26"},{"$f":"'（別添４）エネルギー消費効率の根拠（要件ア）'!CW63","v":"年間見込み省エネルギー量原油換算計算結果"},{"$f":"'（別添４）エネルギー消費効率の根拠（要件ア）'!CX63","v":0}]
[810,{"$f":"'（別添４）エネルギー消費効率の根拠（要件ア）'!CV64","v":"別添4_25_24_CV27"},{"$f":"'（別添４）エネルギー消費効率の根拠（要件ア）'!CW64","v":"年間見込み省エネルギー率_自動計算"},{"$f":"'（別添４）エネルギー消費効率の根拠（要件ア）'!CX64","v":""}]
[811,{"$f":"'（別添４）エネルギー消費効率の根拠（要件ア）'!CZ41","v":"別添4_26_1_CZ9"},{"$f":"'（別添４）エネルギー消費効率の根拠（要件ア）'!DA41","v":"トップランナー基準"},{"$f":"'（別添４）エネルギー消費効率の根拠（要件ア）'!DB41","v":0}]
[812,{"$f":"'（別添４）エネルギー消費効率の根拠（要件ア）'!CZ42","v":"別添4_26_2_CZ10"},{"$f":"'（別添４）エネルギー消費効率の根拠（要件ア）'!DA42","v":"トップランナー基準の区分名又は数値"},{"$f":"'（別添４）エネルギー消費効率の根拠（要件ア）'!DB42","v":0}]
[813,{"$f":"'（別添４）エネルギー消費効率の根拠（要件ア）'!CZ43","v":"別添4_26_3_CZ11"},{"$f":"'（別添４）エネルギー消費効率の根拠（要件ア）'!DA43","v":"トップランナー基準の数値（導入設備）"},{"$f":"'（別添４）エネルギー消費効率の根拠（要件ア）'!DB43","v":0}]
[814,{"$f":"'（別添４）エネルギー消費効率の根拠（要件ア）'!CZ44","v":"別添4_26_4_CZ12"},{"$f":"'（別添４）エネルギー消費効率の根拠（要件ア）'!DA44","v":"比較指標/トップランナー基準"},{"$f":"'（別添４）エネルギー消費効率の根拠（要件ア）'!DB44","v":0}]
[815,{"$f":"'（別添４）エネルギー消費効率の根拠（要件ア）'!CZ45","v":"別添4_26_5_CZ13"},{"$f":"'（別添４）エネルギー消費効率の根拠（要件ア）'!DA45","v":"添付資料の根拠記載箇所"},{"$f":"'（別添４）エネルギー消費効率の根拠（要件ア）'!DB45","v":0}]
[816,{"$f":"'（別添４）エネルギー消費効率の根拠（要件ア）'!CZ46","v":"別添4_26_6_CZ14"},{"$f":"'（別添４）エネルギー消費効率の根拠（要件ア）'!DA46","v":"省エネ要因"},{"$f":"'（別添４）エネルギー消費効率の根拠（要件ア）'!DB46","v":0}]
[817,{"$f":"'（別添４）エネルギー消費効率の根拠（要件ア）'!CZ47","v":"別添4_26_7_CZ16"},{"$f":"'（別添４）エネルギー消費効率の根拠（要件ア）'!DA47","v":"導入設備_製品名"},{"$f":"'（別添４）エネルギー消費効率の根拠（要件ア）'!DB47","v":0}]
[818,{"$f":"'（別添４）エネルギー消費効率の根拠（要件ア）'!CZ48","v":"別添4_26_8_CZ17"},{"$f":"'（別添４）エネルギー消費効率の根拠（要件ア）'!DA48","v":"導入設備_製造メーカー"},{"$f":"'（別添４）エネルギー消費効率の根拠（要件ア）'!DB48","v":0}]
[819,{"$f":"'（別添４）エネルギー消費効率の根拠（要件ア）'!CZ49","v":"別添4_26_9_CZ18"},{"$f":"'（別添４）エネルギー消費効率の根拠（要件ア）'!DA49","v":"導入設備_型番"},{"$f":"'（別添４）エネルギー消費効率の根拠（要件ア）'!DB49","v":0}]
[820,{"$f":"'（別添４）エネルギー消費効率の根拠（要件ア）'!CZ50","v":"別添4_26_10_CZ19&DA19"},{"$f":"'（別添４）エネルギー消費効率の根拠（要件ア）'!DA50","v":"導入設備_導入台数"},{"$f":"'（別添４）エネルギー消費効率の根拠（要件ア）'!DB50","v":"台"}]
[821,{"$f":"'（別添４）エネルギー消費効率の根拠（要件ア）'!CZ51","v":"別添4_26_11_CZ20"},{"$f":"'（別添４）エネルギー消費効率の根拠（要件ア）'!DA51","v":"導入設備_1台あたりの使用エネルギー"},{"$f":"'（別添４）エネルギー消費効率の根拠（要件ア）'!DB51","v":0}]
[822,{"$f":"'（別添４）エネルギー消費効率の根拠（要件ア）'!CZ52","v":"別添4_26_12_CZ21"},{"$f":"'（別添４）エネルギー消費効率の根拠（要件ア）'!DA52","v":"導入設備_年間エネルギー使用量計算式"},{"$f":"'（別添４）エネルギー消費効率の根拠（要件ア）'!DB52","v":0}]
[823,{"$f":"'（別添４）エネルギー消費効率の根拠（要件ア）'!CZ53","v":"別添4_26_13_CZ22&DA22"},{"$f":"'（別添４）エネルギー消費効率の根拠（要件ア）'!DA53","v":"導入設備_計算結果"},{"$f":"'（別添４）エネルギー消費効率の根拠（要件ア）'!DB53","v":"単位を選択してください"}]
[824,{"$f":"'（別添４）エネルギー消費効率の根拠（要件ア）'!CZ54","v":"別添4_26_14_DB16"},{"$f":"'（別添４）エネルギー消費効率の根拠（要件ア）'!DA54","v":"一代前モデル_製品名"},{"$f":"'（別添４）エネルギー消費効率の根拠（要件ア）'!DB54","v":0}]
[825,{"$f":"'（別添４）エネルギー消費効率の根拠（要件ア）'!CZ55","v":"別添4_26_15_DB17"},{"$f":"'（別添４）エネルギー消費効率の根拠（要件ア）'!DA55","v":"一代前モデル_製造メーカー"},{"$f":"'（別添４）エネルギー消費効率の根拠（要件ア）'!DB55","v":0}]
[826,{"$f":"'（別添４）エネルギー消費効率の根拠（要件ア）'!CZ56","v":"別添4_26_16_DB18"},{"$f":"'（別添４）エネルギー消費効率の根拠（要件ア）'!DA56","v":"一代前モデル_型番"},{"$f":"'（別添４）エネルギー消費効率の根拠（要件ア）'!DB56","v":0}]
[827,{"$f":"'（別添４）エネルギー消費効率の根拠（要件ア）'!CZ57","v":"別添4_26_17_DB19&DC19"},{"$f":"'（別添４）エネルギー消費効率の根拠（要件ア）'!DA57","v":"一代前モデル_導入台数"},{"$f":"'（別添４）エネルギー消費効率の根拠（要件ア）'!DB57","v":"台"}]
[828,{"$f":"'（別添４）エネルギー消費効率の根拠（要件ア）'!CZ58","v":"別添4_26_18_DB20"},{"$f":"'（別添４）エネルギー消費効率の根拠（要件ア）'!DA58","v":"一代前モデル_1台あたりの使用エネルギー"},{"$f":"'（別添４）エネルギー消費効率の根拠（要件ア）'!DB58","v":0}]
[829,{"$f":"'（別添４）エネルギー消費効率の根拠（要件ア）'!CZ59","v":"別添4_26_19_DB21"},{"$f":"'（別添４）エネルギー消費効率の根拠（要件ア）'!DA59","v":"一代前モデル_年間エネルギー使用量計算式"},{"$f":"'（別添４）エネルギー消費効率の根拠（要件ア）'!DB59","v":0}]
[830,{"$f":"'（別添４）エネルギー消費効率の根拠（要件ア）'!CZ60","v":"別添4_26_20_DB22&DC22"},{"$f":"'（別添４）エネルギー消費効率の根拠（要件ア）'!DA60","v":"一代前モデル_計算結果"},{"$f":"'（別添４）エネルギー消費効率の根拠（要件ア）'!DB60","v":"単位を選択してください"}]
[831,{"$f":"'（別添４）エネルギー消費効率の根拠（要件ア）'!CZ61","v":"別添4_26_21_CZ23&DA23"},{"$f":"'（別添４）エネルギー消費効率の根拠（要件ア）'!DA61","v":"年間見込み省エネルギー量__計算結果"},{"$f":"'（別添４）エネルギー消費効率の根拠（要件ア）'!DB61","v":"0単位を選択してください"}]
[832,{"$f":"'（別添４）エネルギー消費効率の根拠（要件ア）'!CZ62","v":"別添4_26_22_CZ25"},{"$f":"'（別添４）エネルギー消費効率の根拠（要件ア）'!DA62","v":"年間見込み省エネルギー量_原油換算計算式"},{"$f":"'（別添４）エネルギー消費効率の根拠（要件ア）'!DB62","v":0}]
[833,{"$f":"'（別添４）エネルギー消費効率の根拠（要件ア）'!CZ63","v":"別添4_26_23_CZ26"},{"$f":"'（別添４）エネルギー消費効率の根拠（要件ア）'!DA63","v":"年間見込み省エネルギー量原油換算計算結果"},{"$f":"'（別添４）エネルギー消費効率の根拠（要件ア）'!DB63","v":0}]
[834,{"$f":"'（別添４）エネルギー消費効率の根拠（要件ア）'!CZ64","v":"別添4_26_24_CZ27"},{"$f":"'（別添４）エネルギー消費効率の根拠（要件ア）'!DA64","v":"年間見込み省エネルギー率_自動計算"},{"$f":"'（別添４）エネルギー消費効率の根拠（要件ア）'!DB64","v":""}]
[835,{"$f":"'（別添４）エネルギー消費効率の根拠（要件ア）'!DD41","v":"別添4_27_1_DD9"},{"$f":"'（別添４）エネルギー消費効率の根拠（要件ア）'!DE41","v":"トップランナー基準"},{"$f":"'（別添４）エネルギー消費効率の根拠（要件ア）'!DF41","v":0}]
[836,{"$f":"'（別添４）エネルギー消費効率の根拠（要件ア）'!DD42","v":"別添4_27_2_DD10"},{"$f":"'（別添４）エネルギー消費効率の根拠（要件ア）'!DE42","v":"トップランナー基準の区分名又は数値"},{"$f":"'（別添４）エネルギー消費効率の根拠（要件ア）'!DF42","v":0}]
[837,{"$f":"'（別添４）エネルギー消費効率の根拠（要件ア）'!DD43","v":"別添4_27_3_DD11"},{"$f":"'（別添４）エネルギー消費効率の根拠（要件ア）'!DE43","v":"トップランナー基準の数値（導入設備）"},{"$f":"'（別添４）エネルギー消費効率の根拠（要件ア）'!DF43","v":0}]
[838,{"$f":"'（別添４）エネルギー消費効率の根拠（要件ア）'!DD44","v":"別添4_27_4_DD12"},{"$f":"'（別添４）エネルギー消費効率の根拠（要件ア）'!DE44","v":"比較指標/トップランナー基準"},{"$f":"'（別添４）エネルギー消費効率の根拠（要件ア）'!DF44","v":0}]
[839,{"$f":"'（別添４）エネルギー消費効率の根拠（要件ア）'!DD45","v":"別添4_27_5_DD13"},{"$f":"'（別添４）エネルギー消費効率の根拠（要件ア）'!DE45","v":"添付資料の根拠記載箇所"},{"$f":"'（別添４）エネルギー消費効率の根拠（要件ア）'!DF45","v":0}]
[840,{"$f":"'（別添４）エネルギー消費効率の根拠（要件ア）'!DD46","v":"別添4_27_6_DD14"},{"$f":"'（別添４）エネルギー消費効率の根拠（要件ア）'!DE46","v":"省エネ要因"},{"$f":"'（別添４）エネルギー消費効率の根拠（要件ア）'!DF46","v":0}]
[841,{"$f":"'（別添４）エネルギー消費効率の根拠（要件ア）'!DD47","v":"別添4_27_7_DD16"},{"$f":"'（別添４）エネルギー消費効率の根拠（要件ア）'!DE47","v":"導入設備_製品名"},{"$f":"'（別添４）エネルギー消費効率の根拠（要件ア）'!DF47","v":0}]
[842,{"$f":"'（別添４）エネルギー消費効率の根拠（要件ア）'!DD48","v":"別添4_27_8_DD17"},{"$f":"'（別添４）エネルギー消費効率の根拠（要件ア）'!DE48","v":"導入設備_製造メーカー"},{"$f":"'（別添４）エネルギー消費効率の根拠（要件ア）'!DF48","v":0}]
[843,{"$f":"'（別添４）エネルギー消費効率の根拠（要件ア）'!DD49","v":"別添4_27_9_DD18"},{"$f":"'（別添４）エネルギー消費効率の根拠（要件ア）'!DE49","v":"導入設備_型番"},{"$f":"'（別添４）エネルギー消費効率の根拠（要件ア）'!DF49","v":0}]
[{"$f":"ROW()-1","v":844},{"$f":"'（別添４）エネルギー消費効率の根拠（要件ア）'!DD50","v":"別添4_27_10_DD19&DE19"},{"$f":"'（別添４）エネルギー消費効率の根拠（要件ア）'!DE50","v":"導入設備_導入台数"},{"$f":"'（別添４）エネルギー消費効率の根拠（要件ア）'!DF50","v":"台"}]
[845,{"$f":"'（別添４）エネルギー消費効率の根拠（要件ア）'!DD51","v":"別添4_27_11_DD20"},{"$f":"'（別添４）エネルギー消費効率の根拠（要件ア）'!DE51","v":"導入設備_1台あたりの使用エネルギー"},{"$f":"'（別添４）エネルギー消費効率の根拠（要件ア）'!DF51","v":0}]
[846,{"$f":"'（別添４）エネルギー消費効率の根拠（要件ア）'!DD52","v":"別添4_27_12_DD21"},{"$f":"'（別添４）エネルギー消費効率の根拠（要件ア）'!DE52","v":"導入設備_年間エネルギー使用量計算式"},{"$f":"'（別添４）エネルギー消費効率の根拠（要件ア）'!DF52","v":0}]
[847,{"$f":"'（別添４）エネルギー消費効率の根拠（要件ア）'!DD53","v":"別添4_27_13_DD22&DE22"},{"$f":"'（別添４）エネルギー消費効率の根拠（要件ア）'!DE53","v":"導入設備_計算結果"},{"$f":"'（別添４）エネルギー消費効率の根拠（要件ア）'!DF53","v":"単位を選択してください"}]
[848,{"$f":"'（別添４）エネルギー消費効率の根拠（要件ア）'!DD54","v":"別添4_27_14_DF16"},{"$f":"'（別添４）エネルギー消費効率の根拠（要件ア）'!DE54","v":"一代前モデル_製品名"},{"$f":"'（別添４）エネルギー消費効率の根拠（要件ア）'!DF54","v":0}]
[849,{"$f":"'（別添４）エネルギー消費効率の根拠（要件ア）'!DD55","v":"別添4_27_15_DF17"},{"$f":"'（別添４）エネルギー消費効率の根拠（要件ア）'!DE55","v":"一代前モデル_製造メーカー"},{"$f":"'（別添４）エネルギー消費効率の根拠（要件ア）'!DF55","v":0}]
[850,{"$f":"'（別添４）エネルギー消費効率の根拠（要件ア）'!DD56","v":"別添4_27_16_DF18"},{"$f":"'（別添４）エネルギー消費効率の根拠（要件ア）'!DE56","v":"一代前モデル_型番"},{"$f":"'（別添４）エネルギー消費効率の根拠（要件ア）'!DF56","v":0}]
[851,{"$f":"'（別添４）エネルギー消費効率の根拠（要件ア）'!DD57","v":"別添4_27_17_DF19&DG19"},{"$f":"'（別添４）エネルギー消費効率の根拠（要件ア）'!DE57","v":"一代前モデル_導入台数"},{"$f":"'（別添４）エネルギー消費効率の根拠（要件ア）'!DF57","v":"台"}]
[852,{"$f":"'（別添４）エネルギー消費効率の根拠（要件ア）'!DD58","v":"別添4_27_18_DF20"},{"$f":"'（別添４）エネルギー消費効率の根拠（要件ア）'!DE58","v":"一代前モデル_1台あたりの使用エネルギー"},{"$f":"'（別添４）エネルギー消費効率の根拠（要件ア）'!DF58","v":0}]
[853,{"$f":"'（別添４）エネルギー消費効率の根拠（要件ア）'!DD59","v":"別添4_27_19_DF21"},{"$f":"'（別添４）エネルギー消費効率の根拠（要件ア）'!DE59","v":"一代前モデル_年間エネルギー使用量計算式"},{"$f":"'（別添４）エネルギー消費効率の根拠（要件ア）'!DF59","v":0}]
[854,{"$f":"'（別添４）エネルギー消費効率の根拠（要件ア）'!DD60","v":"別添4_27_20_DF22&DG22"},{"$f":"'（別添４）エネルギー消費効率の根拠（要件ア）'!DE60","v":"一代前モデル_計算結果"},{"$f":"'（別添４）エネルギー消費効率の根拠（要件ア）'!DF60","v":"単位を選択してください"}]
[855,{"$f":"'（別添４）エネルギー消費効率の根拠（要件ア）'!DD61","v":"別添4_27_21_DD23&DE23"},{"$f":"'（別添４）エネルギー消費効率の根拠（要件ア）'!DE61","v":"年間見込み省エネルギー量__計算結果"},{"$f":"'（別添４）エネルギー消費効率の根拠（要件ア）'!DF61","v":"0単位を選択してください"}]
[856,{"$f":"'（別添４）エネルギー消費効率の根拠（要件ア）'!DD62","v":"別添4_27_22_DD25"},{"$f":"'（別添４）エネルギー消費効率の根拠（要件ア）'!DE62","v":"年間見込み省エネルギー量_原油換算計算式"},{"$f":"'（別添４）エネルギー消費効率の根拠（要件ア）'!DF62","v":0}]
[857,{"$f":"'（別添４）エネルギー消費効率の根拠（要件ア）'!DD63","v":"別添4_27_23_DD26"},{"$f":"'（別添４）エネルギー消費効率の根拠（要件ア）'!DE63","v":"年間見込み省エネルギー量原油換算計算結果"},{"$f":"'（別添４）エネルギー消費効率の根拠（要件ア）'!DF63","v":0}]
[858,{"$f":"'（別添４）エネルギー消費効率の根拠（要件ア）'!DD64","v":"別添4_27_24_DD27"},{"$f":"'（別添４）エネルギー消費効率の根拠（要件ア）'!DE64","v":"年間見込み省エネルギー率_自動計算"},{"$f":"'（別添４）エネルギー消費効率の根拠（要件ア）'!DF64","v":""}]
[859,{"$f":"'（別添４）エネルギー消費効率の根拠（要件ア）'!DH41","v":"別添4_28_1_DH9"},{"$f":"'（別添４）エネルギー消費効率の根拠（要件ア）'!DI41","v":"トップランナー基準"},{"$f":"'（別添４）エネルギー消費効率の根拠（要件ア）'!DJ41","v":0}]
[860,{"$f":"'（別添４）エネルギー消費効率の根拠（要件ア）'!DH42","v":"別添4_28_2_DH10"},{"$f":"'（別添４）エネルギー消費効率の根拠（要件ア）'!DI42","v":"トップランナー基準の区分名又は数値"},{"$f":"'（別添４）エネルギー消費効率の根拠（要件ア）'!DJ42","v":0}]
[861,{"$f":"'（別添４）エネルギー消費効率の根拠（要件ア）'!DH43","v":"別添4_28_3_DH11"},{"$f":"'（別添４）エネルギー消費効率の根拠（要件ア）'!DI43","v":"トップランナー基準の数値（導入設備）"},{"$f":"'（別添４）エネルギー消費効率の根拠（要件ア）'!DJ43","v":0}]
[862,{"$f":"'（別添４）エネルギー消費効率の根拠（要件ア）'!DH44","v":"別添4_28_4_DH12"},{"$f":"'（別添４）エネルギー消費効率の根拠（要件ア）'!DI44","v":"比較指標/トップランナー基準"},{"$f":"'（別添４）エネルギー消費効率の根拠（要件ア）'!DJ44","v":0}]
[863,{"$f":"'（別添４）エネルギー消費効率の根拠（要件ア）'!DH45","v":"別添4_28_5_DH13"},{"$f":"'（別添４）エネルギー消費効率の根拠（要件ア）'!DI45","v":"添付資料の根拠記載箇所"},{"$f":"'（別添４）エネルギー消費効率の根拠（要件ア）'!DJ45","v":0}]
[864,{"$f":"'（別添４）エネルギー消費効率の根拠（要件ア）'!DH46","v":"別添4_28_6_DH14"},{"$f":"'（別添４）エネルギー消費効率の根拠（要件ア）'!DI46","v":"省エネ要因"},{"$f":"'（別添４）エネルギー消費効率の根拠（要件ア）'!DJ46","v":0}]
[865,{"$f":"'（別添４）エネルギー消費効率の根拠（要件ア）'!DH47","v":"別添4_28_7_DH16"},{"$f":"'（別添４）エネルギー消費効率の根拠（要件ア）'!DI47","v":"導入設備_製品名"},{"$f":"'（別添４）エネルギー消費効率の根拠（要件ア）'!DJ47","v":0}]
[866,{"$f":"'（別添４）エネルギー消費効率の根拠（要件ア）'!DH48","v":"別添4_28_8_DH17"},{"$f":"'（別添４）エネルギー消費効率の根拠（要件ア）'!DI48","v":"導入設備_製造メーカー"},{"$f":"'（別添４）エネルギー消費効率の根拠（要件ア）'!DJ48","v":0}]
[867,{"$f":"'（別添４）エネルギー消費効率の根拠（要件ア）'!DH49","v":"別添4_28_9_DH18"},{"$f":"'（別添４）エネルギー消費効率の根拠（要件ア）'!DI49","v":"導入設備_型番"},{"$f":"'（別添４）エネルギー消費効率の根拠（要件ア）'!DJ49","v":0}]
[868,{"$f":"'（別添４）エネルギー消費効率の根拠（要件ア）'!DH50","v":"別添4_28_10_DH19&DI19"},{"$f":"'（別添４）エネルギー消費効率の根拠（要件ア）'!DI50","v":"導入設備_導入台数"},{"$f":"'（別添４）エネルギー消費効率の根拠（要件ア）'!DJ50","v":"台"}]
[869,{"$f":"'（別添４）エネルギー消費効率の根拠（要件ア）'!DH51","v":"別添4_28_11_DH20"},{"$f":"'（別添４）エネルギー消費効率の根拠（要件ア）'!DI51","v":"導入設備_1台あたりの使用エネルギー"},{"$f":"'（別添４）エネルギー消費効率の根拠（要件ア）'!DJ51","v":0}]
[870,{"$f":"'（別添４）エネルギー消費効率の根拠（要件ア）'!DH52","v":"別添4_28_12_DH21"},{"$f":"'（別添４）エネルギー消費効率の根拠（要件ア）'!DI52","v":"導入設備_年間エネルギー使用量計算式"},{"$f":"'（別添４）エネルギー消費効率の根拠（要件ア）'!DJ52","v":0}]
[871,{"$f":"'（別添４）エネルギー消費効率の根拠（要件ア）'!DH53","v":"別添4_28_13_DH22&DI22"},{"$f":"'（別添４）エネルギー消費効率の根拠（要件ア）'!DI53","v":"導入設備_計算結果"},{"$f":"'（別添４）エネルギー消費効率の根拠（要件ア）'!DJ53","v":"単位を選択してください"}]
[872,{"$f":"'（別添４）エネルギー消費効率の根拠（要件ア）'!DH54","v":"別添4_28_14_DJ16"},{"$f":"'（別添４）エネルギー消費効率の根拠（要件ア）'!DI54","v":"一代前モデル_製品名"},{"$f":"'（別添４）エネルギー消費効率の根拠（要件ア）'!DJ54","v":0}]
[873,{"$f":"'（別添４）エネルギー消費効率の根拠（要件ア）'!DH55","v":"別添4_28_15_DJ17"},{"$f":"'（別添４）エネルギー消費効率の根拠（要件ア）'!DI55","v":"一代前モデル_製造メーカー"},{"$f":"'（別添４）エネルギー消費効率の根拠（要件ア）'!DJ55","v":0}]
[874,{"$f":"'（別添４）エネルギー消費効率の根拠（要件ア）'!DH56","v":"別添4_28_16_DJ18"},{"$f":"'（別添４）エネルギー消費効率の根拠（要件ア）'!DI56","v":"一代前モデル_型番"},{"$f":"'（別添４）エネルギー消費効率の根拠（要件ア）'!DJ56","v":0}]
[875,{"$f":"'（別添４）エネルギー消費効率の根拠（要件ア）'!DH57","v":"別添4_28_17_DJ19&DK19"},{"$f":"'（別添４）エネルギー消費効率の根拠（要件ア）'!DI57","v":"一代前モデル_導入台数"},{"$f":"'（別添４）エネルギー消費効率の根拠（要件ア）'!DJ57","v":"台"}]
[876,{"$f":"'（別添４）エネルギー消費効率の根拠（要件ア）'!DH58","v":"別添4_28_18_DJ20"},{"$f":"'（別添４）エネルギー消費効率の根拠（要件ア）'!DI58","v":"一代前モデル_1台あたりの使用エネルギー"},{"$f":"'（別添４）エネルギー消費効率の根拠（要件ア）'!DJ58","v":0}]
[877,{"$f":"'（別添４）エネルギー消費効率の根拠（要件ア）'!DH59","v":"別添4_28_19_DJ21"},{"$f":"'（別添４）エネルギー消費効率の根拠（要件ア）'!DI59","v":"一代前モデル_年間エネルギー使用量計算式"},{"$f":"'（別添４）エネルギー消費効率の根拠（要件ア）'!DJ59","v":0}]
[878,{"$f":"'（別添４）エネルギー消費効率の根拠（要件ア）'!DH60","v":"別添4_28_20_DJ22&DK22"},{"$f":"'（別添４）エネルギー消費効率の根拠（要件ア）'!DI60","v":"一代前モデル_計算結果"},{"$f":"'（別添４）エネルギー消費効率の根拠（要件ア）'!DJ60","v":"単位を選択してください"}]
[879,{"$f":"'（別添４）エネルギー消費効率の根拠（要件ア）'!DH61","v":"別添4_28_21_DH23&DI23"},{"$f":"'（別添４）エネルギー消費効率の根拠（要件ア）'!DI61","v":"年間見込み省エネルギー量__計算結果"},{"$f":"'（別添４）エネルギー消費効率の根拠（要件ア）'!DJ61","v":"0単位を選択してください"}]
[880,{"$f":"'（別添４）エネルギー消費効率の根拠（要件ア）'!DH62","v":"別添4_28_22_DH25"},{"$f":"'（別添４）エネルギー消費効率の根拠（要件ア）'!DI62","v":"年間見込み省エネルギー量_原油換算計算式"},{"$f":"'（別添４）エネルギー消費効率の根拠（要件ア）'!DJ62","v":0}]
[881,{"$f":"'（別添４）エネルギー消費効率の根拠（要件ア）'!DH63","v":"別添4_28_23_DH26"},{"$f":"'（別添４）エネルギー消費効率の根拠（要件ア）'!DI63","v":"年間見込み省エネルギー量原油換算計算結果"},{"$f":"'（別添４）エネルギー消費効率の根拠（要件ア）'!DJ63","v":0}]
[882,{"$f":"'（別添４）エネルギー消費効率の根拠（要件ア）'!DH64","v":"別添4_28_24_DH27"},{"$f":"'（別添４）エネルギー消費効率の根拠（要件ア）'!DI64","v":"年間見込み省エネルギー率_自動計算"},{"$f":"'（別添４）エネルギー消費効率の根拠（要件ア）'!DJ64","v":""}]
[883,{"$f":"'（別添４）エネルギー消費効率の根拠（要件ア）'!DL41","v":"別添4_29_1_DL9"},{"$f":"'（別添４）エネルギー消費効率の根拠（要件ア）'!DM41","v":"トップランナー基準"},{"$f":"'（別添４）エネルギー消費効率の根拠（要件ア）'!DN41","v":0}]
[884,{"$f":"'（別添４）エネルギー消費効率の根拠（要件ア）'!DL42","v":"別添4_29_2_DL10"},{"$f":"'（別添４）エネルギー消費効率の根拠（要件ア）'!DM42","v":"トップランナー基準の区分名又は数値"},{"$f":"'（別添４）エネルギー消費効率の根拠（要件ア）'!DN42","v":0}]
[885,{"$f":"'（別添４）エネルギー消費効率の根拠（要件ア）'!DL43","v":"別添4_29_3_DL11"},{"$f":"'（別添４）エネルギー消費効率の根拠（要件ア）'!DM43","v":"トップランナー基準の数値（導入設備）"},{"$f":"'（別添４）エネルギー消費効率の根拠（要件ア）'!DN43","v":0}]
[886,{"$f":"'（別添４）エネルギー消費効率の根拠（要件ア）'!DL44","v":"別添4_29_4_DL12"},{"$f":"'（別添４）エネルギー消費効率の根拠（要件ア）'!DM44","v":"比較指標/トップランナー基準"},{"$f":"'（別添４）エネルギー消費効率の根拠（要件ア）'!DN44","v":0}]
[887,{"$f":"'（別添４）エネルギー消費効率の根拠（要件ア）'!DL45","v":"別添4_29_5_DL13"},{"$f":"'（別添４）エネルギー消費効率の根拠（要件ア）'!DM45","v":"添付資料の根拠記載箇所"},{"$f":"'（別添４）エネルギー消費効率の根拠（要件ア）'!DN45","v":0}]
[888,{"$f":"'（別添４）エネルギー消費効率の根拠（要件ア）'!DL46","v":"別添4_29_6_DL14"},{"$f":"'（別添４）エネルギー消費効率の根拠（要件ア）'!DM46","v":"省エネ要因"},{"$f":"'（別添４）エネルギー消費効率の根拠（要件ア）'!DN46","v":0}]
[889,{"$f":"'（別添４）エネルギー消費効率の根拠（要件ア）'!DL47","v":"別添4_29_7_DL16"},{"$f":"'（別添４）エネルギー消費効率の根拠（要件ア）'!DM47","v":"導入設備_製品名"},{"$f":"'（別添４）エネルギー消費効率の根拠（要件ア）'!DN47","v":0}]
[890,{"$f":"'（別添４）エネルギー消費効率の根拠（要件ア）'!DL48","v":"別添4_29_8_DL17"},{"$f":"'（別添４）エネルギー消費効率の根拠（要件ア）'!DM48","v":"導入設備_製造メーカー"},{"$f":"'（別添４）エネルギー消費効率の根拠（要件ア）'!DN48","v":0}]
[891,{"$f":"'（別添４）エネルギー消費効率の根拠（要件ア）'!DL49","v":"別添4_29_9_DL18"},{"$f":"'（別添４）エネルギー消費効率の根拠（要件ア）'!DM49","v":"導入設備_型番"},{"$f":"'（別添４）エネルギー消費効率の根拠（要件ア）'!DN49","v":0}]
[892,{"$f":"'（別添４）エネルギー消費効率の根拠（要件ア）'!DL50","v":"別添4_29_10_DL19&DM19"},{"$f":"'（別添４）エネルギー消費効率の根拠（要件ア）'!DM50","v":"導入設備_導入台数"},{"$f":"'（別添４）エネルギー消費効率の根拠（要件ア）'!DN50","v":"台"}]
[893,{"$f":"'（別添４）エネルギー消費効率の根拠（要件ア）'!DL51","v":"別添4_29_11_DL20"},{"$f":"'（別添４）エネルギー消費効率の根拠（要件ア）'!DM51","v":"導入設備_1台あたりの使用エネルギー"},{"$f":"'（別添４）エネルギー消費効率の根拠（要件ア）'!DN51","v":0}]
[894,{"$f":"'（別添４）エネルギー消費効率の根拠（要件ア）'!DL52","v":"別添4_29_12_DL21"},{"$f":"'（別添４）エネルギー消費効率の根拠（要件ア）'!DM52","v":"導入設備_年間エネルギー使用量計算式"},{"$f":"'（別添４）エネルギー消費効率の根拠（要件ア）'!DN52","v":0}]
[895,{"$f":"'（別添４）エネルギー消費効率の根拠（要件ア）'!DL53","v":"別添4_29_13_DL22&DM22"},{"$f":"'（別添４）エネルギー消費効率の根拠（要件ア）'!DM53","v":"導入設備_計算結果"},{"$f":"'（別添４）エネルギー消費効率の根拠（要件ア）'!DN53","v":"単位を選択してください"}]
[896,{"$f":"'（別添４）エネルギー消費効率の根拠（要件ア）'!DL54","v":"別添4_29_14_DN16"},{"$f":"'（別添４）エネルギー消費効率の根拠（要件ア）'!DM54","v":"一代前モデル_製品名"},{"$f":"'（別添４）エネルギー消費効率の根拠（要件ア）'!DN54","v":0}]
[897,{"$f":"'（別添４）エネルギー消費効率の根拠（要件ア）'!DL55","v":"別添4_29_15_DN17"},{"$f":"'（別添４）エネルギー消費効率の根拠（要件ア）'!DM55","v":"一代前モデル_製造メーカー"},{"$f":"'（別添４）エネルギー消費効率の根拠（要件ア）'!DN55","v":0}]
[898,{"$f":"'（別添４）エネルギー消費効率の根拠（要件ア）'!DL56","v":"別添4_29_16_DN18"},{"$f":"'（別添４）エネルギー消費効率の根拠（要件ア）'!DM56","v":"一代前モデル_型番"},{"$f":"'（別添４）エネルギー消費効率の根拠（要件ア）'!DN56","v":0}]
[899,{"$f":"'（別添４）エネルギー消費効率の根拠（要件ア）'!DL57","v":"別添4_29_17_DN19&DO19"},{"$f":"'（別添４）エネルギー消費効率の根拠（要件ア）'!DM57","v":"一代前モデル_導入台数"},{"$f":"'（別添４）エネルギー消費効率の根拠（要件ア）'!DN57","v":"台"}]
[900,{"$f":"'（別添４）エネルギー消費効率の根拠（要件ア）'!DL58","v":"別添4_29_18_DN20"},{"$f":"'（別添４）エネルギー消費効率の根拠（要件ア）'!DM58","v":"一代前モデル_1台あたりの使用エネルギー"},{"$f":"'（別添４）エネルギー消費効率の根拠（要件ア）'!DN58","v":0}]
[901,{"$f":"'（別添４）エネルギー消費効率の根拠（要件ア）'!DL59","v":"別添4_29_19_DN21"},{"$f":"'（別添４）エネルギー消費効率の根拠（要件ア）'!DM59","v":"一代前モデル_年間エネルギー使用量計算式"},{"$f":"'（別添４）エネルギー消費効率の根拠（要件ア）'!DN59","v":0}]
[902,{"$f":"'（別添４）エネルギー消費効率の根拠（要件ア）'!DL60","v":"別添4_29_20_DN22&DO22"},{"$f":"'（別添４）エネルギー消費効率の根拠（要件ア）'!DM60","v":"一代前モデル_計算結果"},{"$f":"'（別添４）エネルギー消費効率の根拠（要件ア）'!DN60","v":"単位を選択してください"}]
[903,{"$f":"'（別添４）エネルギー消費効率の根拠（要件ア）'!DL61","v":"別添4_29_21_DL23&DM23"},{"$f":"'（別添４）エネルギー消費効率の根拠（要件ア）'!DM61","v":"年間見込み省エネルギー量__計算結果"},{"$f":"'（別添４）エネルギー消費効率の根拠（要件ア）'!DN61","v":"0単位を選択してください"}]
[904,{"$f":"'（別添４）エネルギー消費効率の根拠（要件ア）'!DL62","v":"別添4_29_22_DL25"},{"$f":"'（別添４）エネルギー消費効率の根拠（要件ア）'!DM62","v":"年間見込み省エネルギー量_原油換算計算式"},{"$f":"'（別添４）エネルギー消費効率の根拠（要件ア）'!DN62","v":0}]
[905,{"$f":"'（別添４）エネルギー消費効率の根拠（要件ア）'!DL63","v":"別添4_29_23_DL26"},{"$f":"'（別添４）エネルギー消費効率の根拠（要件ア）'!DM63","v":"年間見込み省エネルギー量原油換算計算結果"},{"$f":"'（別添４）エネルギー消費効率の根拠（要件ア）'!DN63","v":0}]
[906,{"$f":"'（別添４）エネルギー消費効率の根拠（要件ア）'!DL64","v":"別添4_29_24_DL27"},{"$f":"'（別添４）エネルギー消費効率の根拠（要件ア）'!DM64","v":"年間見込み省エネルギー率_自動計算"},{"$f":"'（別添４）エネルギー消費効率の根拠（要件ア）'!DN64","v":""}]
[907,{"$f":"'（別添４）エネルギー消費効率の根拠（要件ア）'!DP41","v":"別添4_30_1_DP9"},{"$f":"'（別添４）エネルギー消費効率の根拠（要件ア）'!DQ41","v":"トップランナー基準"},{"$f":"'（別添４）エネルギー消費効率の根拠（要件ア）'!DR41","v":0}]
[{"$f":"ROW()-1","v":908},{"$f":"'（別添４）エネルギー消費効率の根拠（要件ア）'!DP42","v":"別添4_30_2_DP10"},{"$f":"'（別添４）エネルギー消費効率の根拠（要件ア）'!DQ42","v":"トップランナー基準の区分名又は数値"},{"$f":"'（別添４）エネルギー消費効率の根拠（要件ア）'!DR42","v":0}]
[909,{"$f":"'（別添４）エネルギー消費効率の根拠（要件ア）'!DP43","v":"別添4_30_3_DP11"},{"$f":"'（別添４）エネルギー消費効率の根拠（要件ア）'!DQ43","v":"トップランナー基準の数値（導入設備）"},{"$f":"'（別添４）エネルギー消費効率の根拠（要件ア）'!DR43","v":0}]
[910,{"$f":"'（別添４）エネルギー消費効率の根拠（要件ア）'!DP44","v":"別添4_30_4_DP12"},{"$f":"'（別添４）エネルギー消費効率の根拠（要件ア）'!DQ44","v":"比較指標/トップランナー基準"},{"$f":"'（別添４）エネルギー消費効率の根拠（要件ア）'!DR44","v":0}]
[911,{"$f":"'（別添４）エネルギー消費効率の根拠（要件ア）'!DP45","v":"別添4_30_5_DP13"},{"$f":"'（別添４）エネルギー消費効率の根拠（要件ア）'!DQ45","v":"添付資料の根拠記載箇所"},{"$f":"'（別添４）エネルギー消費効率の根拠（要件ア）'!DR45","v":0}]
[912,{"$f":"'（別添４）エネルギー消費効率の根拠（要件ア）'!DP46","v":"別添4_30_6_DP14"},{"$f":"'（別添４）エネルギー消費効率の根拠（要件ア）'!DQ46","v":"省エネ要因"},{"$f":"'（別添４）エネルギー消費効率の根拠（要件ア）'!DR46","v":0}]
[913,{"$f":"'（別添４）エネルギー消費効率の根拠（要件ア）'!DP47","v":"別添4_30_7_DP16"},{"$f":"'（別添４）エネルギー消費効率の根拠（要件ア）'!DQ47","v":"導入設備_製品名"},{"$f":"'（別添４）エネルギー消費効率の根拠（要件ア）'!DR47","v":0}]
[914,{"$f":"'（別添４）エネルギー消費効率の根拠（要件ア）'!DP48","v":"別添4_30_8_DP17"},{"$f":"'（別添４）エネルギー消費効率の根拠（要件ア）'!DQ48","v":"導入設備_製造メーカー"},{"$f":"'（別添４）エネルギー消費効率の根拠（要件ア）'!DR48","v":0}]
[915,{"$f":"'（別添４）エネルギー消費効率の根拠（要件ア）'!DP49","v":"別添4_30_9_DP18"},{"$f":"'（別添４）エネルギー消費効率の根拠（要件ア）'!DQ49","v":"導入設備_型番"},{"$f":"'（別添４）エネルギー消費効率の根拠（要件ア）'!DR49","v":0}]
[916,{"$f":"'（別添４）エネルギー消費効率の根拠（要件ア）'!DP50","v":"別添4_30_10_DP19&DQ19"},{"$f":"'（別添４）エネルギー消費効率の根拠（要件ア）'!DQ50","v":"導入設備_導入台数"},{"$f":"'（別添４）エネルギー消費効率の根拠（要件ア）'!DR50","v":"台"}]
[917,{"$f":"'（別添４）エネルギー消費効率の根拠（要件ア）'!DP51","v":"別添4_30_11_DP20"},{"$f":"'（別添４）エネルギー消費効率の根拠（要件ア）'!DQ51","v":"導入設備_1台あたりの使用エネルギー"},{"$f":"'（別添４）エネルギー消費効率の根拠（要件ア）'!DR51","v":0}]
[918,{"$f":"'（別添４）エネルギー消費効率の根拠（要件ア）'!DP52","v":"別添4_30_12_DP21"},{"$f":"'（別添４）エネルギー消費効率の根拠（要件ア）'!DQ52","v":"導入設備_年間エネルギー使用量計算式"},{"$f":"'（別添４）エネルギー消費効率の根拠（要件ア）'!DR52","v":0}]
[919,{"$f":"'（別添４）エネルギー消費効率の根拠（要件ア）'!DP53","v":"別添4_30_13_DP22&DQ22"},{"$f":"'（別添４）エネルギー消費効率の根拠（要件ア）'!DQ53","v":"導入設備_計算結果"},{"$f":"'（別添４）エネルギー消費効率の根拠（要件ア）'!DR53","v":"単位を選択してください"}]
[920,{"$f":"'（別添４）エネルギー消費効率の根拠（要件ア）'!DP54","v":"別添4_30_14_DR16"},{"$f":"'（別添４）エネルギー消費効率の根拠（要件ア）'!DQ54","v":"一代前モデル_製品名"},{"$f":"'（別添４）エネルギー消費効率の根拠（要件ア）'!DR54","v":0}]
[921,{"$f":"'（別添４）エネルギー消費効率の根拠（要件ア）'!DP55","v":"別添4_30_15_DR17"},{"$f":"'（別添４）エネルギー消費効率の根拠（要件ア）'!DQ55","v":"一代前モデル_製造メーカー"},{"$f":"'（別添４）エネルギー消費効率の根拠（要件ア）'!DR55","v":0}]
[922,{"$f":"'（別添４）エネルギー消費効率の根拠（要件ア）'!DP56","v":"別添4_30_16_DR18"},{"$f":"'（別添４）エネルギー消費効率の根拠（要件ア）'!DQ56","v":"一代前モデル_型番"},{"$f":"'（別添４）エネルギー消費効率の根拠（要件ア）'!DR56","v":0}]
[923,{"$f":"'（別添４）エネルギー消費効率の根拠（要件ア）'!DP57","v":"別添4_30_17_DR19&DS19"},{"$f":"'（別添４）エネルギー消費効率の根拠（要件ア）'!DQ57","v":"一代前モデル_導入台数"},{"$f":"'（別添４）エネルギー消費効率の根拠（要件ア）'!DR57","v":"台"}]
[924,{"$f":"'（別添４）エネルギー消費効率の根拠（要件ア）'!DP58","v":"別添4_30_18_DR20"},{"$f":"'（別添４）エネルギー消費効率の根拠（要件ア）'!DQ58","v":"一代前モデル_1台あたりの使用エネルギー"},{"$f":"'（別添４）エネルギー消費効率の根拠（要件ア）'!DR58","v":0}]
[925,{"$f":"'（別添４）エネルギー消費効率の根拠（要件ア）'!DP59","v":"別添4_30_19_DR21"},{"$f":"'（別添４）エネルギー消費効率の根拠（要件ア）'!DQ59","v":"一代前モデル_年間エネルギー使用量計算式"},{"$f":"'（別添４）エネルギー消費効率の根拠（要件ア）'!DR59","v":0}]
[926,{"$f":"'（別添４）エネルギー消費効率の根拠（要件ア）'!DP60","v":"別添4_30_20_DR22&DS22"},{"$f":"'（別添４）エネルギー消費効率の根拠（要件ア）'!DQ60","v":"一代前モデル_計算結果"},{"$f":"'（別添４）エネルギー消費効率の根拠（要件ア）'!DR60","v":"単位を選択してください"}]
[927,{"$f":"'（別添４）エネルギー消費効率の根拠（要件ア）'!DP61","v":"別添4_30_21_DP23&DQ23"},{"$f":"'（別添４）エネルギー消費効率の根拠（要件ア）'!DQ61","v":"年間見込み省エネルギー量__計算結果"},{"$f":"'（別添４）エネルギー消費効率の根拠（要件ア）'!DR61","v":"0単位を選択してください"}]
[928,{"$f":"'（別添４）エネルギー消費効率の根拠（要件ア）'!DP62","v":"別添4_30_22_DP25"},{"$f":"'（別添４）エネルギー消費効率の根拠（要件ア）'!DQ62","v":"年間見込み省エネルギー量_原油換算計算式"},{"$f":"'（別添４）エネルギー消費効率の根拠（要件ア）'!DR62","v":0}]
[929,{"$f":"'（別添４）エネルギー消費効率の根拠（要件ア）'!DP63","v":"別添4_30_23_DP26"},{"$f":"'（別添４）エネルギー消費効率の根拠（要件ア）'!DQ63","v":"年間見込み省エネルギー量原油換算計算結果"},{"$f":"'（別添４）エネルギー消費効率の根拠（要件ア）'!DR63","v":0}]
[930,{"$f":"'（別添４）エネルギー消費効率の根拠（要件ア）'!DP64","v":"別添4_30_24_DP27"},{"$f":"'（別添４）エネルギー消費効率の根拠（要件ア）'!DQ64","v":"年間見込み省エネルギー率_自動計算"},{"$f":"'（別添４）エネルギー消費効率の根拠（要件ア）'!DR64","v":""}]
[931,{"$f":"'（別添４）エネルギー消費効率の根拠（要件ア）'!DT41","v":"別添4_31_1_DT9"},{"$f":"'（別添４）エネルギー消費効率の根拠（要件ア）'!DU41","v":"トップランナー基準"},{"$f":"'（別添４）エネルギー消費効率の根拠（要件ア）'!DV41","v":0}]
[932,{"$f":"'（別添４）エネルギー消費効率の根拠（要件ア）'!DT42","v":"別添4_31_2_DT10"},{"$f":"'（別添４）エネルギー消費効率の根拠（要件ア）'!DU42","v":"トップランナー基準の区分名又は数値"},{"$f":"'（別添４）エネルギー消費効率の根拠（要件ア）'!DV42","v":0}]
[933,{"$f":"'（別添４）エネルギー消費効率の根拠（要件ア）'!DT43","v":"別添4_31_3_DT11"},{"$f":"'（別添４）エネルギー消費効率の根拠（要件ア）'!DU43","v":"トップランナー基準の数値（導入設備）"},{"$f":"'（別添４）エネルギー消費効率の根拠（要件ア）'!DV43","v":0}]
[934,{"$f":"'（別添４）エネルギー消費効率の根拠（要件ア）'!DT44","v":"別添4_31_4_DT12"},{"$f":"'（別添４）エネルギー消費効率の根拠（要件ア）'!DU44","v":"比較指標/トップランナー基準"},{"$f":"'（別添４）エネルギー消費効率の根拠（要件ア）'!DV44","v":0}]
[935,{"$f":"'（別添４）エネルギー消費効率の根拠（要件ア）'!DT45","v":"別添4_31_5_DT13"},{"$f":"'（別添４）エネルギー消費効率の根拠（要件ア）'!DU45","v":"添付資料の根拠記載箇所"},{"$f":"'（別添４）エネルギー消費効率の根拠（要件ア）'!DV45","v":0}]
[936,{"$f":"'（別添４）エネルギー消費効率の根拠（要件ア）'!DT46","v":"別添4_31_6_DT14"},{"$f":"'（別添４）エネルギー消費効率の根拠（要件ア）'!DU46","v":"省エネ要因"},{"$f":"'（別添４）エネルギー消費効率の根拠（要件ア）'!DV46","v":0}]
[937,{"$f":"'（別添４）エネルギー消費効率の根拠（要件ア）'!DT47","v":"別添4_31_7_DT16"},{"$f":"'（別添４）エネルギー消費効率の根拠（要件ア）'!DU47","v":"導入設備_製品名"},{"$f":"'（別添４）エネルギー消費効率の根拠（要件ア）'!DV47","v":0}]
[938,{"$f":"'（別添４）エネルギー消費効率の根拠（要件ア）'!DT48","v":"別添4_31_8_DT17"},{"$f":"'（別添４）エネルギー消費効率の根拠（要件ア）'!DU48","v":"導入設備_製造メーカー"},{"$f":"'（別添４）エネルギー消費効率の根拠（要件ア）'!DV48","v":0}]
[939,{"$f":"'（別添４）エネルギー消費効率の根拠（要件ア）'!DT49","v":"別添4_31_9_DT18"},{"$f":"'（別添４）エネルギー消費効率の根拠（要件ア）'!DU49","v":"導入設備_型番"},{"$f":"'（別添４）エネルギー消費効率の根拠（要件ア）'!DV49","v":0}]
[940,{"$f":"'（別添４）エネルギー消費効率の根拠（要件ア）'!DT50","v":"別添4_31_10_DT19&DU19"},{"$f":"'（別添４）エネルギー消費効率の根拠（要件ア）'!DU50","v":"導入設備_導入台数"},{"$f":"'（別添４）エネルギー消費効率の根拠（要件ア）'!DV50","v":"台"}]
[941,{"$f":"'（別添４）エネルギー消費効率の根拠（要件ア）'!DT51","v":"別添4_31_11_DT20"},{"$f":"'（別添４）エネルギー消費効率の根拠（要件ア）'!DU51","v":"導入設備_1台あたりの使用エネルギー"},{"$f":"'（別添４）エネルギー消費効率の根拠（要件ア）'!DV51","v":0}]
[942,{"$f":"'（別添４）エネルギー消費効率の根拠（要件ア）'!DT52","v":"別添4_31_12_DT21"},{"$f":"'（別添４）エネルギー消費効率の根拠（要件ア）'!DU52","v":"導入設備_年間エネルギー使用量計算式"},{"$f":"'（別添４）エネルギー消費効率の根拠（要件ア）'!DV52","v":0}]
[943,{"$f":"'（別添４）エネルギー消費効率の根拠（要件ア）'!DT53","v":"別添4_31_13_DT22&DU22"},{"$f":"'（別添４）エネルギー消費効率の根拠（要件ア）'!DU53","v":"導入設備_計算結果"},{"$f":"'（別添４）エネルギー消費効率の根拠（要件ア）'!DV53","v":"単位を選択してください"}]
[944,{"$f":"'（別添４）エネルギー消費効率の根拠（要件ア）'!DT54","v":"別添4_31_14_DV16"},{"$f":"'（別添４）エネルギー消費効率の根拠（要件ア）'!DU54","v":"一代前モデル_製品名"},{"$f":"'（別添４）エネルギー消費効率の根拠（要件ア）'!DV54","v":0}]
[945,{"$f":"'（別添４）エネルギー消費効率の根拠（要件ア）'!DT55","v":"別添4_31_15_DV17"},{"$f":"'（別添４）エネルギー消費効率の根拠（要件ア）'!DU55","v":"一代前モデル_製造メーカー"},{"$f":"'（別添４）エネルギー消費効率の根拠（要件ア）'!DV55","v":0}]
[946,{"$f":"'（別添４）エネルギー消費効率の根拠（要件ア）'!DT56","v":"別添4_31_16_DV18"},{"$f":"'（別添４）エネルギー消費効率の根拠（要件ア）'!DU56","v":"一代前モデル_型番"},{"$f":"'（別添４）エネルギー消費効率の根拠（要件ア）'!DV56","v":0}]
[947,{"$f":"'（別添４）エネルギー消費効率の根拠（要件ア）'!DT57","v":"別添4_31_17_DV19&DW19"},{"$f":"'（別添４）エネルギー消費効率の根拠（要件ア）'!DU57","v":"一代前モデル_導入台数"},{"$f":"'（別添４）エネルギー消費効率の根拠（要件ア）'!DV57","v":"台"}]
[948,{"$f":"'（別添４）エネルギー消費効率の根拠（要件ア）'!DT58","v":"別添4_31_18_DV20"},{"$f":"'（別添４）エネルギー消費効率の根拠（要件ア）'!DU58","v":"一代前モデル_1台あたりの使用エネルギー"},{"$f":"'（別添４）エネルギー消費効率の根拠（要件ア）'!DV58","v":0}]
[949,{"$f":"'（別添４）エネルギー消費効率の根拠（要件ア）'!DT59","v":"別添4_31_19_DV21"},{"$f":"'（別添４）エネルギー消費効率の根拠（要件ア）'!DU59","v":"一代前モデル_年間エネルギー使用量計算式"},{"$f":"'（別添４）エネルギー消費効率の根拠（要件ア）'!DV59","v":0}]
[950,{"$f":"'（別添４）エネルギー消費効率の根拠（要件ア）'!DT60","v":"別添4_31_20_DV22&DW22"},{"$f":"'（別添４）エネルギー消費効率の根拠（要件ア）'!DU60","v":"一代前モデル_計算結果"},{"$f":"'（別添４）エネルギー消費効率の根拠（要件ア）'!DV60","v":"単位を選択してください"}]
[951,{"$f":"'（別添４）エネルギー消費効率の根拠（要件ア）'!DT61","v":"別添4_31_21_DT23&DU23"},{"$f":"'（別添４）エネルギー消費効率の根拠（要件ア）'!DU61","v":"年間見込み省エネルギー量__計算結果"},{"$f":"'（別添４）エネルギー消費効率の根拠（要件ア）'!DV61","v":"0単位を選択してください"}]
[952,{"$f":"'（別添４）エネルギー消費効率の根拠（要件ア）'!DT62","v":"別添4_31_22_DT25"},{"$f":"'（別添４）エネルギー消費効率の根拠（要件ア）'!DU62","v":"年間見込み省エネルギー量_原油換算計算式"},{"$f":"'（別添４）エネルギー消費効率の根拠（要件ア）'!DV62","v":0}]
[953,{"$f":"'（別添４）エネルギー消費効率の根拠（要件ア）'!DT63","v":"別添4_31_23_DT26"},{"$f":"'（別添４）エネルギー消費効率の根拠（要件ア）'!DU63","v":"年間見込み省エネルギー量原油換算計算結果"},{"$f":"'（別添４）エネルギー消費効率の根拠（要件ア）'!DV63","v":0}]
[954,{"$f":"'（別添４）エネルギー消費効率の根拠（要件ア）'!DT64","v":"別添4_31_24_DT27"},{"$f":"'（別添４）エネルギー消費効率の根拠（要件ア）'!DU64","v":"年間見込み省エネルギー率_自動計算"},{"$f":"'（別添４）エネルギー消費効率の根拠（要件ア）'!DV64","v":""}]
[955,{"$f":"'（別添４）エネルギー消費効率の根拠（要件ア）'!DX41","v":"別添4_32_1_DX9"},{"$f":"'（別添４）エネルギー消費効率の根拠（要件ア）'!DY41","v":"トップランナー基準"},{"$f":"'（別添４）エネルギー消費効率の根拠（要件ア）'!DZ41","v":0}]
[956,{"$f":"'（別添４）エネルギー消費効率の根拠（要件ア）'!DX42","v":"別添4_32_2_DX10"},{"$f":"'（別添４）エネルギー消費効率の根拠（要件ア）'!DY42","v":"トップランナー基準の区分名又は数値"},{"$f":"'（別添４）エネルギー消費効率の根拠（要件ア）'!DZ42","v":0}]
[957,{"$f":"'（別添４）エネルギー消費効率の根拠（要件ア）'!DX43","v":"別添4_32_3_DX11"},{"$f":"'（別添４）エネルギー消費効率の根拠（要件ア）'!DY43","v":"トップランナー基準の数値（導入設備）"},{"$f":"'（別添４）エネルギー消費効率の根拠（要件ア）'!DZ43","v":0}]
[958,{"$f":"'（別添４）エネルギー消費効率の根拠（要件ア）'!DX44","v":"別添4_32_4_DX12"},{"$f":"'（別添４）エネルギー消費効率の根拠（要件ア）'!DY44","v":"比較指標/トップランナー基準"},{"$f":"'（別添４）エネルギー消費効率の根拠（要件ア）'!DZ44","v":0}]
[959,{"$f":"'（別添４）エネルギー消費効率の根拠（要件ア）'!DX45","v":"別添4_32_5_DX13"},{"$f":"'（別添４）エネルギー消費効率の根拠（要件ア）'!DY45","v":"添付資料の根拠記載箇所"},{"$f":"'（別添４）エネルギー消費効率の根拠（要件ア）'!DZ45","v":0}]
[960,{"$f":"'（別添４）エネルギー消費効率の根拠（要件ア）'!DX46","v":"別添4_32_6_DX14"},{"$f":"'（別添４）エネルギー消費効率の根拠（要件ア）'!DY46","v":"省エネ要因"},{"$f":"'（別添４）エネルギー消費効率の根拠（要件ア）'!DZ46","v":0}]
[961,{"$f":"'（別添４）エネルギー消費効率の根拠（要件ア）'!DX47","v":"別添4_32_7_DX16"},{"$f":"'（別添４）エネルギー消費効率の根拠（要件ア）'!DY47","v":"導入設備_製品名"},{"$f":"'（別添４）エネルギー消費効率の根拠（要件ア）'!DZ47","v":0}]
[962,{"$f":"'（別添４）エネルギー消費効率の根拠（要件ア）'!DX48","v":"別添4_32_8_DX17"},{"$f":"'（別添４）エネルギー消費効率の根拠（要件ア）'!DY48","v":"導入設備_製造メーカー"},{"$f":"'（別添４）エネルギー消費効率の根拠（要件ア）'!DZ48","v":0}]
[963,{"$f":"'（別添４）エネルギー消費効率の根拠（要件ア）'!DX49","v":"別添4_32_9_DX18"},{"$f":"'（別添４）エネルギー消費効率の根拠（要件ア）'!DY49","v":"導入設備_型番"},{"$f":"'（別添４）エネルギー消費効率の根拠（要件ア）'!DZ49","v":0}]
[964,{"$f":"'（別添４）エネルギー消費効率の根拠（要件ア）'!DX50","v":"別添4_32_10_DX19&DY19"},{"$f":"'（別添４）エネルギー消費効率の根拠（要件ア）'!DY50","v":"導入設備_導入台数"},{"$f":"'（別添４）エネルギー消費効率の根拠（要件ア）'!DZ50","v":"台"}]
[965,{"$f":"'（別添４）エネルギー消費効率の根拠（要件ア）'!DX51","v":"別添4_32_11_DX20"},{"$f":"'（別添４）エネルギー消費効率の根拠（要件ア）'!DY51","v":"導入設備_1台あたりの使用エネルギー"},{"$f":"'（別添４）エネルギー消費効率の根拠（要件ア）'!DZ51","v":0}]
[966,{"$f":"'（別添４）エネルギー消費効率の根拠（要件ア）'!DX52","v":"別添4_32_12_DX21"},{"$f":"'（別添４）エネルギー消費効率の根拠（要件ア）'!DY52","v":"導入設備_年間エネルギー使用量計算式"},{"$f":"'（別添４）エネルギー消費効率の根拠（要件ア）'!DZ52","v":0}]
[967,{"$f":"'（別添４）エネルギー消費効率の根拠（要件ア）'!DX53","v":"別添4_32_13_DX22&DY22"},{"$f":"'（別添４）エネルギー消費効率の根拠（要件ア）'!DY53","v":"導入設備_計算結果"},{"$f":"'（別添４）エネルギー消費効率の根拠（要件ア）'!DZ53","v":"単位を選択してください"}]
[968,{"$f":"'（別添４）エネルギー消費効率の根拠（要件ア）'!DX54","v":"別添4_32_14_DZ16"},{"$f":"'（別添４）エネルギー消費効率の根拠（要件ア）'!DY54","v":"一代前モデル_製品名"},{"$f":"'（別添４）エネルギー消費効率の根拠（要件ア）'!DZ54","v":0}]
[969,{"$f":"'（別添４）エネルギー消費効率の根拠（要件ア）'!DX55","v":"別添4_32_15_DZ17"},{"$f":"'（別添４）エネルギー消費効率の根拠（要件ア）'!DY55","v":"一代前モデル_製造メーカー"},{"$f":"'（別添４）エネルギー消費効率の根拠（要件ア）'!DZ55","v":0}]
[970,{"$f":"'（別添４）エネルギー消費効率の根拠（要件ア）'!DX56","v":"別添4_32_16_DZ18"},{"$f":"'（別添４）エネルギー消費効率の根拠（要件ア）'!DY56","v":"一代前モデル_型番"},{"$f":"'（別添４）エネルギー消費効率の根拠（要件ア）'!DZ56","v":0}]
[971,{"$f":"'（別添４）エネルギー消費効率の根拠（要件ア）'!DX57","v":"別添4_32_17_DZ19&EA19"},{"$f":"'（別添４）エネルギー消費効率の根拠（要件ア）'!DY57","v":"一代前モデル_導入台数"},{"$f":"'（別添４）エネルギー消費効率の根拠（要件ア）'!DZ57","v":"台"}]
[{"$f":"ROW()-1","v":972},{"$f":"'（別添４）エネルギー消費効率の根拠（要件ア）'!DX58","v":"別添4_32_18_DZ20"},{"$f":"'（別添４）エネルギー消費効率の根拠（要件ア）'!DY58","v":"一代前モデル_1台あたりの使用エネルギー"},{"$f":"'（別添４）エネルギー消費効率の根拠（要件ア）'!DZ58","v":0}]
[973,{"$f":"'（別添４）エネルギー消費効率の根拠（要件ア）'!DX59","v":"別添4_32_19_DZ21"},{"$f":"'（別添４）エネルギー消費効率の根拠（要件ア）'!DY59","v":"一代前モデル_年間エネルギー使用量計算式"},{"$f":"'（別添４）エネルギー消費効率の根拠（要件ア）'!DZ59","v":0}]
[974,{"$f":"'（別添４）エネルギー消費効率の根拠（要件ア）'!DX60","v":"別添4_32_20_DZ22&EA22"},{"$f":"'（別添４）エネルギー消費効率の根拠（要件ア）'!DY60","v":"一代前モデル_計算結果"},{"$f":"'（別添４）エネルギー消費効率の根拠（要件ア）'!DZ60","v":"単位を選択してください"}]
[975,{"$f":"'（別添４）エネルギー消費効率の根拠（要件ア）'!DX61","v":"別添4_32_21_DX23&DY23"},{"$f":"'（別添４）エネルギー消費効率の根拠（要件ア）'!DY61","v":"年間見込み省エネルギー量__計算結果"},{"$f":"'（別添４）エネルギー消費効率の根拠（要件ア）'!DZ61","v":"0単位を選択してください"}]
[976,{"$f":"'（別添４）エネルギー消費効率の根拠（要件ア）'!DX62","v":"別添4_32_22_DX25"},{"$f":"'（別添４）エネルギー消費効率の根拠（要件ア）'!DY62","v":"年間見込み省エネルギー量_原油換算計算式"},{"$f":"'（別添４）エネルギー消費効率の根拠（要件ア）'!DZ62","v":0}]
[977,{"$f":"'（別添４）エネルギー消費効率の根拠（要件ア）'!DX63","v":"別添4_32_23_DX26"},{"$f":"'（別添４）エネルギー消費効率の根拠（要件ア）'!DY63","v":"年間見込み省エネルギー量原油換算計算結果"},{"$f":"'（別添４）エネルギー消費効率の根拠（要件ア）'!DZ63","v":0}]
[978,{"$f":"'（別添４）エネルギー消費効率の根拠（要件ア）'!DX64","v":"別添4_32_24_DX27"},{"$f":"'（別添４）エネルギー消費効率の根拠（要件ア）'!DY64","v":"年間見込み省エネルギー率_自動計算"},{"$f":"'（別添４）エネルギー消費効率の根拠（要件ア）'!DZ64","v":""}]
[979,{"$f":"'（別添４）エネルギー消費効率の根拠（要件ア）'!EB41","v":"別添4_33_1_EB9"},{"$f":"'（別添４）エネルギー消費効率の根拠（要件ア）'!EC41","v":"トップランナー基準"},{"$f":"'（別添４）エネルギー消費効率の根拠（要件ア）'!ED41","v":0}]
[980,{"$f":"'（別添４）エネルギー消費効率の根拠（要件ア）'!EB42","v":"別添4_33_2_EB10"},{"$f":"'（別添４）エネルギー消費効率の根拠（要件ア）'!EC42","v":"トップランナー基準の区分名又は数値"},{"$f":"'（別添４）エネルギー消費効率の根拠（要件ア）'!ED42","v":0}]
[981,{"$f":"'（別添４）エネルギー消費効率の根拠（要件ア）'!EB43","v":"別添4_33_3_EB11"},{"$f":"'（別添４）エネルギー消費効率の根拠（要件ア）'!EC43","v":"トップランナー基準の数値（導入設備）"},{"$f":"'（別添４）エネルギー消費効率の根拠（要件ア）'!ED43","v":0}]
[982,{"$f":"'（別添４）エネルギー消費効率の根拠（要件ア）'!EB44","v":"別添4_33_4_EB12"},{"$f":"'（別添４）エネルギー消費効率の根拠（要件ア）'!EC44","v":"比較指標/トップランナー基準"},{"$f":"'（別添４）エネルギー消費効率の根拠（要件ア）'!ED44","v":0}]
[983,{"$f":"'（別添４）エネルギー消費効率の根拠（要件ア）'!EB45","v":"別添4_33_5_EB13"},{"$f":"'（別添４）エネルギー消費効率の根拠（要件ア）'!EC45","v":"添付資料の根拠記載箇所"},{"$f":"'（別添４）エネルギー消費効率の根拠（要件ア）'!ED45","v":0}]
[984,{"$f":"'（別添４）エネルギー消費効率の根拠（要件ア）'!EB46","v":"別添4_33_6_EB14"},{"$f":"'（別添４）エネルギー消費効率の根拠（要件ア）'!EC46","v":"省エネ要因"},{"$f":"'（別添４）エネルギー消費効率の根拠（要件ア）'!ED46","v":0}]
[985,{"$f":"'（別添４）エネルギー消費効率の根拠（要件ア）'!EB47","v":"別添4_33_7_EB16"},{"$f":"'（別添４）エネルギー消費効率の根拠（要件ア）'!EC47","v":"導入設備_製品名"},{"$f":"'（別添４）エネルギー消費効率の根拠（要件ア）'!ED47","v":0}]
[986,{"$f":"'（別添４）エネルギー消費効率の根拠（要件ア）'!EB48","v":"別添4_33_8_EB17"},{"$f":"'（別添４）エネルギー消費効率の根拠（要件ア）'!EC48","v":"導入設備_製造メーカー"},{"$f":"'（別添４）エネルギー消費効率の根拠（要件ア）'!ED48","v":0}]
[987,{"$f":"'（別添４）エネルギー消費効率の根拠（要件ア）'!EB49","v":"別添4_33_9_EB18"},{"$f":"'（別添４）エネルギー消費効率の根拠（要件ア）'!EC49","v":"導入設備_型番"},{"$f":"'（別添４）エネルギー消費効率の根拠（要件ア）'!ED49","v":0}]
[988,{"$f":"'（別添４）エネルギー消費効率の根拠（要件ア）'!EB50","v":"別添4_33_10_EB19&EC19"},{"$f":"'（別添４）エネルギー消費効率の根拠（要件ア）'!EC50","v":"導入設備_導入台数"},{"$f":"'（別添４）エネルギー消費効率の根拠（要件ア）'!ED50","v":"台"}]
[989,{"$f":"'（別添４）エネルギー消費効率の根拠（要件ア）'!EB51","v":"別添4_33_11_EB20"},{"$f":"'（別添４）エネルギー消費効率の根拠（要件ア）'!EC51","v":"導入設備_1台あたりの使用エネルギー"},{"$f":"'（別添４）エネルギー消費効率の根拠（要件ア）'!ED51","v":0}]
[990,{"$f":"'（別添４）エネルギー消費効率の根拠（要件ア）'!EB52","v":"別添4_33_12_EB21"},{"$f":"'（別添４）エネルギー消費効率の根拠（要件ア）'!EC52","v":"導入設備_年間エネルギー使用量計算式"},{"$f":"'（別添４）エネルギー消費効率の根拠（要件ア）'!ED52","v":0}]
[991,{"$f":"'（別添４）エネルギー消費効率の根拠（要件ア）'!EB53","v":"別添4_33_13_EB22&EC22"},{"$f":"'（別添４）エネルギー消費効率の根拠（要件ア）'!EC53","v":"導入設備_計算結果"},{"$f":"'（別添４）エネルギー消費効率の根拠（要件ア）'!ED53","v":"単位を選択してください"}]
[992,{"$f":"'（別添４）エネルギー消費効率の根拠（要件ア）'!EB54","v":"別添4_33_14_ED16"},{"$f":"'（別添４）エネルギー消費効率の根拠（要件ア）'!EC54","v":"一代前モデル_製品名"},{"$f":"'（別添４）エネルギー消費効率の根拠（要件ア）'!ED54","v":0}]
[993,{"$f":"'（別添４）エネルギー消費効率の根拠（要件ア）'!EB55","v":"別添4_33_15_ED17"},{"$f":"'（別添４）エネルギー消費効率の根拠（要件ア）'!EC55","v":"一代前モデル_製造メーカー"},{"$f":"'（別添４）エネルギー消費効率の根拠（要件ア）'!ED55","v":0}]
[994,{"$f":"'（別添４）エネルギー消費効率の根拠（要件ア）'!EB56","v":"別添4_33_16_ED18"},{"$f":"'（別添４）エネルギー消費効率の根拠（要件ア）'!EC56","v":"一代前モデル_型番"},{"$f":"'（別添４）エネルギー消費効率の根拠（要件ア）'!ED56","v":0}]
[995,{"$f":"'（別添４）エネルギー消費効率の根拠（要件ア）'!EB57","v":"別添4_33_17_ED19&EE19"},{"$f":"'（別添４）エネルギー消費効率の根拠（要件ア）'!EC57","v":"一代前モデル_導入台数"},{"$f":"'（別添４）エネルギー消費効率の根拠（要件ア）'!ED57","v":"台"}]
[996,{"$f":"'（別添４）エネルギー消費効率の根拠（要件ア）'!EB58","v":"別添4_33_18_ED20"},{"$f":"'（別添４）エネルギー消費効率の根拠（要件ア）'!EC58","v":"一代前モデル_1台あたりの使用エネルギー"},{"$f":"'（別添４）エネルギー消費効率の根拠（要件ア）'!ED58","v":0}]
[997,{"$f":"'（別添４）エネルギー消費効率の根拠（要件ア）'!EB59","v":"別添4_33_19_ED21"},{"$f":"'（別添４）エネルギー消費効率の根拠（要件ア）'!EC59","v":"一代前モデル_年間エネルギー使用量計算式"},{"$f":"'（別添４）エネルギー消費効率の根拠（要件ア）'!ED59","v":0}]
[998,{"$f":"'（別添４）エネルギー消費効率の根拠（要件ア）'!EB60","v":"別添4_33_20_ED22&EE22"},{"$f":"'（別添４）エネルギー消費効率の根拠（要件ア）'!EC60","v":"一代前モデル_計算結果"},{"$f":"'（別添４）エネルギー消費効率の根拠（要件ア）'!ED60","v":"単位を選択してください"}]
[999,{"$f":"'（別添４）エネルギー消費効率の根拠（要件ア）'!EB61","v":"別添4_33_21_EB23&EC23"},{"$f":"'（別添４）エネルギー消費効率の根拠（要件ア）'!EC61","v":"年間見込み省エネルギー量__計算結果"},{"$f":"'（別添４）エネルギー消費効率の根拠（要件ア）'!ED61","v":"0単位を選択してください"}]
[1000,{"$f":"'（別添４）エネルギー消費効率の根拠（要件ア）'!EB62","v":"別添4_33_22_EB25"},{"$f":"'（別添４）エネルギー消費効率の根拠（要件ア）'!EC62","v":"年間見込み省エネルギー量_原油換算計算式"},{"$f":"'（別添４）エネルギー消費効率の根拠（要件ア）'!ED62","v":0}]
[1001,{"$f":"'（別添４）エネルギー消費効率の根拠（要件ア）'!EB63","v":"別添4_33_23_EB26"},{"$f":"'（別添４）エネルギー消費効率の根拠（要件ア）'!EC63","v":"年間見込み省エネルギー量原油換算計算結果"},{"$f":"'（別添４）エネルギー消費効率の根拠（要件ア）'!ED63","v":0}]
[1002,{"$f":"'（別添４）エネルギー消費効率の根拠（要件ア）'!EB64","v":"別添4_33_24_EB27"},{"$f":"'（別添４）エネルギー消費効率の根拠（要件ア）'!EC64","v":"年間見込み省エネルギー率_自動計算"},{"$f":"'（別添４）エネルギー消費効率の根拠（要件ア）'!ED64","v":""}]
[1003,{"$f":"'（別添４）エネルギー消費効率の根拠（要件ア）'!EF41","v":"別添4_34_1_EF9"},{"$f":"'（別添４）エネルギー消費効率の根拠（要件ア）'!EG41","v":"トップランナー基準"},{"$f":"'（別添４）エネルギー消費効率の根拠（要件ア）'!EH41","v":0}]
[1004,{"$f":"'（別添４）エネルギー消費効率の根拠（要件ア）'!EF42","v":"別添4_34_2_EF10"},{"$f":"'（別添４）エネルギー消費効率の根拠（要件ア）'!EG42","v":"トップランナー基準の区分名又は数値"},{"$f":"'（別添４）エネルギー消費効率の根拠（要件ア）'!EH42","v":0}]
[1005,{"$f":"'（別添４）エネルギー消費効率の根拠（要件ア）'!EF43","v":"別添4_34_3_EF11"},{"$f":"'（別添４）エネルギー消費効率の根拠（要件ア）'!EG43","v":"トップランナー基準の数値（導入設備）"},{"$f":"'（別添４）エネルギー消費効率の根拠（要件ア）'!EH43","v":0}]
[1006,{"$f":"'（別添４）エネルギー消費効率の根拠（要件ア）'!EF44","v":"別添4_34_4_EF12"},{"$f":"'（別添４）エネルギー消費効率の根拠（要件ア）'!EG44","v":"比較指標/トップランナー基準"},{"$f":"'（別添４）エネルギー消費効率の根拠（要件ア）'!EH44","v":0}]
[1007,{"$f":"'（別添４）エネルギー消費効率の根拠（要件ア）'!EF45","v":"別添4_34_5_EF13"},{"$f":"'（別添４）エネルギー消費効率の根拠（要件ア）'!EG45","v":"添付資料の根拠記載箇所"},{"$f":"'（別添４）エネルギー消費効率の根拠（要件ア）'!EH45","v":0}]
[1008,{"$f":"'（別添４）エネルギー消費効率の根拠（要件ア）'!EF46","v":"別添4_34_6_EF14"},{"$f":"'（別添４）エネルギー消費効率の根拠（要件ア）'!EG46","v":"省エネ要因"},{"$f":"'（別添４）エネルギー消費効率の根拠（要件ア）'!EH46","v":0}]
[1009,{"$f":"'（別添４）エネルギー消費効率の根拠（要件ア）'!EF47","v":"別添4_34_7_EF16"},{"$f":"'（別添４）エネルギー消費効率の根拠（要件ア）'!EG47","v":"導入設備_製品名"},{"$f":"'（別添４）エネルギー消費効率の根拠（要件ア）'!EH47","v":0}]
[1010,{"$f":"'（別添４）エネルギー消費効率の根拠（要件ア）'!EF48","v":"別添4_34_8_EF17"},{"$f":"'（別添４）エネルギー消費効率の根拠（要件ア）'!EG48","v":"導入設備_製造メーカー"},{"$f":"'（別添４）エネルギー消費効率の根拠（要件ア）'!EH48","v":0}]
[1011,{"$f":"'（別添４）エネルギー消費効率の根拠（要件ア）'!EF49","v":"別添4_34_9_EF18"},{"$f":"'（別添４）エネルギー消費効率の根拠（要件ア）'!EG49","v":"導入設備_型番"},{"$f":"'（別添４）エネルギー消費効率の根拠（要件ア）'!EH49","v":0}]
[1012,{"$f":"'（別添４）エネルギー消費効率の根拠（要件ア）'!EF50","v":"別添4_34_10_EF19&EG19"},{"$f":"'（別添４）エネルギー消費効率の根拠（要件ア）'!EG50","v":"導入設備_導入台数"},{"$f":"'（別添４）エネルギー消費効率の根拠（要件ア）'!EH50","v":"台"}]
[1013,{"$f":"'（別添４）エネルギー消費効率の根拠（要件ア）'!EF51","v":"別添4_34_11_EF20"},{"$f":"'（別添４）エネルギー消費効率の根拠（要件ア）'!EG51","v":"導入設備_1台あたりの使用エネルギー"},{"$f":"'（別添４）エネルギー消費効率の根拠（要件ア）'!EH51","v":0}]
[1014,{"$f":"'（別添４）エネルギー消費効率の根拠（要件ア）'!EF52","v":"別添4_34_12_EF21"},{"$f":"'（別添４）エネルギー消費効率の根拠（要件ア）'!EG52","v":"導入設備_年間エネルギー使用量計算式"},{"$f":"'（別添４）エネルギー消費効率の根拠（要件ア）'!EH52","v":0}]
[1015,{"$f":"'（別添４）エネルギー消費効率の根拠（要件ア）'!EF53","v":"別添4_34_13_EF22&EG22"},{"$f":"'（別添４）エネルギー消費効率の根拠（要件ア）'!EG53","v":"導入設備_計算結果"},{"$f":"'（別添４）エネルギー消費効率の根拠（要件ア）'!EH53","v":"単位を選択してください"}]
[1016,{"$f":"'（別添４）エネルギー消費効率の根拠（要件ア）'!EF54","v":"別添4_34_14_EH16"},{"$f":"'（別添４）エネルギー消費効率の根拠（要件ア）'!EG54","v":"一代前モデル_製品名"},{"$f":"'（別添４）エネルギー消費効率の根拠（要件ア）'!EH54","v":0}]
[1017,{"$f":"'（別添４）エネルギー消費効率の根拠（要件ア）'!EF55","v":"別添4_34_15_EH17"},{"$f":"'（別添４）エネルギー消費効率の根拠（要件ア）'!EG55","v":"一代前モデル_製造メーカー"},{"$f":"'（別添４）エネルギー消費効率の根拠（要件ア）'!EH55","v":0}]
[1018,{"$f":"'（別添４）エネルギー消費効率の根拠（要件ア）'!EF56","v":"別添4_34_16_EH18"},{"$f":"'（別添４）エネルギー消費効率の根拠（要件ア）'!EG56","v":"一代前モデル_型番"},{"$f":"'（別添４）エネルギー消費効率の根拠（要件ア）'!EH56","v":0}]
[1019,{"$f":"'（別添４）エネルギー消費効率の根拠（要件ア）'!EF57","v":"別添4_34_17_EH19&EI19"},{"$f":"'（別添４）エネルギー消費効率の根拠（要件ア）'!EG57","v":"一代前モデル_導入台数"},{"$f":"'（別添４）エネルギー消費効率の根拠（要件ア）'!EH57","v":"台"}]
[1020,{"$f":"'（別添４）エネルギー消費効率の根拠（要件ア）'!EF58","v":"別添4_34_18_EH20"},{"$f":"'（別添４）エネルギー消費効率の根拠（要件ア）'!EG58","v":"一代前モデル_1台あたりの使用エネルギー"},{"$f":"'（別添４）エネルギー消費効率の根拠（要件ア）'!EH58","v":0}]
[1021,{"$f":"'（別添４）エネルギー消費効率の根拠（要件ア）'!EF59","v":"別添4_34_19_EH21"},{"$f":"'（別添４）エネルギー消費効率の根拠（要件ア）'!EG59","v":"一代前モデル_年間エネルギー使用量計算式"},{"$f":"'（別添４）エネルギー消費効率の根拠（要件ア）'!EH59","v":0}]
[1022,{"$f":"'（別添４）エネルギー消費効率の根拠（要件ア）'!EF60","v":"別添4_34_20_EH22&EI22"},{"$f":"'（別添４）エネルギー消費効率の根拠（要件ア）'!EG60","v":"一代前モデル_計算結果"},{"$f":"'（別添４）エネルギー消費効率の根拠（要件ア）'!EH60","v":"単位を選択してください"}]
[1023,{"$f":"'（別添４）エネルギー消費効率の根拠（要件ア）'!EF61","v":"別添4_34_21_EF23&EG23"},{"$f":"'（別添４）エネルギー消費効率の根拠（要件ア）'!EG61","v":"年間見込み省エネルギー量__計算結果"},{"$f":"'（別添４）エネルギー消費効率の根拠（要件ア）'!EH61","v":"0単位を選択してください"}]
[1024,{"$f":"'（別添４）エネルギー消費効率の根拠（要件ア）'!EF62","v":"別添4_34_22_EF25"},{"$f":"'（別添４）エネルギー消費効率の根拠（要件ア）'!EG62","v":"年間見込み省エネルギー量_原油換算計算式"},{"$f":"'（別添４）エネルギー消費効率の根拠（要件ア）'!EH62","v":0}]
[1025,{"$f":"'（別添４）エネルギー消費効率の根拠（要件ア）'!EF63","v":"別添4_34_23_EF26"},{"$f":"'（別添４）エネルギー消費効率の根拠（要件ア）'!EG63","v":"年間見込み省エネルギー量原油換算計算結果"},{"$f":"'（別添４）エネルギー消費効率の根拠（要件ア）'!EH63","v":0}]
[1026,{"$f":"'（別添４）エネルギー消費効率の根拠（要件ア）'!EF64","v":"別添4_34_24_EF27"},{"$f":"'（別添４）エネルギー消費効率の根拠（要件ア）'!EG64","v":"年間見込み省エネルギー率_自動計算"},{"$f":"'（別添４）エネルギー消費効率の根拠（要件ア）'!EH64","v":""}]
[1027,{"$f":"'（別添４）エネルギー消費効率の根拠（要件ア）'!EJ41","v":"別添4_35_1_EJ9"},{"$f":"'（別添４）エネルギー消費効率の根拠（要件ア）'!EK41","v":"トップランナー基準"},{"$f":"'（別添４）エネルギー消費効率の根拠（要件ア）'!EL41","v":0}]
[1028,{"$f":"'（別添４）エネルギー消費効率の根拠（要件ア）'!EJ42","v":"別添4_35_2_EJ10"},{"$f":"'（別添４）エネルギー消費効率の根拠（要件ア）'!EK42","v":"トップランナー基準の区分名又は数値"},{"$f":"'（別添４）エネルギー消費効率の根拠（要件ア）'!EL42","v":0}]
[1029,{"$f":"'（別添４）エネルギー消費効率の根拠（要件ア）'!EJ43","v":"別添4_35_3_EJ11"},{"$f":"'（別添４）エネルギー消費効率の根拠（要件ア）'!EK43","v":"トップランナー基準の数値（導入設備）"},{"$f":"'（別添４）エネルギー消費効率の根拠（要件ア）'!EL43","v":0}]
[1030,{"$f":"'（別添４）エネルギー消費効率の根拠（要件ア）'!EJ44","v":"別添4_35_4_EJ12"},{"$f":"'（別添４）エネルギー消費効率の根拠（要件ア）'!EK44","v":"比較指標/トップランナー基準"},{"$f":"'（別添４）エネルギー消費効率の根拠（要件ア）'!EL44","v":0}]
[1031,{"$f":"'（別添４）エネルギー消費効率の根拠（要件ア）'!EJ45","v":"別添4_35_5_EJ13"},{"$f":"'（別添４）エネルギー消費効率の根拠（要件ア）'!EK45","v":"添付資料の根拠記載箇所"},{"$f":"'（別添４）エネルギー消費効率の根拠（要件ア）'!EL45","v":0}]
[1032,{"$f":"'（別添４）エネルギー消費効率の根拠（要件ア）'!EJ46","v":"別添4_35_6_EJ14"},{"$f":"'（別添４）エネルギー消費効率の根拠（要件ア）'!EK46","v":"省エネ要因"},{"$f":"'（別添４）エネルギー消費効率の根拠（要件ア）'!EL46","v":0}]
[1033,{"$f":"'（別添４）エネルギー消費効率の根拠（要件ア）'!EJ47","v":"別添4_35_7_EJ16"},{"$f":"'（別添４）エネルギー消費効率の根拠（要件ア）'!EK47","v":"導入設備_製品名"},{"$f":"'（別添４）エネルギー消費効率の根拠（要件ア）'!EL47","v":0}]
[1034,{"$f":"'（別添４）エネルギー消費効率の根拠（要件ア）'!EJ48","v":"別添4_35_8_EJ17"},{"$f":"'（別添４）エネルギー消費効率の根拠（要件ア）'!EK48","v":"導入設備_製造メーカー"},{"$f":"'（別添４）エネルギー消費効率の根拠（要件ア）'!EL48","v":0}]
[1035,{"$f":"'（別添４）エネルギー消費効率の根拠（要件ア）'!EJ49","v":"別添4_35_9_EJ18"},{"$f":"'（別添４）エネルギー消費効率の根拠（要件ア）'!EK49","v":"導入設備_型番"},{"$f":"'（別添４）エネルギー消費効率の根拠（要件ア）'!EL49","v":0}]
[{"$f":"ROW()-1","v":1036},{"$f":"'（別添４）エネルギー消費効率の根拠（要件ア）'!EJ50","v":"別添4_35_10_EJ19&EK19"},{"$f":"'（別添４）エネルギー消費効率の根拠（要件ア）'!EK50","v":"導入設備_導入台数"},{"$f":"'（別添４）エネルギー消費効率の根拠（要件ア）'!EL50","v":"台"}]
[1037,{"$f":"'（別添４）エネルギー消費効率の根拠（要件ア）'!EJ51","v":"別添4_35_11_EJ20"},{"$f":"'（別添４）エネルギー消費効率の根拠（要件ア）'!EK51","v":"導入設備_1台あたりの使用エネルギー"},{"$f":"'（別添４）エネルギー消費効率の根拠（要件ア）'!EL51","v":0}]
[1038,{"$f":"'（別添４）エネルギー消費効率の根拠（要件ア）'!EJ52","v":"別添4_35_12_EJ21"},{"$f":"'（別添４）エネルギー消費効率の根拠（要件ア）'!EK52","v":"導入設備_年間エネルギー使用量計算式"},{"$f":"'（別添４）エネルギー消費効率の根拠（要件ア）'!EL52","v":0}]
[1039,{"$f":"'（別添４）エネルギー消費効率の根拠（要件ア）'!EJ53","v":"別添4_35_13_EJ22&EK22"},{"$f":"'（別添４）エネルギー消費効率の根拠（要件ア）'!EK53","v":"導入設備_計算結果"},{"$f":"'（別添４）エネルギー消費効率の根拠（要件ア）'!EL53","v":"単位を選択してください"}]
[1040,{"$f":"'（別添４）エネルギー消費効率の根拠（要件ア）'!EJ54","v":"別添4_35_14_EL16"},{"$f":"'（別添４）エネルギー消費効率の根拠（要件ア）'!EK54","v":"一代前モデル_製品名"},{"$f":"'（別添４）エネルギー消費効率の根拠（要件ア）'!EL54","v":0}]
[1041,{"$f":"'（別添４）エネルギー消費効率の根拠（要件ア）'!EJ55","v":"別添4_35_15_EL17"},{"$f":"'（別添４）エネルギー消費効率の根拠（要件ア）'!EK55","v":"一代前モデル_製造メーカー"},{"$f":"'（別添４）エネルギー消費効率の根拠（要件ア）'!EL55","v":0}]
[1042,{"$f":"'（別添４）エネルギー消費効率の根拠（要件ア）'!EJ56","v":"別添4_35_16_EL18"},{"$f":"'（別添４）エネルギー消費効率の根拠（要件ア）'!EK56","v":"一代前モデル_型番"},{"$f":"'（別添４）エネルギー消費効率の根拠（要件ア）'!EL56","v":0}]
[1043,{"$f":"'（別添４）エネルギー消費効率の根拠（要件ア）'!EJ57","v":"別添4_35_17_EL19&EM19"},{"$f":"'（別添４）エネルギー消費効率の根拠（要件ア）'!EK57","v":"一代前モデル_導入台数"},{"$f":"'（別添４）エネルギー消費効率の根拠（要件ア）'!EL57","v":"台"}]
[1044,{"$f":"'（別添４）エネルギー消費効率の根拠（要件ア）'!EJ58","v":"別添4_35_18_EL20"},{"$f":"'（別添４）エネルギー消費効率の根拠（要件ア）'!EK58","v":"一代前モデル_1台あたりの使用エネルギー"},{"$f":"'（別添４）エネルギー消費効率の根拠（要件ア）'!EL58","v":0}]
[1045,{"$f":"'（別添４）エネルギー消費効率の根拠（要件ア）'!EJ59","v":"別添4_35_19_EL21"},{"$f":"'（別添４）エネルギー消費効率の根拠（要件ア）'!EK59","v":"一代前モデル_年間エネルギー使用量計算式"},{"$f":"'（別添４）エネルギー消費効率の根拠（要件ア）'!EL59","v":0}]
[1046,{"$f":"'（別添４）エネルギー消費効率の根拠（要件ア）'!EJ60","v":"別添4_35_20_EL22&EM22"},{"$f":"'（別添４）エネルギー消費効率の根拠（要件ア）'!EK60","v":"一代前モデル_計算結果"},{"$f":"'（別添４）エネルギー消費効率の根拠（要件ア）'!EL60","v":"単位を選択してください"}]
[1047,{"$f":"'（別添４）エネルギー消費効率の根拠（要件ア）'!EJ61","v":"別添4_35_21_EJ23&EK23"},{"$f":"'（別添４）エネルギー消費効率の根拠（要件ア）'!EK61","v":"年間見込み省エネルギー量__計算結果"},{"$f":"'（別添４）エネルギー消費効率の根拠（要件ア）'!EL61","v":"0単位を選択してください"}]
[1048,{"$f":"'（別添４）エネルギー消費効率の根拠（要件ア）'!EJ62","v":"別添4_35_22_EJ25"},{"$f":"'（別添４）エネルギー消費効率の根拠（要件ア）'!EK62","v":"年間見込み省エネルギー量_原油換算計算式"},{"$f":"'（別添４）エネルギー消費効率の根拠（要件ア）'!EL62","v":0}]
[1049,{"$f":"'（別添４）エネルギー消費効率の根拠（要件ア）'!EJ63","v":"別添4_35_23_EJ26"},{"$f":"'（別添４）エネルギー消費効率の根拠（要件ア）'!EK63","v":"年間見込み省エネルギー量原油換算計算結果"},{"$f":"'（別添４）エネルギー消費効率の根拠（要件ア）'!EL63","v":0}]
[1050,{"$f":"'（別添４）エネルギー消費効率の根拠（要件ア）'!EJ64","v":"別添4_35_24_EJ27"},{"$f":"'（別添４）エネルギー消費効率の根拠（要件ア）'!EK64","v":"年間見込み省エネルギー率_自動計算"},{"$f":"'（別添４）エネルギー消費効率の根拠（要件ア）'!EL64","v":""}]
[1051,{"$f":"'（別添４）エネルギー消費効率の根拠（要件ア）'!EN41","v":"別添4_36_1_EN9"},{"$f":"'（別添４）エネルギー消費効率の根拠（要件ア）'!EO41","v":"トップランナー基準"},{"$f":"'（別添４）エネルギー消費効率の根拠（要件ア）'!EP41","v":0}]
[1052,{"$f":"'（別添４）エネルギー消費効率の根拠（要件ア）'!EN42","v":"別添4_36_2_EN10"},{"$f":"'（別添４）エネルギー消費効率の根拠（要件ア）'!EO42","v":"トップランナー基準の区分名又は数値"},{"$f":"'（別添４）エネルギー消費効率の根拠（要件ア）'!EP42","v":0}]
[1053,{"$f":"'（別添４）エネルギー消費効率の根拠（要件ア）'!EN43","v":"別添4_36_3_EN11"},{"$f":"'（別添４）エネルギー消費効率の根拠（要件ア）'!EO43","v":"トップランナー基準の数値（導入設備）"},{"$f":"'（別添４）エネルギー消費効率の根拠（要件ア）'!EP43","v":0}]
[1054,{"$f":"'（別添４）エネルギー消費効率の根拠（要件ア）'!EN44","v":"別添4_36_4_EN12"},{"$f":"'（別添４）エネルギー消費効率の根拠（要件ア）'!EO44","v":"比較指標/トップランナー基準"},{"$f":"'（別添４）エネルギー消費効率の根拠（要件ア）'!EP44","v":0}]
[1055,{"$f":"'（別添４）エネルギー消費効率の根拠（要件ア）'!EN45","v":"別添4_36_5_EN13"},{"$f":"'（別添４）エネルギー消費効率の根拠（要件ア）'!EO45","v":"添付資料の根拠記載箇所"},{"$f":"'（別添４）エネルギー消費効率の根拠（要件ア）'!EP45","v":0}]
[1056,{"$f":"'（別添４）エネルギー消費効率の根拠（要件ア）'!EN46","v":"別添4_36_6_EN14"},{"$f":"'（別添４）エネルギー消費効率の根拠（要件ア）'!EO46","v":"省エネ要因"},{"$f":"'（別添４）エネルギー消費効率の根拠（要件ア）'!EP46","v":0}]
[1057,{"$f":"'（別添４）エネルギー消費効率の根拠（要件ア）'!EN47","v":"別添4_36_7_EN16"},{"$f":"'（別添４）エネルギー消費効率の根拠（要件ア）'!EO47","v":"導入設備_製品名"},{"$f":"'（別添４）エネルギー消費効率の根拠（要件ア）'!EP47","v":0}]
[1058,{"$f":"'（別添４）エネルギー消費効率の根拠（要件ア）'!EN48","v":"別添4_36_8_EN17"},{"$f":"'（別添４）エネルギー消費効率の根拠（要件ア）'!EO48","v":"導入設備_製造メーカー"},{"$f":"'（別添４）エネルギー消費効率の根拠（要件ア）'!EP48","v":0}]
[1059,{"$f":"'（別添４）エネルギー消費効率の根拠（要件ア）'!EN49","v":"別添4_36_9_EN18"},{"$f":"'（別添４）エネルギー消費効率の根拠（要件ア）'!EO49","v":"導入設備_型番"},{"$f":"'（別添４）エネルギー消費効率の根拠（要件ア）'!EP49","v":0}]
[1060,{"$f":"'（別添４）エネルギー消費効率の根拠（要件ア）'!EN50","v":"別添4_36_10_EN19&EO19"},{"$f":"'（別添４）エネルギー消費効率の根拠（要件ア）'!EO50","v":"導入設備_導入台数"},{"$f":"'（別添４）エネルギー消費効率の根拠（要件ア）'!EP50","v":"台"}]
[1061,{"$f":"'（別添４）エネルギー消費効率の根拠（要件ア）'!EN51","v":"別添4_36_11_EN20"},{"$f":"'（別添４）エネルギー消費効率の根拠（要件ア）'!EO51","v":"導入設備_1台あたりの使用エネルギー"},{"$f":"'（別添４）エネルギー消費効率の根拠（要件ア）'!EP51","v":0}]
[1062,{"$f":"'（別添４）エネルギー消費効率の根拠（要件ア）'!EN52","v":"別添4_36_12_EN21"},{"$f":"'（別添４）エネルギー消費効率の根拠（要件ア）'!EO52","v":"導入設備_年間エネルギー使用量計算式"},{"$f":"'（別添４）エネルギー消費効率の根拠（要件ア）'!EP52","v":0}]
[1063,{"$f":"'（別添４）エネルギー消費効率の根拠（要件ア）'!EN53","v":"別添4_36_13_EN22&EO22"},{"$f":"'（別添４）エネルギー消費効率の根拠（要件ア）'!EO53","v":"導入設備_計算結果"},{"$f":"'（別添４）エネルギー消費効率の根拠（要件ア）'!EP53","v":"単位を選択してください"}]
[1064,{"$f":"'（別添４）エネルギー消費効率の根拠（要件ア）'!EN54","v":"別添4_36_14_EP16"},{"$f":"'（別添４）エネルギー消費効率の根拠（要件ア）'!EO54","v":"一代前モデル_製品名"},{"$f":"'（別添４）エネルギー消費効率の根拠（要件ア）'!EP54","v":0}]
[1065,{"$f":"'（別添４）エネルギー消費効率の根拠（要件ア）'!EN55","v":"別添4_36_15_EP17"},{"$f":"'（別添４）エネルギー消費効率の根拠（要件ア）'!EO55","v":"一代前モデル_製造メーカー"},{"$f":"'（別添４）エネルギー消費効率の根拠（要件ア）'!EP55","v":0}]
[1066,{"$f":"'（別添４）エネルギー消費効率の根拠（要件ア）'!EN56","v":"別添4_36_16_EP18"},{"$f":"'（別添４）エネルギー消費効率の根拠（要件ア）'!EO56","v":"一代前モデル_型番"},{"$f":"'（別添４）エネルギー消費効率の根拠（要件ア）'!EP56","v":0}]
[1067,{"$f":"'（別添４）エネルギー消費効率の根拠（要件ア）'!EN57","v":"別添4_36_17_EP19&EQ19"},{"$f":"'（別添４）エネルギー消費効率の根拠（要件ア）'!EO57","v":"一代前モデル_導入台数"},{"$f":"'（別添４）エネルギー消費効率の根拠（要件ア）'!EP57","v":"台"}]
[1068,{"$f":"'（別添４）エネルギー消費効率の根拠（要件ア）'!EN58","v":"別添4_36_18_EP20"},{"$f":"'（別添４）エネルギー消費効率の根拠（要件ア）'!EO58","v":"一代前モデル_1台あたりの使用エネルギー"},{"$f":"'（別添４）エネルギー消費効率の根拠（要件ア）'!EP58","v":0}]
[1069,{"$f":"'（別添４）エネルギー消費効率の根拠（要件ア）'!EN59","v":"別添4_36_19_EP21"},{"$f":"'（別添４）エネルギー消費効率の根拠（要件ア）'!EO59","v":"一代前モデル_年間エネルギー使用量計算式"},{"$f":"'（別添４）エネルギー消費効率の根拠（要件ア）'!EP59","v":0}]
[1070,{"$f":"'（別添４）エネルギー消費効率の根拠（要件ア）'!EN60","v":"別添4_36_20_EP22&EQ22"},{"$f":"'（別添４）エネルギー消費効率の根拠（要件ア）'!EO60","v":"一代前モデル_計算結果"},{"$f":"'（別添４）エネルギー消費効率の根拠（要件ア）'!EP60","v":"単位を選択してください"}]
[1071,{"$f":"'（別添４）エネルギー消費効率の根拠（要件ア）'!EN61","v":"別添4_36_21_EN23&EO23"},{"$f":"'（別添４）エネルギー消費効率の根拠（要件ア）'!EO61","v":"年間見込み省エネルギー量__計算結果"},{"$f":"'（別添４）エネルギー消費効率の根拠（要件ア）'!EP61","v":"0単位を選択してください"}]
[1072,{"$f":"'（別添４）エネルギー消費効率の根拠（要件ア）'!EN62","v":"別添4_36_22_EN25"},{"$f":"'（別添４）エネルギー消費効率の根拠（要件ア）'!EO62","v":"年間見込み省エネルギー量_原油換算計算式"},{"$f":"'（別添４）エネルギー消費効率の根拠（要件ア）'!EP62","v":0}]
[1073,{"$f":"'（別添４）エネルギー消費効率の根拠（要件ア）'!EN63","v":"別添4_36_23_EN26"},{"$f":"'（別添４）エネルギー消費効率の根拠（要件ア）'!EO63","v":"年間見込み省エネルギー量原油換算計算結果"},{"$f":"'（別添４）エネルギー消費効率の根拠（要件ア）'!EP63","v":0}]
[1074,{"$f":"'（別添４）エネルギー消費効率の根拠（要件ア）'!EN64","v":"別添4_36_24_EN27"},{"$f":"'（別添４）エネルギー消費効率の根拠（要件ア）'!EO64","v":"年間見込み省エネルギー率_自動計算"},{"$f":"'（別添４）エネルギー消費効率の根拠（要件ア）'!EP64","v":""}]
[1075,{"$f":"'（別添４）エネルギー消費効率の根拠（要件ア）'!ER41","v":"別添4_37_1_ER9"},{"$f":"'（別添４）エネルギー消費効率の根拠（要件ア）'!ES41","v":"トップランナー基準"},{"$f":"'（別添４）エネルギー消費効率の根拠（要件ア）'!ET41","v":0}]
[1076,{"$f":"'（別添４）エネルギー消費効率の根拠（要件ア）'!ER42","v":"別添4_37_2_ER10"},{"$f":"'（別添４）エネルギー消費効率の根拠（要件ア）'!ES42","v":"トップランナー基準の区分名又は数値"},{"$f":"'（別添４）エネルギー消費効率の根拠（要件ア）'!ET42","v":0}]
[1077,{"$f":"'（別添４）エネルギー消費効率の根拠（要件ア）'!ER43","v":"別添4_37_3_ER11"},{"$f":"'（別添４）エネルギー消費効率の根拠（要件ア）'!ES43","v":"トップランナー基準の数値（導入設備）"},{"$f":"'（別添４）エネルギー消費効率の根拠（要件ア）'!ET43","v":0}]
[1078,{"$f":"'（別添４）エネルギー消費効率の根拠（要件ア）'!ER44","v":"別添4_37_4_ER12"},{"$f":"'（別添４）エネルギー消費効率の根拠（要件ア）'!ES44","v":"比較指標/トップランナー基準"},{"$f":"'（別添４）エネルギー消費効率の根拠（要件ア）'!ET44","v":0}]
[1079,{"$f":"'（別添４）エネルギー消費効率の根拠（要件ア）'!ER45","v":"別添4_37_5_ER13"},{"$f":"'（別添４）エネルギー消費効率の根拠（要件ア）'!ES45","v":"添付資料の根拠記載箇所"},{"$f":"'（別添４）エネルギー消費効率の根拠（要件ア）'!ET45","v":0}]
[1080,{"$f":"'（別添４）エネルギー消費効率の根拠（要件ア）'!ER46","v":"別添4_37_6_ER14"},{"$f":"'（別添４）エネルギー消費効率の根拠（要件ア）'!ES46","v":"省エネ要因"},{"$f":"'（別添４）エネルギー消費効率の根拠（要件ア）'!ET46","v":0}]
[1081,{"$f":"'（別添４）エネルギー消費効率の根拠（要件ア）'!ER47","v":"別添4_37_7_ER16"},{"$f":"'（別添４）エネルギー消費効率の根拠（要件ア）'!ES47","v":"導入設備_製品名"},{"$f":"'（別添４）エネルギー消費効率の根拠（要件ア）'!ET47","v":0}]
[1082,{"$f":"'（別添４）エネルギー消費効率の根拠（要件ア）'!ER48","v":"別添4_37_8_ER17"},{"$f":"'（別添４）エネルギー消費効率の根拠（要件ア）'!ES48","v":"導入設備_製造メーカー"},{"$f":"'（別添４）エネルギー消費効率の根拠（要件ア）'!ET48","v":0}]
[1083,{"$f":"'（別添４）エネルギー消費効率の根拠（要件ア）'!ER49","v":"別添4_37_9_ER18"},{"$f":"'（別添４）エネルギー消費効率の根拠（要件ア）'!ES49","v":"導入設備_型番"},{"$f":"'（別添４）エネルギー消費効率の根拠（要件ア）'!ET49","v":0}]
[1084,{"$f":"'（別添４）エネルギー消費効率の根拠（要件ア）'!ER50","v":"別添4_37_10_ER19&ES19"},{"$f":"'（別添４）エネルギー消費効率の根拠（要件ア）'!ES50","v":"導入設備_導入台数"},{"$f":"'（別添４）エネルギー消費効率の根拠（要件ア）'!ET50","v":"台"}]
[1085,{"$f":"'（別添４）エネルギー消費効率の根拠（要件ア）'!ER51","v":"別添4_37_11_ER20"},{"$f":"'（別添４）エネルギー消費効率の根拠（要件ア）'!ES51","v":"導入設備_1台あたりの使用エネルギー"},{"$f":"'（別添４）エネルギー消費効率の根拠（要件ア）'!ET51","v":0}]
[1086,{"$f":"'（別添４）エネルギー消費効率の根拠（要件ア）'!ER52","v":"別添4_37_12_ER21"},{"$f":"'（別添４）エネルギー消費効率の根拠（要件ア）'!ES52","v":"導入設備_年間エネルギー使用量計算式"},{"$f":"'（別添４）エネルギー消費効率の根拠（要件ア）'!ET52","v":0}]
[1087,{"$f":"'（別添４）エネルギー消費効率の根拠（要件ア）'!ER53","v":"別添4_37_13_ER22&ES22"},{"$f":"'（別添４）エネルギー消費効率の根拠（要件ア）'!ES53","v":"導入設備_計算結果"},{"$f":"'（別添４）エネルギー消費効率の根拠（要件ア）'!ET53","v":"単位を選択してください"}]
[1088,{"$f":"'（別添４）エネルギー消費効率の根拠（要件ア）'!ER54","v":"別添4_37_14_ET16"},{"$f":"'（別添４）エネルギー消費効率の根拠（要件ア）'!ES54","v":"一代前モデル_製品名"},{"$f":"'（別添４）エネルギー消費効率の根拠（要件ア）'!ET54","v":0}]
[1089,{"$f":"'（別添４）エネルギー消費効率の根拠（要件ア）'!ER55","v":"別添4_37_15_ET17"},{"$f":"'（別添４）エネルギー消費効率の根拠（要件ア）'!ES55","v":"一代前モデル_製造メーカー"},{"$f":"'（別添４）エネルギー消費効率の根拠（要件ア）'!ET55","v":0}]
[1090,{"$f":"'（別添４）エネルギー消費効率の根拠（要件ア）'!ER56","v":"別添4_37_16_ET18"},{"$f":"'（別添４）エネルギー消費効率の根拠（要件ア）'!ES56","v":"一代前モデル_型番"},{"$f":"'（別添４）エネルギー消費効率の根拠（要件ア）'!ET56","v":0}]
[1091,{"$f":"'（別添４）エネルギー消費効率の根拠（要件ア）'!ER57","v":"別添4_37_17_ET19&EU19"},{"$f":"'（別添４）エネルギー消費効率の根拠（要件ア）'!ES57","v":"一代前モデル_導入台数"},{"$f":"'（別添４）エネルギー消費効率の根拠（要件ア）'!ET57","v":"台"}]
[1092,{"$f":"'（別添４）エネルギー消費効率の根拠（要件ア）'!ER58","v":"別添4_37_18_ET20"},{"$f":"'（別添４）エネルギー消費効率の根拠（要件ア）'!ES58","v":"一代前モデル_1台あたりの使用エネルギー"},{"$f":"'（別添４）エネルギー消費効率の根拠（要件ア）'!ET58","v":0}]
[1093,{"$f":"'（別添４）エネルギー消費効率の根拠（要件ア）'!ER59","v":"別添4_37_19_ET21"},{"$f":"'（別添４）エネルギー消費効率の根拠（要件ア）'!ES59","v":"一代前モデル_年間エネルギー使用量計算式"},{"$f":"'（別添４）エネルギー消費効率の根拠（要件ア）'!ET59","v":0}]
[1094,{"$f":"'（別添４）エネルギー消費効率の根拠（要件ア）'!ER60","v":"別添4_37_20_ET22&EU22"},{"$f":"'（別添４）エネルギー消費効率の根拠（要件ア）'!ES60","v":"一代前モデル_計算結果"},{"$f":"'（別添４）エネルギー消費効率の根拠（要件ア）'!ET60","v":"単位を選択してください"}]
[1095,{"$f":"'（別添４）エネルギー消費効率の根拠（要件ア）'!ER61","v":"別添4_37_21_ER23&ES23"},{"$f":"'（別添４）エネルギー消費効率の根拠（要件ア）'!ES61","v":"年間見込み省エネルギー量__計算結果"},{"$f":"'（別添４）エネルギー消費効率の根拠（要件ア）'!ET61","v":"0単位を選択してください"}]
[1096,{"$f":"'（別添４）エネルギー消費効率の根拠（要件ア）'!ER62","v":"別添4_37_22_ER25"},{"$f":"'（別添４）エネルギー消費効率の根拠（要件ア）'!ES62","v":"年間見込み省エネルギー量_原油換算計算式"},{"$f":"'（別添４）エネルギー消費効率の根拠（要件ア）'!ET62","v":0}]
[1097,{"$f":"'（別添４）エネルギー消費効率の根拠（要件ア）'!ER63","v":"別添4_37_23_ER26"},{"$f":"'（別添４）エネルギー消費効率の根拠（要件ア）'!ES63","v":"年間見込み省エネルギー量原油換算計算結果"},{"$f":"'（別添４）エネルギー消費効率の根拠（要件ア）'!ET63","v":0}]
[1098,{"$f":"'（別添４）エネルギー消費効率の根拠（要件ア）'!ER64","v":"別添4_37_24_ER27"},{"$f":"'（別添４）エネルギー消費効率の根拠（要件ア）'!ES64","v":"年間見込み省エネルギー率_自動計算"},{"$f":"'（別添４）エネルギー消費効率の根拠（要件ア）'!ET64","v":""}]
[1099,{"$f":"'（別添４）エネルギー消費効率の根拠（要件ア）'!EV41","v":"別添4_38_1_EV9"},{"$f":"'（別添４）エネルギー消費効率の根拠（要件ア）'!EW41","v":"トップランナー基準"},{"$f":"'（別添４）エネルギー消費効率の根拠（要件ア）'!EX41","v":0}]
[{"$f":"ROW()-1","v":1100},{"$f":"'（別添４）エネルギー消費効率の根拠（要件ア）'!EV42","v":"別添4_38_2_EV10"},{"$f":"'（別添４）エネルギー消費効率の根拠（要件ア）'!EW42","v":"トップランナー基準の区分名又は数値"},{"$f":"'（別添４）エネルギー消費効率の根拠（要件ア）'!EX42","v":0}]
[1101,{"$f":"'（別添４）エネルギー消費効率の根拠（要件ア）'!EV43","v":"別添4_38_3_EV11"},{"$f":"'（別添４）エネルギー消費効率の根拠（要件ア）'!EW43","v":"トップランナー基準の数値（導入設備）"},{"$f":"'（別添４）エネルギー消費効率の根拠（要件ア）'!EX43","v":0}]
[1102,{"$f":"'（別添４）エネルギー消費効率の根拠（要件ア）'!EV44","v":"別添4_38_4_EV12"},{"$f":"'（別添４）エネルギー消費効率の根拠（要件ア）'!EW44","v":"比較指標/トップランナー基準"},{"$f":"'（別添４）エネルギー消費効率の根拠（要件ア）'!EX44","v":0}]
[1103,{"$f":"'（別添４）エネルギー消費効率の根拠（要件ア）'!EV45","v":"別添4_38_5_EV13"},{"$f":"'（別添４）エネルギー消費効率の根拠（要件ア）'!EW45","v":"添付資料の根拠記載箇所"},{"$f":"'（別添４）エネルギー消費効率の根拠（要件ア）'!EX45","v":0}]
[1104,{"$f":"'（別添４）エネルギー消費効率の根拠（要件ア）'!EV46","v":"別添4_38_6_EV14"},{"$f":"'（別添４）エネルギー消費効率の根拠（要件ア）'!EW46","v":"省エネ要因"},{"$f":"'（別添４）エネルギー消費効率の根拠（要件ア）'!EX46","v":0}]
[1105,{"$f":"'（別添４）エネルギー消費効率の根拠（要件ア）'!EV47","v":"別添4_38_7_EV16"},{"$f":"'（別添４）エネルギー消費効率の根拠（要件ア）'!EW47","v":"導入設備_製品名"},{"$f":"'（別添４）エネルギー消費効率の根拠（要件ア）'!EX47","v":0}]
[1106,{"$f":"'（別添４）エネルギー消費効率の根拠（要件ア）'!EV48","v":"別添4_38_8_EV17"},{"$f":"'（別添４）エネルギー消費効率の根拠（要件ア）'!EW48","v":"導入設備_製造メーカー"},{"$f":"'（別添４）エネルギー消費効率の根拠（要件ア）'!EX48","v":0}]
[1107,{"$f":"'（別添４）エネルギー消費効率の根拠（要件ア）'!EV49","v":"別添4_38_9_EV18"},{"$f":"'（別添４）エネルギー消費効率の根拠（要件ア）'!EW49","v":"導入設備_型番"},{"$f":"'（別添４）エネルギー消費効率の根拠（要件ア）'!EX49","v":0}]
[1108,{"$f":"'（別添４）エネルギー消費効率の根拠（要件ア）'!EV50","v":"別添4_38_10_EV19&EW19"},{"$f":"'（別添４）エネルギー消費効率の根拠（要件ア）'!EW50","v":"導入設備_導入台数"},{"$f":"'（別添４）エネルギー消費効率の根拠（要件ア）'!EX50","v":"台"}]
[1109,{"$f":"'（別添４）エネルギー消費効率の根拠（要件ア）'!EV51","v":"別添4_38_11_EV20"},{"$f":"'（別添４）エネルギー消費効率の根拠（要件ア）'!EW51","v":"導入設備_1台あたりの使用エネルギー"},{"$f":"'（別添４）エネルギー消費効率の根拠（要件ア）'!EX51","v":0}]
[1110,{"$f":"'（別添４）エネルギー消費効率の根拠（要件ア）'!EV52","v":"別添4_38_12_EV21"},{"$f":"'（別添４）エネルギー消費効率の根拠（要件ア）'!EW52","v":"導入設備_年間エネルギー使用量計算式"},{"$f":"'（別添４）エネルギー消費効率の根拠（要件ア）'!EX52","v":0}]
[1111,{"$f":"'（別添４）エネルギー消費効率の根拠（要件ア）'!EV53","v":"別添4_38_13_EV22&EW22"},{"$f":"'（別添４）エネルギー消費効率の根拠（要件ア）'!EW53","v":"導入設備_計算結果"},{"$f":"'（別添４）エネルギー消費効率の根拠（要件ア）'!EX53","v":"単位を選択してください"}]
[1112,{"$f":"'（別添４）エネルギー消費効率の根拠（要件ア）'!EV54","v":"別添4_38_14_EX16"},{"$f":"'（別添４）エネルギー消費効率の根拠（要件ア）'!EW54","v":"一代前モデル_製品名"},{"$f":"'（別添４）エネルギー消費効率の根拠（要件ア）'!EX54","v":0}]
[1113,{"$f":"'（別添４）エネルギー消費効率の根拠（要件ア）'!EV55","v":"別添4_38_15_EX17"},{"$f":"'（別添４）エネルギー消費効率の根拠（要件ア）'!EW55","v":"一代前モデル_製造メーカー"},{"$f":"'（別添４）エネルギー消費効率の根拠（要件ア）'!EX55","v":0}]
[1114,{"$f":"'（別添４）エネルギー消費効率の根拠（要件ア）'!EV56","v":"別添4_38_16_EX18"},{"$f":"'（別添４）エネルギー消費効率の根拠（要件ア）'!EW56","v":"一代前モデル_型番"},{"$f":"'（別添４）エネルギー消費効率の根拠（要件ア）'!EX56","v":0}]
[1115,{"$f":"'（別添４）エネルギー消費効率の根拠（要件ア）'!EV57","v":"別添4_38_17_EX19&EY19"},{"$f":"'（別添４）エネルギー消費効率の根拠（要件ア）'!EW57","v":"一代前モデル_導入台数"},{"$f":"'（別添４）エネルギー消費効率の根拠（要件ア）'!EX57","v":"台"}]
[1116,{"$f":"'（別添４）エネルギー消費効率の根拠（要件ア）'!EV58","v":"別添4_38_18_EX20"},{"$f":"'（別添４）エネルギー消費効率の根拠（要件ア）'!EW58","v":"一代前モデル_1台あたりの使用エネルギー"},{"$f":"'（別添４）エネルギー消費効率の根拠（要件ア）'!EX58","v":0}]
[1117,{"$f":"'（別添４）エネルギー消費効率の根拠（要件ア）'!EV59","v":"別添4_38_19_EX21"},{"$f":"'（別添４）エネルギー消費効率の根拠（要件ア）'!EW59","v":"一代前モデル_年間エネルギー使用量計算式"},{"$f":"'（別添４）エネルギー消費効率の根拠（要件ア）'!EX59","v":0}]
[1118,{"$f":"'（別添４）エネルギー消費効率の根拠（要件ア）'!EV60","v":"別添4_38_20_EX22&EY22"},{"$f":"'（別添４）エネルギー消費効率の根拠（要件ア）'!EW60","v":"一代前モデル_計算結果"},{"$f":"'（別添４）エネルギー消費効率の根拠（要件ア）'!EX60","v":"単位を選択してください"}]
[1119,{"$f":"'（別添４）エネルギー消費効率の根拠（要件ア）'!EV61","v":"別添4_38_21_EV23&EW23"},{"$f":"'（別添４）エネルギー消費効率の根拠（要件ア）'!EW61","v":"年間見込み省エネルギー量__計算結果"},{"$f":"'（別添４）エネルギー消費効率の根拠（要件ア）'!EX61","v":"0単位を選択してください"}]
[1120,{"$f":"'（別添４）エネルギー消費効率の根拠（要件ア）'!EV62","v":"別添4_38_22_EV25"},{"$f":"'（別添４）エネルギー消費効率の根拠（要件ア）'!EW62","v":"年間見込み省エネルギー量_原油換算計算式"},{"$f":"'（別添４）エネルギー消費効率の根拠（要件ア）'!EX62","v":0}]
[1121,{"$f":"'（別添４）エネルギー消費効率の根拠（要件ア）'!EV63","v":"別添4_38_23_EV26"},{"$f":"'（別添４）エネルギー消費効率の根拠（要件ア）'!EW63","v":"年間見込み省エネルギー量原油換算計算結果"},{"$f":"'（別添４）エネルギー消費効率の根拠（要件ア）'!EX63","v":0}]
[1122,{"$f":"'（別添４）エネルギー消費効率の根拠（要件ア）'!EV64","v":"別添4_38_24_EV27"},{"$f":"'（別添４）エネルギー消費効率の根拠（要件ア）'!EW64","v":"年間見込み省エネルギー率_自動計算"},{"$f":"'（別添４）エネルギー消費効率の根拠（要件ア）'!EX64","v":""}]
[1123,{"$f":"'（別添４）エネルギー消費効率の根拠（要件ア）'!EZ41","v":"別添4_39_1_EZ9"},{"$f":"'（別添４）エネルギー消費効率の根拠（要件ア）'!FA41","v":"トップランナー基準"},{"$f":"'（別添４）エネルギー消費効率の根拠（要件ア）'!FB41","v":0}]
[1124,{"$f":"'（別添４）エネルギー消費効率の根拠（要件ア）'!EZ42","v":"別添4_39_2_EZ10"},{"$f":"'（別添４）エネルギー消費効率の根拠（要件ア）'!FA42","v":"トップランナー基準の区分名又は数値"},{"$f":"'（別添４）エネルギー消費効率の根拠（要件ア）'!FB42","v":0}]
[1125,{"$f":"'（別添４）エネルギー消費効率の根拠（要件ア）'!EZ43","v":"別添4_39_3_EZ11"},{"$f":"'（別添４）エネルギー消費効率の根拠（要件ア）'!FA43","v":"トップランナー基準の数値（導入設備）"},{"$f":"'（別添４）エネルギー消費効率の根拠（要件ア）'!FB43","v":0}]
[1126,{"$f":"'（別添４）エネルギー消費効率の根拠（要件ア）'!EZ44","v":"別添4_39_4_EZ12"},{"$f":"'（別添４）エネルギー消費効率の根拠（要件ア）'!FA44","v":"比較指標/トップランナー基準"},{"$f":"'（別添４）エネルギー消費効率の根拠（要件ア）'!FB44","v":0}]
[1127,{"$f":"'（別添４）エネルギー消費効率の根拠（要件ア）'!EZ45","v":"別添4_39_5_EZ13"},{"$f":"'（別添４）エネルギー消費効率の根拠（要件ア）'!FA45","v":"添付資料の根拠記載箇所"},{"$f":"'（別添４）エネルギー消費効率の根拠（要件ア）'!FB45","v":0}]
[1128,{"$f":"'（別添４）エネルギー消費効率の根拠（要件ア）'!EZ46","v":"別添4_39_6_EZ14"},{"$f":"'（別添４）エネルギー消費効率の根拠（要件ア）'!FA46","v":"省エネ要因"},{"$f":"'（別添４）エネルギー消費効率の根拠（要件ア）'!FB46","v":0}]
[1129,{"$f":"'（別添４）エネルギー消費効率の根拠（要件ア）'!EZ47","v":"別添4_39_7_EZ16"},{"$f":"'（別添４）エネルギー消費効率の根拠（要件ア）'!FA47","v":"導入設備_製品名"},{"$f":"'（別添４）エネルギー消費効率の根拠（要件ア）'!FB47","v":0}]
[1130,{"$f":"'（別添４）エネルギー消費効率の根拠（要件ア）'!EZ48","v":"別添4_39_8_EZ17"},{"$f":"'（別添４）エネルギー消費効率の根拠（要件ア）'!FA48","v":"導入設備_製造メーカー"},{"$f":"'（別添４）エネルギー消費効率の根拠（要件ア）'!FB48","v":0}]
[1131,{"$f":"'（別添４）エネルギー消費効率の根拠（要件ア）'!EZ49","v":"別添4_39_9_EZ18"},{"$f":"'（別添４）エネルギー消費効率の根拠（要件ア）'!FA49","v":"導入設備_型番"},{"$f":"'（別添４）エネルギー消費効率の根拠（要件ア）'!FB49","v":0}]
[1132,{"$f":"'（別添４）エネルギー消費効率の根拠（要件ア）'!EZ50","v":"別添4_39_10_EZ19&FA19"},{"$f":"'（別添４）エネルギー消費効率の根拠（要件ア）'!FA50","v":"導入設備_導入台数"},{"$f":"'（別添４）エネルギー消費効率の根拠（要件ア）'!FB50","v":"台"}]
[1133,{"$f":"'（別添４）エネルギー消費効率の根拠（要件ア）'!EZ51","v":"別添4_39_11_EZ20"},{"$f":"'（別添４）エネルギー消費効率の根拠（要件ア）'!FA51","v":"導入設備_1台あたりの使用エネルギー"},{"$f":"'（別添４）エネルギー消費効率の根拠（要件ア）'!FB51","v":0}]
[1134,{"$f":"'（別添４）エネルギー消費効率の根拠（要件ア）'!EZ52","v":"別添4_39_12_EZ21"},{"$f":"'（別添４）エネルギー消費効率の根拠（要件ア）'!FA52","v":"導入設備_年間エネルギー使用量計算式"},{"$f":"'（別添４）エネルギー消費効率の根拠（要件ア）'!FB52","v":0}]
[1135,{"$f":"'（別添４）エネルギー消費効率の根拠（要件ア）'!EZ53","v":"別添4_39_13_EZ22&FA22"},{"$f":"'（別添４）エネルギー消費効率の根拠（要件ア）'!FA53","v":"導入設備_計算結果"},{"$f":"'（別添４）エネルギー消費効率の根拠（要件ア）'!FB53","v":"単位を選択してください"}]
[1136,{"$f":"'（別添４）エネルギー消費効率の根拠（要件ア）'!EZ54","v":"別添4_39_14_FB16"},{"$f":"'（別添４）エネルギー消費効率の根拠（要件ア）'!FA54","v":"一代前モデル_製品名"},{"$f":"'（別添４）エネルギー消費効率の根拠（要件ア）'!FB54","v":0}]
[1137,{"$f":"'（別添４）エネルギー消費効率の根拠（要件ア）'!EZ55","v":"別添4_39_15_FB17"},{"$f":"'（別添４）エネルギー消費効率の根拠（要件ア）'!FA55","v":"一代前モデル_製造メーカー"},{"$f":"'（別添４）エネルギー消費効率の根拠（要件ア）'!FB55","v":0}]
[1138,{"$f":"'（別添４）エネルギー消費効率の根拠（要件ア）'!EZ56","v":"別添4_39_16_FB18"},{"$f":"'（別添４）エネルギー消費効率の根拠（要件ア）'!FA56","v":"一代前モデル_型番"},{"$f":"'（別添４）エネルギー消費効率の根拠（要件ア）'!FB56","v":0}]
[1139,{"$f":"'（別添４）エネルギー消費効率の根拠（要件ア）'!EZ57","v":"別添4_39_17_FB19&FC19"},{"$f":"'（別添４）エネルギー消費効率の根拠（要件ア）'!FA57","v":"一代前モデル_導入台数"},{"$f":"'（別添４）エネルギー消費効率の根拠（要件ア）'!FB57","v":"台"}]
[1140,{"$f":"'（別添４）エネルギー消費効率の根拠（要件ア）'!EZ58","v":"別添4_39_18_FB20"},{"$f":"'（別添４）エネルギー消費効率の根拠（要件ア）'!FA58","v":"一代前モデル_1台あたりの使用エネルギー"},{"$f":"'（別添４）エネルギー消費効率の根拠（要件ア）'!FB58","v":0}]
[1141,{"$f":"'（別添４）エネルギー消費効率の根拠（要件ア）'!EZ59","v":"別添4_39_19_FB21"},{"$f":"'（別添４）エネルギー消費効率の根拠（要件ア）'!FA59","v":"一代前モデル_年間エネルギー使用量計算式"},{"$f":"'（別添４）エネルギー消費効率の根拠（要件ア）'!FB59","v":0}]
[1142,{"$f":"'（別添４）エネルギー消費効率の根拠（要件ア）'!EZ60","v":"別添4_39_20_FB22&FC22"},{"$f":"'（別添４）エネルギー消費効率の根拠（要件ア）'!FA60","v":"一代前モデル_計算結果"},{"$f":"'（別添４）エネルギー消費効率の根拠（要件ア）'!FB60","v":"単位を選択してください"}]
[1143,{"$f":"'（別添４）エネルギー消費効率の根拠（要件ア）'!EZ61","v":"別添4_39_21_EZ23&FA23"},{"$f":"'（別添４）エネルギー消費効率の根拠（要件ア）'!FA61","v":"年間見込み省エネルギー量__計算結果"},{"$f":"'（別添４）エネルギー消費効率の根拠（要件ア）'!FB61","v":"0単位を選択してください"}]
[1144,{"$f":"'（別添４）エネルギー消費効率の根拠（要件ア）'!EZ62","v":"別添4_39_22_EZ25"},{"$f":"'（別添４）エネルギー消費効率の根拠（要件ア）'!FA62","v":"年間見込み省エネルギー量_原油換算計算式"},{"$f":"'（別添４）エネルギー消費効率の根拠（要件ア）'!FB62","v":0}]
[1145,{"$f":"'（別添４）エネルギー消費効率の根拠（要件ア）'!EZ63","v":"別添4_39_23_EZ26"},{"$f":"'（別添４）エネルギー消費効率の根拠（要件ア）'!FA63","v":"年間見込み省エネルギー量原油換算計算結果"},{"$f":"'（別添４）エネルギー消費効率の根拠（要件ア）'!FB63","v":0}]
[1146,{"$f":"'（別添４）エネルギー消費効率の根拠（要件ア）'!EZ64","v":"別添4_39_24_EZ27"},{"$f":"'（別添４）エネルギー消費効率の根拠（要件ア）'!FA64","v":"年間見込み省エネルギー率_自動計算"},{"$f":"'（別添４）エネルギー消費効率の根拠（要件ア）'!FB64","v":""}]
[1147,{"$f":"'（別添４）エネルギー消費効率の根拠（要件ア）'!FD41","v":"別添4_40_1_FD9"},{"$f":"'（別添４）エネルギー消費効率の根拠（要件ア）'!FE41","v":"トップランナー基準"},{"$f":"'（別添４）エネルギー消費効率の根拠（要件ア）'!FF41","v":0}]
[1148,{"$f":"'（別添４）エネルギー消費効率の根拠（要件ア）'!FD42","v":"別添4_40_2_FD10"},{"$f":"'（別添４）エネルギー消費効率の根拠（要件ア）'!FE42","v":"トップランナー基準の区分名又は数値"},{"$f":"'（別添４）エネルギー消費効率の根拠（要件ア）'!FF42","v":0}]
[1149,{"$f":"'（別添４）エネルギー消費効率の根拠（要件ア）'!FD43","v":"別添4_40_3_FD11"},{"$f":"'（別添４）エネルギー消費効率の根拠（要件ア）'!FE43","v":"トップランナー基準の数値（導入設備）"},{"$f":"'（別添４）エネルギー消費効率の根拠（要件ア）'!FF43","v":0}]
[1150,{"$f":"'（別添４）エネルギー消費効率の根拠（要件ア）'!FD44","v":"別添4_40_4_FD12"},{"$f":"'（別添４）エネルギー消費効率の根拠（要件ア）'!FE44","v":"比較指標/トップランナー基準"},{"$f":"'（別添４）エネルギー消費効率の根拠（要件ア）'!FF44","v":0}]
[1151,{"$f":"'（別添４）エネルギー消費効率の根拠（要件ア）'!FD45","v":"別添4_40_5_FD13"},{"$f":"'（別添４）エネルギー消費効率の根拠（要件ア）'!FE45","v":"添付資料の根拠記載箇所"},{"$f":"'（別添４）エネルギー消費効率の根拠（要件ア）'!FF45","v":0}]
[1152,{"$f":"'（別添４）エネルギー消費効率の根拠（要件ア）'!FD46","v":"別添4_40_6_FD14"},{"$f":"'（別添４）エネルギー消費効率の根拠（要件ア）'!FE46","v":"省エネ要因"},{"$f":"'（別添４）エネルギー消費効率の根拠（要件ア）'!FF46","v":0}]
[1153,{"$f":"'（別添４）エネルギー消費効率の根拠（要件ア）'!FD47","v":"別添4_40_7_FD16"},{"$f":"'（別添４）エネルギー消費効率の根拠（要件ア）'!FE47","v":"導入設備_製品名"},{"$f":"'（別添４）エネルギー消費効率の根拠（要件ア）'!FF47","v":0}]
[1154,{"$f":"'（別添４）エネルギー消費効率の根拠（要件ア）'!FD48","v":"別添4_40_8_FD17"},{"$f":"'（別添４）エネルギー消費効率の根拠（要件ア）'!FE48","v":"導入設備_製造メーカー"},{"$f":"'（別添４）エネルギー消費効率の根拠（要件ア）'!FF48","v":0}]
[1155,{"$f":"'（別添４）エネルギー消費効率の根拠（要件ア）'!FD49","v":"別添4_40_9_FD18"},{"$f":"'（別添４）エネルギー消費効率の根拠（要件ア）'!FE49","v":"導入設備_型番"},{"$f":"'（別添４）エネルギー消費効率の根拠（要件ア）'!FF49","v":0}]
[1156,{"$f":"'（別添４）エネルギー消費効率の根拠（要件ア）'!FD50","v":"別添4_40_10_FD19&FE19"},{"$f":"'（別添４）エネルギー消費効率の根拠（要件ア）'!FE50","v":"導入設備_導入台数"},{"$f":"'（別添４）エネルギー消費効率の根拠（要件ア）'!FF50","v":"台"}]
[1157,{"$f":"'（別添４）エネルギー消費効率の根拠（要件ア）'!FD51","v":"別添4_40_11_FD20"},{"$f":"'（別添４）エネルギー消費効率の根拠（要件ア）'!FE51","v":"導入設備_1台あたりの使用エネルギー"},{"$f":"'（別添４）エネルギー消費効率の根拠（要件ア）'!FF51","v":0}]
[1158,{"$f":"'（別添４）エネルギー消費効率の根拠（要件ア）'!FD52","v":"別添4_40_12_FD21"},{"$f":"'（別添４）エネルギー消費効率の根拠（要件ア）'!FE52","v":"導入設備_年間エネルギー使用量計算式"},{"$f":"'（別添４）エネルギー消費効率の根拠（要件ア）'!FF52","v":0}]
[1159,{"$f":"'（別添４）エネルギー消費効率の根拠（要件ア）'!FD53","v":"別添4_40_13_FD22&FE22"},{"$f":"'（別添４）エネルギー消費効率の根拠（要件ア）'!FE53","v":"導入設備_計算結果"},{"$f":"'（別添４）エネルギー消費効率の根拠（要件ア）'!FF53","v":"単位を選択してください"}]
[1160,{"$f":"'（別添４）エネルギー消費効率の根拠（要件ア）'!FD54","v":"別添4_40_14_FF16"},{"$f":"'（別添４）エネルギー消費効率の根拠（要件ア）'!FE54","v":"一代前モデル_製品名"},{"$f":"'（別添４）エネルギー消費効率の根拠（要件ア）'!FF54","v":0}]
[1161,{"$f":"'（別添４）エネルギー消費効率の根拠（要件ア）'!FD55","v":"別添4_40_15_FF17"},{"$f":"'（別添４）エネルギー消費効率の根拠（要件ア）'!FE55","v":"一代前モデル_製造メーカー"},{"$f":"'（別添４）エネルギー消費効率の根拠（要件ア）'!FF55","v":0}]
[1162,{"$f":"'（別添４）エネルギー消費効率の根拠（要件ア）'!FD56","v":"別添4_40_16_FF18"},{"$f":"'（別添４）エネルギー消費効率の根拠（要件ア）'!FE56","v":"一代前モデル_型番"},{"$f":"'（別添４）エネルギー消費効率の根拠（要件ア）'!FF56","v":0}]
[1163,{"$f":"'（別添４）エネルギー消費効率の根拠（要件ア）'!FD57","v":"別添4_40_17_FF19&FG19"},{"$f":"'（別添４）エネルギー消費効率の根拠（要件ア）'!FE57","v":"一代前モデル_導入台数"},{"$f":"'（別添４）エネルギー消費効率の根拠（要件ア）'!FF57","v":"台"}]
[{"$f":"ROW()-1","v":1164},{"$f":"'（別添４）エネルギー消費効率の根拠（要件ア）'!FD58","v":"別添4_40_18_FF20"},{"$f":"'（別添４）エネルギー消費効率の根拠（要件ア）'!FE58","v":"一代前モデル_1台あたりの使用エネルギー"},{"$f":"'（別添４）エネルギー消費効率の根拠（要件ア）'!FF58","v":0}]
[1165,{"$f":"'（別添４）エネルギー消費効率の根拠（要件ア）'!FD59","v":"別添4_40_19_FF21"},{"$f":"'（別添４）エネルギー消費効率の根拠（要件ア）'!FE59","v":"一代前モデル_年間エネルギー使用量計算式"},{"$f":"'（別添４）エネルギー消費効率の根拠（要件ア）'!FF59","v":0}]
[1166,{"$f":"'（別添４）エネルギー消費効率の根拠（要件ア）'!FD60","v":"別添4_40_20_FF22&FG22"},{"$f":"'（別添４）エネルギー消費効率の根拠（要件ア）'!FE60","v":"一代前モデル_計算結果"},{"$f":"'（別添４）エネルギー消費効率の根拠（要件ア）'!FF60","v":"単位を選択してください"}]
[1167,{"$f":"'（別添４）エネルギー消費効率の根拠（要件ア）'!FD61","v":"別添4_40_21_FD23&FE23"},{"$f":"'（別添４）エネルギー消費効率の根拠（要件ア）'!FE61","v":"年間見込み省エネルギー量__計算結果"},{"$f":"'（別添４）エネルギー消費効率の根拠（要件ア）'!FF61","v":"0単位を選択してください"}]
[1168,{"$f":"'（別添４）エネルギー消費効率の根拠（要件ア）'!FD62","v":"別添4_40_22_FD25"},{"$f":"'（別添４）エネルギー消費効率の根拠（要件ア）'!FE62","v":"年間見込み省エネルギー量_原油換算計算式"},{"$f":"'（別添４）エネルギー消費効率の根拠（要件ア）'!FF62","v":0}]
[1169,{"$f":"'（別添４）エネルギー消費効率の根拠（要件ア）'!FD63","v":"別添4_40_23_FD26"},{"$f":"'（別添４）エネルギー消費効率の根拠（要件ア）'!FE63","v":"年間見込み省エネルギー量原油換算計算結果"},{"$f":"'（別添４）エネルギー消費効率の根拠（要件ア）'!FF63","v":0}]
[1170,{"$f":"'（別添４）エネルギー消費効率の根拠（要件ア）'!FD64","v":"別添4_40_24_FD27"},{"$f":"'（別添４）エネルギー消費効率の根拠（要件ア）'!FE64","v":"年間見込み省エネルギー率_自動計算"},{"$f":"'（別添４）エネルギー消費効率の根拠（要件ア）'!FF64","v":""}]
[1171,{"$f":"'（別添４）エネルギー消費効率の根拠（要件ア）'!FH41","v":"別添4_41_1_FH9"},{"$f":"'（別添４）エネルギー消費効率の根拠（要件ア）'!FI41","v":"トップランナー基準"},{"$f":"'（別添４）エネルギー消費効率の根拠（要件ア）'!FJ41","v":0}]
[1172,{"$f":"'（別添４）エネルギー消費効率の根拠（要件ア）'!FH42","v":"別添4_41_2_FH10"},{"$f":"'（別添４）エネルギー消費効率の根拠（要件ア）'!FI42","v":"トップランナー基準の区分名又は数値"},{"$f":"'（別添４）エネルギー消費効率の根拠（要件ア）'!FJ42","v":0}]
[1173,{"$f":"'（別添４）エネルギー消費効率の根拠（要件ア）'!FH43","v":"別添4_41_3_FH11"},{"$f":"'（別添４）エネルギー消費効率の根拠（要件ア）'!FI43","v":"トップランナー基準の数値（導入設備）"},{"$f":"'（別添４）エネルギー消費効率の根拠（要件ア）'!FJ43","v":0}]
[1174,{"$f":"'（別添４）エネルギー消費効率の根拠（要件ア）'!FH44","v":"別添4_41_4_FH12"},{"$f":"'（別添４）エネルギー消費効率の根拠（要件ア）'!FI44","v":"比較指標/トップランナー基準"},{"$f":"'（別添４）エネルギー消費効率の根拠（要件ア）'!FJ44","v":0}]
[1175,{"$f":"'（別添４）エネルギー消費効率の根拠（要件ア）'!FH45","v":"別添4_41_5_FH13"},{"$f":"'（別添４）エネルギー消費効率の根拠（要件ア）'!FI45","v":"添付資料の根拠記載箇所"},{"$f":"'（別添４）エネルギー消費効率の根拠（要件ア）'!FJ45","v":0}]
[1176,{"$f":"'（別添４）エネルギー消費効率の根拠（要件ア）'!FH46","v":"別添4_41_6_FH14"},{"$f":"'（別添４）エネルギー消費効率の根拠（要件ア）'!FI46","v":"省エネ要因"},{"$f":"'（別添４）エネルギー消費効率の根拠（要件ア）'!FJ46","v":0}]
[1177,{"$f":"'（別添４）エネルギー消費効率の根拠（要件ア）'!FH47","v":"別添4_41_7_FH16"},{"$f":"'（別添４）エネルギー消費効率の根拠（要件ア）'!FI47","v":"導入設備_製品名"},{"$f":"'（別添４）エネルギー消費効率の根拠（要件ア）'!FJ47","v":0}]
[1178,{"$f":"'（別添４）エネルギー消費効率の根拠（要件ア）'!FH48","v":"別添4_41_8_FH17"},{"$f":"'（別添４）エネルギー消費効率の根拠（要件ア）'!FI48","v":"導入設備_製造メーカー"},{"$f":"'（別添４）エネルギー消費効率の根拠（要件ア）'!FJ48","v":0}]
[1179,{"$f":"'（別添４）エネルギー消費効率の根拠（要件ア）'!FH49","v":"別添4_41_9_FH18"},{"$f":"'（別添４）エネルギー消費効率の根拠（要件ア）'!FI49","v":"導入設備_型番"},{"$f":"'（別添４）エネルギー消費効率の根拠（要件ア）'!FJ49","v":0}]
[1180,{"$f":"'（別添４）エネルギー消費効率の根拠（要件ア）'!FH50","v":"別添4_41_10_FH19&FI19"},{"$f":"'（別添４）エネルギー消費効率の根拠（要件ア）'!FI50","v":"導入設備_導入台数"},{"$f":"'（別添４）エネルギー消費効率の根拠（要件ア）'!FJ50","v":"台"}]
[1181,{"$f":"'（別添４）エネルギー消費効率の根拠（要件ア）'!FH51","v":"別添4_41_11_FH20"},{"$f":"'（別添４）エネルギー消費効率の根拠（要件ア）'!FI51","v":"導入設備_1台あたりの使用エネルギー"},{"$f":"'（別添４）エネルギー消費効率の根拠（要件ア）'!FJ51","v":0}]
[1182,{"$f":"'（別添４）エネルギー消費効率の根拠（要件ア）'!FH52","v":"別添4_41_12_FH21"},{"$f":"'（別添４）エネルギー消費効率の根拠（要件ア）'!FI52","v":"導入設備_年間エネルギー使用量計算式"},{"$f":"'（別添４）エネルギー消費効率の根拠（要件ア）'!FJ52","v":0}]
[1183,{"$f":"'（別添４）エネルギー消費効率の根拠（要件ア）'!FH53","v":"別添4_41_13_FH22&FI22"},{"$f":"'（別添４）エネルギー消費効率の根拠（要件ア）'!FI53","v":"導入設備_計算結果"},{"$f":"'（別添４）エネルギー消費効率の根拠（要件ア）'!FJ53","v":"単位を選択してください"}]
[1184,{"$f":"'（別添４）エネルギー消費効率の根拠（要件ア）'!FH54","v":"別添4_41_14_FJ16"},{"$f":"'（別添４）エネルギー消費効率の根拠（要件ア）'!FI54","v":"一代前モデル_製品名"},{"$f":"'（別添４）エネルギー消費効率の根拠（要件ア）'!FJ54","v":0}]
[1185,{"$f":"'（別添４）エネルギー消費効率の根拠（要件ア）'!FH55","v":"別添4_41_15_FJ17"},{"$f":"'（別添４）エネルギー消費効率の根拠（要件ア）'!FI55","v":"一代前モデル_製造メーカー"},{"$f":"'（別添４）エネルギー消費効率の根拠（要件ア）'!FJ55","v":0}]
[1186,{"$f":"'（別添４）エネルギー消費効率の根拠（要件ア）'!FH56","v":"別添4_41_16_FJ18"},{"$f":"'（別添４）エネルギー消費効率の根拠（要件ア）'!FI56","v":"一代前モデル_型番"},{"$f":"'（別添４）エネルギー消費効率の根拠（要件ア）'!FJ56","v":0}]
[1187,{"$f":"'（別添４）エネルギー消費効率の根拠（要件ア）'!FH57","v":"別添4_41_17_FJ19&FK19"},{"$f":"'（別添４）エネルギー消費効率の根拠（要件ア）'!FI57","v":"一代前モデル_導入台数"},{"$f":"'（別添４）エネルギー消費効率の根拠（要件ア）'!FJ57","v":"台"}]
[1188,{"$f":"'（別添４）エネルギー消費効率の根拠（要件ア）'!FH58","v":"別添4_41_18_FJ20"},{"$f":"'（別添４）エネルギー消費効率の根拠（要件ア）'!FI58","v":"一代前モデル_1台あたりの使用エネルギー"},{"$f":"'（別添４）エネルギー消費効率の根拠（要件ア）'!FJ58","v":0}]
[1189,{"$f":"'（別添４）エネルギー消費効率の根拠（要件ア）'!FH59","v":"別添4_41_19_FJ21"},{"$f":"'（別添４）エネルギー消費効率の根拠（要件ア）'!FI59","v":"一代前モデル_年間エネルギー使用量計算式"},{"$f":"'（別添４）エネルギー消費効率の根拠（要件ア）'!FJ59","v":0}]
[1190,{"$f":"'（別添４）エネルギー消費効率の根拠（要件ア）'!FH60","v":"別添4_41_20_FJ22&FK22"},{"$f":"'（別添４）エネルギー消費効率の根拠（要件ア）'!FI60","v":"一代前モデル_計算結果"},{"$f":"'（別添４）エネルギー消費効率の根拠（要件ア）'!FJ60","v":"単位を選択してください"}]
[1191,{"$f":"'（別添４）エネルギー消費効率の根拠（要件ア）'!FH61","v":"別添4_41_21_FH23&FI23"},{"$f":"'（別添４）エネルギー消費効率の根拠（要件ア）'!FI61","v":"年間見込み省エネルギー量__計算結果"},{"$f":"'（別添４）エネルギー消費効率の根拠（要件ア）'!FJ61","v":"0単位を選択してください"}]
[1192,{"$f":"'（別添４）エネルギー消費効率の根拠（要件ア）'!FH62","v":"別添4_41_22_FH25"},{"$f":"'（別添４）エネルギー消費効率の根拠（要件ア）'!FI62","v":"年間見込み省エネルギー量_原油換算計算式"},{"$f":"'（別添４）エネルギー消費効率の根拠（要件ア）'!FJ62","v":0}]
[1193,{"$f":"'（別添４）エネルギー消費効率の根拠（要件ア）'!FH63","v":"別添4_41_23_FH26"},{"$f":"'（別添４）エネルギー消費効率の根拠（要件ア）'!FI63","v":"年間見込み省エネルギー量原油換算計算結果"},{"$f":"'（別添４）エネルギー消費効率の根拠（要件ア）'!FJ63","v":0}]
[1194,{"$f":"'（別添４）エネルギー消費効率の根拠（要件ア）'!FH64","v":"別添4_41_24_FH27"},{"$f":"'（別添４）エネルギー消費効率の根拠（要件ア）'!FI64","v":"年間見込み省エネルギー率_自動計算"},{"$f":"'（別添４）エネルギー消費効率の根拠（要件ア）'!FJ64","v":""}]
[1195,{"$f":"'（別添４）エネルギー消費効率の根拠（要件ア）'!FL41","v":"別添4_42_1_FL9"},{"$f":"'（別添４）エネルギー消費効率の根拠（要件ア）'!FM41","v":"トップランナー基準"},{"$f":"'（別添４）エネルギー消費効率の根拠（要件ア）'!FN41","v":0}]
[1196,{"$f":"'（別添４）エネルギー消費効率の根拠（要件ア）'!FL42","v":"別添4_42_2_FL10"},{"$f":"'（別添４）エネルギー消費効率の根拠（要件ア）'!FM42","v":"トップランナー基準の区分名又は数値"},{"$f":"'（別添４）エネルギー消費効率の根拠（要件ア）'!FN42","v":0}]
[1197,{"$f":"'（別添４）エネルギー消費効率の根拠（要件ア）'!FL43","v":"別添4_42_3_FL11"},{"$f":"'（別添４）エネルギー消費効率の根拠（要件ア）'!FM43","v":"トップランナー基準の数値（導入設備）"},{"$f":"'（別添４）エネルギー消費効率の根拠（要件ア）'!FN43","v":0}]
[1198,{"$f":"'（別添４）エネルギー消費効率の根拠（要件ア）'!FL44","v":"別添4_42_4_FL12"},{"$f":"'（別添４）エネルギー消費効率の根拠（要件ア）'!FM44","v":"比較指標/トップランナー基準"},{"$f":"'（別添４）エネルギー消費効率の根拠（要件ア）'!FN44","v":0}]
[1199,{"$f":"'（別添４）エネルギー消費効率の根拠（要件ア）'!FL45","v":"別添4_42_5_FL13"},{"$f":"'（別添４）エネルギー消費効率の根拠（要件ア）'!FM45","v":"添付資料の根拠記載箇所"},{"$f":"'（別添４）エネルギー消費効率の根拠（要件ア）'!FN45","v":0}]
[1200,{"$f":"'（別添４）エネルギー消費効率の根拠（要件ア）'!FL46","v":"別添4_42_6_FL14"},{"$f":"'（別添４）エネルギー消費効率の根拠（要件ア）'!FM46","v":"省エネ要因"},{"$f":"'（別添４）エネルギー消費効率の根拠（要件ア）'!FN46","v":0}]
[1201,{"$f":"'（別添４）エネルギー消費効率の根拠（要件ア）'!FL47","v":"別添4_42_7_FL16"},{"$f":"'（別添４）エネルギー消費効率の根拠（要件ア）'!FM47","v":"導入設備_製品名"},{"$f":"'（別添４）エネルギー消費効率の根拠（要件ア）'!FN47","v":0}]
[1202,{"$f":"'（別添４）エネルギー消費効率の根拠（要件ア）'!FL48","v":"別添4_42_8_FL17"},{"$f":"'（別添４）エネルギー消費効率の根拠（要件ア）'!FM48","v":"導入設備_製造メーカー"},{"$f":"'（別添４）エネルギー消費効率の根拠（要件ア）'!FN48","v":0}]
[1203,{"$f":"'（別添４）エネルギー消費効率の根拠（要件ア）'!FL49","v":"別添4_42_9_FL18"},{"$f":"'（別添４）エネルギー消費効率の根拠（要件ア）'!FM49","v":"導入設備_型番"},{"$f":"'（別添４）エネルギー消費効率の根拠（要件ア）'!FN49","v":0}]
[1204,{"$f":"'（別添４）エネルギー消費効率の根拠（要件ア）'!FL50","v":"別添4_42_10_FL19&FM19"},{"$f":"'（別添４）エネルギー消費効率の根拠（要件ア）'!FM50","v":"導入設備_導入台数"},{"$f":"'（別添４）エネルギー消費効率の根拠（要件ア）'!FN50","v":"台"}]
[1205,{"$f":"'（別添４）エネルギー消費効率の根拠（要件ア）'!FL51","v":"別添4_42_11_FL20"},{"$f":"'（別添４）エネルギー消費効率の根拠（要件ア）'!FM51","v":"導入設備_1台あたりの使用エネルギー"},{"$f":"'（別添４）エネルギー消費効率の根拠（要件ア）'!FN51","v":0}]
[1206,{"$f":"'（別添４）エネルギー消費効率の根拠（要件ア）'!FL52","v":"別添4_42_12_FL21"},{"$f":"'（別添４）エネルギー消費効率の根拠（要件ア）'!FM52","v":"導入設備_年間エネルギー使用量計算式"},{"$f":"'（別添４）エネルギー消費効率の根拠（要件ア）'!FN52","v":0}]
[1207,{"$f":"'（別添４）エネルギー消費効率の根拠（要件ア）'!FL53","v":"別添4_42_13_FL22&FM22"},{"$f":"'（別添４）エネルギー消費効率の根拠（要件ア）'!FM53","v":"導入設備_計算結果"},{"$f":"'（別添４）エネルギー消費効率の根拠（要件ア）'!FN53","v":"単位を選択してください"}]
[1208,{"$f":"'（別添４）エネルギー消費効率の根拠（要件ア）'!FL54","v":"別添4_42_14_FN16"},{"$f":"'（別添４）エネルギー消費効率の根拠（要件ア）'!FM54","v":"一代前モデル_製品名"},{"$f":"'（別添４）エネルギー消費効率の根拠（要件ア）'!FN54","v":0}]
[1209,{"$f":"'（別添４）エネルギー消費効率の根拠（要件ア）'!FL55","v":"別添4_42_15_FN17"},{"$f":"'（別添４）エネルギー消費効率の根拠（要件ア）'!FM55","v":"一代前モデル_製造メーカー"},{"$f":"'（別添４）エネルギー消費効率の根拠（要件ア）'!FN55","v":0}]
[1210,{"$f":"'（別添４）エネルギー消費効率の根拠（要件ア）'!FL56","v":"別添4_42_16_FN18"},{"$f":"'（別添４）エネルギー消費効率の根拠（要件ア）'!FM56","v":"一代前モデル_型番"},{"$f":"'（別添４）エネルギー消費効率の根拠（要件ア）'!FN56","v":0}]
[1211,{"$f":"'（別添４）エネルギー消費効率の根拠（要件ア）'!FL57","v":"別添4_42_17_FN19&FO19"},{"$f":"'（別添４）エネルギー消費効率の根拠（要件ア）'!FM57","v":"一代前モデル_導入台数"},{"$f":"'（別添４）エネルギー消費効率の根拠（要件ア）'!FN57","v":"台"}]
[1212,{"$f":"'（別添４）エネルギー消費効率の根拠（要件ア）'!FL58","v":"別添4_42_18_FN20"},{"$f":"'（別添４）エネルギー消費効率の根拠（要件ア）'!FM58","v":"一代前モデル_1台あたりの使用エネルギー"},{"$f":"'（別添４）エネルギー消費効率の根拠（要件ア）'!FN58","v":0}]
[1213,{"$f":"'（別添４）エネルギー消費効率の根拠（要件ア）'!FL59","v":"別添4_42_19_FN21"},{"$f":"'（別添４）エネルギー消費効率の根拠（要件ア）'!FM59","v":"一代前モデル_年間エネルギー使用量計算式"},{"$f":"'（別添４）エネルギー消費効率の根拠（要件ア）'!FN59","v":0}]
[1214,{"$f":"'（別添４）エネルギー消費効率の根拠（要件ア）'!FL60","v":"別添4_42_20_FN22&FO22"},{"$f":"'（別添４）エネルギー消費効率の根拠（要件ア）'!FM60","v":"一代前モデル_計算結果"},{"$f":"'（別添４）エネルギー消費効率の根拠（要件ア）'!FN60","v":"単位を選択してください"}]
[1215,{"$f":"'（別添４）エネルギー消費効率の根拠（要件ア）'!FL61","v":"別添4_42_21_FL23&FM23"},{"$f":"'（別添４）エネルギー消費効率の根拠（要件ア）'!FM61","v":"年間見込み省エネルギー量__計算結果"},{"$f":"'（別添４）エネルギー消費効率の根拠（要件ア）'!FN61","v":"0単位を選択してください"}]
[1216,{"$f":"'（別添４）エネルギー消費効率の根拠（要件ア）'!FL62","v":"別添4_42_22_FL25"},{"$f":"'（別添４）エネルギー消費効率の根拠（要件ア）'!FM62","v":"年間見込み省エネルギー量_原油換算計算式"},{"$f":"'（別添４）エネルギー消費効率の根拠（要件ア）'!FN62","v":0}]
[1217,{"$f":"'（別添４）エネルギー消費効率の根拠（要件ア）'!FL63","v":"別添4_42_23_FL26"},{"$f":"'（別添４）エネルギー消費効率の根拠（要件ア）'!FM63","v":"年間見込み省エネルギー量原油換算計算結果"},{"$f":"'（別添４）エネルギー消費効率の根拠（要件ア）'!FN63","v":0}]
[1218,{"$f":"'（別添４）エネルギー消費効率の根拠（要件ア）'!FL64","v":"別添4_42_24_FL27"},{"$f":"'（別添４）エネルギー消費効率の根拠（要件ア）'!FM64","v":"年間見込み省エネルギー率_自動計算"},{"$f":"'（別添４）エネルギー消費効率の根拠（要件ア）'!FN64","v":""}]
[1219,{"$f":"'（別添４）エネルギー消費効率の根拠（要件ア）'!FP41","v":"別添4_43_1_FP9"},{"$f":"'（別添４）エネルギー消費効率の根拠（要件ア）'!FQ41","v":"トップランナー基準"},{"$f":"'（別添４）エネルギー消費効率の根拠（要件ア）'!FR41","v":0}]
[1220,{"$f":"'（別添４）エネルギー消費効率の根拠（要件ア）'!FP42","v":"別添4_43_2_FP10"},{"$f":"'（別添４）エネルギー消費効率の根拠（要件ア）'!FQ42","v":"トップランナー基準の区分名又は数値"},{"$f":"'（別添４）エネルギー消費効率の根拠（要件ア）'!FR42","v":0}]
[1221,{"$f":"'（別添４）エネルギー消費効率の根拠（要件ア）'!FP43","v":"別添4_43_3_FP11"},{"$f":"'（別添４）エネルギー消費効率の根拠（要件ア）'!FQ43","v":"トップランナー基準の数値（導入設備）"},{"$f":"'（別添４）エネルギー消費効率の根拠（要件ア）'!FR43","v":0}]
[1222,{"$f":"'（別添４）エネルギー消費効率の根拠（要件ア）'!FP44","v":"別添4_43_4_FP12"},{"$f":"'（別添４）エネルギー消費効率の根拠（要件ア）'!FQ44","v":"比較指標/トップランナー基準"},{"$f":"'（別添４）エネルギー消費効率の根拠（要件ア）'!FR44","v":0}]
[1223,{"$f":"'（別添４）エネルギー消費効率の根拠（要件ア）'!FP45","v":"別添4_43_5_FP13"},{"$f":"'（別添４）エネルギー消費効率の根拠（要件ア）'!FQ45","v":"添付資料の根拠記載箇所"},{"$f":"'（別添４）エネルギー消費効率の根拠（要件ア）'!FR45","v":0}]
[1224,{"$f":"'（別添４）エネルギー消費効率の根拠（要件ア）'!FP46","v":"別添4_43_6_FP14"},{"$f":"'（別添４）エネルギー消費効率の根拠（要件ア）'!FQ46","v":"省エネ要因"},{"$f":"'（別添４）エネルギー消費効率の根拠（要件ア）'!FR46","v":0}]
[1225,{"$f":"'（別添４）エネルギー消費効率の根拠（要件ア）'!FP47","v":"別添4_43_7_FP16"},{"$f":"'（別添４）エネルギー消費効率の根拠（要件ア）'!FQ47","v":"導入設備_製品名"},{"$f":"'（別添４）エネルギー消費効率の根拠（要件ア）'!FR47","v":0}]
[1226,{"$f":"'（別添４）エネルギー消費効率の根拠（要件ア）'!FP48","v":"別添4_43_8_FP17"},{"$f":"'（別添４）エネルギー消費効率の根拠（要件ア）'!FQ48","v":"導入設備_製造メーカー"},{"$f":"'（別添４）エネルギー消費効率の根拠（要件ア）'!FR48","v":0}]
[1227,{"$f":"'（別添４）エネルギー消費効率の根拠（要件ア）'!FP49","v":"別添4_43_9_FP18"},{"$f":"'（別添４）エネルギー消費効率の根拠（要件ア）'!FQ49","v":"導入設備_型番"},{"$f":"'（別添４）エネルギー消費効率の根拠（要件ア）'!FR49","v":0}]
[{"$f":"ROW()-1","v":1228},{"$f":"'（別添４）エネルギー消費効率の根拠（要件ア）'!FP50","v":"別添4_43_10_FP19&FQ19"},{"$f":"'（別添４）エネルギー消費効率の根拠（要件ア）'!FQ50","v":"導入設備_導入台数"},{"$f":"'（別添４）エネルギー消費効率の根拠（要件ア）'!FR50","v":"台"}]
[1229,{"$f":"'（別添４）エネルギー消費効率の根拠（要件ア）'!FP51","v":"別添4_43_11_FP20"},{"$f":"'（別添４）エネルギー消費効率の根拠（要件ア）'!FQ51","v":"導入設備_1台あたりの使用エネルギー"},{"$f":"'（別添４）エネルギー消費効率の根拠（要件ア）'!FR51","v":0}]
[1230,{"$f":"'（別添４）エネルギー消費効率の根拠（要件ア）'!FP52","v":"別添4_43_12_FP21"},{"$f":"'（別添４）エネルギー消費効率の根拠（要件ア）'!FQ52","v":"導入設備_年間エネルギー使用量計算式"},{"$f":"'（別添４）エネルギー消費効率の根拠（要件ア）'!FR52","v":0}]
[1231,{"$f":"'（別添４）エネルギー消費効率の根拠（要件ア）'!FP53","v":"別添4_43_13_FP22&FQ22"},{"$f":"'（別添４）エネルギー消費効率の根拠（要件ア）'!FQ53","v":"導入設備_計算結果"},{"$f":"'（別添４）エネルギー消費効率の根拠（要件ア）'!FR53","v":"単位を選択してください"}]
[1232,{"$f":"'（別添４）エネルギー消費効率の根拠（要件ア）'!FP54","v":"別添4_43_14_FR16"},{"$f":"'（別添４）エネルギー消費効率の根拠（要件ア）'!FQ54","v":"一代前モデル_製品名"},{"$f":"'（別添４）エネルギー消費効率の根拠（要件ア）'!FR54","v":0}]
[1233,{"$f":"'（別添４）エネルギー消費効率の根拠（要件ア）'!FP55","v":"別添4_43_15_FR17"},{"$f":"'（別添４）エネルギー消費効率の根拠（要件ア）'!FQ55","v":"一代前モデル_製造メーカー"},{"$f":"'（別添４）エネルギー消費効率の根拠（要件ア）'!FR55","v":0}]
[1234,{"$f":"'（別添４）エネルギー消費効率の根拠（要件ア）'!FP56","v":"別添4_43_16_FR18"},{"$f":"'（別添４）エネルギー消費効率の根拠（要件ア）'!FQ56","v":"一代前モデル_型番"},{"$f":"'（別添４）エネルギー消費効率の根拠（要件ア）'!FR56","v":0}]
[1235,{"$f":"'（別添４）エネルギー消費効率の根拠（要件ア）'!FP57","v":"別添4_43_17_FR19&FS19"},{"$f":"'（別添４）エネルギー消費効率の根拠（要件ア）'!FQ57","v":"一代前モデル_導入台数"},{"$f":"'（別添４）エネルギー消費効率の根拠（要件ア）'!FR57","v":"台"}]
[1236,{"$f":"'（別添４）エネルギー消費効率の根拠（要件ア）'!FP58","v":"別添4_43_18_FR20"},{"$f":"'（別添４）エネルギー消費効率の根拠（要件ア）'!FQ58","v":"一代前モデル_1台あたりの使用エネルギー"},{"$f":"'（別添４）エネルギー消費効率の根拠（要件ア）'!FR58","v":0}]
[1237,{"$f":"'（別添４）エネルギー消費効率の根拠（要件ア）'!FP59","v":"別添4_43_19_FR21"},{"$f":"'（別添４）エネルギー消費効率の根拠（要件ア）'!FQ59","v":"一代前モデル_年間エネルギー使用量計算式"},{"$f":"'（別添４）エネルギー消費効率の根拠（要件ア）'!FR59","v":0}]
[1238,{"$f":"'（別添４）エネルギー消費効率の根拠（要件ア）'!FP60","v":"別添4_43_20_FR22&FS22"},{"$f":"'（別添４）エネルギー消費効率の根拠（要件ア）'!FQ60","v":"一代前モデル_計算結果"},{"$f":"'（別添４）エネルギー消費効率の根拠（要件ア）'!FR60","v":"単位を選択してください"}]
[1239,{"$f":"'（別添４）エネルギー消費効率の根拠（要件ア）'!FP61","v":"別添4_43_21_FP23&FQ23"},{"$f":"'（別添４）エネルギー消費効率の根拠（要件ア）'!FQ61","v":"年間見込み省エネルギー量__計算結果"},{"$f":"'（別添４）エネルギー消費効率の根拠（要件ア）'!FR61","v":"0単位を選択してください"}]
[1240,{"$f":"'（別添４）エネルギー消費効率の根拠（要件ア）'!FP62","v":"別添4_43_22_FP25"},{"$f":"'（別添４）エネルギー消費効率の根拠（要件ア）'!FQ62","v":"年間見込み省エネルギー量_原油換算計算式"},{"$f":"'（別添４）エネルギー消費効率の根拠（要件ア）'!FR62","v":0}]
[1241,{"$f":"'（別添４）エネルギー消費効率の根拠（要件ア）'!FP63","v":"別添4_43_23_FP26"},{"$f":"'（別添４）エネルギー消費効率の根拠（要件ア）'!FQ63","v":"年間見込み省エネルギー量原油換算計算結果"},{"$f":"'（別添４）エネルギー消費効率の根拠（要件ア）'!FR63","v":0}]
[1242,{"$f":"'（別添４）エネルギー消費効率の根拠（要件ア）'!FP64","v":"別添4_43_24_FP27"},{"$f":"'（別添４）エネルギー消費効率の根拠（要件ア）'!FQ64","v":"年間見込み省エネルギー率_自動計算"},{"$f":"'（別添４）エネルギー消費効率の根拠（要件ア）'!FR64","v":""}]
[1243,{"$f":"'（別添４）エネルギー消費効率の根拠（要件ア）'!FT41","v":"別添4_44_1_FT9"},{"$f":"'（別添４）エネルギー消費効率の根拠（要件ア）'!FU41","v":"トップランナー基準"},{"$f":"'（別添４）エネルギー消費効率の根拠（要件ア）'!FV41","v":0}]
[1244,{"$f":"'（別添４）エネルギー消費効率の根拠（要件ア）'!FT42","v":"別添4_44_2_FT10"},{"$f":"'（別添４）エネルギー消費効率の根拠（要件ア）'!FU42","v":"トップランナー基準の区分名又は数値"},{"$f":"'（別添４）エネルギー消費効率の根拠（要件ア）'!FV42","v":0}]
[1245,{"$f":"'（別添４）エネルギー消費効率の根拠（要件ア）'!FT43","v":"別添4_44_3_FT11"},{"$f":"'（別添４）エネルギー消費効率の根拠（要件ア）'!FU43","v":"トップランナー基準の数値（導入設備）"},{"$f":"'（別添４）エネルギー消費効率の根拠（要件ア）'!FV43","v":0}]
[1246,{"$f":"'（別添４）エネルギー消費効率の根拠（要件ア）'!FT44","v":"別添4_44_4_FT12"},{"$f":"'（別添４）エネルギー消費効率の根拠（要件ア）'!FU44","v":"比較指標/トップランナー基準"},{"$f":"'（別添４）エネルギー消費効率の根拠（要件ア）'!FV44","v":0}]
[1247,{"$f":"'（別添４）エネルギー消費効率の根拠（要件ア）'!FT45","v":"別添4_44_5_FT13"},{"$f":"'（別添４）エネルギー消費効率の根拠（要件ア）'!FU45","v":"添付資料の根拠記載箇所"},{"$f":"'（別添４）エネルギー消費効率の根拠（要件ア）'!FV45","v":0}]
[1248,{"$f":"'（別添４）エネルギー消費効率の根拠（要件ア）'!FT46","v":"別添4_44_6_FT14"},{"$f":"'（別添４）エネルギー消費効率の根拠（要件ア）'!FU46","v":"省エネ要因"},{"$f":"'（別添４）エネルギー消費効率の根拠（要件ア）'!FV46","v":0}]
[1249,{"$f":"'（別添４）エネルギー消費効率の根拠（要件ア）'!FT47","v":"別添4_44_7_FT16"},{"$f":"'（別添４）エネルギー消費効率の根拠（要件ア）'!FU47","v":"導入設備_製品名"},{"$f":"'（別添４）エネルギー消費効率の根拠（要件ア）'!FV47","v":0}]
[1250,{"$f":"'（別添４）エネルギー消費効率の根拠（要件ア）'!FT48","v":"別添4_44_8_FT17"},{"$f":"'（別添４）エネルギー消費効率の根拠（要件ア）'!FU48","v":"導入設備_製造メーカー"},{"$f":"'（別添４）エネルギー消費効率の根拠（要件ア）'!FV48","v":0}]
[1251,{"$f":"'（別添４）エネルギー消費効率の根拠（要件ア）'!FT49","v":"別添4_44_9_FT18"},{"$f":"'（別添４）エネルギー消費効率の根拠（要件ア）'!FU49","v":"導入設備_型番"},{"$f":"'（別添４）エネルギー消費効率の根拠（要件ア）'!FV49","v":0}]
[1252,{"$f":"'（別添４）エネルギー消費効率の根拠（要件ア）'!FT50","v":"別添4_44_10_FT19&FU19"},{"$f":"'（別添４）エネルギー消費効率の根拠（要件ア）'!FU50","v":"導入設備_導入台数"},{"$f":"'（別添４）エネルギー消費効率の根拠（要件ア）'!FV50","v":"台"}]
[1253,{"$f":"'（別添４）エネルギー消費効率の根拠（要件ア）'!FT51","v":"別添4_44_11_FT20"},{"$f":"'（別添４）エネルギー消費効率の根拠（要件ア）'!FU51","v":"導入設備_1台あたりの使用エネルギー"},{"$f":"'（別添４）エネルギー消費効率の根拠（要件ア）'!FV51","v":0}]
[1254,{"$f":"'（別添４）エネルギー消費効率の根拠（要件ア）'!FT52","v":"別添4_44_12_FT21"},{"$f":"'（別添４）エネルギー消費効率の根拠（要件ア）'!FU52","v":"導入設備_年間エネルギー使用量計算式"},{"$f":"'（別添４）エネルギー消費効率の根拠（要件ア）'!FV52","v":0}]
[1255,{"$f":"'（別添４）エネルギー消費効率の根拠（要件ア）'!FT53","v":"別添4_44_13_FT22&FU22"},{"$f":"'（別添４）エネルギー消費効率の根拠（要件ア）'!FU53","v":"導入設備_計算結果"},{"$f":"'（別添４）エネルギー消費効率の根拠（要件ア）'!FV53","v":"単位を選択してください"}]
[1256,{"$f":"'（別添４）エネルギー消費効率の根拠（要件ア）'!FT54","v":"別添4_44_14_FV16"},{"$f":"'（別添４）エネルギー消費効率の根拠（要件ア）'!FU54","v":"一代前モデル_製品名"},{"$f":"'（別添４）エネルギー消費効率の根拠（要件ア）'!FV54","v":0}]
[1257,{"$f":"'（別添４）エネルギー消費効率の根拠（要件ア）'!FT55","v":"別添4_44_15_FV17"},{"$f":"'（別添４）エネルギー消費効率の根拠（要件ア）'!FU55","v":"一代前モデル_製造メーカー"},{"$f":"'（別添４）エネルギー消費効率の根拠（要件ア）'!FV55","v":0}]
[1258,{"$f":"'（別添４）エネルギー消費効率の根拠（要件ア）'!FT56","v":"別添4_44_16_FV18"},{"$f":"'（別添４）エネルギー消費効率の根拠（要件ア）'!FU56","v":"一代前モデル_型番"},{"$f":"'（別添４）エネルギー消費効率の根拠（要件ア）'!FV56","v":0}]
[1259,{"$f":"'（別添４）エネルギー消費効率の根拠（要件ア）'!FT57","v":"別添4_44_17_FV19&FW19"},{"$f":"'（別添４）エネルギー消費効率の根拠（要件ア）'!FU57","v":"一代前モデル_導入台数"},{"$f":"'（別添４）エネルギー消費効率の根拠（要件ア）'!FV57","v":"台"}]
[1260,{"$f":"'（別添４）エネルギー消費効率の根拠（要件ア）'!FT58","v":"別添4_44_18_FV20"},{"$f":"'（別添４）エネルギー消費効率の根拠（要件ア）'!FU58","v":"一代前モデル_1台あたりの使用エネルギー"},{"$f":"'（別添４）エネルギー消費効率の根拠（要件ア）'!FV58","v":0}]
[1261,{"$f":"'（別添４）エネルギー消費効率の根拠（要件ア）'!FT59","v":"別添4_44_19_FV21"},{"$f":"'（別添４）エネルギー消費効率の根拠（要件ア）'!FU59","v":"一代前モデル_年間エネルギー使用量計算式"},{"$f":"'（別添４）エネルギー消費効率の根拠（要件ア）'!FV59","v":0}]
[1262,{"$f":"'（別添４）エネルギー消費効率の根拠（要件ア）'!FT60","v":"別添4_44_20_FV22&FW22"},{"$f":"'（別添４）エネルギー消費効率の根拠（要件ア）'!FU60","v":"一代前モデル_計算結果"},{"$f":"'（別添４）エネルギー消費効率の根拠（要件ア）'!FV60","v":"単位を選択してください"}]
[1263,{"$f":"'（別添４）エネルギー消費効率の根拠（要件ア）'!FT61","v":"別添4_44_21_FT23&FU23"},{"$f":"'（別添４）エネルギー消費効率の根拠（要件ア）'!FU61","v":"年間見込み省エネルギー量__計算結果"},{"$f":"'（別添４）エネルギー消費効率の根拠（要件ア）'!FV61","v":"0単位を選択してください"}]
[1264,{"$f":"'（別添４）エネルギー消費効率の根拠（要件ア）'!FT62","v":"別添4_44_22_FT25"},{"$f":"'（別添４）エネルギー消費効率の根拠（要件ア）'!FU62","v":"年間見込み省エネルギー量_原油換算計算式"},{"$f":"'（別添４）エネルギー消費効率の根拠（要件ア）'!FV62","v":0}]
[1265,{"$f":"'（別添４）エネルギー消費効率の根拠（要件ア）'!FT63","v":"別添4_44_23_FT26"},{"$f":"'（別添４）エネルギー消費効率の根拠（要件ア）'!FU63","v":"年間見込み省エネルギー量原油換算計算結果"},{"$f":"'（別添４）エネルギー消費効率の根拠（要件ア）'!FV63","v":0}]
[1266,{"$f":"'（別添４）エネルギー消費効率の根拠（要件ア）'!FT64","v":"別添4_44_24_FT27"},{"$f":"'（別添４）エネルギー消費効率の根拠（要件ア）'!FU64","v":"年間見込み省エネルギー率_自動計算"},{"$f":"'（別添４）エネルギー消費効率の根拠（要件ア）'!FV64","v":""}]
[1267,{"$f":"'（別添４）エネルギー消費効率の根拠（要件ア）'!FX41","v":"別添4_45_1_FX9"},{"$f":"'（別添４）エネルギー消費効率の根拠（要件ア）'!FY41","v":"トップランナー基準"},{"$f":"'（別添４）エネルギー消費効率の根拠（要件ア）'!FZ41","v":0}]
[1268,{"$f":"'（別添４）エネルギー消費効率の根拠（要件ア）'!FX42","v":"別添4_45_2_FX10"},{"$f":"'（別添４）エネルギー消費効率の根拠（要件ア）'!FY42","v":"トップランナー基準の区分名又は数値"},{"$f":"'（別添４）エネルギー消費効率の根拠（要件ア）'!FZ42","v":0}]
[1269,{"$f":"'（別添４）エネルギー消費効率の根拠（要件ア）'!FX43","v":"別添4_45_3_FX11"},{"$f":"'（別添４）エネルギー消費効率の根拠（要件ア）'!FY43","v":"トップランナー基準の数値（導入設備）"},{"$f":"'（別添４）エネルギー消費効率の根拠（要件ア）'!FZ43","v":0}]
[1270,{"$f":"'（別添４）エネルギー消費効率の根拠（要件ア）'!FX44","v":"別添4_45_4_FX12"},{"$f":"'（別添４）エネルギー消費効率の根拠（要件ア）'!FY44","v":"比較指標/トップランナー基準"},{"$f":"'（別添４）エネルギー消費効率の根拠（要件ア）'!FZ44","v":0}]
[1271,{"$f":"'（別添４）エネルギー消費効率の根拠（要件ア）'!FX45","v":"別添4_45_5_FX13"},{"$f":"'（別添４）エネルギー消費効率の根拠（要件ア）'!FY45","v":"添付資料の根拠記載箇所"},{"$f":"'（別添４）エネルギー消費効率の根拠（要件ア）'!FZ45","v":0}]
[1272,{"$f":"'（別添４）エネルギー消費効率の根拠（要件ア）'!FX46","v":"別添4_45_6_FX14"},{"$f":"'（別添４）エネルギー消費効率の根拠（要件ア）'!FY46","v":"省エネ要因"},{"$f":"'（別添４）エネルギー消費効率の根拠（要件ア）'!FZ46","v":0}]
[1273,{"$f":"'（別添４）エネルギー消費効率の根拠（要件ア）'!FX47","v":"別添4_45_7_FX16"},{"$f":"'（別添４）エネルギー消費効率の根拠（要件ア）'!FY47","v":"導入設備_製品名"},{"$f":"'（別添４）エネルギー消費効率の根拠（要件ア）'!FZ47","v":0}]
[1274,{"$f":"'（別添４）エネルギー消費効率の根拠（要件ア）'!FX48","v":"別添4_45_8_FX17"},{"$f":"'（別添４）エネルギー消費効率の根拠（要件ア）'!FY48","v":"導入設備_製造メーカー"},{"$f":"'（別添４）エネルギー消費効率の根拠（要件ア）'!FZ48","v":0}]
[1275,{"$f":"'（別添４）エネルギー消費効率の根拠（要件ア）'!FX49","v":"別添4_45_9_FX18"},{"$f":"'（別添４）エネルギー消費効率の根拠（要件ア）'!FY49","v":"導入設備_型番"},{"$f":"'（別添４）エネルギー消費効率の根拠（要件ア）'!FZ49","v":0}]
[1276,{"$f":"'（別添４）エネルギー消費効率の根拠（要件ア）'!FX50","v":"別添4_45_10_FX19&FY19"},{"$f":"'（別添４）エネルギー消費効率の根拠（要件ア）'!FY50","v":"導入設備_導入台数"},{"$f":"'（別添４）エネルギー消費効率の根拠（要件ア）'!FZ50","v":"台"}]
[1277,{"$f":"'（別添４）エネルギー消費効率の根拠（要件ア）'!FX51","v":"別添4_45_11_FX20"},{"$f":"'（別添４）エネルギー消費効率の根拠（要件ア）'!FY51","v":"導入設備_1台あたりの使用エネルギー"},{"$f":"'（別添４）エネルギー消費効率の根拠（要件ア）'!FZ51","v":0}]
[1278,{"$f":"'（別添４）エネルギー消費効率の根拠（要件ア）'!FX52","v":"別添4_45_12_FX21"},{"$f":"'（別添４）エネルギー消費効率の根拠（要件ア）'!FY52","v":"導入設備_年間エネルギー使用量計算式"},{"$f":"'（別添４）エネルギー消費効率の根拠（要件ア）'!FZ52","v":0}]
[1279,{"$f":"'（別添４）エネルギー消費効率の根拠（要件ア）'!FX53","v":"別添4_45_13_FX22&FY22"},{"$f":"'（別添４）エネルギー消費効率の根拠（要件ア）'!FY53","v":"導入設備_計算結果"},{"$f":"'（別添４）エネルギー消費効率の根拠（要件ア）'!FZ53","v":"単位を選択してください"}]
[1280,{"$f":"'（別添４）エネルギー消費効率の根拠（要件ア）'!FX54","v":"別添4_45_14_FZ16"},{"$f":"'（別添４）エネルギー消費効率の根拠（要件ア）'!FY54","v":"一代前モデル_製品名"},{"$f":"'（別添４）エネルギー消費効率の根拠（要件ア）'!FZ54","v":0}]
[1281,{"$f":"'（別添４）エネルギー消費効率の根拠（要件ア）'!FX55","v":"別添4_45_15_FZ17"},{"$f":"'（別添４）エネルギー消費効率の根拠（要件ア）'!FY55","v":"一代前モデル_製造メーカー"},{"$f":"'（別添４）エネルギー消費効率の根拠（要件ア）'!FZ55","v":0}]
[1282,{"$f":"'（別添４）エネルギー消費効率の根拠（要件ア）'!FX56","v":"別添4_45_16_FZ18"},{"$f":"'（別添４）エネルギー消費効率の根拠（要件ア）'!FY56","v":"一代前モデル_型番"},{"$f":"'（別添４）エネルギー消費効率の根拠（要件ア）'!FZ56","v":0}]
[1283,{"$f":"'（別添４）エネルギー消費効率の根拠（要件ア）'!FX57","v":"別添4_45_17_FZ19&GA19"},{"$f":"'（別添４）エネルギー消費効率の根拠（要件ア）'!FY57","v":"一代前モデル_導入台数"},{"$f":"'（別添４）エネルギー消費効率の根拠（要件ア）'!FZ57","v":"台"}]
[1284,{"$f":"'（別添４）エネルギー消費効率の根拠（要件ア）'!FX58","v":"別添4_45_18_FZ20"},{"$f":"'（別添４）エネルギー消費効率の根拠（要件ア）'!FY58","v":"一代前モデル_1台あたりの使用エネルギー"},{"$f":"'（別添４）エネルギー消費効率の根拠（要件ア）'!FZ58","v":0}]
[1285,{"$f":"'（別添４）エネルギー消費効率の根拠（要件ア）'!FX59","v":"別添4_45_19_FZ21"},{"$f":"'（別添４）エネルギー消費効率の根拠（要件ア）'!FY59","v":"一代前モデル_年間エネルギー使用量計算式"},{"$f":"'（別添４）エネルギー消費効率の根拠（要件ア）'!FZ59","v":0}]
[1286,{"$f":"'（別添４）エネルギー消費効率の根拠（要件ア）'!FX60","v":"別添4_45_20_FZ22&GA22"},{"$f":"'（別添４）エネルギー消費効率の根拠（要件ア）'!FY60","v":"一代前モデル_計算結果"},{"$f":"'（別添４）エネルギー消費効率の根拠（要件ア）'!FZ60","v":"単位を選択してください"}]
[1287,{"$f":"'（別添４）エネルギー消費効率の根拠（要件ア）'!FX61","v":"別添4_45_21_FX23&FY23"},{"$f":"'（別添４）エネルギー消費効率の根拠（要件ア）'!FY61","v":"年間見込み省エネルギー量__計算結果"},{"$f":"'（別添４）エネルギー消費効率の根拠（要件ア）'!FZ61","v":"0単位を選択してください"}]
[1288,{"$f":"'（別添４）エネルギー消費効率の根拠（要件ア）'!FX62","v":"別添4_45_22_FX25"},{"$f":"'（別添４）エネルギー消費効率の根拠（要件ア）'!FY62","v":"年間見込み省エネルギー量_原油換算計算式"},{"$f":"'（別添４）エネルギー消費効率の根拠（要件ア）'!FZ62","v":0}]
[1289,{"$f":"'（別添４）エネルギー消費効率の根拠（要件ア）'!FX63","v":"別添4_45_23_FX26"},{"$f":"'（別添４）エネルギー消費効率の根拠（要件ア）'!FY63","v":"年間見込み省エネルギー量原油換算計算結果"},{"$f":"'（別添４）エネルギー消費効率の根拠（要件ア）'!FZ63","v":0}]
[1290,{"$f":"'（別添４）エネルギー消費効率の根拠（要件ア）'!FX64","v":"別添4_45_24_FX27"},{"$f":"'（別添４）エネルギー消費効率の根拠（要件ア）'!FY64","v":"年間見込み省エネルギー率_自動計算"},{"$f":"'（別添４）エネルギー消費効率の根拠（要件ア）'!FZ64","v":""}]
[1291,{"$f":"'（別添４）エネルギー消費効率の根拠（要件ア）'!GB41","v":"別添4_46_1_GB9"},{"$f":"'（別添４）エネルギー消費効率の根拠（要件ア）'!GC41","v":"トップランナー基準"},{"$f":"'（別添４）エネルギー消費効率の根拠（要件ア）'!GD41","v":0}]
[{"$f":"ROW()-1","v":1292},{"$f":"'（別添４）エネルギー消費効率の根拠（要件ア）'!GB42","v":"別添4_46_2_GB10"},{"$f":"'（別添４）エネルギー消費効率の根拠（要件ア）'!GC42","v":"トップランナー基準の区分名又は数値"},{"$f":"'（別添４）エネルギー消費効率の根拠（要件ア）'!GD42","v":0}]
[1293,{"$f":"'（別添４）エネルギー消費効率の根拠（要件ア）'!GB43","v":"別添4_46_3_GB11"},{"$f":"'（別添４）エネルギー消費効率の根拠（要件ア）'!GC43","v":"トップランナー基準の数値（導入設備）"},{"$f":"'（別添４）エネルギー消費効率の根拠（要件ア）'!GD43","v":0}]
[1294,{"$f":"'（別添４）エネルギー消費効率の根拠（要件ア）'!GB44","v":"別添4_46_4_GB12"},{"$f":"'（別添４）エネルギー消費効率の根拠（要件ア）'!GC44","v":"比較指標/トップランナー基準"},{"$f":"'（別添４）エネルギー消費効率の根拠（要件ア）'!GD44","v":0}]
[1295,{"$f":"'（別添４）エネルギー消費効率の根拠（要件ア）'!GB45","v":"別添4_46_5_GB13"},{"$f":"'（別添４）エネルギー消費効率の根拠（要件ア）'!GC45","v":"添付資料の根拠記載箇所"},{"$f":"'（別添４）エネルギー消費効率の根拠（要件ア）'!GD45","v":0}]
[1296,{"$f":"'（別添４）エネルギー消費効率の根拠（要件ア）'!GB46","v":"別添4_46_6_GB14"},{"$f":"'（別添４）エネルギー消費効率の根拠（要件ア）'!GC46","v":"省エネ要因"},{"$f":"'（別添４）エネルギー消費効率の根拠（要件ア）'!GD46","v":0}]
[1297,{"$f":"'（別添４）エネルギー消費効率の根拠（要件ア）'!GB47","v":"別添4_46_7_GB16"},{"$f":"'（別添４）エネルギー消費効率の根拠（要件ア）'!GC47","v":"導入設備_製品名"},{"$f":"'（別添４）エネルギー消費効率の根拠（要件ア）'!GD47","v":0}]
[1298,{"$f":"'（別添４）エネルギー消費効率の根拠（要件ア）'!GB48","v":"別添4_46_8_GB17"},{"$f":"'（別添４）エネルギー消費効率の根拠（要件ア）'!GC48","v":"導入設備_製造メーカー"},{"$f":"'（別添４）エネルギー消費効率の根拠（要件ア）'!GD48","v":0}]
[1299,{"$f":"'（別添４）エネルギー消費効率の根拠（要件ア）'!GB49","v":"別添4_46_9_GB18"},{"$f":"'（別添４）エネルギー消費効率の根拠（要件ア）'!GC49","v":"導入設備_型番"},{"$f":"'（別添４）エネルギー消費効率の根拠（要件ア）'!GD49","v":0}]
[1300,{"$f":"'（別添４）エネルギー消費効率の根拠（要件ア）'!GB50","v":"別添4_46_10_GB19&GC19"},{"$f":"'（別添４）エネルギー消費効率の根拠（要件ア）'!GC50","v":"導入設備_導入台数"},{"$f":"'（別添４）エネルギー消費効率の根拠（要件ア）'!GD50","v":"台"}]
[1301,{"$f":"'（別添４）エネルギー消費効率の根拠（要件ア）'!GB51","v":"別添4_46_11_GB20"},{"$f":"'（別添４）エネルギー消費効率の根拠（要件ア）'!GC51","v":"導入設備_1台あたりの使用エネルギー"},{"$f":"'（別添４）エネルギー消費効率の根拠（要件ア）'!GD51","v":0}]
[1302,{"$f":"'（別添４）エネルギー消費効率の根拠（要件ア）'!GB52","v":"別添4_46_12_GB21"},{"$f":"'（別添４）エネルギー消費効率の根拠（要件ア）'!GC52","v":"導入設備_年間エネルギー使用量計算式"},{"$f":"'（別添４）エネルギー消費効率の根拠（要件ア）'!GD52","v":0}]
[1303,{"$f":"'（別添４）エネルギー消費効率の根拠（要件ア）'!GB53","v":"別添4_46_13_GB22&GC22"},{"$f":"'（別添４）エネルギー消費効率の根拠（要件ア）'!GC53","v":"導入設備_計算結果"},{"$f":"'（別添４）エネルギー消費効率の根拠（要件ア）'!GD53","v":"単位を選択してください"}]
[1304,{"$f":"'（別添４）エネルギー消費効率の根拠（要件ア）'!GB54","v":"別添4_46_14_GD16"},{"$f":"'（別添４）エネルギー消費効率の根拠（要件ア）'!GC54","v":"一代前モデル_製品名"},{"$f":"'（別添４）エネルギー消費効率の根拠（要件ア）'!GD54","v":0}]
[1305,{"$f":"'（別添４）エネルギー消費効率の根拠（要件ア）'!GB55","v":"別添4_46_15_GD17"},{"$f":"'（別添４）エネルギー消費効率の根拠（要件ア）'!GC55","v":"一代前モデル_製造メーカー"},{"$f":"'（別添４）エネルギー消費効率の根拠（要件ア）'!GD55","v":0}]
[1306,{"$f":"'（別添４）エネルギー消費効率の根拠（要件ア）'!GB56","v":"別添4_46_16_GD18"},{"$f":"'（別添４）エネルギー消費効率の根拠（要件ア）'!GC56","v":"一代前モデル_型番"},{"$f":"'（別添４）エネルギー消費効率の根拠（要件ア）'!GD56","v":0}]
[1307,{"$f":"'（別添４）エネルギー消費効率の根拠（要件ア）'!GB57","v":"別添4_46_17_GD19&GE19"},{"$f":"'（別添４）エネルギー消費効率の根拠（要件ア）'!GC57","v":"一代前モデル_導入台数"},{"$f":"'（別添４）エネルギー消費効率の根拠（要件ア）'!GD57","v":"台"}]
[1308,{"$f":"'（別添４）エネルギー消費効率の根拠（要件ア）'!GB58","v":"別添4_46_18_GD20"},{"$f":"'（別添４）エネルギー消費効率の根拠（要件ア）'!GC58","v":"一代前モデル_1台あたりの使用エネルギー"},{"$f":"'（別添４）エネルギー消費効率の根拠（要件ア）'!GD58","v":0}]
[1309,{"$f":"'（別添４）エネルギー消費効率の根拠（要件ア）'!GB59","v":"別添4_46_19_GD21"},{"$f":"'（別添４）エネルギー消費効率の根拠（要件ア）'!GC59","v":"一代前モデル_年間エネルギー使用量計算式"},{"$f":"'（別添４）エネルギー消費効率の根拠（要件ア）'!GD59","v":0}]
[1310,{"$f":"'（別添４）エネルギー消費効率の根拠（要件ア）'!GB60","v":"別添4_46_20_GD22&GE22"},{"$f":"'（別添４）エネルギー消費効率の根拠（要件ア）'!GC60","v":"一代前モデル_計算結果"},{"$f":"'（別添４）エネルギー消費効率の根拠（要件ア）'!GD60","v":"単位を選択してください"}]
[1311,{"$f":"'（別添４）エネルギー消費効率の根拠（要件ア）'!GB61","v":"別添4_46_21_GB23&GC23"},{"$f":"'（別添４）エネルギー消費効率の根拠（要件ア）'!GC61","v":"年間見込み省エネルギー量__計算結果"},{"$f":"'（別添４）エネルギー消費効率の根拠（要件ア）'!GD61","v":"0単位を選択してください"}]
[1312,{"$f":"'（別添４）エネルギー消費効率の根拠（要件ア）'!GB62","v":"別添4_46_22_GB25"},{"$f":"'（別添４）エネルギー消費効率の根拠（要件ア）'!GC62","v":"年間見込み省エネルギー量_原油換算計算式"},{"$f":"'（別添４）エネルギー消費効率の根拠（要件ア）'!GD62","v":0}]
[1313,{"$f":"'（別添４）エネルギー消費効率の根拠（要件ア）'!GB63","v":"別添4_46_23_GB26"},{"$f":"'（別添４）エネルギー消費効率の根拠（要件ア）'!GC63","v":"年間見込み省エネルギー量原油換算計算結果"},{"$f":"'（別添４）エネルギー消費効率の根拠（要件ア）'!GD63","v":0}]
[1314,{"$f":"'（別添４）エネルギー消費効率の根拠（要件ア）'!GB64","v":"別添4_46_24_GB27"},{"$f":"'（別添４）エネルギー消費効率の根拠（要件ア）'!GC64","v":"年間見込み省エネルギー率_自動計算"},{"$f":"'（別添４）エネルギー消費効率の根拠（要件ア）'!GD64","v":""}]
[1315,{"$f":"'（別添４）エネルギー消費効率の根拠（要件ア）'!GF41","v":"別添4_47_1_GF9"},{"$f":"'（別添４）エネルギー消費効率の根拠（要件ア）'!GG41","v":"トップランナー基準"},{"$f":"'（別添４）エネルギー消費効率の根拠（要件ア）'!GH41","v":0}]
[1316,{"$f":"'（別添４）エネルギー消費効率の根拠（要件ア）'!GF42","v":"別添4_47_2_GF10"},{"$f":"'（別添４）エネルギー消費効率の根拠（要件ア）'!GG42","v":"トップランナー基準の区分名又は数値"},{"$f":"'（別添４）エネルギー消費効率の根拠（要件ア）'!GH42","v":0}]
[1317,{"$f":"'（別添４）エネルギー消費効率の根拠（要件ア）'!GF43","v":"別添4_47_3_GF11"},{"$f":"'（別添４）エネルギー消費効率の根拠（要件ア）'!GG43","v":"トップランナー基準の数値（導入設備）"},{"$f":"'（別添４）エネルギー消費効率の根拠（要件ア）'!GH43","v":0}]
[1318,{"$f":"'（別添４）エネルギー消費効率の根拠（要件ア）'!GF44","v":"別添4_47_4_GF12"},{"$f":"'（別添４）エネルギー消費効率の根拠（要件ア）'!GG44","v":"比較指標/トップランナー基準"},{"$f":"'（別添４）エネルギー消費効率の根拠（要件ア）'!GH44","v":0}]
[1319,{"$f":"'（別添４）エネルギー消費効率の根拠（要件ア）'!GF45","v":"別添4_47_5_GF13"},{"$f":"'（別添４）エネルギー消費効率の根拠（要件ア）'!GG45","v":"添付資料の根拠記載箇所"},{"$f":"'（別添４）エネルギー消費効率の根拠（要件ア）'!GH45","v":0}]
[1320,{"$f":"'（別添４）エネルギー消費効率の根拠（要件ア）'!GF46","v":"別添4_47_6_GF14"},{"$f":"'（別添４）エネルギー消費効率の根拠（要件ア）'!GG46","v":"省エネ要因"},{"$f":"'（別添４）エネルギー消費効率の根拠（要件ア）'!GH46","v":0}]
[1321,{"$f":"'（別添４）エネルギー消費効率の根拠（要件ア）'!GF47","v":"別添4_47_7_GF16"},{"$f":"'（別添４）エネルギー消費効率の根拠（要件ア）'!GG47","v":"導入設備_製品名"},{"$f":"'（別添４）エネルギー消費効率の根拠（要件ア）'!GH47","v":0}]
[1322,{"$f":"'（別添４）エネルギー消費効率の根拠（要件ア）'!GF48","v":"別添4_47_8_GF17"},{"$f":"'（別添４）エネルギー消費効率の根拠（要件ア）'!GG48","v":"導入設備_製造メーカー"},{"$f":"'（別添４）エネルギー消費効率の根拠（要件ア）'!GH48","v":0}]
[1323,{"$f":"'（別添４）エネルギー消費効率の根拠（要件ア）'!GF49","v":"別添4_47_9_GF18"},{"$f":"'（別添４）エネルギー消費効率の根拠（要件ア）'!GG49","v":"導入設備_型番"},{"$f":"'（別添４）エネルギー消費効率の根拠（要件ア）'!GH49","v":0}]
[1324,{"$f":"'（別添４）エネルギー消費効率の根拠（要件ア）'!GF50","v":"別添4_47_10_GF19&GG19"},{"$f":"'（別添４）エネルギー消費効率の根拠（要件ア）'!GG50","v":"導入設備_導入台数"},{"$f":"'（別添４）エネルギー消費効率の根拠（要件ア）'!GH50","v":"台"}]
[1325,{"$f":"'（別添４）エネルギー消費効率の根拠（要件ア）'!GF51","v":"別添4_47_11_GF20"},{"$f":"'（別添４）エネルギー消費効率の根拠（要件ア）'!GG51","v":"導入設備_1台あたりの使用エネルギー"},{"$f":"'（別添４）エネルギー消費効率の根拠（要件ア）'!GH51","v":0}]
[1326,{"$f":"'（別添４）エネルギー消費効率の根拠（要件ア）'!GF52","v":"別添4_47_12_GF21"},{"$f":"'（別添４）エネルギー消費効率の根拠（要件ア）'!GG52","v":"導入設備_年間エネルギー使用量計算式"},{"$f":"'（別添４）エネルギー消費効率の根拠（要件ア）'!GH52","v":0}]
[1327,{"$f":"'（別添４）エネルギー消費効率の根拠（要件ア）'!GF53","v":"別添4_47_13_GF22&GG22"},{"$f":"'（別添４）エネルギー消費効率の根拠（要件ア）'!GG53","v":"導入設備_計算結果"},{"$f":"'（別添４）エネルギー消費効率の根拠（要件ア）'!GH53","v":"単位を選択してください"}]
[1328,{"$f":"'（別添４）エネルギー消費効率の根拠（要件ア）'!GF54","v":"別添4_47_14_GH16"},{"$f":"'（別添４）エネルギー消費効率の根拠（要件ア）'!GG54","v":"一代前モデル_製品名"},{"$f":"'（別添４）エネルギー消費効率の根拠（要件ア）'!GH54","v":0}]
[1329,{"$f":"'（別添４）エネルギー消費効率の根拠（要件ア）'!GF55","v":"別添4_47_15_GH17"},{"$f":"'（別添４）エネルギー消費効率の根拠（要件ア）'!GG55","v":"一代前モデル_製造メーカー"},{"$f":"'（別添４）エネルギー消費効率の根拠（要件ア）'!GH55","v":0}]
[1330,{"$f":"'（別添４）エネルギー消費効率の根拠（要件ア）'!GF56","v":"別添4_47_16_GH18"},{"$f":"'（別添４）エネルギー消費効率の根拠（要件ア）'!GG56","v":"一代前モデル_型番"},{"$f":"'（別添４）エネルギー消費効率の根拠（要件ア）'!GH56","v":0}]
[1331,{"$f":"'（別添４）エネルギー消費効率の根拠（要件ア）'!GF57","v":"別添4_47_17_GH19&GI19"},{"$f":"'（別添４）エネルギー消費効率の根拠（要件ア）'!GG57","v":"一代前モデル_導入台数"},{"$f":"'（別添４）エネルギー消費効率の根拠（要件ア）'!GH57","v":"台"}]
[1332,{"$f":"'（別添４）エネルギー消費効率の根拠（要件ア）'!GF58","v":"別添4_47_18_GH20"},{"$f":"'（別添４）エネルギー消費効率の根拠（要件ア）'!GG58","v":"一代前モデル_1台あたりの使用エネルギー"},{"$f":"'（別添４）エネルギー消費効率の根拠（要件ア）'!GH58","v":0}]
[1333,{"$f":"'（別添４）エネルギー消費効率の根拠（要件ア）'!GF59","v":"別添4_47_19_GH21"},{"$f":"'（別添４）エネルギー消費効率の根拠（要件ア）'!GG59","v":"一代前モデル_年間エネルギー使用量計算式"},{"$f":"'（別添４）エネルギー消費効率の根拠（要件ア）'!GH59","v":0}]
[1334,{"$f":"'（別添４）エネルギー消費効率の根拠（要件ア）'!GF60","v":"別添4_47_20_GH22&GI22"},{"$f":"'（別添４）エネルギー消費効率の根拠（要件ア）'!GG60","v":"一代前モデル_計算結果"},{"$f":"'（別添４）エネルギー消費効率の根拠（要件ア）'!GH60","v":"単位を選択してください"}]
[1335,{"$f":"'（別添４）エネルギー消費効率の根拠（要件ア）'!GF61","v":"別添4_47_21_GF23&GG23"},{"$f":"'（別添４）エネルギー消費効率の根拠（要件ア）'!GG61","v":"年間見込み省エネルギー量__計算結果"},{"$f":"'（別添４）エネルギー消費効率の根拠（要件ア）'!GH61","v":"0単位を選択してください"}]
[1336,{"$f":"'（別添４）エネルギー消費効率の根拠（要件ア）'!GF62","v":"別添4_47_22_GF25"},{"$f":"'（別添４）エネルギー消費効率の根拠（要件ア）'!GG62","v":"年間見込み省エネルギー量_原油換算計算式"},{"$f":"'（別添４）エネルギー消費効率の根拠（要件ア）'!GH62","v":0}]
[1337,{"$f":"'（別添４）エネルギー消費効率の根拠（要件ア）'!GF63","v":"別添4_47_23_GF26"},{"$f":"'（別添４）エネルギー消費効率の根拠（要件ア）'!GG63","v":"年間見込み省エネルギー量原油換算計算結果"},{"$f":"'（別添４）エネルギー消費効率の根拠（要件ア）'!GH63","v":0}]
[1338,{"$f":"'（別添４）エネルギー消費効率の根拠（要件ア）'!GF64","v":"別添4_47_24_GF27"},{"$f":"'（別添４）エネルギー消費効率の根拠（要件ア）'!GG64","v":"年間見込み省エネルギー率_自動計算"},{"$f":"'（別添４）エネルギー消費効率の根拠（要件ア）'!GH64","v":""}]
[1339,{"$f":"'（別添４）エネルギー消費効率の根拠（要件ア）'!GJ41","v":"別添4_48_1_GJ9"},{"$f":"'（別添４）エネルギー消費効率の根拠（要件ア）'!GK41","v":"トップランナー基準"},{"$f":"'（別添４）エネルギー消費効率の根拠（要件ア）'!GL41","v":0}]
[1340,{"$f":"'（別添４）エネルギー消費効率の根拠（要件ア）'!GJ42","v":"別添4_48_2_GJ10"},{"$f":"'（別添４）エネルギー消費効率の根拠（要件ア）'!GK42","v":"トップランナー基準の区分名又は数値"},{"$f":"'（別添４）エネルギー消費効率の根拠（要件ア）'!GL42","v":0}]
[1341,{"$f":"'（別添４）エネルギー消費効率の根拠（要件ア）'!GJ43","v":"別添4_48_3_GJ11"},{"$f":"'（別添４）エネルギー消費効率の根拠（要件ア）'!GK43","v":"トップランナー基準の数値（導入設備）"},{"$f":"'（別添４）エネルギー消費効率の根拠（要件ア）'!GL43","v":0}]
[1342,{"$f":"'（別添４）エネルギー消費効率の根拠（要件ア）'!GJ44","v":"別添4_48_4_GJ12"},{"$f":"'（別添４）エネルギー消費効率の根拠（要件ア）'!GK44","v":"比較指標/トップランナー基準"},{"$f":"'（別添４）エネルギー消費効率の根拠（要件ア）'!GL44","v":0}]
[1343,{"$f":"'（別添４）エネルギー消費効率の根拠（要件ア）'!GJ45","v":"別添4_48_5_GJ13"},{"$f":"'（別添４）エネルギー消費効率の根拠（要件ア）'!GK45","v":"添付資料の根拠記載箇所"},{"$f":"'（別添４）エネルギー消費効率の根拠（要件ア）'!GL45","v":0}]
[1344,{"$f":"'（別添４）エネルギー消費効率の根拠（要件ア）'!GJ46","v":"別添4_48_6_GJ14"},{"$f":"'（別添４）エネルギー消費効率の根拠（要件ア）'!GK46","v":"省エネ要因"},{"$f":"'（別添４）エネルギー消費効率の根拠（要件ア）'!GL46","v":0}]
[1345,{"$f":"'（別添４）エネルギー消費効率の根拠（要件ア）'!GJ47","v":"別添4_48_7_GJ16"},{"$f":"'（別添４）エネルギー消費効率の根拠（要件ア）'!GK47","v":"導入設備_製品名"},{"$f":"'（別添４）エネルギー消費効率の根拠（要件ア）'!GL47","v":0}]
[1346,{"$f":"'（別添４）エネルギー消費効率の根拠（要件ア）'!GJ48","v":"別添4_48_8_GJ17"},{"$f":"'（別添４）エネルギー消費効率の根拠（要件ア）'!GK48","v":"導入設備_製造メーカー"},{"$f":"'（別添４）エネルギー消費効率の根拠（要件ア）'!GL48","v":0}]
[1347,{"$f":"'（別添４）エネルギー消費効率の根拠（要件ア）'!GJ49","v":"別添4_48_9_GJ18"},{"$f":"'（別添４）エネルギー消費効率の根拠（要件ア）'!GK49","v":"導入設備_型番"},{"$f":"'（別添４）エネルギー消費効率の根拠（要件ア）'!GL49","v":0}]
[1348,{"$f":"'（別添４）エネルギー消費効率の根拠（要件ア）'!GJ50","v":"別添4_48_10_GJ19&GK19"},{"$f":"'（別添４）エネルギー消費効率の根拠（要件ア）'!GK50","v":"導入設備_導入台数"},{"$f":"'（別添４）エネルギー消費効率の根拠（要件ア）'!GL50","v":"台"}]
[1349,{"$f":"'（別添４）エネルギー消費効率の根拠（要件ア）'!GJ51","v":"別添4_48_11_GJ20"},{"$f":"'（別添４）エネルギー消費効率の根拠（要件ア）'!GK51","v":"導入設備_1台あたりの使用エネルギー"},{"$f":"'（別添４）エネルギー消費効率の根拠（要件ア）'!GL51","v":0}]
[1350,{"$f":"'（別添４）エネルギー消費効率の根拠（要件ア）'!GJ52","v":"別添4_48_12_GJ21"},{"$f":"'（別添４）エネルギー消費効率の根拠（要件ア）'!GK52","v":"導入設備_年間エネルギー使用量計算式"},{"$f":"'（別添４）エネルギー消費効率の根拠（要件ア）'!GL52","v":0}]
[1351,{"$f":"'（別添４）エネルギー消費効率の根拠（要件ア）'!GJ53","v":"別添4_48_13_GJ22&GK22"},{"$f":"'（別添４）エネルギー消費効率の根拠（要件ア）'!GK53","v":"導入設備_計算結果"},{"$f":"'（別添４）エネルギー消費効率の根拠（要件ア）'!GL53","v":"単位を選択してください"}]
[1352,{"$f":"'（別添４）エネルギー消費効率の根拠（要件ア）'!GJ54","v":"別添4_48_14_GL16"},{"$f":"'（別添４）エネルギー消費効率の根拠（要件ア）'!GK54","v":"一代前モデル_製品名"},{"$f":"'（別添４）エネルギー消費効率の根拠（要件ア）'!GL54","v":0}]
[1353,{"$f":"'（別添４）エネルギー消費効率の根拠（要件ア）'!GJ55","v":"別添4_48_15_GL17"},{"$f":"'（別添４）エネルギー消費効率の根拠（要件ア）'!GK55","v":"一代前モデル_製造メーカー"},{"$f":"'（別添４）エネルギー消費効率の根拠（要件ア）'!GL55","v":0}]
[1354,{"$f":"'（別添４）エネルギー消費効率の根拠（要件ア）'!GJ56","v":"別添4_48_16_GL18"},{"$f":"'（別添４）エネルギー消費効率の根拠（要件ア）'!GK56","v":"一代前モデル_型番"},{"$f":"'（別添４）エネルギー消費効率の根拠（要件ア）'!GL56","v":0}]
[1355,{"$f":"'（別添４）エネルギー消費効率の根拠（要件ア）'!GJ57","v":"別添4_48_17_GL19&GM19"},{"$f":"'（別添４）エネルギー消費効率の根拠（要件ア）'!GK57","v":"一代前モデル_導入台数"},{"$f":"'（別添４）エネルギー消費効率の根拠（要件ア）'!GL57","v":"台"}]
[{"$f":"ROW()-1","v":1356},{"$f":"'（別添４）エネルギー消費効率の根拠（要件ア）'!GJ58","v":"別添4_48_18_GL20"},{"$f":"'（別添４）エネルギー消費効率の根拠（要件ア）'!GK58","v":"一代前モデル_1台あたりの使用エネルギー"},{"$f":"'（別添４）エネルギー消費効率の根拠（要件ア）'!GL58","v":0}]
[1357,{"$f":"'（別添４）エネルギー消費効率の根拠（要件ア）'!GJ59","v":"別添4_48_19_GL21"},{"$f":"'（別添４）エネルギー消費効率の根拠（要件ア）'!GK59","v":"一代前モデル_年間エネルギー使用量計算式"},{"$f":"'（別添４）エネルギー消費効率の根拠（要件ア）'!GL59","v":0}]
[1358,{"$f":"'（別添４）エネルギー消費効率の根拠（要件ア）'!GJ60","v":"別添4_48_20_GL22&GM22"},{"$f":"'（別添４）エネルギー消費効率の根拠（要件ア）'!GK60","v":"一代前モデル_計算結果"},{"$f":"'（別添４）エネルギー消費効率の根拠（要件ア）'!GL60","v":"単位を選択してください"}]
[1359,{"$f":"'（別添４）エネルギー消費効率の根拠（要件ア）'!GJ61","v":"別添4_48_21_GJ23&GK23"},{"$f":"'（別添４）エネルギー消費効率の根拠（要件ア）'!GK61","v":"年間見込み省エネルギー量__計算結果"},{"$f":"'（別添４）エネルギー消費効率の根拠（要件ア）'!GL61","v":"0単位を選択してください"}]
[1360,{"$f":"'（別添４）エネルギー消費効率の根拠（要件ア）'!GJ62","v":"別添4_48_22_GJ25"},{"$f":"'（別添４）エネルギー消費効率の根拠（要件ア）'!GK62","v":"年間見込み省エネルギー量_原油換算計算式"},{"$f":"'（別添４）エネルギー消費効率の根拠（要件ア）'!GL62","v":0}]
[1361,{"$f":"'（別添４）エネルギー消費効率の根拠（要件ア）'!GJ63","v":"別添4_48_23_GJ26"},{"$f":"'（別添４）エネルギー消費効率の根拠（要件ア）'!GK63","v":"年間見込み省エネルギー量原油換算計算結果"},{"$f":"'（別添４）エネルギー消費効率の根拠（要件ア）'!GL63","v":0}]
[1362,{"$f":"'（別添４）エネルギー消費効率の根拠（要件ア）'!GJ64","v":"別添4_48_24_GJ27"},{"$f":"'（別添４）エネルギー消費効率の根拠（要件ア）'!GK64","v":"年間見込み省エネルギー率_自動計算"},{"$f":"'（別添４）エネルギー消費効率の根拠（要件ア）'!GL64","v":""}]
[1363,{"$f":"'（別添４）エネルギー消費効率の根拠（要件ア）'!GN41","v":"別添4_49_1_GN9"},{"$f":"'（別添４）エネルギー消費効率の根拠（要件ア）'!GO41","v":"トップランナー基準"},{"$f":"'（別添４）エネルギー消費効率の根拠（要件ア）'!GP41","v":0}]
[1364,{"$f":"'（別添４）エネルギー消費効率の根拠（要件ア）'!GN42","v":"別添4_49_2_GN10"},{"$f":"'（別添４）エネルギー消費効率の根拠（要件ア）'!GO42","v":"トップランナー基準の区分名又は数値"},{"$f":"'（別添４）エネルギー消費効率の根拠（要件ア）'!GP42","v":0}]
[1365,{"$f":"'（別添４）エネルギー消費効率の根拠（要件ア）'!GN43","v":"別添4_49_3_GN11"},{"$f":"'（別添４）エネルギー消費効率の根拠（要件ア）'!GO43","v":"トップランナー基準の数値（導入設備）"},{"$f":"'（別添４）エネルギー消費効率の根拠（要件ア）'!GP43","v":0}]
[1366,{"$f":"'（別添４）エネルギー消費効率の根拠（要件ア）'!GN44","v":"別添4_49_4_GN12"},{"$f":"'（別添４）エネルギー消費効率の根拠（要件ア）'!GO44","v":"比較指標/トップランナー基準"},{"$f":"'（別添４）エネルギー消費効率の根拠（要件ア）'!GP44","v":0}]
[1367,{"$f":"'（別添４）エネルギー消費効率の根拠（要件ア）'!GN45","v":"別添4_49_5_GN13"},{"$f":"'（別添４）エネルギー消費効率の根拠（要件ア）'!GO45","v":"添付資料の根拠記載箇所"},{"$f":"'（別添４）エネルギー消費効率の根拠（要件ア）'!GP45","v":0}]
[1368,{"$f":"'（別添４）エネルギー消費効率の根拠（要件ア）'!GN46","v":"別添4_49_6_GN14"},{"$f":"'（別添４）エネルギー消費効率の根拠（要件ア）'!GO46","v":"省エネ要因"},{"$f":"'（別添４）エネルギー消費効率の根拠（要件ア）'!GP46","v":0}]
[1369,{"$f":"'（別添４）エネルギー消費効率の根拠（要件ア）'!GN47","v":"別添4_49_7_GN16"},{"$f":"'（別添４）エネルギー消費効率の根拠（要件ア）'!GO47","v":"導入設備_製品名"},{"$f":"'（別添４）エネルギー消費効率の根拠（要件ア）'!GP47","v":0}]
[1370,{"$f":"'（別添４）エネルギー消費効率の根拠（要件ア）'!GN48","v":"別添4_49_8_GN17"},{"$f":"'（別添４）エネルギー消費効率の根拠（要件ア）'!GO48","v":"導入設備_製造メーカー"},{"$f":"'（別添４）エネルギー消費効率の根拠（要件ア）'!GP48","v":0}]
[1371,{"$f":"'（別添４）エネルギー消費効率の根拠（要件ア）'!GN49","v":"別添4_49_9_GN18"},{"$f":"'（別添４）エネルギー消費効率の根拠（要件ア）'!GO49","v":"導入設備_型番"},{"$f":"'（別添４）エネルギー消費効率の根拠（要件ア）'!GP49","v":0}]
[1372,{"$f":"'（別添４）エネルギー消費効率の根拠（要件ア）'!GN50","v":"別添4_49_10_GN19&GO19"},{"$f":"'（別添４）エネルギー消費効率の根拠（要件ア）'!GO50","v":"導入設備_導入台数"},{"$f":"'（別添４）エネルギー消費効率の根拠（要件ア）'!GP50","v":"台"}]
[1373,{"$f":"'（別添４）エネルギー消費効率の根拠（要件ア）'!GN51","v":"別添4_49_11_GN20"},{"$f":"'（別添４）エネルギー消費効率の根拠（要件ア）'!GO51","v":"導入設備_1台あたりの使用エネルギー"},{"$f":"'（別添４）エネルギー消費効率の根拠（要件ア）'!GP51","v":0}]
[1374,{"$f":"'（別添４）エネルギー消費効率の根拠（要件ア）'!GN52","v":"別添4_49_12_GN21"},{"$f":"'（別添４）エネルギー消費効率の根拠（要件ア）'!GO52","v":"導入設備_年間エネルギー使用量計算式"},{"$f":"'（別添４）エネルギー消費効率の根拠（要件ア）'!GP52","v":0}]
[1375,{"$f":"'（別添４）エネルギー消費効率の根拠（要件ア）'!GN53","v":"別添4_49_13_GN22&GO22"},{"$f":"'（別添４）エネルギー消費効率の根拠（要件ア）'!GO53","v":"導入設備_計算結果"},{"$f":"'（別添４）エネルギー消費効率の根拠（要件ア）'!GP53","v":"単位を選択してください"}]
[1376,{"$f":"'（別添４）エネルギー消費効率の根拠（要件ア）'!GN54","v":"別添4_49_14_GP16"},{"$f":"'（別添４）エネルギー消費効率の根拠（要件ア）'!GO54","v":"一代前モデル_製品名"},{"$f":"'（別添４）エネルギー消費効率の根拠（要件ア）'!GP54","v":0}]
[1377,{"$f":"'（別添４）エネルギー消費効率の根拠（要件ア）'!GN55","v":"別添4_49_15_GP17"},{"$f":"'（別添４）エネルギー消費効率の根拠（要件ア）'!GO55","v":"一代前モデル_製造メーカー"},{"$f":"'（別添４）エネルギー消費効率の根拠（要件ア）'!GP55","v":0}]
[1378,{"$f":"'（別添４）エネルギー消費効率の根拠（要件ア）'!GN56","v":"別添4_49_16_GP18"},{"$f":"'（別添４）エネルギー消費効率の根拠（要件ア）'!GO56","v":"一代前モデル_型番"},{"$f":"'（別添４）エネルギー消費効率の根拠（要件ア）'!GP56","v":0}]
[1379,{"$f":"'（別添４）エネルギー消費効率の根拠（要件ア）'!GN57","v":"別添4_49_17_GP19&GQ19"},{"$f":"'（別添４）エネルギー消費効率の根拠（要件ア）'!GO57","v":"一代前モデル_導入台数"},{"$f":"'（別添４）エネルギー消費効率の根拠（要件ア）'!GP57","v":"台"}]
[1380,{"$f":"'（別添４）エネルギー消費効率の根拠（要件ア）'!GN58","v":"別添4_49_18_GP20"},{"$f":"'（別添４）エネルギー消費効率の根拠（要件ア）'!GO58","v":"一代前モデル_1台あたりの使用エネルギー"},{"$f":"'（別添４）エネルギー消費効率の根拠（要件ア）'!GP58","v":0}]
[1381,{"$f":"'（別添４）エネルギー消費効率の根拠（要件ア）'!GN59","v":"別添4_49_19_GP21"},{"$f":"'（別添４）エネルギー消費効率の根拠（要件ア）'!GO59","v":"一代前モデル_年間エネルギー使用量計算式"},{"$f":"'（別添４）エネルギー消費効率の根拠（要件ア）'!GP59","v":0}]
[1382,{"$f":"'（別添４）エネルギー消費効率の根拠（要件ア）'!GN60","v":"別添4_49_20_GP22&GQ22"},{"$f":"'（別添４）エネルギー消費効率の根拠（要件ア）'!GO60","v":"一代前モデル_計算結果"},{"$f":"'（別添４）エネルギー消費効率の根拠（要件ア）'!GP60","v":"単位を選択してください"}]
[1383,{"$f":"'（別添４）エネルギー消費効率の根拠（要件ア）'!GN61","v":"別添4_49_21_GN23&GO23"},{"$f":"'（別添４）エネルギー消費効率の根拠（要件ア）'!GO61","v":"年間見込み省エネルギー量__計算結果"},{"$f":"'（別添４）エネルギー消費効率の根拠（要件ア）'!GP61","v":"0単位を選択してください"}]
[1384,{"$f":"'（別添４）エネルギー消費効率の根拠（要件ア）'!GN62","v":"別添4_49_22_GN25"},{"$f":"'（別添４）エネルギー消費効率の根拠（要件ア）'!GO62","v":"年間見込み省エネルギー量_原油換算計算式"},{"$f":"'（別添４）エネルギー消費効率の根拠（要件ア）'!GP62","v":0}]
[1385,{"$f":"'（別添４）エネルギー消費効率の根拠（要件ア）'!GN63","v":"別添4_49_23_GN26"},{"$f":"'（別添４）エネルギー消費効率の根拠（要件ア）'!GO63","v":"年間見込み省エネルギー量原油換算計算結果"},{"$f":"'（別添４）エネルギー消費効率の根拠（要件ア）'!GP63","v":0}]
[1386,{"$f":"'（別添４）エネルギー消費効率の根拠（要件ア）'!GN64","v":"別添4_49_24_GN27"},{"$f":"'（別添４）エネルギー消費効率の根拠（要件ア）'!GO64","v":"年間見込み省エネルギー率_自動計算"},{"$f":"'（別添４）エネルギー消費効率の根拠（要件ア）'!GP64","v":""}]
[1387,{"$f":"'（別添４）エネルギー消費効率の根拠（要件ア）'!GR41","v":"別添4_50_1_GR9"},{"$f":"'（別添４）エネルギー消費効率の根拠（要件ア）'!GS41","v":"トップランナー基準"},{"$f":"'（別添４）エネルギー消費効率の根拠（要件ア）'!GT41","v":0}]
[1388,{"$f":"'（別添４）エネルギー消費効率の根拠（要件ア）'!GR42","v":"別添4_50_2_GR10"},{"$f":"'（別添４）エネルギー消費効率の根拠（要件ア）'!GS42","v":"トップランナー基準の区分名又は数値"},{"$f":"'（別添４）エネルギー消費効率の根拠（要件ア）'!GT42","v":0}]
[1389,{"$f":"'（別添４）エネルギー消費効率の根拠（要件ア）'!GR43","v":"別添4_50_3_GR11"},{"$f":"'（別添４）エネルギー消費効率の根拠（要件ア）'!GS43","v":"トップランナー基準の数値（導入設備）"},{"$f":"'（別添４）エネルギー消費効率の根拠（要件ア）'!GT43","v":0}]
[1390,{"$f":"'（別添４）エネルギー消費効率の根拠（要件ア）'!GR44","v":"別添4_50_4_GR12"},{"$f":"'（別添４）エネルギー消費効率の根拠（要件ア）'!GS44","v":"比較指標/トップランナー基準"},{"$f":"'（別添４）エネルギー消費効率の根拠（要件ア）'!GT44","v":0}]
[1391,{"$f":"'（別添４）エネルギー消費効率の根拠（要件ア）'!GR45","v":"別添4_50_5_GR13"},{"$f":"'（別添４）エネルギー消費効率の根拠（要件ア）'!GS45","v":"添付資料の根拠記載箇所"},{"$f":"'（別添４）エネルギー消費効率の根拠（要件ア）'!GT45","v":0}]
[1392,{"$f":"'（別添４）エネルギー消費効率の根拠（要件ア）'!GR46","v":"別添4_50_6_GR14"},{"$f":"'（別添４）エネルギー消費効率の根拠（要件ア）'!GS46","v":"省エネ要因"},{"$f":"'（別添４）エネルギー消費効率の根拠（要件ア）'!GT46","v":0}]
[1393,{"$f":"'（別添４）エネルギー消費効率の根拠（要件ア）'!GR47","v":"別添4_50_7_GR16"},{"$f":"'（別添４）エネルギー消費効率の根拠（要件ア）'!GS47","v":"導入設備_製品名"},{"$f":"'（別添４）エネルギー消費効率の根拠（要件ア）'!GT47","v":0}]
[1394,{"$f":"'（別添４）エネルギー消費効率の根拠（要件ア）'!GR48","v":"別添4_50_8_GR17"},{"$f":"'（別添４）エネルギー消費効率の根拠（要件ア）'!GS48","v":"導入設備_製造メーカー"},{"$f":"'（別添４）エネルギー消費効率の根拠（要件ア）'!GT48","v":0}]
[1395,{"$f":"'（別添４）エネルギー消費効率の根拠（要件ア）'!GR49","v":"別添4_50_9_GR18"},{"$f":"'（別添４）エネルギー消費効率の根拠（要件ア）'!GS49","v":"導入設備_型番"},{"$f":"'（別添４）エネルギー消費効率の根拠（要件ア）'!GT49","v":0}]
[1396,{"$f":"'（別添４）エネルギー消費効率の根拠（要件ア）'!GR50","v":"別添4_50_10_GR19&GS19"},{"$f":"'（別添４）エネルギー消費効率の根拠（要件ア）'!GS50","v":"導入設備_導入台数"},{"$f":"'（別添４）エネルギー消費効率の根拠（要件ア）'!GT50","v":"台"}]
[1397,{"$f":"'（別添４）エネルギー消費効率の根拠（要件ア）'!GR51","v":"別添4_50_11_GR20"},{"$f":"'（別添４）エネルギー消費効率の根拠（要件ア）'!GS51","v":"導入設備_1台あたりの使用エネルギー"},{"$f":"'（別添４）エネルギー消費効率の根拠（要件ア）'!GT51","v":0}]
[1398,{"$f":"'（別添４）エネルギー消費効率の根拠（要件ア）'!GR52","v":"別添4_50_12_GR21"},{"$f":"'（別添４）エネルギー消費効率の根拠（要件ア）'!GS52","v":"導入設備_年間エネルギー使用量計算式"},{"$f":"'（別添４）エネルギー消費効率の根拠（要件ア）'!GT52","v":0}]
[1399,{"$f":"'（別添４）エネルギー消費効率の根拠（要件ア）'!GR53","v":"別添4_50_13_GR22&GS22"},{"$f":"'（別添４）エネルギー消費効率の根拠（要件ア）'!GS53","v":"導入設備_計算結果"},{"$f":"'（別添４）エネルギー消費効率の根拠（要件ア）'!GT53","v":"単位を選択してください"}]
[1400,{"$f":"'（別添４）エネルギー消費効率の根拠（要件ア）'!GR54","v":"別添4_50_14_GT16"},{"$f":"'（別添４）エネルギー消費効率の根拠（要件ア）'!GS54","v":"一代前モデル_製品名"},{"$f":"'（別添４）エネルギー消費効率の根拠（要件ア）'!GT54","v":0}]
[1401,{"$f":"'（別添４）エネルギー消費効率の根拠（要件ア）'!GR55","v":"別添4_50_15_GT17"},{"$f":"'（別添４）エネルギー消費効率の根拠（要件ア）'!GS55","v":"一代前モデル_製造メーカー"},{"$f":"'（別添４）エネルギー消費効率の根拠（要件ア）'!GT55","v":0}]
[1402,{"$f":"'（別添４）エネルギー消費効率の根拠（要件ア）'!GR56","v":"別添4_50_16_GT18"},{"$f":"'（別添４）エネルギー消費効率の根拠（要件ア）'!GS56","v":"一代前モデル_型番"},{"$f":"'（別添４）エネルギー消費効率の根拠（要件ア）'!GT56","v":0}]
[1403,{"$f":"'（別添４）エネルギー消費効率の根拠（要件ア）'!GR57","v":"別添4_50_17_GT19&GU19"},{"$f":"'（別添４）エネルギー消費効率の根拠（要件ア）'!GS57","v":"一代前モデル_導入台数"},{"$f":"'（別添４）エネルギー消費効率の根拠（要件ア）'!GT57","v":"台"}]
[1404,{"$f":"'（別添４）エネルギー消費効率の根拠（要件ア）'!GR58","v":"別添4_50_18_GT20"},{"$f":"'（別添４）エネルギー消費効率の根拠（要件ア）'!GS58","v":"一代前モデル_1台あたりの使用エネルギー"},{"$f":"'（別添４）エネルギー消費効率の根拠（要件ア）'!GT58","v":0}]
[1405,{"$f":"'（別添４）エネルギー消費効率の根拠（要件ア）'!GR59","v":"別添4_50_19_GT21"},{"$f":"'（別添４）エネルギー消費効率の根拠（要件ア）'!GS59","v":"一代前モデル_年間エネルギー使用量計算式"},{"$f":"'（別添４）エネルギー消費効率の根拠（要件ア）'!GT59","v":0}]
[1406,{"$f":"'（別添４）エネルギー消費効率の根拠（要件ア）'!GR60","v":"別添4_50_20_GT22&GU22"},{"$f":"'（別添４）エネルギー消費効率の根拠（要件ア）'!GS60","v":"一代前モデル_計算結果"},{"$f":"'（別添４）エネルギー消費効率の根拠（要件ア）'!GT60","v":"単位を選択してください"}]
[1407,{"$f":"'（別添４）エネルギー消費効率の根拠（要件ア）'!GR61","v":"別添4_50_21_GR23&GS23"},{"$f":"'（別添４）エネルギー消費効率の根拠（要件ア）'!GS61","v":"年間見込み省エネルギー量__計算結果"},{"$f":"'（別添４）エネルギー消費効率の根拠（要件ア）'!GT61","v":"0単位を選択してください"}]
[1408,{"$f":"'（別添４）エネルギー消費効率の根拠（要件ア）'!GR62","v":"別添4_50_22_GR25"},{"$f":"'（別添４）エネルギー消費効率の根拠（要件ア）'!GS62","v":"年間見込み省エネルギー量_原油換算計算式"},{"$f":"'（別添４）エネルギー消費効率の根拠（要件ア）'!GT62","v":0}]
[1409,{"$f":"'（別添４）エネルギー消費効率の根拠（要件ア）'!GR63","v":"別添4_50_23_GR26"},{"$f":"'（別添４）エネルギー消費効率の根拠（要件ア）'!GS63","v":"年間見込み省エネルギー量原油換算計算結果"},{"$f":"'（別添４）エネルギー消費効率の根拠（要件ア）'!GT63","v":0}]
[1410,{"$f":"'（別添４）エネルギー消費効率の根拠（要件ア）'!GR64","v":"別添4_50_24_GR27"},{"$f":"'（別添４）エネルギー消費効率の根拠（要件ア）'!GS64","v":"年間見込み省エネルギー率_自動計算"},{"$f":"'（別添４）エネルギー消費効率の根拠（要件ア）'!GT64","v":""}]
[1411,{"$f":"'（別添４）エネルギー消費効率の根拠（要件ア）'!GV41","v":"別添4_51_1_GV9"},{"$f":"'（別添４）エネルギー消費効率の根拠（要件ア）'!GW41","v":"トップランナー基準"},{"$f":"'（別添４）エネルギー消費効率の根拠（要件ア）'!GX41","v":0}]
[1412,{"$f":"'（別添４）エネルギー消費効率の根拠（要件ア）'!GV42","v":"別添4_51_2_GV10"},{"$f":"'（別添４）エネルギー消費効率の根拠（要件ア）'!GW42","v":"トップランナー基準の区分名又は数値"},{"$f":"'（別添４）エネルギー消費効率の根拠（要件ア）'!GX42","v":0}]
[1413,{"$f":"'（別添４）エネルギー消費効率の根拠（要件ア）'!GV43","v":"別添4_51_3_GV11"},{"$f":"'（別添４）エネルギー消費効率の根拠（要件ア）'!GW43","v":"トップランナー基準の数値（導入設備）"},{"$f":"'（別添４）エネルギー消費効率の根拠（要件ア）'!GX43","v":0}]
[1414,{"$f":"'（別添４）エネルギー消費効率の根拠（要件ア）'!GV44","v":"別添4_51_4_GV12"},{"$f":"'（別添４）エネルギー消費効率の根拠（要件ア）'!GW44","v":"比較指標/トップランナー基準"},{"$f":"'（別添４）エネルギー消費効率の根拠（要件ア）'!GX44","v":0}]
[1415,{"$f":"'（別添４）エネルギー消費効率の根拠（要件ア）'!GV45","v":"別添4_51_5_GV13"},{"$f":"'（別添４）エネルギー消費効率の根拠（要件ア）'!GW45","v":"添付資料の根拠記載箇所"},{"$f":"'（別添４）エネルギー消費効率の根拠（要件ア）'!GX45","v":0}]
[1416,{"$f":"'（別添４）エネルギー消費効率の根拠（要件ア）'!GV46","v":"別添4_51_6_GV14"},{"$f":"'（別添４）エネルギー消費効率の根拠（要件ア）'!GW46","v":"省エネ要因"},{"$f":"'（別添４）エネルギー消費効率の根拠（要件ア）'!GX46","v":0}]
[1417,{"$f":"'（別添４）エネルギー消費効率の根拠（要件ア）'!GV47","v":"別添4_51_7_GV16"},{"$f":"'（別添４）エネルギー消費効率の根拠（要件ア）'!GW47","v":"導入設備_製品名"},{"$f":"'（別添４）エネルギー消費効率の根拠（要件ア）'!GX47","v":0}]
[1418,{"$f":"'（別添４）エネルギー消費効率の根拠（要件ア）'!GV48","v":"別添4_51_8_GV17"},{"$f":"'（別添４）エネルギー消費効率の根拠（要件ア）'!GW48","v":"導入設備_製造メーカー"},{"$f":"'（別添４）エネルギー消費効率の根拠（要件ア）'!GX48","v":0}]
[1419,{"$f":"'（別添４）エネルギー消費効率の根拠（要件ア）'!GV49","v":"別添4_51_9_GV18"},{"$f":"'（別添４）エネルギー消費効率の根拠（要件ア）'!GW49","v":"導入設備_型番"},{"$f":"'（別添４）エネルギー消費効率の根拠（要件ア）'!GX49","v":0}]
[{"$f":"ROW()-1","v":1420},{"$f":"'（別添４）エネルギー消費効率の根拠（要件ア）'!GV50","v":"別添4_51_10_GV19&GW19"},{"$f":"'（別添４）エネルギー消費効率の根拠（要件ア）'!GW50","v":"導入設備_導入台数"},{"$f":"'（別添４）エネルギー消費効率の根拠（要件ア）'!GX50","v":"台"}]
[1421,{"$f":"'（別添４）エネルギー消費効率の根拠（要件ア）'!GV51","v":"別添4_51_11_GV20"},{"$f":"'（別添４）エネルギー消費効率の根拠（要件ア）'!GW51","v":"導入設備_1台あたりの使用エネルギー"},{"$f":"'（別添４）エネルギー消費効率の根拠（要件ア）'!GX51","v":0}]
[1422,{"$f":"'（別添４）エネルギー消費効率の根拠（要件ア）'!GV52","v":"別添4_51_12_GV21"},{"$f":"'（別添４）エネルギー消費効率の根拠（要件ア）'!GW52","v":"導入設備_年間エネルギー使用量計算式"},{"$f":"'（別添４）エネルギー消費効率の根拠（要件ア）'!GX52","v":0}]
[1423,{"$f":"'（別添４）エネルギー消費効率の根拠（要件ア）'!GV53","v":"別添4_51_13_GV22&GW22"},{"$f":"'（別添４）エネルギー消費効率の根拠（要件ア）'!GW53","v":"導入設備_計算結果"},{"$f":"'（別添４）エネルギー消費効率の根拠（要件ア）'!GX53","v":"単位を選択してください"}]
[1424,{"$f":"'（別添４）エネルギー消費効率の根拠（要件ア）'!GV54","v":"別添4_51_14_GX16"},{"$f":"'（別添４）エネルギー消費効率の根拠（要件ア）'!GW54","v":"一代前モデル_製品名"},{"$f":"'（別添４）エネルギー消費効率の根拠（要件ア）'!GX54","v":0}]
[1425,{"$f":"'（別添４）エネルギー消費効率の根拠（要件ア）'!GV55","v":"別添4_51_15_GX17"},{"$f":"'（別添４）エネルギー消費効率の根拠（要件ア）'!GW55","v":"一代前モデル_製造メーカー"},{"$f":"'（別添４）エネルギー消費効率の根拠（要件ア）'!GX55","v":0}]
[1426,{"$f":"'（別添４）エネルギー消費効率の根拠（要件ア）'!GV56","v":"別添4_51_16_GX18"},{"$f":"'（別添４）エネルギー消費効率の根拠（要件ア）'!GW56","v":"一代前モデル_型番"},{"$f":"'（別添４）エネルギー消費効率の根拠（要件ア）'!GX56","v":0}]
[1427,{"$f":"'（別添４）エネルギー消費効率の根拠（要件ア）'!GV57","v":"別添4_51_17_GX19&GY19"},{"$f":"'（別添４）エネルギー消費効率の根拠（要件ア）'!GW57","v":"一代前モデル_導入台数"},{"$f":"'（別添４）エネルギー消費効率の根拠（要件ア）'!GX57","v":"台"}]
[1428,{"$f":"'（別添４）エネルギー消費効率の根拠（要件ア）'!GV58","v":"別添4_51_18_GX20"},{"$f":"'（別添４）エネルギー消費効率の根拠（要件ア）'!GW58","v":"一代前モデル_1台あたりの使用エネルギー"},{"$f":"'（別添４）エネルギー消費効率の根拠（要件ア）'!GX58","v":0}]
[1429,{"$f":"'（別添４）エネルギー消費効率の根拠（要件ア）'!GV59","v":"別添4_51_19_GX21"},{"$f":"'（別添４）エネルギー消費効率の根拠（要件ア）'!GW59","v":"一代前モデル_年間エネルギー使用量計算式"},{"$f":"'（別添４）エネルギー消費効率の根拠（要件ア）'!GX59","v":0}]
[1430,{"$f":"'（別添４）エネルギー消費効率の根拠（要件ア）'!GV60","v":"別添4_51_20_GX22&GY22"},{"$f":"'（別添４）エネルギー消費効率の根拠（要件ア）'!GW60","v":"一代前モデル_計算結果"},{"$f":"'（別添４）エネルギー消費効率の根拠（要件ア）'!GX60","v":"単位を選択してください"}]
[1431,{"$f":"'（別添４）エネルギー消費効率の根拠（要件ア）'!GV61","v":"別添4_51_21_GV23&GW23"},{"$f":"'（別添４）エネルギー消費効率の根拠（要件ア）'!GW61","v":"年間見込み省エネルギー量__計算結果"},{"$f":"'（別添４）エネルギー消費効率の根拠（要件ア）'!GX61","v":"0単位を選択してください"}]
[1432,{"$f":"'（別添４）エネルギー消費効率の根拠（要件ア）'!GV62","v":"別添4_51_22_GV25"},{"$f":"'（別添４）エネルギー消費効率の根拠（要件ア）'!GW62","v":"年間見込み省エネルギー量_原油換算計算式"},{"$f":"'（別添４）エネルギー消費効率の根拠（要件ア）'!GX62","v":0}]
[1433,{"$f":"'（別添４）エネルギー消費効率の根拠（要件ア）'!GV63","v":"別添4_51_23_GV26"},{"$f":"'（別添４）エネルギー消費効率の根拠（要件ア）'!GW63","v":"年間見込み省エネルギー量原油換算計算結果"},{"$f":"'（別添４）エネルギー消費効率の根拠（要件ア）'!GX63","v":0}]
[1434,{"$f":"'（別添４）エネルギー消費効率の根拠（要件ア）'!GV64","v":"別添4_51_24_GV27"},{"$f":"'（別添４）エネルギー消費効率の根拠（要件ア）'!GW64","v":"年間見込み省エネルギー率_自動計算"},{"$f":"'（別添４）エネルギー消費効率の根拠（要件ア）'!GX64","v":""}]
[1435,{"$f":"'（別添４）エネルギー消費効率の根拠（要件ア）'!GZ41","v":"別添4_52_1_GZ9"},{"$f":"'（別添４）エネルギー消費効率の根拠（要件ア）'!HA41","v":"トップランナー基準"},{"$f":"'（別添４）エネルギー消費効率の根拠（要件ア）'!HB41","v":0}]
[1436,{"$f":"'（別添４）エネルギー消費効率の根拠（要件ア）'!GZ42","v":"別添4_52_2_GZ10"},{"$f":"'（別添４）エネルギー消費効率の根拠（要件ア）'!HA42","v":"トップランナー基準の区分名又は数値"},{"$f":"'（別添４）エネルギー消費効率の根拠（要件ア）'!HB42","v":0}]
[1437,{"$f":"'（別添４）エネルギー消費効率の根拠（要件ア）'!GZ43","v":"別添4_52_3_GZ11"},{"$f":"'（別添４）エネルギー消費効率の根拠（要件ア）'!HA43","v":"トップランナー基準の数値（導入設備）"},{"$f":"'（別添４）エネルギー消費効率の根拠（要件ア）'!HB43","v":0}]
[1438,{"$f":"'（別添４）エネルギー消費効率の根拠（要件ア）'!GZ44","v":"別添4_52_4_GZ12"},{"$f":"'（別添４）エネルギー消費効率の根拠（要件ア）'!HA44","v":"比較指標/トップランナー基準"},{"$f":"'（別添４）エネルギー消費効率の根拠（要件ア）'!HB44","v":0}]
[1439,{"$f":"'（別添４）エネルギー消費効率の根拠（要件ア）'!GZ45","v":"別添4_52_5_GZ13"},{"$f":"'（別添４）エネルギー消費効率の根拠（要件ア）'!HA45","v":"添付資料の根拠記載箇所"},{"$f":"'（別添４）エネルギー消費効率の根拠（要件ア）'!HB45","v":0}]
[1440,{"$f":"'（別添４）エネルギー消費効率の根拠（要件ア）'!GZ46","v":"別添4_52_6_GZ14"},{"$f":"'（別添４）エネルギー消費効率の根拠（要件ア）'!HA46","v":"省エネ要因"},{"$f":"'（別添４）エネルギー消費効率の根拠（要件ア）'!HB46","v":0}]
[1441,{"$f":"'（別添４）エネルギー消費効率の根拠（要件ア）'!GZ47","v":"別添4_52_7_GZ16"},{"$f":"'（別添４）エネルギー消費効率の根拠（要件ア）'!HA47","v":"導入設備_製品名"},{"$f":"'（別添４）エネルギー消費効率の根拠（要件ア）'!HB47","v":0}]
[1442,{"$f":"'（別添４）エネルギー消費効率の根拠（要件ア）'!GZ48","v":"別添4_52_8_GZ17"},{"$f":"'（別添４）エネルギー消費効率の根拠（要件ア）'!HA48","v":"導入設備_製造メーカー"},{"$f":"'（別添４）エネルギー消費効率の根拠（要件ア）'!HB48","v":0}]
[1443,{"$f":"'（別添４）エネルギー消費効率の根拠（要件ア）'!GZ49","v":"別添4_52_9_GZ18"},{"$f":"'（別添４）エネルギー消費効率の根拠（要件ア）'!HA49","v":"導入設備_型番"},{"$f":"'（別添４）エネルギー消費効率の根拠（要件ア）'!HB49","v":0}]
[1444,{"$f":"'（別添４）エネルギー消費効率の根拠（要件ア）'!GZ50","v":"別添4_52_10_GZ19&HA19"},{"$f":"'（別添４）エネルギー消費効率の根拠（要件ア）'!HA50","v":"導入設備_導入台数"},{"$f":"'（別添４）エネルギー消費効率の根拠（要件ア）'!HB50","v":"台"}]
[1445,{"$f":"'（別添４）エネルギー消費効率の根拠（要件ア）'!GZ51","v":"別添4_52_11_GZ20"},{"$f":"'（別添４）エネルギー消費効率の根拠（要件ア）'!HA51","v":"導入設備_1台あたりの使用エネルギー"},{"$f":"'（別添４）エネルギー消費効率の根拠（要件ア）'!HB51","v":0}]
[1446,{"$f":"'（別添４）エネルギー消費効率の根拠（要件ア）'!GZ52","v":"別添4_52_12_GZ21"},{"$f":"'（別添４）エネルギー消費効率の根拠（要件ア）'!HA52","v":"導入設備_年間エネルギー使用量計算式"},{"$f":"'（別添４）エネルギー消費効率の根拠（要件ア）'!HB52","v":0}]
[1447,{"$f":"'（別添４）エネルギー消費効率の根拠（要件ア）'!GZ53","v":"別添4_52_13_GZ22&HA22"},{"$f":"'（別添４）エネルギー消費効率の根拠（要件ア）'!HA53","v":"導入設備_計算結果"},{"$f":"'（別添４）エネルギー消費効率の根拠（要件ア）'!HB53","v":"単位を選択してください"}]
[1448,{"$f":"'（別添４）エネルギー消費効率の根拠（要件ア）'!GZ54","v":"別添4_52_14_HB16"},{"$f":"'（別添４）エネルギー消費効率の根拠（要件ア）'!HA54","v":"一代前モデル_製品名"},{"$f":"'（別添４）エネルギー消費効率の根拠（要件ア）'!HB54","v":0}]
[1449,{"$f":"'（別添４）エネルギー消費効率の根拠（要件ア）'!GZ55","v":"別添4_52_15_HB17"},{"$f":"'（別添４）エネルギー消費効率の根拠（要件ア）'!HA55","v":"一代前モデル_製造メーカー"},{"$f":"'（別添４）エネルギー消費効率の根拠（要件ア）'!HB55","v":0}]
[1450,{"$f":"'（別添４）エネルギー消費効率の根拠（要件ア）'!GZ56","v":"別添4_52_16_HB18"},{"$f":"'（別添４）エネルギー消費効率の根拠（要件ア）'!HA56","v":"一代前モデル_型番"},{"$f":"'（別添４）エネルギー消費効率の根拠（要件ア）'!HB56","v":0}]
[1451,{"$f":"'（別添４）エネルギー消費効率の根拠（要件ア）'!GZ57","v":"別添4_52_17_HB19&HC19"},{"$f":"'（別添４）エネルギー消費効率の根拠（要件ア）'!HA57","v":"一代前モデル_導入台数"},{"$f":"'（別添４）エネルギー消費効率の根拠（要件ア）'!HB57","v":"台"}]
[1452,{"$f":"'（別添４）エネルギー消費効率の根拠（要件ア）'!GZ58","v":"別添4_52_18_HB20"},{"$f":"'（別添４）エネルギー消費効率の根拠（要件ア）'!HA58","v":"一代前モデル_1台あたりの使用エネルギー"},{"$f":"'（別添４）エネルギー消費効率の根拠（要件ア）'!HB58","v":0}]
[1453,{"$f":"'（別添４）エネルギー消費効率の根拠（要件ア）'!GZ59","v":"別添4_52_19_HB21"},{"$f":"'（別添４）エネルギー消費効率の根拠（要件ア）'!HA59","v":"一代前モデル_年間エネルギー使用量計算式"},{"$f":"'（別添４）エネルギー消費効率の根拠（要件ア）'!HB59","v":0}]
[1454,{"$f":"'（別添４）エネルギー消費効率の根拠（要件ア）'!GZ60","v":"別添4_52_20_HB22&HC22"},{"$f":"'（別添４）エネルギー消費効率の根拠（要件ア）'!HA60","v":"一代前モデル_計算結果"},{"$f":"'（別添４）エネルギー消費効率の根拠（要件ア）'!HB60","v":"単位を選択してください"}]
[1455,{"$f":"'（別添４）エネルギー消費効率の根拠（要件ア）'!GZ61","v":"別添4_52_21_GZ23&HA23"},{"$f":"'（別添４）エネルギー消費効率の根拠（要件ア）'!HA61","v":"年間見込み省エネルギー量__計算結果"},{"$f":"'（別添４）エネルギー消費効率の根拠（要件ア）'!HB61","v":"0単位を選択してください"}]
[1456,{"$f":"'（別添４）エネルギー消費効率の根拠（要件ア）'!GZ62","v":"別添4_52_22_GZ25"},{"$f":"'（別添４）エネルギー消費効率の根拠（要件ア）'!HA62","v":"年間見込み省エネルギー量_原油換算計算式"},{"$f":"'（別添４）エネルギー消費効率の根拠（要件ア）'!HB62","v":0}]
[1457,{"$f":"'（別添４）エネルギー消費効率の根拠（要件ア）'!GZ63","v":"別添4_52_23_GZ26"},{"$f":"'（別添４）エネルギー消費効率の根拠（要件ア）'!HA63","v":"年間見込み省エネルギー量原油換算計算結果"},{"$f":"'（別添４）エネルギー消費効率の根拠（要件ア）'!HB63","v":0}]
[1458,{"$f":"'（別添４）エネルギー消費効率の根拠（要件ア）'!GZ64","v":"別添4_52_24_GZ27"},{"$f":"'（別添４）エネルギー消費効率の根拠（要件ア）'!HA64","v":"年間見込み省エネルギー率_自動計算"},{"$f":"'（別添４）エネルギー消費効率の根拠（要件ア）'!HB64","v":""}]
[1459,{"$f":"'（別添４）エネルギー消費効率の根拠（要件ア）'!HD41","v":"別添4_53_1_HD9"},{"$f":"'（別添４）エネルギー消費効率の根拠（要件ア）'!HE41","v":"トップランナー基準"},{"$f":"'（別添４）エネルギー消費効率の根拠（要件ア）'!HF41","v":0}]
[1460,{"$f":"'（別添４）エネルギー消費効率の根拠（要件ア）'!HD42","v":"別添4_53_2_HD10"},{"$f":"'（別添４）エネルギー消費効率の根拠（要件ア）'!HE42","v":"トップランナー基準の区分名又は数値"},{"$f":"'（別添４）エネルギー消費効率の根拠（要件ア）'!HF42","v":0}]
[1461,{"$f":"'（別添４）エネルギー消費効率の根拠（要件ア）'!HD43","v":"別添4_53_3_HD11"},{"$f":"'（別添４）エネルギー消費効率の根拠（要件ア）'!HE43","v":"トップランナー基準の数値（導入設備）"},{"$f":"'（別添４）エネルギー消費効率の根拠（要件ア）'!HF43","v":0}]
[1462,{"$f":"'（別添４）エネルギー消費効率の根拠（要件ア）'!HD44","v":"別添4_53_4_HD12"},{"$f":"'（別添４）エネルギー消費効率の根拠（要件ア）'!HE44","v":"比較指標/トップランナー基準"},{"$f":"'（別添４）エネルギー消費効率の根拠（要件ア）'!HF44","v":0}]
[1463,{"$f":"'（別添４）エネルギー消費効率の根拠（要件ア）'!HD45","v":"別添4_53_5_HD13"},{"$f":"'（別添４）エネルギー消費効率の根拠（要件ア）'!HE45","v":"添付資料の根拠記載箇所"},{"$f":"'（別添４）エネルギー消費効率の根拠（要件ア）'!HF45","v":0}]
[1464,{"$f":"'（別添４）エネルギー消費効率の根拠（要件ア）'!HD46","v":"別添4_53_6_HD14"},{"$f":"'（別添４）エネルギー消費効率の根拠（要件ア）'!HE46","v":"省エネ要因"},{"$f":"'（別添４）エネルギー消費効率の根拠（要件ア）'!HF46","v":0}]
[1465,{"$f":"'（別添４）エネルギー消費効率の根拠（要件ア）'!HD47","v":"別添4_53_7_HD16"},{"$f":"'（別添４）エネルギー消費効率の根拠（要件ア）'!HE47","v":"導入設備_製品名"},{"$f":"'（別添４）エネルギー消費効率の根拠（要件ア）'!HF47","v":0}]
[1466,{"$f":"'（別添４）エネルギー消費効率の根拠（要件ア）'!HD48","v":"別添4_53_8_HD17"},{"$f":"'（別添４）エネルギー消費効率の根拠（要件ア）'!HE48","v":"導入設備_製造メーカー"},{"$f":"'（別添４）エネルギー消費効率の根拠（要件ア）'!HF48","v":0}]
[1467,{"$f":"'（別添４）エネルギー消費効率の根拠（要件ア）'!HD49","v":"別添4_53_9_HD18"},{"$f":"'（別添４）エネルギー消費効率の根拠（要件ア）'!HE49","v":"導入設備_型番"},{"$f":"'（別添４）エネルギー消費効率の根拠（要件ア）'!HF49","v":0}]
[1468,{"$f":"'（別添４）エネルギー消費効率の根拠（要件ア）'!HD50","v":"別添4_53_10_HD19&HE19"},{"$f":"'（別添４）エネルギー消費効率の根拠（要件ア）'!HE50","v":"導入設備_導入台数"},{"$f":"'（別添４）エネルギー消費効率の根拠（要件ア）'!HF50","v":"台"}]
[1469,{"$f":"'（別添４）エネルギー消費効率の根拠（要件ア）'!HD51","v":"別添4_53_11_HD20"},{"$f":"'（別添４）エネルギー消費効率の根拠（要件ア）'!HE51","v":"導入設備_1台あたりの使用エネルギー"},{"$f":"'（別添４）エネルギー消費効率の根拠（要件ア）'!HF51","v":0}]
[1470,{"$f":"'（別添４）エネルギー消費効率の根拠（要件ア）'!HD52","v":"別添4_53_12_HD21"},{"$f":"'（別添４）エネルギー消費効率の根拠（要件ア）'!HE52","v":"導入設備_年間エネルギー使用量計算式"},{"$f":"'（別添４）エネルギー消費効率の根拠（要件ア）'!HF52","v":0}]
[1471,{"$f":"'（別添４）エネルギー消費効率の根拠（要件ア）'!HD53","v":"別添4_53_13_HD22&HE22"},{"$f":"'（別添４）エネルギー消費効率の根拠（要件ア）'!HE53","v":"導入設備_計算結果"},{"$f":"'（別添４）エネルギー消費効率の根拠（要件ア）'!HF53","v":"単位を選択してください"}]
[1472,{"$f":"'（別添４）エネルギー消費効率の根拠（要件ア）'!HD54","v":"別添4_53_14_HF16"},{"$f":"'（別添４）エネルギー消費効率の根拠（要件ア）'!HE54","v":"一代前モデル_製品名"},{"$f":"'（別添４）エネルギー消費効率の根拠（要件ア）'!HF54","v":0}]
[1473,{"$f":"'（別添４）エネルギー消費効率の根拠（要件ア）'!HD55","v":"別添4_53_15_HF17"},{"$f":"'（別添４）エネルギー消費効率の根拠（要件ア）'!HE55","v":"一代前モデル_製造メーカー"},{"$f":"'（別添４）エネルギー消費効率の根拠（要件ア）'!HF55","v":0}]
[1474,{"$f":"'（別添４）エネルギー消費効率の根拠（要件ア）'!HD56","v":"別添4_53_16_HF18"},{"$f":"'（別添４）エネルギー消費効率の根拠（要件ア）'!HE56","v":"一代前モデル_型番"},{"$f":"'（別添４）エネルギー消費効率の根拠（要件ア）'!HF56","v":0}]
[1475,{"$f":"'（別添４）エネルギー消費効率の根拠（要件ア）'!HD57","v":"別添4_53_17_HF19&HG19"},{"$f":"'（別添４）エネルギー消費効率の根拠（要件ア）'!HE57","v":"一代前モデル_導入台数"},{"$f":"'（別添４）エネルギー消費効率の根拠（要件ア）'!HF57","v":"台"}]
[1476,{"$f":"'（別添４）エネルギー消費効率の根拠（要件ア）'!HD58","v":"別添4_53_18_HF20"},{"$f":"'（別添４）エネルギー消費効率の根拠（要件ア）'!HE58","v":"一代前モデル_1台あたりの使用エネルギー"},{"$f":"'（別添４）エネルギー消費効率の根拠（要件ア）'!HF58","v":0}]
[1477,{"$f":"'（別添４）エネルギー消費効率の根拠（要件ア）'!HD59","v":"別添4_53_19_HF21"},{"$f":"'（別添４）エネルギー消費効率の根拠（要件ア）'!HE59","v":"一代前モデル_年間エネルギー使用量計算式"},{"$f":"'（別添４）エネルギー消費効率の根拠（要件ア）'!HF59","v":0}]
[1478,{"$f":"'（別添４）エネルギー消費効率の根拠（要件ア）'!HD60","v":"別添4_53_20_HF22&HG22"},{"$f":"'（別添４）エネルギー消費効率の根拠（要件ア）'!HE60","v":"一代前モデル_計算結果"},{"$f":"'（別添４）エネルギー消費効率の根拠（要件ア）'!HF60","v":"単位を選択してください"}]
[1479,{"$f":"'（別添４）エネルギー消費効率の根拠（要件ア）'!HD61","v":"別添4_53_21_HD23&HE23"},{"$f":"'（別添４）エネルギー消費効率の根拠（要件ア）'!HE61","v":"年間見込み省エネルギー量__計算結果"},{"$f":"'（別添４）エネルギー消費効率の根拠（要件ア）'!HF61","v":"0単位を選択してください"}]
[1480,{"$f":"'（別添４）エネルギー消費効率の根拠（要件ア）'!HD62","v":"別添4_53_22_HD25"},{"$f":"'（別添４）エネルギー消費効率の根拠（要件ア）'!HE62","v":"年間見込み省エネルギー量_原油換算計算式"},{"$f":"'（別添４）エネルギー消費効率の根拠（要件ア）'!HF62","v":0}]
[1481,{"$f":"'（別添４）エネルギー消費効率の根拠（要件ア）'!HD63","v":"別添4_53_23_HD26"},{"$f":"'（別添４）エネルギー消費効率の根拠（要件ア）'!HE63","v":"年間見込み省エネルギー量原油換算計算結果"},{"$f":"'（別添４）エネルギー消費効率の根拠（要件ア）'!HF63","v":0}]
[1482,{"$f":"'（別添４）エネルギー消費効率の根拠（要件ア）'!HD64","v":"別添4_53_24_HD27"},{"$f":"'（別添４）エネルギー消費効率の根拠（要件ア）'!HE64","v":"年間見込み省エネルギー率_自動計算"},{"$f":"'（別添４）エネルギー消費効率の根拠（要件ア）'!HF64","v":""}]
[1483,{"$f":"'（別添４）エネルギー消費効率の根拠（要件ア）'!HH41","v":"別添4_54_1_HH9"},{"$f":"'（別添４）エネルギー消費効率の根拠（要件ア）'!HI41","v":"トップランナー基準"},{"$f":"'（別添４）エネルギー消費効率の根拠（要件ア）'!HJ41","v":0}]
[{"$f":"ROW()-1","v":1484},{"$f":"'（別添４）エネルギー消費効率の根拠（要件ア）'!HH42","v":"別添4_54_2_HH10"},{"$f":"'（別添４）エネルギー消費効率の根拠（要件ア）'!HI42","v":"トップランナー基準の区分名又は数値"},{"$f":"'（別添４）エネルギー消費効率の根拠（要件ア）'!HJ42","v":0}]
[1485,{"$f":"'（別添４）エネルギー消費効率の根拠（要件ア）'!HH43","v":"別添4_54_3_HH11"},{"$f":"'（別添４）エネルギー消費効率の根拠（要件ア）'!HI43","v":"トップランナー基準の数値（導入設備）"},{"$f":"'（別添４）エネルギー消費効率の根拠（要件ア）'!HJ43","v":0}]
[1486,{"$f":"'（別添４）エネルギー消費効率の根拠（要件ア）'!HH44","v":"別添4_54_4_HH12"},{"$f":"'（別添４）エネルギー消費効率の根拠（要件ア）'!HI44","v":"比較指標/トップランナー基準"},{"$f":"'（別添４）エネルギー消費効率の根拠（要件ア）'!HJ44","v":0}]
[1487,{"$f":"'（別添４）エネルギー消費効率の根拠（要件ア）'!HH45","v":"別添4_54_5_HH13"},{"$f":"'（別添４）エネルギー消費効率の根拠（要件ア）'!HI45","v":"添付資料の根拠記載箇所"},{"$f":"'（別添４）エネルギー消費効率の根拠（要件ア）'!HJ45","v":0}]
[1488,{"$f":"'（別添４）エネルギー消費効率の根拠（要件ア）'!HH46","v":"別添4_54_6_HH14"},{"$f":"'（別添４）エネルギー消費効率の根拠（要件ア）'!HI46","v":"省エネ要因"},{"$f":"'（別添４）エネルギー消費効率の根拠（要件ア）'!HJ46","v":0}]
[1489,{"$f":"'（別添４）エネルギー消費効率の根拠（要件ア）'!HH47","v":"別添4_54_7_HH16"},{"$f":"'（別添４）エネルギー消費効率の根拠（要件ア）'!HI47","v":"導入設備_製品名"},{"$f":"'（別添４）エネルギー消費効率の根拠（要件ア）'!HJ47","v":0}]
[1490,{"$f":"'（別添４）エネルギー消費効率の根拠（要件ア）'!HH48","v":"別添4_54_8_HH17"},{"$f":"'（別添４）エネルギー消費効率の根拠（要件ア）'!HI48","v":"導入設備_製造メーカー"},{"$f":"'（別添４）エネルギー消費効率の根拠（要件ア）'!HJ48","v":0}]
[1491,{"$f":"'（別添４）エネルギー消費効率の根拠（要件ア）'!HH49","v":"別添4_54_9_HH18"},{"$f":"'（別添４）エネルギー消費効率の根拠（要件ア）'!HI49","v":"導入設備_型番"},{"$f":"'（別添４）エネルギー消費効率の根拠（要件ア）'!HJ49","v":0}]
[1492,{"$f":"'（別添４）エネルギー消費効率の根拠（要件ア）'!HH50","v":"別添4_54_10_HH19&HI19"},{"$f":"'（別添４）エネルギー消費効率の根拠（要件ア）'!HI50","v":"導入設備_導入台数"},{"$f":"'（別添４）エネルギー消費効率の根拠（要件ア）'!HJ50","v":"台"}]
[1493,{"$f":"'（別添４）エネルギー消費効率の根拠（要件ア）'!HH51","v":"別添4_54_11_HH20"},{"$f":"'（別添４）エネルギー消費効率の根拠（要件ア）'!HI51","v":"導入設備_1台あたりの使用エネルギー"},{"$f":"'（別添４）エネルギー消費効率の根拠（要件ア）'!HJ51","v":0}]
[1494,{"$f":"'（別添４）エネルギー消費効率の根拠（要件ア）'!HH52","v":"別添4_54_12_HH21"},{"$f":"'（別添４）エネルギー消費効率の根拠（要件ア）'!HI52","v":"導入設備_年間エネルギー使用量計算式"},{"$f":"'（別添４）エネルギー消費効率の根拠（要件ア）'!HJ52","v":0}]
[1495,{"$f":"'（別添４）エネルギー消費効率の根拠（要件ア）'!HH53","v":"別添4_54_13_HH22&HI22"},{"$f":"'（別添４）エネルギー消費効率の根拠（要件ア）'!HI53","v":"導入設備_計算結果"},{"$f":"'（別添４）エネルギー消費効率の根拠（要件ア）'!HJ53","v":"単位を選択してください"}]
[1496,{"$f":"'（別添４）エネルギー消費効率の根拠（要件ア）'!HH54","v":"別添4_54_14_HJ16"},{"$f":"'（別添４）エネルギー消費効率の根拠（要件ア）'!HI54","v":"一代前モデル_製品名"},{"$f":"'（別添４）エネルギー消費効率の根拠（要件ア）'!HJ54","v":0}]
[1497,{"$f":"'（別添４）エネルギー消費効率の根拠（要件ア）'!HH55","v":"別添4_54_15_HJ17"},{"$f":"'（別添４）エネルギー消費効率の根拠（要件ア）'!HI55","v":"一代前モデル_製造メーカー"},{"$f":"'（別添４）エネルギー消費効率の根拠（要件ア）'!HJ55","v":0}]
[1498,{"$f":"'（別添４）エネルギー消費効率の根拠（要件ア）'!HH56","v":"別添4_54_16_HJ18"},{"$f":"'（別添４）エネルギー消費効率の根拠（要件ア）'!HI56","v":"一代前モデル_型番"},{"$f":"'（別添４）エネルギー消費効率の根拠（要件ア）'!HJ56","v":0}]
[1499,{"$f":"'（別添４）エネルギー消費効率の根拠（要件ア）'!HH57","v":"別添4_54_17_HJ19&HK19"},{"$f":"'（別添４）エネルギー消費効率の根拠（要件ア）'!HI57","v":"一代前モデル_導入台数"},{"$f":"'（別添４）エネルギー消費効率の根拠（要件ア）'!HJ57","v":"台"}]
[1500,{"$f":"'（別添４）エネルギー消費効率の根拠（要件ア）'!HH58","v":"別添4_54_18_HJ20"},{"$f":"'（別添４）エネルギー消費効率の根拠（要件ア）'!HI58","v":"一代前モデル_1台あたりの使用エネルギー"},{"$f":"'（別添４）エネルギー消費効率の根拠（要件ア）'!HJ58","v":0}]
[1501,{"$f":"'（別添４）エネルギー消費効率の根拠（要件ア）'!HH59","v":"別添4_54_19_HJ21"},{"$f":"'（別添４）エネルギー消費効率の根拠（要件ア）'!HI59","v":"一代前モデル_年間エネルギー使用量計算式"},{"$f":"'（別添４）エネルギー消費効率の根拠（要件ア）'!HJ59","v":0}]
[1502,{"$f":"'（別添４）エネルギー消費効率の根拠（要件ア）'!HH60","v":"別添4_54_20_HJ22&HK22"},{"$f":"'（別添４）エネルギー消費効率の根拠（要件ア）'!HI60","v":"一代前モデル_計算結果"},{"$f":"'（別添４）エネルギー消費効率の根拠（要件ア）'!HJ60","v":"単位を選択してください"}]
[1503,{"$f":"'（別添４）エネルギー消費効率の根拠（要件ア）'!HH61","v":"別添4_54_21_HH23&HI23"},{"$f":"'（別添４）エネルギー消費効率の根拠（要件ア）'!HI61","v":"年間見込み省エネルギー量__計算結果"},{"$f":"'（別添４）エネルギー消費効率の根拠（要件ア）'!HJ61","v":"0単位を選択してください"}]
[1504,{"$f":"'（別添４）エネルギー消費効率の根拠（要件ア）'!HH62","v":"別添4_54_22_HH25"},{"$f":"'（別添４）エネルギー消費効率の根拠（要件ア）'!HI62","v":"年間見込み省エネルギー量_原油換算計算式"},{"$f":"'（別添４）エネルギー消費効率の根拠（要件ア）'!HJ62","v":0}]
[1505,{"$f":"'（別添４）エネルギー消費効率の根拠（要件ア）'!HH63","v":"別添4_54_23_HH26"},{"$f":"'（別添４）エネルギー消費効率の根拠（要件ア）'!HI63","v":"年間見込み省エネルギー量原油換算計算結果"},{"$f":"'（別添４）エネルギー消費効率の根拠（要件ア）'!HJ63","v":0}]
[1506,{"$f":"'（別添４）エネルギー消費効率の根拠（要件ア）'!HH64","v":"別添4_54_24_HH27"},{"$f":"'（別添４）エネルギー消費効率の根拠（要件ア）'!HI64","v":"年間見込み省エネルギー率_自動計算"},{"$f":"'（別添４）エネルギー消費効率の根拠（要件ア）'!HJ64","v":""}]
[1507,{"$f":"'（別添４）エネルギー消費効率の根拠（要件ア）'!HL41","v":"別添4_54_1_HH9"},{"$f":"'（別添４）エネルギー消費効率の根拠（要件ア）'!HM41","v":"トップランナー基準"},{"$f":"'（別添４）エネルギー消費効率の根拠（要件ア）'!HN41","v":0}]
[1508,{"$f":"'（別添４）エネルギー消費効率の根拠（要件ア）'!HL42","v":"別添4_54_2_HH10"},{"$f":"'（別添４）エネルギー消費効率の根拠（要件ア）'!HM42","v":"トップランナー基準の区分名又は数値"},{"$f":"'（別添４）エネルギー消費効率の根拠（要件ア）'!HN42","v":0}]
[1509,{"$f":"'（別添４）エネルギー消費効率の根拠（要件ア）'!HL43","v":"別添4_54_3_HH11"},{"$f":"'（別添４）エネルギー消費効率の根拠（要件ア）'!HM43","v":"トップランナー基準の数値（導入設備）"},{"$f":"'（別添４）エネルギー消費効率の根拠（要件ア）'!HN43","v":0}]
[1510,{"$f":"'（別添４）エネルギー消費効率の根拠（要件ア）'!HL44","v":"別添4_54_4_HH12"},{"$f":"'（別添４）エネルギー消費効率の根拠（要件ア）'!HM44","v":"比較指標/トップランナー基準"},{"$f":"'（別添４）エネルギー消費効率の根拠（要件ア）'!HN44","v":0}]
[1511,{"$f":"'（別添４）エネルギー消費効率の根拠（要件ア）'!HL45","v":"別添4_54_5_HH13"},{"$f":"'（別添４）エネルギー消費効率の根拠（要件ア）'!HM45","v":"添付資料の根拠記載箇所"},{"$f":"'（別添４）エネルギー消費効率の根拠（要件ア）'!HN45","v":0}]
[1512,{"$f":"'（別添４）エネルギー消費効率の根拠（要件ア）'!HL46","v":"別添4_54_6_HH14"},{"$f":"'（別添４）エネルギー消費効率の根拠（要件ア）'!HM46","v":"省エネ要因"},{"$f":"'（別添４）エネルギー消費効率の根拠（要件ア）'!HN46","v":0}]
[1513,{"$f":"'（別添４）エネルギー消費効率の根拠（要件ア）'!HL47","v":"別添4_54_7_HH16"},{"$f":"'（別添４）エネルギー消費効率の根拠（要件ア）'!HM47","v":"導入設備_製品名"},{"$f":"'（別添４）エネルギー消費効率の根拠（要件ア）'!HN47","v":0}]
[1514,{"$f":"'（別添４）エネルギー消費効率の根拠（要件ア）'!HL48","v":"別添4_54_8_HH17"},{"$f":"'（別添４）エネルギー消費効率の根拠（要件ア）'!HM48","v":"導入設備_製造メーカー"},{"$f":"'（別添４）エネルギー消費効率の根拠（要件ア）'!HN48","v":0}]
[1515,{"$f":"'（別添４）エネルギー消費効率の根拠（要件ア）'!HL49","v":"別添4_54_9_HH18"},{"$f":"'（別添４）エネルギー消費効率の根拠（要件ア）'!HM49","v":"導入設備_型番"},{"$f":"'（別添４）エネルギー消費効率の根拠（要件ア）'!HN49","v":0}]
[1516,{"$f":"'（別添４）エネルギー消費効率の根拠（要件ア）'!HL50","v":"別添4_54_10_HH19&HI19"},{"$f":"'（別添４）エネルギー消費効率の根拠（要件ア）'!HM50","v":"導入設備_導入台数"},{"$f":"'（別添４）エネルギー消費効率の根拠（要件ア）'!HN50","v":"台"}]
[1517,{"$f":"'（別添４）エネルギー消費効率の根拠（要件ア）'!HL51","v":"別添4_54_11_HH20"},{"$f":"'（別添４）エネルギー消費効率の根拠（要件ア）'!HM51","v":"導入設備_1台あたりの使用エネルギー"},{"$f":"'（別添４）エネルギー消費効率の根拠（要件ア）'!HN51","v":0}]
[1518,{"$f":"'（別添４）エネルギー消費効率の根拠（要件ア）'!HL52","v":"別添4_54_12_HH21"},{"$f":"'（別添４）エネルギー消費効率の根拠（要件ア）'!HM52","v":"導入設備_年間エネルギー使用量計算式"},{"$f":"'（別添４）エネルギー消費効率の根拠（要件ア）'!HN52","v":0}]
[1519,{"$f":"'（別添４）エネルギー消費効率の根拠（要件ア）'!HL53","v":"別添4_54_13_HH22&HI22"},{"$f":"'（別添４）エネルギー消費効率の根拠（要件ア）'!HM53","v":"導入設備_計算結果"},{"$f":"'（別添４）エネルギー消費効率の根拠（要件ア）'!HN53","v":"単位を選択してください"}]
[1520,{"$f":"'（別添４）エネルギー消費効率の根拠（要件ア）'!HL54","v":"別添4_54_14_HJ16"},{"$f":"'（別添４）エネルギー消費効率の根拠（要件ア）'!HM54","v":"一代前モデル_製品名"},{"$f":"'（別添４）エネルギー消費効率の根拠（要件ア）'!HN54","v":0}]
[1521,{"$f":"'（別添４）エネルギー消費効率の根拠（要件ア）'!HL55","v":"別添4_54_15_HJ17"},{"$f":"'（別添４）エネルギー消費効率の根拠（要件ア）'!HM55","v":"一代前モデル_製造メーカー"},{"$f":"'（別添４）エネルギー消費効率の根拠（要件ア）'!HN55","v":0}]
[1522,{"$f":"'（別添４）エネルギー消費効率の根拠（要件ア）'!HL56","v":"別添4_54_16_HJ18"},{"$f":"'（別添４）エネルギー消費効率の根拠（要件ア）'!HM56","v":"一代前モデル_型番"},{"$f":"'（別添４）エネルギー消費効率の根拠（要件ア）'!HN56","v":0}]
[1523,{"$f":"'（別添４）エネルギー消費効率の根拠（要件ア）'!HL57","v":"別添4_54_17_HJ19&HK19"},{"$f":"'（別添４）エネルギー消費効率の根拠（要件ア）'!HM57","v":"一代前モデル_導入台数"},{"$f":"'（別添４）エネルギー消費効率の根拠（要件ア）'!HN57","v":"台"}]
[1524,{"$f":"'（別添４）エネルギー消費効率の根拠（要件ア）'!HL58","v":"別添4_54_18_HJ20"},{"$f":"'（別添４）エネルギー消費効率の根拠（要件ア）'!HM58","v":"一代前モデル_1台あたりの使用エネルギー"},{"$f":"'（別添４）エネルギー消費効率の根拠（要件ア）'!HN58","v":0}]
[1525,{"$f":"'（別添４）エネルギー消費効率の根拠（要件ア）'!HL59","v":"別添4_54_19_HJ21"},{"$f":"'（別添４）エネルギー消費効率の根拠（要件ア）'!HM59","v":"一代前モデル_年間エネルギー使用量計算式"},{"$f":"'（別添４）エネルギー消費効率の根拠（要件ア）'!HN59","v":0}]
[1526,{"$f":"'（別添４）エネルギー消費効率の根拠（要件ア）'!HL60","v":"別添4_54_20_HJ22&HK22"},{"$f":"'（別添４）エネルギー消費効率の根拠（要件ア）'!HM60","v":"一代前モデル_計算結果"},{"$f":"'（別添４）エネルギー消費効率の根拠（要件ア）'!HN60","v":"単位を選択してください"}]
[1527,{"$f":"'（別添４）エネルギー消費効率の根拠（要件ア）'!HL61","v":"別添4_54_21_HH23&HI23"},{"$f":"'（別添４）エネルギー消費効率の根拠（要件ア）'!HM61","v":"年間見込み省エネルギー量__計算結果"},{"$f":"'（別添４）エネルギー消費効率の根拠（要件ア）'!HN61","v":"0単位を選択してください"}]
[1528,{"$f":"'（別添４）エネルギー消費効率の根拠（要件ア）'!HL62","v":"別添4_54_22_HH25"},{"$f":"'（別添４）エネルギー消費効率の根拠（要件ア）'!HM62","v":"年間見込み省エネルギー量_原油換算計算式"},{"$f":"'（別添４）エネルギー消費効率の根拠（要件ア）'!HN62","v":0}]
[1529,{"$f":"'（別添４）エネルギー消費効率の根拠（要件ア）'!HL63","v":"別添4_54_23_HH26"},{"$f":"'（別添４）エネルギー消費効率の根拠（要件ア）'!HM63","v":"年間見込み省エネルギー量原油換算計算結果"},{"$f":"'（別添４）エネルギー消費効率の根拠（要件ア）'!HN63","v":0}]
[1530,{"$f":"'（別添４）エネルギー消費効率の根拠（要件ア）'!HL64","v":"別添4_54_24_HH27"},{"$f":"'（別添４）エネルギー消費効率の根拠（要件ア）'!HM64","v":"年間見込み省エネルギー率_自動計算"},{"$f":"'（別添４）エネルギー消費効率の根拠（要件ア）'!HN64","v":""}]
[1531,{"$f":"'（別添４）エネルギー消費効率の根拠（要件ア）'!HP41","v":"別添4_56_1_HP9"},{"$f":"'（別添４）エネルギー消費効率の根拠（要件ア）'!HQ41","v":"トップランナー基準"},{"$f":"'（別添４）エネルギー消費効率の根拠（要件ア）'!HR41","v":0}]
[1532,{"$f":"'（別添４）エネルギー消費効率の根拠（要件ア）'!HP42","v":"別添4_56_2_HP10"},{"$f":"'（別添４）エネルギー消費効率の根拠（要件ア）'!HQ42","v":"トップランナー基準の区分名又は数値"},{"$f":"'（別添４）エネルギー消費効率の根拠（要件ア）'!HR42","v":0}]
[1533,{"$f":"'（別添４）エネルギー消費効率の根拠（要件ア）'!HP43","v":"別添4_56_3_HP11"},{"$f":"'（別添４）エネルギー消費効率の根拠（要件ア）'!HQ43","v":"トップランナー基準の数値（導入設備）"},{"$f":"'（別添４）エネルギー消費効率の根拠（要件ア）'!HR43","v":0}]
[1534,{"$f":"'（別添４）エネルギー消費効率の根拠（要件ア）'!HP44","v":"別添4_56_4_HP12"},{"$f":"'（別添４）エネルギー消費効率の根拠（要件ア）'!HQ44","v":"比較指標/トップランナー基準"},{"$f":"'（別添４）エネルギー消費効率の根拠（要件ア）'!HR44","v":0}]
[1535,{"$f":"'（別添４）エネルギー消費効率の根拠（要件ア）'!HP45","v":"別添4_56_5_HP13"},{"$f":"'（別添４）エネルギー消費効率の根拠（要件ア）'!HQ45","v":"添付資料の根拠記載箇所"},{"$f":"'（別添４）エネルギー消費効率の根拠（要件ア）'!HR45","v":0}]
[1536,{"$f":"'（別添４）エネルギー消費効率の根拠（要件ア）'!HP46","v":"別添4_56_6_HP14"},{"$f":"'（別添４）エネルギー消費効率の根拠（要件ア）'!HQ46","v":"省エネ要因"},{"$f":"'（別添４）エネルギー消費効率の根拠（要件ア）'!HR46","v":0}]
[1537,{"$f":"'（別添４）エネルギー消費効率の根拠（要件ア）'!HP47","v":"別添4_56_7_HP16"},{"$f":"'（別添４）エネルギー消費効率の根拠（要件ア）'!HQ47","v":"導入設備_製品名"},{"$f":"'（別添４）エネルギー消費効率の根拠（要件ア）'!HR47","v":0}]
[1538,{"$f":"'（別添４）エネルギー消費効率の根拠（要件ア）'!HP48","v":"別添4_56_8_HP17"},{"$f":"'（別添４）エネルギー消費効率の根拠（要件ア）'!HQ48","v":"導入設備_製造メーカー"},{"$f":"'（別添４）エネルギー消費効率の根拠（要件ア）'!HR48","v":0}]
[1539,{"$f":"'（別添４）エネルギー消費効率の根拠（要件ア）'!HP49","v":"別添4_56_9_HP18"},{"$f":"'（別添４）エネルギー消費効率の根拠（要件ア）'!HQ49","v":"導入設備_型番"},{"$f":"'（別添４）エネルギー消費効率の根拠（要件ア）'!HR49","v":0}]
[1540,{"$f":"'（別添４）エネルギー消費効率の根拠（要件ア）'!HP50","v":"別添4_56_10_HP19&HQ19"},{"$f":"'（別添４）エネルギー消費効率の根拠（要件ア）'!HQ50","v":"導入設備_導入台数"},{"$f":"'（別添４）エネルギー消費効率の根拠（要件ア）'!HR50","v":"台"}]
[1541,{"$f":"'（別添４）エネルギー消費効率の根拠（要件ア）'!HP51","v":"別添4_56_11_HP20"},{"$f":"'（別添４）エネルギー消費効率の根拠（要件ア）'!HQ51","v":"導入設備_1台あたりの使用エネルギー"},{"$f":"'（別添４）エネルギー消費効率の根拠（要件ア）'!HR51","v":0}]
[1542,{"$f":"'（別添４）エネルギー消費効率の根拠（要件ア）'!HP52","v":"別添4_56_12_HP21"},{"$f":"'（別添４）エネルギー消費効率の根拠（要件ア）'!HQ52","v":"導入設備_年間エネルギー使用量計算式"},{"$f":"'（別添４）エネルギー消費効率の根拠（要件ア）'!HR52","v":0}]
[1543,{"$f":"'（別添４）エネルギー消費効率の根拠（要件ア）'!HP53","v":"別添4_56_13_HP22&HQ22"},{"$f":"'（別添４）エネルギー消費効率の根拠（要件ア）'!HQ53","v":"導入設備_計算結果"},{"$f":"'（別添４）エネルギー消費効率の根拠（要件ア）'!HR53","v":"単位を選択してください"}]
[1544,{"$f":"'（別添４）エネルギー消費効率の根拠（要件ア）'!HP54","v":"別添4_56_14_HR16"},{"$f":"'（別添４）エネルギー消費効率の根拠（要件ア）'!HQ54","v":"一代前モデル_製品名"},{"$f":"'（別添４）エネルギー消費効率の根拠（要件ア）'!HR54","v":0}]
[1545,{"$f":"'（別添４）エネルギー消費効率の根拠（要件ア）'!HP55","v":"別添4_56_15_HR17"},{"$f":"'（別添４）エネルギー消費効率の根拠（要件ア）'!HQ55","v":"一代前モデル_製造メーカー"},{"$f":"'（別添４）エネルギー消費効率の根拠（要件ア）'!HR55","v":0}]
[1546,{"$f":"'（別添４）エネルギー消費効率の根拠（要件ア）'!HP56","v":"別添4_56_16_HR18"},{"$f":"'（別添４）エネルギー消費効率の根拠（要件ア）'!HQ56","v":"一代前モデル_型番"},{"$f":"'（別添４）エネルギー消費効率の根拠（要件ア）'!HR56","v":0}]
[1547,{"$f":"'（別添４）エネルギー消費効率の根拠（要件ア）'!HP57","v":"別添4_56_17_HR19&HS19"},{"$f":"'（別添４）エネルギー消費効率の根拠（要件ア）'!HQ57","v":"一代前モデル_導入台数"},{"$f":"'（別添４）エネルギー消費効率の根拠（要件ア）'!HR57","v":"台"}]
[{"$f":"ROW()-1","v":1548},{"$f":"'（別添４）エネルギー消費効率の根拠（要件ア）'!HP58","v":"別添4_56_18_HR20"},{"$f":"'（別添４）エネルギー消費効率の根拠（要件ア）'!HQ58","v":"一代前モデル_1台あたりの使用エネルギー"},{"$f":"'（別添４）エネルギー消費効率の根拠（要件ア）'!HR58","v":0}]
[1549,{"$f":"'（別添４）エネルギー消費効率の根拠（要件ア）'!HP59","v":"別添4_56_19_HR21"},{"$f":"'（別添４）エネルギー消費効率の根拠（要件ア）'!HQ59","v":"一代前モデル_年間エネルギー使用量計算式"},{"$f":"'（別添４）エネルギー消費効率の根拠（要件ア）'!HR59","v":0}]
[1550,{"$f":"'（別添４）エネルギー消費効率の根拠（要件ア）'!HP60","v":"別添4_56_20_HR22&HS22"},{"$f":"'（別添４）エネルギー消費効率の根拠（要件ア）'!HQ60","v":"一代前モデル_計算結果"},{"$f":"'（別添４）エネルギー消費効率の根拠（要件ア）'!HR60","v":"単位を選択してください"}]
[1551,{"$f":"'（別添４）エネルギー消費効率の根拠（要件ア）'!HP61","v":"別添4_56_21_HP23&HQ23"},{"$f":"'（別添４）エネルギー消費効率の根拠（要件ア）'!HQ61","v":"年間見込み省エネルギー量__計算結果"},{"$f":"'（別添４）エネルギー消費効率の根拠（要件ア）'!HR61","v":"0単位を選択してください"}]
[1552,{"$f":"'（別添４）エネルギー消費効率の根拠（要件ア）'!HP62","v":"別添4_56_22_HP25"},{"$f":"'（別添４）エネルギー消費効率の根拠（要件ア）'!HQ62","v":"年間見込み省エネルギー量_原油換算計算式"},{"$f":"'（別添４）エネルギー消費効率の根拠（要件ア）'!HR62","v":0}]
[1553,{"$f":"'（別添４）エネルギー消費効率の根拠（要件ア）'!HP63","v":"別添4_56_23_HP26"},{"$f":"'（別添４）エネルギー消費効率の根拠（要件ア）'!HQ63","v":"年間見込み省エネルギー量原油換算計算結果"},{"$f":"'（別添４）エネルギー消費効率の根拠（要件ア）'!HR63","v":0}]
[1554,{"$f":"'（別添４）エネルギー消費効率の根拠（要件ア）'!HP64","v":"別添4_56_24_HP27"},{"$f":"'（別添４）エネルギー消費効率の根拠（要件ア）'!HQ64","v":"年間見込み省エネルギー率_自動計算"},{"$f":"'（別添４）エネルギー消費効率の根拠（要件ア）'!HR64","v":""}]
[1555,{"$f":"'（別添４）エネルギー消費効率の根拠（要件ア）'!HT41","v":"別添4_57_1_HT9"},{"$f":"'（別添４）エネルギー消費効率の根拠（要件ア）'!HU41","v":"トップランナー基準"},{"$f":"'（別添４）エネルギー消費効率の根拠（要件ア）'!HV41","v":0}]
[1556,{"$f":"'（別添４）エネルギー消費効率の根拠（要件ア）'!HT42","v":"別添4_57_2_HT10"},{"$f":"'（別添４）エネルギー消費効率の根拠（要件ア）'!HU42","v":"トップランナー基準の区分名又は数値"},{"$f":"'（別添４）エネルギー消費効率の根拠（要件ア）'!HV42","v":0}]
[1557,{"$f":"'（別添４）エネルギー消費効率の根拠（要件ア）'!HT43","v":"別添4_57_3_HT11"},{"$f":"'（別添４）エネルギー消費効率の根拠（要件ア）'!HU43","v":"トップランナー基準の数値（導入設備）"},{"$f":"'（別添４）エネルギー消費効率の根拠（要件ア）'!HV43","v":0}]
[1558,{"$f":"'（別添４）エネルギー消費効率の根拠（要件ア）'!HT44","v":"別添4_57_4_HT12"},{"$f":"'（別添４）エネルギー消費効率の根拠（要件ア）'!HU44","v":"比較指標/トップランナー基準"},{"$f":"'（別添４）エネルギー消費効率の根拠（要件ア）'!HV44","v":0}]
[1559,{"$f":"'（別添４）エネルギー消費効率の根拠（要件ア）'!HT45","v":"別添4_57_5_HT13"},{"$f":"'（別添４）エネルギー消費効率の根拠（要件ア）'!HU45","v":"添付資料の根拠記載箇所"},{"$f":"'（別添４）エネルギー消費効率の根拠（要件ア）'!HV45","v":0}]
[1560,{"$f":"'（別添４）エネルギー消費効率の根拠（要件ア）'!HT46","v":"別添4_57_6_HT14"},{"$f":"'（別添４）エネルギー消費効率の根拠（要件ア）'!HU46","v":"省エネ要因"},{"$f":"'（別添４）エネルギー消費効率の根拠（要件ア）'!HV46","v":0}]
[1561,{"$f":"'（別添４）エネルギー消費効率の根拠（要件ア）'!HT47","v":"別添4_57_7_HT16"},{"$f":"'（別添４）エネルギー消費効率の根拠（要件ア）'!HU47","v":"導入設備_製品名"},{"$f":"'（別添４）エネルギー消費効率の根拠（要件ア）'!HV47","v":0}]
[1562,{"$f":"'（別添４）エネルギー消費効率の根拠（要件ア）'!HT48","v":"別添4_57_8_HT17"},{"$f":"'（別添４）エネルギー消費効率の根拠（要件ア）'!HU48","v":"導入設備_製造メーカー"},{"$f":"'（別添４）エネルギー消費効率の根拠（要件ア）'!HV48","v":0}]
[1563,{"$f":"'（別添４）エネルギー消費効率の根拠（要件ア）'!HT49","v":"別添4_57_9_HT18"},{"$f":"'（別添４）エネルギー消費効率の根拠（要件ア）'!HU49","v":"導入設備_型番"},{"$f":"'（別添４）エネルギー消費効率の根拠（要件ア）'!HV49","v":0}]
[1564,{"$f":"'（別添４）エネルギー消費効率の根拠（要件ア）'!HT50","v":"別添4_57_10_HT19&HU19"},{"$f":"'（別添４）エネルギー消費効率の根拠（要件ア）'!HU50","v":"導入設備_導入台数"},{"$f":"'（別添４）エネルギー消費効率の根拠（要件ア）'!HV50","v":"台"}]
[1565,{"$f":"'（別添４）エネルギー消費効率の根拠（要件ア）'!HT51","v":"別添4_57_11_HT20"},{"$f":"'（別添４）エネルギー消費効率の根拠（要件ア）'!HU51","v":"導入設備_1台あたりの使用エネルギー"},{"$f":"'（別添４）エネルギー消費効率の根拠（要件ア）'!HV51","v":0}]
[1566,{"$f":"'（別添４）エネルギー消費効率の根拠（要件ア）'!HT52","v":"別添4_57_12_HT21"},{"$f":"'（別添４）エネルギー消費効率の根拠（要件ア）'!HU52","v":"導入設備_年間エネルギー使用量計算式"},{"$f":"'（別添４）エネルギー消費効率の根拠（要件ア）'!HV52","v":0}]
[1567,{"$f":"'（別添４）エネルギー消費効率の根拠（要件ア）'!HT53","v":"別添4_57_13_HT22&HU22"},{"$f":"'（別添４）エネルギー消費効率の根拠（要件ア）'!HU53","v":"導入設備_計算結果"},{"$f":"'（別添４）エネルギー消費効率の根拠（要件ア）'!HV53","v":"単位を選択してください"}]
[1568,{"$f":"'（別添４）エネルギー消費効率の根拠（要件ア）'!HT54","v":"別添4_57_14_HV16"},{"$f":"'（別添４）エネルギー消費効率の根拠（要件ア）'!HU54","v":"一代前モデル_製品名"},{"$f":"'（別添４）エネルギー消費効率の根拠（要件ア）'!HV54","v":0}]
[1569,{"$f":"'（別添４）エネルギー消費効率の根拠（要件ア）'!HT55","v":"別添4_57_15_HV17"},{"$f":"'（別添４）エネルギー消費効率の根拠（要件ア）'!HU55","v":"一代前モデル_製造メーカー"},{"$f":"'（別添４）エネルギー消費効率の根拠（要件ア）'!HV55","v":0}]
[1570,{"$f":"'（別添４）エネルギー消費効率の根拠（要件ア）'!HT56","v":"別添4_57_16_HV18"},{"$f":"'（別添４）エネルギー消費効率の根拠（要件ア）'!HU56","v":"一代前モデル_型番"},{"$f":"'（別添４）エネルギー消費効率の根拠（要件ア）'!HV56","v":0}]
[1571,{"$f":"'（別添４）エネルギー消費効率の根拠（要件ア）'!HT57","v":"別添4_57_17_HV19&HW19"},{"$f":"'（別添４）エネルギー消費効率の根拠（要件ア）'!HU57","v":"一代前モデル_導入台数"},{"$f":"'（別添４）エネルギー消費効率の根拠（要件ア）'!HV57","v":"台"}]
[1572,{"$f":"'（別添４）エネルギー消費効率の根拠（要件ア）'!HT58","v":"別添4_57_18_HV20"},{"$f":"'（別添４）エネルギー消費効率の根拠（要件ア）'!HU58","v":"一代前モデル_1台あたりの使用エネルギー"},{"$f":"'（別添４）エネルギー消費効率の根拠（要件ア）'!HV58","v":0}]
[1573,{"$f":"'（別添４）エネルギー消費効率の根拠（要件ア）'!HT59","v":"別添4_57_19_HV21"},{"$f":"'（別添４）エネルギー消費効率の根拠（要件ア）'!HU59","v":"一代前モデル_年間エネルギー使用量計算式"},{"$f":"'（別添４）エネルギー消費効率の根拠（要件ア）'!HV59","v":0}]
[1574,{"$f":"'（別添４）エネルギー消費効率の根拠（要件ア）'!HT60","v":"別添4_57_20_HV22&HW22"},{"$f":"'（別添４）エネルギー消費効率の根拠（要件ア）'!HU60","v":"一代前モデル_計算結果"},{"$f":"'（別添４）エネルギー消費効率の根拠（要件ア）'!HV60","v":"単位を選択してください"}]
[1575,{"$f":"'（別添４）エネルギー消費効率の根拠（要件ア）'!HT61","v":"別添4_57_21_HT23&HU23"},{"$f":"'（別添４）エネルギー消費効率の根拠（要件ア）'!HU61","v":"年間見込み省エネルギー量__計算結果"},{"$f":"'（別添４）エネルギー消費効率の根拠（要件ア）'!HV61","v":"0単位を選択してください"}]
[1576,{"$f":"'（別添４）エネルギー消費効率の根拠（要件ア）'!HT62","v":"別添4_57_22_HT25"},{"$f":"'（別添４）エネルギー消費効率の根拠（要件ア）'!HU62","v":"年間見込み省エネルギー量_原油換算計算式"},{"$f":"'（別添４）エネルギー消費効率の根拠（要件ア）'!HV62","v":0}]
[1577,{"$f":"'（別添４）エネルギー消費効率の根拠（要件ア）'!HT63","v":"別添4_57_23_HT26"},{"$f":"'（別添４）エネルギー消費効率の根拠（要件ア）'!HU63","v":"年間見込み省エネルギー量原油換算計算結果"},{"$f":"'（別添４）エネルギー消費効率の根拠（要件ア）'!HV63","v":0}]
[1578,{"$f":"'（別添４）エネルギー消費効率の根拠（要件ア）'!HT64","v":"別添4_57_24_HT27"},{"$f":"'（別添４）エネルギー消費効率の根拠（要件ア）'!HU64","v":"年間見込み省エネルギー率_自動計算"},{"$f":"'（別添４）エネルギー消費効率の根拠（要件ア）'!HV64","v":""}]
[1579,{"$f":"'（別添４）エネルギー消費効率の根拠（要件ア）'!HX41","v":"別添4_58_1_HX9"},{"$f":"'（別添４）エネルギー消費効率の根拠（要件ア）'!HY41","v":"トップランナー基準"},{"$f":"'（別添４）エネルギー消費効率の根拠（要件ア）'!HZ41","v":0}]
[1580,{"$f":"'（別添４）エネルギー消費効率の根拠（要件ア）'!HX42","v":"別添4_58_2_HX10"},{"$f":"'（別添４）エネルギー消費効率の根拠（要件ア）'!HY42","v":"トップランナー基準の区分名又は数値"},{"$f":"'（別添４）エネルギー消費効率の根拠（要件ア）'!HZ42","v":0}]
[1581,{"$f":"'（別添４）エネルギー消費効率の根拠（要件ア）'!HX43","v":"別添4_58_3_HX11"},{"$f":"'（別添４）エネルギー消費効率の根拠（要件ア）'!HY43","v":"トップランナー基準の数値（導入設備）"},{"$f":"'（別添４）エネルギー消費効率の根拠（要件ア）'!HZ43","v":0}]
[1582,{"$f":"'（別添４）エネルギー消費効率の根拠（要件ア）'!HX44","v":"別添4_58_4_HX12"},{"$f":"'（別添４）エネルギー消費効率の根拠（要件ア）'!HY44","v":"比較指標/トップランナー基準"},{"$f":"'（別添４）エネルギー消費効率の根拠（要件ア）'!HZ44","v":0}]
[1583,{"$f":"'（別添４）エネルギー消費効率の根拠（要件ア）'!HX45","v":"別添4_58_5_HX13"},{"$f":"'（別添４）エネルギー消費効率の根拠（要件ア）'!HY45","v":"添付資料の根拠記載箇所"},{"$f":"'（別添４）エネルギー消費効率の根拠（要件ア）'!HZ45","v":0}]
[1584,{"$f":"'（別添４）エネルギー消費効率の根拠（要件ア）'!HX46","v":"別添4_58_6_HX14"},{"$f":"'（別添４）エネルギー消費効率の根拠（要件ア）'!HY46","v":"省エネ要因"},{"$f":"'（別添４）エネルギー消費効率の根拠（要件ア）'!HZ46","v":0}]
[1585,{"$f":"'（別添４）エネルギー消費効率の根拠（要件ア）'!HX47","v":"別添4_58_7_HX16"},{"$f":"'（別添４）エネルギー消費効率の根拠（要件ア）'!HY47","v":"導入設備_製品名"},{"$f":"'（別添４）エネルギー消費効率の根拠（要件ア）'!HZ47","v":0}]
[1586,{"$f":"'（別添４）エネルギー消費効率の根拠（要件ア）'!HX48","v":"別添4_58_8_HX17"},{"$f":"'（別添４）エネルギー消費効率の根拠（要件ア）'!HY48","v":"導入設備_製造メーカー"},{"$f":"'（別添４）エネルギー消費効率の根拠（要件ア）'!HZ48","v":0}]
[1587,{"$f":"'（別添４）エネルギー消費効率の根拠（要件ア）'!HX49","v":"別添4_58_9_HX18"},{"$f":"'（別添４）エネルギー消費効率の根拠（要件ア）'!HY49","v":"導入設備_型番"},{"$f":"'（別添４）エネルギー消費効率の根拠（要件ア）'!HZ49","v":0}]
[1588,{"$f":"'（別添４）エネルギー消費効率の根拠（要件ア）'!HX50","v":"別添4_58_10_HX19&HY19"},{"$f":"'（別添４）エネルギー消費効率の根拠（要件ア）'!HY50","v":"導入設備_導入台数"},{"$f":"'（別添４）エネルギー消費効率の根拠（要件ア）'!HZ50","v":"台"}]
[1589,{"$f":"'（別添４）エネルギー消費効率の根拠（要件ア）'!HX51","v":"別添4_58_11_HX20"},{"$f":"'（別添４）エネルギー消費効率の根拠（要件ア）'!HY51","v":"導入設備_1台あたりの使用エネルギー"},{"$f":"'（別添４）エネルギー消費効率の根拠（要件ア）'!HZ51","v":0}]
[1590,{"$f":"'（別添４）エネルギー消費効率の根拠（要件ア）'!HX52","v":"別添4_58_12_HX21"},{"$f":"'（別添４）エネルギー消費効率の根拠（要件ア）'!HY52","v":"導入設備_年間エネルギー使用量計算式"},{"$f":"'（別添４）エネルギー消費効率の根拠（要件ア）'!HZ52","v":0}]
[1591,{"$f":"'（別添４）エネルギー消費効率の根拠（要件ア）'!HX53","v":"別添4_58_13_HX22&HY22"},{"$f":"'（別添４）エネルギー消費効率の根拠（要件ア）'!HY53","v":"導入設備_計算結果"},{"$f":"'（別添４）エネルギー消費効率の根拠（要件ア）'!HZ53","v":"単位を選択してください"}]
[1592,{"$f":"'（別添４）エネルギー消費効率の根拠（要件ア）'!HX54","v":"別添4_58_14_HZ16"},{"$f":"'（別添４）エネルギー消費効率の根拠（要件ア）'!HY54","v":"一代前モデル_製品名"},{"$f":"'（別添４）エネルギー消費効率の根拠（要件ア）'!HZ54","v":0}]
[1593,{"$f":"'（別添４）エネルギー消費効率の根拠（要件ア）'!HX55","v":"別添4_58_15_HZ17"},{"$f":"'（別添４）エネルギー消費効率の根拠（要件ア）'!HY55","v":"一代前モデル_製造メーカー"},{"$f":"'（別添４）エネルギー消費効率の根拠（要件ア）'!HZ55","v":0}]
[1594,{"$f":"'（別添４）エネルギー消費効率の根拠（要件ア）'!HX56","v":"別添4_58_16_HZ18"},{"$f":"'（別添４）エネルギー消費効率の根拠（要件ア）'!HY56","v":"一代前モデル_型番"},{"$f":"'（別添４）エネルギー消費効率の根拠（要件ア）'!HZ56","v":0}]
[1595,{"$f":"'（別添４）エネルギー消費効率の根拠（要件ア）'!HX57","v":"別添4_58_17_HZ19&IA19"},{"$f":"'（別添４）エネルギー消費効率の根拠（要件ア）'!HY57","v":"一代前モデル_導入台数"},{"$f":"'（別添４）エネルギー消費効率の根拠（要件ア）'!HZ57","v":"台"}]
[1596,{"$f":"'（別添４）エネルギー消費効率の根拠（要件ア）'!HX58","v":"別添4_58_18_HZ20"},{"$f":"'（別添４）エネルギー消費効率の根拠（要件ア）'!HY58","v":"一代前モデル_1台あたりの使用エネルギー"},{"$f":"'（別添４）エネルギー消費効率の根拠（要件ア）'!HZ58","v":0}]
[1597,{"$f":"'（別添４）エネルギー消費効率の根拠（要件ア）'!HX59","v":"別添4_58_19_HZ21"},{"$f":"'（別添４）エネルギー消費効率の根拠（要件ア）'!HY59","v":"一代前モデル_年間エネルギー使用量計算式"},{"$f":"'（別添４）エネルギー消費効率の根拠（要件ア）'!HZ59","v":0}]
[1598,{"$f":"'（別添４）エネルギー消費効率の根拠（要件ア）'!HX60","v":"別添4_58_20_HZ22&IA22"},{"$f":"'（別添４）エネルギー消費効率の根拠（要件ア）'!HY60","v":"一代前モデル_計算結果"},{"$f":"'（別添４）エネルギー消費効率の根拠（要件ア）'!HZ60","v":"単位を選択してください"}]
[1599,{"$f":"'（別添４）エネルギー消費効率の根拠（要件ア）'!HX61","v":"別添4_58_21_HX23&HY23"},{"$f":"'（別添４）エネルギー消費効率の根拠（要件ア）'!HY61","v":"年間見込み省エネルギー量__計算結果"},{"$f":"'（別添４）エネルギー消費効率の根拠（要件ア）'!HZ61","v":"0単位を選択してください"}]
[1600,{"$f":"'（別添４）エネルギー消費効率の根拠（要件ア）'!HX62","v":"別添4_58_22_HX25"},{"$f":"'（別添４）エネルギー消費効率の根拠（要件ア）'!HY62","v":"年間見込み省エネルギー量_原油換算計算式"},{"$f":"'（別添４）エネルギー消費効率の根拠（要件ア）'!HZ62","v":0}]
[1601,{"$f":"'（別添４）エネルギー消費効率の根拠（要件ア）'!HX63","v":"別添4_58_23_HX26"},{"$f":"'（別添４）エネルギー消費効率の根拠（要件ア）'!HY63","v":"年間見込み省エネルギー量原油換算計算結果"},{"$f":"'（別添４）エネルギー消費効率の根拠（要件ア）'!HZ63","v":0}]
[1602,{"$f":"'（別添４）エネルギー消費効率の根拠（要件ア）'!HX64","v":"別添4_58_24_HX27"},{"$f":"'（別添４）エネルギー消費効率の根拠（要件ア）'!HY64","v":"年間見込み省エネルギー率_自動計算"},{"$f":"'（別添４）エネルギー消費効率の根拠（要件ア）'!HZ64","v":""}]
[1603,{"$f":"'（別添４）エネルギー消費効率の根拠（要件ア）'!IB41","v":"別添4_59_1_IB9"},{"$f":"'（別添４）エネルギー消費効率の根拠（要件ア）'!IC41","v":"トップランナー基準"},{"$f":"'（別添４）エネルギー消費効率の根拠（要件ア）'!ID41","v":0}]
[1604,{"$f":"'（別添４）エネルギー消費効率の根拠（要件ア）'!IB42","v":"別添4_59_2_IB10"},{"$f":"'（別添４）エネルギー消費効率の根拠（要件ア）'!IC42","v":"トップランナー基準の区分名又は数値"},{"$f":"'（別添４）エネルギー消費効率の根拠（要件ア）'!ID42","v":0}]
[1605,{"$f":"'（別添４）エネルギー消費効率の根拠（要件ア）'!IB43","v":"別添4_59_3_IB11"},{"$f":"'（別添４）エネルギー消費効率の根拠（要件ア）'!IC43","v":"トップランナー基準の数値（導入設備）"},{"$f":"'（別添４）エネルギー消費効率の根拠（要件ア）'!ID43","v":0}]
[1606,{"$f":"'（別添４）エネルギー消費効率の根拠（要件ア）'!IB44","v":"別添4_59_4_IB12"},{"$f":"'（別添４）エネルギー消費効率の根拠（要件ア）'!IC44","v":"比較指標/トップランナー基準"},{"$f":"'（別添４）エネルギー消費効率の根拠（要件ア）'!ID44","v":0}]
[1607,{"$f":"'（別添４）エネルギー消費効率の根拠（要件ア）'!IB45","v":"別添4_59_5_IB13"},{"$f":"'（別添４）エネルギー消費効率の根拠（要件ア）'!IC45","v":"添付資料の根拠記載箇所"},{"$f":"'（別添４）エネルギー消費効率の根拠（要件ア）'!ID45","v":0}]
[1608,{"$f":"'（別添４）エネルギー消費効率の根拠（要件ア）'!IB46","v":"別添4_59_6_IB14"},{"$f":"'（別添４）エネルギー消費効率の根拠（要件ア）'!IC46","v":"省エネ要因"},{"$f":"'（別添４）エネルギー消費効率の根拠（要件ア）'!ID46","v":0}]
[1609,{"$f":"'（別添４）エネルギー消費効率の根拠（要件ア）'!IB47","v":"別添4_59_7_IB16"},{"$f":"'（別添４）エネルギー消費効率の根拠（要件ア）'!IC47","v":"導入設備_製品名"},{"$f":"'（別添４）エネルギー消費効率の根拠（要件ア）'!ID47","v":0}]
[1610,{"$f":"'（別添４）エネルギー消費効率の根拠（要件ア）'!IB48","v":"別添4_59_8_IB17"},{"$f":"'（別添４）エネルギー消費効率の根拠（要件ア）'!IC48","v":"導入設備_製造メーカー"},{"$f":"'（別添４）エネルギー消費効率の根拠（要件ア）'!ID48","v":0}]
[1611,{"$f":"'（別添４）エネルギー消費効率の根拠（要件ア）'!IB49","v":"別添4_59_9_IB18"},{"$f":"'（別添４）エネルギー消費効率の根拠（要件ア）'!IC49","v":"導入設備_型番"},{"$f":"'（別添４）エネルギー消費効率の根拠（要件ア）'!ID49","v":0}]
[{"$f":"ROW()-1","v":1612},{"$f":"'（別添４）エネルギー消費効率の根拠（要件ア）'!IB50","v":"別添4_59_10_IB19&IC19"},{"$f":"'（別添４）エネルギー消費効率の根拠（要件ア）'!IC50","v":"導入設備_導入台数"},{"$f":"'（別添４）エネルギー消費効率の根拠（要件ア）'!ID50","v":"台"}]
[1613,{"$f":"'（別添４）エネルギー消費効率の根拠（要件ア）'!IB51","v":"別添4_59_11_IB20"},{"$f":"'（別添４）エネルギー消費効率の根拠（要件ア）'!IC51","v":"導入設備_1台あたりの使用エネルギー"},{"$f":"'（別添４）エネルギー消費効率の根拠（要件ア）'!ID51","v":0}]
[1614,{"$f":"'（別添４）エネルギー消費効率の根拠（要件ア）'!IB52","v":"別添4_59_12_IB21"},{"$f":"'（別添４）エネルギー消費効率の根拠（要件ア）'!IC52","v":"導入設備_年間エネルギー使用量計算式"},{"$f":"'（別添４）エネルギー消費効率の根拠（要件ア）'!ID52","v":0}]
[1615,{"$f":"'（別添４）エネルギー消費効率の根拠（要件ア）'!IB53","v":"別添4_59_13_IB22&IC22"},{"$f":"'（別添４）エネルギー消費効率の根拠（要件ア）'!IC53","v":"導入設備_計算結果"},{"$f":"'（別添４）エネルギー消費効率の根拠（要件ア）'!ID53","v":"単位を選択してください"}]
[1616,{"$f":"'（別添４）エネルギー消費効率の根拠（要件ア）'!IB54","v":"別添4_59_14_ID16"},{"$f":"'（別添４）エネルギー消費効率の根拠（要件ア）'!IC54","v":"一代前モデル_製品名"},{"$f":"'（別添４）エネルギー消費効率の根拠（要件ア）'!ID54","v":0}]
[1617,{"$f":"'（別添４）エネルギー消費効率の根拠（要件ア）'!IB55","v":"別添4_59_15_ID17"},{"$f":"'（別添４）エネルギー消費効率の根拠（要件ア）'!IC55","v":"一代前モデル_製造メーカー"},{"$f":"'（別添４）エネルギー消費効率の根拠（要件ア）'!ID55","v":0}]
[1618,{"$f":"'（別添４）エネルギー消費効率の根拠（要件ア）'!IB56","v":"別添4_59_16_ID18"},{"$f":"'（別添４）エネルギー消費効率の根拠（要件ア）'!IC56","v":"一代前モデル_型番"},{"$f":"'（別添４）エネルギー消費効率の根拠（要件ア）'!ID56","v":0}]
[1619,{"$f":"'（別添４）エネルギー消費効率の根拠（要件ア）'!IB57","v":"別添4_59_17_ID19&IE19"},{"$f":"'（別添４）エネルギー消費効率の根拠（要件ア）'!IC57","v":"一代前モデル_導入台数"},{"$f":"'（別添４）エネルギー消費効率の根拠（要件ア）'!ID57","v":"台"}]
[1620,{"$f":"'（別添４）エネルギー消費効率の根拠（要件ア）'!IB58","v":"別添4_59_18_ID20"},{"$f":"'（別添４）エネルギー消費効率の根拠（要件ア）'!IC58","v":"一代前モデル_1台あたりの使用エネルギー"},{"$f":"'（別添４）エネルギー消費効率の根拠（要件ア）'!ID58","v":0}]
[1621,{"$f":"'（別添４）エネルギー消費効率の根拠（要件ア）'!IB59","v":"別添4_59_19_ID21"},{"$f":"'（別添４）エネルギー消費効率の根拠（要件ア）'!IC59","v":"一代前モデル_年間エネルギー使用量計算式"},{"$f":"'（別添４）エネルギー消費効率の根拠（要件ア）'!ID59","v":0}]
[1622,{"$f":"'（別添４）エネルギー消費効率の根拠（要件ア）'!IB60","v":"別添4_59_20_ID22&IE22"},{"$f":"'（別添４）エネルギー消費効率の根拠（要件ア）'!IC60","v":"一代前モデル_計算結果"},{"$f":"'（別添４）エネルギー消費効率の根拠（要件ア）'!ID60","v":"単位を選択してください"}]
[1623,{"$f":"'（別添４）エネルギー消費効率の根拠（要件ア）'!IB61","v":"別添4_59_21_IB23&IC23"},{"$f":"'（別添４）エネルギー消費効率の根拠（要件ア）'!IC61","v":"年間見込み省エネルギー量__計算結果"},{"$f":"'（別添４）エネルギー消費効率の根拠（要件ア）'!ID61","v":"0単位を選択してください"}]
[1624,{"$f":"'（別添４）エネルギー消費効率の根拠（要件ア）'!IB62","v":"別添4_59_22_IB25"},{"$f":"'（別添４）エネルギー消費効率の根拠（要件ア）'!IC62","v":"年間見込み省エネルギー量_原油換算計算式"},{"$f":"'（別添４）エネルギー消費効率の根拠（要件ア）'!ID62","v":0}]
[1625,{"$f":"'（別添４）エネルギー消費効率の根拠（要件ア）'!IB63","v":"別添4_59_23_IB26"},{"$f":"'（別添４）エネルギー消費効率の根拠（要件ア）'!IC63","v":"年間見込み省エネルギー量原油換算計算結果"},{"$f":"'（別添４）エネルギー消費効率の根拠（要件ア）'!ID63","v":0}]
[1626,{"$f":"'（別添４）エネルギー消費効率の根拠（要件ア）'!IB64","v":"別添4_59_24_IB27"},{"$f":"'（別添４）エネルギー消費効率の根拠（要件ア）'!IC64","v":"年間見込み省エネルギー率_自動計算"},{"$f":"'（別添４）エネルギー消費効率の根拠（要件ア）'!ID64","v":""}]
[1627,{"$f":"'（別添４）エネルギー消費効率の根拠（要件ア）'!IF41","v":"別添4_60_1_IF9"},{"$f":"'（別添４）エネルギー消費効率の根拠（要件ア）'!IG41","v":"トップランナー基準"},{"$f":"'（別添４）エネルギー消費効率の根拠（要件ア）'!IH41","v":0}]
[1628,{"$f":"'（別添４）エネルギー消費効率の根拠（要件ア）'!IF42","v":"別添4_60_2_IF10"},{"$f":"'（別添４）エネルギー消費効率の根拠（要件ア）'!IG42","v":"トップランナー基準の区分名又は数値"},{"$f":"'（別添４）エネルギー消費効率の根拠（要件ア）'!IH42","v":0}]
[1629,{"$f":"'（別添４）エネルギー消費効率の根拠（要件ア）'!IF43","v":"別添4_60_3_IF11"},{"$f":"'（別添４）エネルギー消費効率の根拠（要件ア）'!IG43","v":"トップランナー基準の数値（導入設備）"},{"$f":"'（別添４）エネルギー消費効率の根拠（要件ア）'!IH43","v":0}]
[1630,{"$f":"'（別添４）エネルギー消費効率の根拠（要件ア）'!IF44","v":"別添4_60_4_IF12"},{"$f":"'（別添４）エネルギー消費効率の根拠（要件ア）'!IG44","v":"比較指標/トップランナー基準"},{"$f":"'（別添４）エネルギー消費効率の根拠（要件ア）'!IH44","v":0}]
[1631,{"$f":"'（別添４）エネルギー消費効率の根拠（要件ア）'!IF45","v":"別添4_60_5_IF13"},{"$f":"'（別添４）エネルギー消費効率の根拠（要件ア）'!IG45","v":"添付資料の根拠記載箇所"},{"$f":"'（別添４）エネルギー消費効率の根拠（要件ア）'!IH45","v":0}]
[1632,{"$f":"'（別添４）エネルギー消費効率の根拠（要件ア）'!IF46","v":"別添4_60_6_IF14"},{"$f":"'（別添４）エネルギー消費効率の根拠（要件ア）'!IG46","v":"省エネ要因"},{"$f":"'（別添４）エネルギー消費効率の根拠（要件ア）'!IH46","v":0}]
[1633,{"$f":"'（別添４）エネルギー消費効率の根拠（要件ア）'!IF47","v":"別添4_60_7_IF16"},{"$f":"'（別添４）エネルギー消費効率の根拠（要件ア）'!IG47","v":"導入設備_製品名"},{"$f":"'（別添４）エネルギー消費効率の根拠（要件ア）'!IH47","v":0}]
[1634,{"$f":"'（別添４）エネルギー消費効率の根拠（要件ア）'!IF48","v":"別添4_60_8_IF17"},{"$f":"'（別添４）エネルギー消費効率の根拠（要件ア）'!IG48","v":"導入設備_製造メーカー"},{"$f":"'（別添４）エネルギー消費効率の根拠（要件ア）'!IH48","v":0}]
[1635,{"$f":"'（別添４）エネルギー消費効率の根拠（要件ア）'!IF49","v":"別添4_60_9_IF18"},{"$f":"'（別添４）エネルギー消費効率の根拠（要件ア）'!IG49","v":"導入設備_型番"},{"$f":"'（別添４）エネルギー消費効率の根拠（要件ア）'!IH49","v":0}]
[1636,{"$f":"'（別添４）エネルギー消費効率の根拠（要件ア）'!IF50","v":"別添4_60_10_IF19&IG19"},{"$f":"'（別添４）エネルギー消費効率の根拠（要件ア）'!IG50","v":"導入設備_導入台数"},{"$f":"'（別添４）エネルギー消費効率の根拠（要件ア）'!IH50","v":"台"}]
[1637,{"$f":"'（別添４）エネルギー消費効率の根拠（要件ア）'!IF51","v":"別添4_60_11_IF20"},{"$f":"'（別添４）エネルギー消費効率の根拠（要件ア）'!IG51","v":"導入設備_1台あたりの使用エネルギー"},{"$f":"'（別添４）エネルギー消費効率の根拠（要件ア）'!IH51","v":0}]
[1638,{"$f":"'（別添４）エネルギー消費効率の根拠（要件ア）'!IF52","v":"別添4_60_12_IF21"},{"$f":"'（別添４）エネルギー消費効率の根拠（要件ア）'!IG52","v":"導入設備_年間エネルギー使用量計算式"},{"$f":"'（別添４）エネルギー消費効率の根拠（要件ア）'!IH52","v":0}]
[1639,{"$f":"'（別添４）エネルギー消費効率の根拠（要件ア）'!IF53","v":"別添4_60_13_IF22&IG22"},{"$f":"'（別添４）エネルギー消費効率の根拠（要件ア）'!IG53","v":"導入設備_計算結果"},{"$f":"'（別添４）エネルギー消費効率の根拠（要件ア）'!IH53","v":"単位を選択してください"}]
[1640,{"$f":"'（別添４）エネルギー消費効率の根拠（要件ア）'!IF54","v":"別添4_60_14_IH16"},{"$f":"'（別添４）エネルギー消費効率の根拠（要件ア）'!IG54","v":"一代前モデル_製品名"},{"$f":"'（別添４）エネルギー消費効率の根拠（要件ア）'!IH54","v":0}]
[1641,{"$f":"'（別添４）エネルギー消費効率の根拠（要件ア）'!IF55","v":"別添4_60_15_IH17"},{"$f":"'（別添４）エネルギー消費効率の根拠（要件ア）'!IG55","v":"一代前モデル_製造メーカー"},{"$f":"'（別添４）エネルギー消費効率の根拠（要件ア）'!IH55","v":0}]
[1642,{"$f":"'（別添４）エネルギー消費効率の根拠（要件ア）'!IF56","v":"別添4_60_16_IH18"},{"$f":"'（別添４）エネルギー消費効率の根拠（要件ア）'!IG56","v":"一代前モデル_型番"},{"$f":"'（別添４）エネルギー消費効率の根拠（要件ア）'!IH56","v":0}]
[1643,{"$f":"'（別添４）エネルギー消費効率の根拠（要件ア）'!IF57","v":"別添4_60_17_IH19&II19"},{"$f":"'（別添４）エネルギー消費効率の根拠（要件ア）'!IG57","v":"一代前モデル_導入台数"},{"$f":"'（別添４）エネルギー消費効率の根拠（要件ア）'!IH57","v":"台"}]
[1644,{"$f":"'（別添４）エネルギー消費効率の根拠（要件ア）'!IF58","v":"別添4_60_18_IH20"},{"$f":"'（別添４）エネルギー消費効率の根拠（要件ア）'!IG58","v":"一代前モデル_1台あたりの使用エネルギー"},{"$f":"'（別添４）エネルギー消費効率の根拠（要件ア）'!IH58","v":0}]
[1645,{"$f":"'（別添４）エネルギー消費効率の根拠（要件ア）'!IF59","v":"別添4_60_19_IH21"},{"$f":"'（別添４）エネルギー消費効率の根拠（要件ア）'!IG59","v":"一代前モデル_年間エネルギー使用量計算式"},{"$f":"'（別添４）エネルギー消費効率の根拠（要件ア）'!IH59","v":0}]
[1646,{"$f":"'（別添４）エネルギー消費効率の根拠（要件ア）'!IF60","v":"別添4_60_20_IH22&II22"},{"$f":"'（別添４）エネルギー消費効率の根拠（要件ア）'!IG60","v":"一代前モデル_計算結果"},{"$f":"'（別添４）エネルギー消費効率の根拠（要件ア）'!IH60","v":"単位を選択してください"}]
[1647,{"$f":"'（別添４）エネルギー消費効率の根拠（要件ア）'!IF61","v":"別添4_60_21_IF23&IG23"},{"$f":"'（別添４）エネルギー消費効率の根拠（要件ア）'!IG61","v":"年間見込み省エネルギー量__計算結果"},{"$f":"'（別添４）エネルギー消費効率の根拠（要件ア）'!IH61","v":"0単位を選択してください"}]
[1648,{"$f":"'（別添４）エネルギー消費効率の根拠（要件ア）'!IF62","v":"別添4_60_22_IF25"},{"$f":"'（別添４）エネルギー消費効率の根拠（要件ア）'!IG62","v":"年間見込み省エネルギー量_原油換算計算式"},{"$f":"'（別添４）エネルギー消費効率の根拠（要件ア）'!IH62","v":0}]
[1649,{"$f":"'（別添４）エネルギー消費効率の根拠（要件ア）'!IF63","v":"別添4_60_23_IF26"},{"$f":"'（別添４）エネルギー消費効率の根拠（要件ア）'!IG63","v":"年間見込み省エネルギー量原油換算計算結果"},{"$f":"'（別添４）エネルギー消費効率の根拠（要件ア）'!IH63","v":0}]
[1650,{"$f":"'（別添４）エネルギー消費効率の根拠（要件ア）'!IF64","v":"別添4_60_24_IF27"},{"$f":"'（別添４）エネルギー消費効率の根拠（要件ア）'!IG64","v":"年間見込み省エネルギー率_自動計算"},{"$f":"'（別添４）エネルギー消費効率の根拠（要件ア）'!IH64","v":""}]
[1651,{"$f":"'（別添５）エネルギー消費原単位の改善根拠（要件イ）'!CA4","v":"別添5_G8"},{"$f":"'（別添５）エネルギー消費原単位の改善根拠（要件イ）'!CB4","v":"【A】 事業実施前の生産量_式"},{"$f":"'（別添５）エネルギー消費原単位の改善根拠（要件イ）'!CC4","v":""}]
[1652,{"$f":"'（別添５）エネルギー消費原単位の改善根拠（要件イ）'!CA5","v":"別添5_G19"},{"$f":"'（別添５）エネルギー消費原単位の改善根拠（要件イ）'!CB5","v":"【Ｂ】事業実施前の年間エネルギー使用量[kl]_式"},{"$f":"'（別添５）エネルギー消費原単位の改善根拠（要件イ）'!CC5","v":""}]
[1653,{"$f":"'（別添５）エネルギー消費原単位の改善根拠（要件イ）'!CA6","v":"別添5_O35"},{"$f":"'（別添５）エネルギー消費原単位の改善根拠（要件イ）'!CB6","v":"【A】 事業実施前の生産量_解"},{"$f":"'（別添５）エネルギー消費原単位の改善根拠（要件イ）'!CC6","v":""}]
[1654,{"$f":"'（別添５）エネルギー消費原単位の改善根拠（要件イ）'!CA7","v":"別添5_O32"},{"$f":"'（別添５）エネルギー消費原単位の改善根拠（要件イ）'!CB7","v":"【Ｂ】事業実施前の年間エネルギー使用量[kl]_解"},{"$f":"'（別添５）エネルギー消費原単位の改善根拠（要件イ）'!CC7","v":""}]
[1655,{"$f":"'（別添５）エネルギー消費原単位の改善根拠（要件イ）'!CA8","v":"別添5_H31"},{"$f":"'（別添５）エネルギー消費原単位の改善根拠（要件イ）'!CB8","v":"【Ｃ】事業実施前のエネルギー消費原単位"},{"$f":"'（別添５）エネルギー消費原単位の改善根拠（要件イ）'!CC8","v":"【Ａ】と【Ｂ】に値を入力してくださいkl/"}]
[1656,{"$f":"'（別添５）エネルギー消費原単位の改善根拠（要件イ）'!CA9","v":"別添5_G40"},{"$f":"'（別添５）エネルギー消費原単位の改善根拠（要件イ）'!CB9","v":"【D】 事業実施後の生産量_式"},{"$f":"'（別添５）エネルギー消費原単位の改善根拠（要件イ）'!CC9","v":""}]
[1657,{"$f":"'（別添５）エネルギー消費原単位の改善根拠（要件イ）'!CA10","v":"別添5_G51"},{"$f":"'（別添５）エネルギー消費原単位の改善根拠（要件イ）'!CB10","v":"【E】事業実施後の年間エネルギー使用量[kl]_式"},{"$f":"'（別添５）エネルギー消費原単位の改善根拠（要件イ）'!CC10","v":""}]
[1658,{"$f":"'（別添５）エネルギー消費原単位の改善根拠（要件イ）'!CA11","v":"別添5_O67"},{"$f":"'（別添５）エネルギー消費原単位の改善根拠（要件イ）'!CB11","v":"【D】 事業実施後の生産量_解"},{"$f":"'（別添５）エネルギー消費原単位の改善根拠（要件イ）'!CC11","v":""}]
[1659,{"$f":"'（別添５）エネルギー消費原単位の改善根拠（要件イ）'!CA12","v":"別添5_O64"},{"$f":"'（別添５）エネルギー消費原単位の改善根拠（要件イ）'!CB12","v":"【E】事業実施後の年間エネルギー使用量[kl]_解"},{"$f":"'（別添５）エネルギー消費原単位の改善根拠（要件イ）'!CC12","v":""}]
[1660,{"$f":"'（別添５）エネルギー消費原単位の改善根拠（要件イ）'!CA13","v":"別添5_H63"},{"$f":"'（別添５）エネルギー消費原単位の改善根拠（要件イ）'!CB13","v":"【F】事業実施後のエネルギー消費原単位"},{"$f":"'（別添５）エネルギー消費原単位の改善根拠（要件イ）'!CC13","v":"【Ｄ】と【Ｅ】に値を入力してくださいkl/t"}]
[1661,{"$f":"'（別添５）エネルギー消費原単位の改善根拠（要件イ）'!CA14","v":"別添5_H71"},{"$f":"'（別添５）エネルギー消費原単位の改善根拠（要件イ）'!CB14","v":"【Ｇ】エネルギー消費原単位改善率"},{"$f":"'（別添５）エネルギー消費原単位の改善根拠（要件イ）'!CC14","v":"【Ｃ】と【Ｆ】に値を入力してください"}]
[1662,{"$f":"'（別添５）エネルギー消費原単位の改善根拠（要件イ）'!CA15","v":"別添5_H79"},{"$f":"'（別添５）エネルギー消費原単位の改善根拠（要件イ）'!CB15","v":"【H】年間見込み省エネルギー量[kl]"},{"$f":"'（別添５）エネルギー消費原単位の改善根拠（要件イ）'!CC15","v":"【B】と【I】が入力された状態にしてくださいkl"}]
[1663,{"$f":"'（別添６）省エネルギー取組の根拠（要件ウ）'!CS3","v":"別添6_G8"},{"$f":"'（別添６）省エネルギー取組の根拠（要件ウ）'!CT3","v":"対象要件内容"},{"$f":"'（別添６）省エネルギー取組の根拠（要件ウ）'!CU3","v":""}]
[1664,{"$f":"'（別添６）省エネルギー取組の根拠（要件ウ）'!CS4","v":"別添6_G14"},{"$f":"'（別添６）省エネルギー取組の根拠（要件ウ）'!CT4","v":"利用データセンター名称"},{"$f":"'（別添６）省エネルギー取組の根拠（要件ウ）'!CU4","v":""}]
[1665,{"$f":"'（別添６）省エネルギー取組の根拠（要件ウ）'!CS5","v":"別添6_G18"},{"$f":"'（別添６）省エネルギー取組の根拠（要件ウ）'!CT5","v":"データセンターのＰＵＥ値"},{"$f":"'（別添６）省エネルギー取組の根拠（要件ウ）'!CU5","v":""}]
[1666,{"$f":"'（別添６）省エネルギー取組の根拠（要件ウ）'!CS6","v":"別添6_G22"},{"$f":"'（別添６）省エネルギー取組の根拠（要件ウ）'!CT6","v":"省エネルギー取組概要"},{"$f":"'（別添６）省エネルギー取組の根拠（要件ウ）'!CU6","v":""}]
[1667,{"$f":"'（別添６）省エネルギー取組の根拠（要件ウ）'!CS7","v":"別添6_G28"},{"$f":"'（別添６）省エネルギー取組の根拠（要件ウ）'!CT7","v":"導入機器"},{"$f":"'（別添６）省エネルギー取組の根拠（要件ウ）'!CU7","v":""}]
[1668,{"$f":"'（別添６）省エネルギー取組の根拠（要件ウ）'!CS8","v":"別添6_G32"},{"$f":"'（別添６）省エネルギー取組の根拠（要件ウ）'!CT8","v":"削減効果（計画値）"},{"$f":"'（別添６）省エネルギー取組の根拠（要件ウ）'!CU8","v":""}]
[1669,{"$f":"'（別添６）省エネルギー取組の根拠（要件ウ）'!CS9","v":"別添6_G36"},{"$f":"'（別添６）省エネルギー取組の根拠（要件ウ）'!CT9","v":"省エネルギー取組概要"},{"$f":"'（別添６）省エネルギー取組の根拠（要件ウ）'!CU9","v":""}]
[1670,{"$f":"'（別添６）省エネルギー取組の根拠（要件ウ）'!CS10","v":"別添6_Y42"},{"$f":"'（別添６）省エネルギー取組の根拠（要件ウ）'!CT10","v":"年間見込み省エネルギー率[%]"},{"$f":"'（別添６）省エネルギー取組の根拠（要件ウ）'!CU10","v":""}]
[1671,{"$f":"'（別添６）省エネルギー取組の根拠（要件ウ）'!CS11","v":"別添6_Y43"},{"$f":"'（別添６）省エネルギー取組の根拠（要件ウ）'!CT11","v":"年間見込み省エネルギー量[kl]"},{"$f":"'（別添６）省エネルギー取組の根拠（要件ウ）'!CU11","v":""}]
[1672,"別添1_","交付申請_融資内容_変更なしフラグ",{"$f":"'（別添１）融資計画詳細１（交付申請）'!BC21","v":false}]
[1673,"別添1_","交付申請_事業者情報_変更なしフラグ",{"$f":"'（別添１）融資計画詳細２（交付申請）'!BI25","v":false}]
[1674,"別添1_","実績報告_融資内容_変更なしフラグ",{"$f":"'（別添1）融資計画詳細１（実績報告）'!BC23","v":false}]
[1675,"別添1_","実績報告_事業者情報_変更なしフラグ",{"$f":"'（別添１）融資計画詳細２（実績報告）'!BI28","v":false}]
[1676,"別添1_","本年度の利子補給金交付申請額合計（円）",{"$f":"'（別添１）融資計画詳細１'!BC21","v":0}]

{"sheet":"日本標準産業分類","index":1,"n_rows":103,"n_cols":27,"rows_kept":103,"cut":false,"hidden":true,"merged":[]}
["◇日本標準産業分類 ※申請様式の（別添１）融資計画詳細３を作成する際にご覧ください。"]
[]
[]
[null,"大分類",null,"中分類","分類項目名",null,"農業_林業","漁業","鉱業_採石業_砂利採取業","建設業","製造業","電気・ガス・熱供給・水道業","情報通信業","運輸業_郵便業","卸売業_小売業","金融業_保険業","不動産業_物品賃貸業","学術研究_専門・技術サービス業","宿泊業_飲食サービス業","生活関連サービス業_娯楽業","教育_学習支援業","医療_福祉","複合サービス事業","サービス業_他に分類されないもの","公務_他に分類されるものを除く","分類不能の産業","無"]
[null,"A","農業,林業","01","農業",null,"農業","漁業（水産養殖業を除く）","鉱業・採石業・砂利採取業","総合工事業","食料品製造業","電気業","通信業","鉄道業","各種商品卸売業","銀行業","不動産取引業","学術・開発研究機関","宿泊業","洗濯・理容・美容・浴場業","学校教育","医療業","郵便局","廃棄物処理業","国家公務","分類不能の産業","無"]
[null,"",null,"02","林業",null,"林業","水産養殖業",null,"職別工事業（設備工事業を除く）","飲料・たばこ・飼料製造業","ガス業","放送業","道路旅客運送業","繊維・衣服等卸売業","協同組織金融業","不動産賃貸業・管理業","専門サービス業（他に分類され\nないもの）","飲食店","その他の生活関連サービス業","その他の教育,学習支援業","保健衛生","協同組合（他に分類されないもの）","自動車整備業","地方公務"]
[null,"B","漁業","03","漁業（水産養殖業を除く）",null,null,null,null,"設備工事業","繊維工業","熱供給業","情報サービス業","道路貨物運送業","飲食料品卸売業","貸金業,クレジットカード業等\n非預金信用機関","物品賃貸業","広告業","持ち帰り・配達飲食サービス業","娯楽業",null,"社会保険・社会福祉・介護事業",null,"機械等修理業"]
[null,"",null,"04","水産養殖業",null,null,null,null,null,"木材・木製品製造業（家具を除く）","水道業","インターネット附随サービス業","水運業","建築材料,鉱物・金属材料等\n卸売業","金融商品取引業,商品先物取引業",null,"技術サービス業（他に分類され\nないもの）",null,null,null,null,null,"職業紹介・労働者派遣業"]
[null,"C","鉱業,採石業,砂利採取業","05","鉱業,採石業,砂利採取業",null,null,null,null,null,"家具・装備品製造業",null,"映像・音声・文字情報制作業","航空運輸業","機械器具卸売業","補助的金融業等",null,null,null,null,null,null,null,"その他の事業サービス業"]
[null,"D","建設業","06","総合工事業",null,null,null,null,null,"パルプ・紙・紙加工品製造業",null,null,"倉庫業","その他の卸売業","保険業（保険媒介代理業,\n保険サービス業を含む）",null,null,null,null,null,null,null,"政治・経済・文化団体"]
[null,"",null,"07","職別工事業（設備工事業を除く）",null,null,null,null,null,"印刷・同関連業",null,null,"運輸に附帯するサービス業","各種商品小売業",null,null,null,null,null,null,null,null,"宗教"]
[null,"",null,"08","設備工事業",null,null,null,null,null,"化学工業",null,null,"郵便業（信書便事業を含む）","織物・衣服・身の回り品小売業",null,null,null,null,null,null,null,null,"その他のサービス業"]
[null,"E","製造業","09","食料品製造業",null,null,null,null,null,"石油製品・石炭製品製造業",null,null,null,"飲食料品小売業",null,null,null,null,null,null,null,null,"外国公務"]
[null,"",null,"10","飲料・たばこ・飼料製造業",null,null,null,null,null,"ﾌﾟﾗｽﾁｯｸ製品製造業",null,null,null,"機械器具小売業"]
[null,"",null,"11","繊維工業",null,null,null,null,null,"ゴム製品製造業",null,null,null,"その他の小売業"]
[null,"",null,"12","木材・木製品製造業（家具を除く）",null,null,null,null,null,"なめし革・同製品・毛皮製造業",null,null,null,"無店舗小売業"]
[null,"",null,"13","家具・装備品製造業",null,null,null,null,null,"窯業・土石製品製造業"]
[null,"",null,"14","パルプ・紙・紙加工品製造業",null,null,null,null,null,"鉄鋼業"]
[null,"",null,"15","印刷・同関連業",null,null,null,null,null,"非鉄金属製造業"]
[null,"",null,"16","化学工業",null,null,null,null,null,"金属製品製造業"]
[null,"",null,"17","石油製品・石炭製品製造業",null,null,null,null,null,"はん用機械器具製造業"]
[null,"",null,"18","ﾌﾟﾗｽﾁｯｸ製品製造業",null,null,null,null,null,"生産用機械器具製造業"]
[null,"",null,"19","ゴム製品製造業",null,null,null,null,null,"業務用機械器具製造業"]
[null,"",null,"20","なめし革・同製品・毛皮製造業",null,null,null,null,null,"電子部品・デバイス・電子回路\n製造業"]
[null,"",null,"21","窯業・土石製品製造業",null,null,null,null,null,"電気機械器具製造業"]
[null,"",null,"22","鉄鋼業",null,null,null,null,null,"情報通信機械器具製造業"]
[null,"",null,"23","非鉄金属製造業",null,null,null,null,null,"輸送用機械器具製造業"]
[null,"",null,"24","金属製品製造業",null,null,null,null,null,"その他の製造業"]
[null,"",null,"25","はん用機械器具製造業"]
[null,"",null,"26","生産用機械器具製造業"]
[null,"",null,"27","業務用機械器具製造業"]
[null,"",null,"28","電子部品・デバイス・電子回路\n製造業"]
[null,"",null,"29","電気機械器具製造業"]
[null,"",null,"30","情報通信機械器具製造業"]
[null,"",null,"31","輸送用機械器具製造業"]
[null,"",null,"32","その他の製造業"]
[null,"F","電気・ガス・熱供\n給・水道業","33","電気業"]
[null,"",null,"34","ガス業"]
[null,"",null,"35","熱供給業"]
[null,"",null,"36","水道業"]
[null,"G","情報通信業","37","通信業"]
[null,"",null,"38","放送業"]
[null,"",null,"39","情報サービス業"]
[null,"",null,"40","インターネット附随サービス業"]
[null,"",null,"41","映像・音声・文字情報制作業"]
[null,"H","運輸業,郵便業","42","鉄道業"]
[null,"",null,"43","道路旅客運送業"]
[null,"",null,"44","道路貨物運送業"]
[null,"",null,"45","水運業"]
[null,"",null,"46","航空運輸業"]
[null,"",null,"47","倉庫業"]
[null,"",null,"48","運輸に附帯するサービス業"]
[null,"",null,"49","郵便業（信書便事業を含む）"]
[null,"I","卸売業,小売業","50","各種商品卸売業"]
[null,"",null,"51","繊維・衣服等卸売業"]
[null,"",null,"52","飲食料品卸売業"]
[null,"",null,"53","建築材料,鉱物・金属材料等\n卸売業"]
[null,"",null,"54","機械器具卸売業"]
[null,"",null,"55","その他の卸売業"]
[null,"",null,"56","各種商品小売業"]
[null,"",null,"57","織物・衣服・身の回り品小売業"]
[null,"",null,"58","飲食料品小売業"]
[null,"",null,"59","機械器具小売業"]
[null,"",null,"60","その他の小売業"]
[null,"",null,"61","無店舗小売業"]
[null,"J","金融業,保険業","62","銀行業"]
[null,"",null,"63","協同組織金融業"]
[null,"",null,"64","貸金業,クレジットカード業等\n非預金信用機関"]
[null,"",null,"65","金融商品取引業,商品先物取引業"]
[null,"",null,"66","補助的金融業等"]
[null,"",null,"67","保険業（保険媒介代理業,\n保険サービス業を含む）"]
[null,"K","不動産業,物品賃\n貸業","68","不動産取引業"]
[null,"",null,"69","不動産賃貸業・管理業"]
[null,"",null,"70","物品賃貸業"]
[null,"L","学術研究,専門・技\n術サービス業","71","学術・開発研究機関"]
[null,"",null,"72","専門サービス業（他に分類され\nないもの）"]
[null,"",null,"73","広告業"]
[null,"",null,"74","技術サービス業（他に分類され\nないもの）"]
[null,"M","宿泊業,飲食サー\nビス業","75","宿泊業"]
[null,"",null,"76","飲食店"]
[null,"",null,"77","持ち帰り・配達飲食サービス業"]
[null,"N","生活関連サービス\n業,娯楽業","78","洗濯・理容・美容・浴場業"]
[null,"",null,"79","その他の生活関連サービス業"]
[null,"",null,"80","娯楽業"]
[null,"O","教育,学習支援業","81","学校教育"]
[null,"",null,"82","その他の教育,学習支援業"]
[null,"P","医療,福祉","83","医療業"]
[null,"",null,"84","保健衛生"]
[null,"",null,"85","社会保険・社会福祉・介護事業"]
[null,"Q","複合サービス事業","86","郵便局"]
[null,"",null,"87","協同組合（他に分類されないもの）"]
[null,"R","サービス業（他に\n分類されないもの）","88","廃棄物処理業"]
[null,"",null,"89","自動車整備業"]
[null,"",null,"90","機械等修理業"]
[null,"",null,"91","職業紹介・労働者派遣業"]
[null,"",null,"92","その他の事業サービス業"]
[null,"",null,"93","政治・経済・文化団体"]
[null,"",null,"94","宗教"]
[null,"",null,"95","その他のサービス業"]
[null,"",null,"96","外国公務"]
[null,"S","公務（他に分類さ\nれるものを除く）","97","国家公務"]
[null,"",null,"98","地方公務"]
[null,"T","分類不能の産業","99","分類不能の産業"]

{"sheet":"見込み省エネルギー量","index":2,"n_rows":4,"n_cols":4,"rows_kept":4,"cut":false,"hidden":true,"merged":[]}
[null,"設備区分","設備種別","平均省エネ量（kl/台）"]
[null,"高効率空調","電気式パッケージエアコン\nガスヒートポンプエアコン\nチリングユニット",1.133]
[null,"産業用モータ","-",0.188]
[null,"調光制御設備","-",0.123780398312288]

{"sheet":"更新履歴","index":3,"n_rows":17,"n_cols":7,"rows_kept":17,"cut":false,"hidden":true,"merged":[]}
[]
[null,"No.","更新日","更新者","シート名","変更内容","備考"]
[null,{"$f":"ROW()-2","v":1},null,"山田","（別添１）融資計画詳細２","補助事業ポータル入力項目～の記載を削除","金融機関側のポータル提出の際のSFDCの項目を削除したため"]
[null,{"$f":"ROW()-2","v":2},null,"山田","（別添１）融資計画詳細３","補助事業ポータル入力項目～の記載を削除","金融機関側のポータル提出の際のSFDCの項目を削除したため"]
[null,{"$f":"ROW()-2","v":3},"2025-03-31","山田","（別添４）リスト","シート追加","別添４を縦軸で確認するリストを追加"]
[null,4,"2025-03-31","山田","（別添１）融資計画詳細３","電話番号、メールアドレスを半角英数字のみに入力制限"]
[null,5,"2025-03-31","山田","（別添２）役員名簿（利子補給対象事業者）","例に所属がない場合は、「なし」とご入力ください。を追加","追加に合わせてレイアウト調整"]
[null,6,"2025-04-14","山田","各申請書","代表理事の名前を削除","申請書は名前無し、通知書は代表理事の名前入り"]
[null,7,"2025-04-14","山田","交付申請以降の（別添１）融資計画詳細1,2","チェック項目に✓がある場合、入力欄の背景をグレーにする","入力不要と分かるようにする"]
[null,8,"2025-04-14","山田","（様式第１１）概算払請求書","※に記録の無い口座の場合証憑を求める可能性がある旨を記載"]
[null,9,"2025-04-14","山田","（別添４）エネルギー消費効率の根拠（要件ア）入力例","入力例の空調の記載を省エネ設備単位型と一致させる"]
[null,10,"2025-04-14","山田","（別添３）利子補給金の交付の対象となる経費リスト","例に予定日の記載方法を追加"]
[null,11,"2025-04-14","山田","（別添１）融資計画詳細１","融資の返済日は単位期間の最終日と原則一致させること。追加"]
[null,12,"2025-04-15","山田","（様式第９）実績報告書","5．省エネルギー設備又はサービス等の確認　の欄を追加"]
[null,13,"2025-04-21","山田","個人情報の取得及び利用に関する同意書","R7仕様に更新"]
[null,14]
[null,15]

{"sheet":"祝日","index":4,"n_rows":503,"n_cols":26,"rows_kept":503,"cut":false,"hidden":true,"merged":[]}
[null,null,null,null,null,"突合判定",null,null,null,"内閣府ホーム ＞ 内閣府の政策 ＞ 制度 ＞ 国民の祝日について",null,null,null,null,null,"内閣府ホーム ＞ 内閣府の政策 ＞ 制度 ＞ 国民の祝日について"]
[null,"日付","祝日名","曜日",null,"日付","祝日名","曜日",null,"祝日名","日付",null,null,"曜日",null,"https://www8.cao.go.jp/chosei/shukujitsu/gaiyou.html"]
[null,"2023-01-01","元日",{"$f":"B3","v":44927},null,{"$f":"B3:B271=J3:J271","v":true},{"$f":"C3:C271=K3:K271","v":true},{"$f":"EXACT(D3,N3)","v":true},null,"2023-01-01","元日",null,null,{"$f":"J3","v":44927}]
[null,"2023-01-02","振替休日",{"$f":"B4","v":44928},null,true,false,{"$f":"EXACT(D4,N4)","v":true},null,"2023-01-02","休日",null,null,{"$f":"J4","v":44928}]
[null,"2023-01-09","成人の日",44935,null,true,true,true,null,"2023-01-09","成人の日",null,null,44935]
[null,"2023-02-11","建国記念の日",44968,null,true,true,true,null,"2023-02-11","建国記念の日",null,null,44968]
[null,"2023-02-23","天皇誕生日",44980,null,true,true,true,null,"2023-02-23","天皇誕生日",null,null,44980]
[null,"2023-03-21","春分の日",45006,null,true,true,true,null,"2023-03-21","春分の日",null,null,45006]
[null,"2023-04-29","昭和の日",45045,null,true,true,true,null,"2023-04-29","昭和の日",null,null,45045]
[null,"2023-05-03","憲法記念日",45049,null,true,true,true,null,"2023-05-03","憲法記念日",null,null,45049]
[null,"2023-05-04","みどりの日",45050,null,true,true,true,null,"2023-05-04","みどりの日",null,null,45050]
[null,"2023-05-05","こどもの日",45051,null,true,true,true,null,"2023-05-05","こどもの日",null,null,45051]
[null,"2023-07-17","海の日",45124,null,true,true,true,null,"2023-07-17","海の日",null,null,45124]
[null,"2023-08-11","山の日",45149,null,true,true,true,null,"2023-08-11","山の日",null,null,45149]
[null,"2023-09-18","敬老の日",45187,null,true,true,true,null,"2023-09-18","敬老の日",null,null,45187]
[null,"2023-09-23","秋分の日",45192,null,true,true,true,null,"2023-09-23","秋分の日",null,null,45192]
[null,"2023-10-09","スポーツの日",45208,null,true,true,true,null,"2023-10-09","スポーツの日",null,null,45208]
[null,"2023-11-03","文化の日",45233,null,true,true,true,null,"2023-11-03","文化の日",null,null,45233]
[null,"2023-11-23","勤労感謝の日",45253,null,true,true,true,null,"2023-11-23","勤労感謝の日",null,null,45253]
[null,"2024-01-01","元日",45292,null,true,true,true,null,"2024-01-01","元日",null,null,45292]
[null,"2024-01-08","成人の日",45299,null,true,true,true,null,"2024-01-08","成人の日",null,null,45299]
[null,"2024-02-11","建国記念の日",45333,null,true,true,true,null,"2024-02-11","建国記念の日",null,null,45333]
[null,"2024-02-12","振替休日",45334,null,true,false,true,null,"2024-02-12","休日",null,null,45334]
[null,"2024-02-23","天皇誕生日",45345,null,true,true,true,null,"2024-02-23","天皇誕生日",null,null,45345]
[null,"2024-03-20","春分の日",45371,null,true,true,true,null,"2024-03-20","春分の日",null,null,45371]
[null,"2024-04-29","昭和の日",45411,null,true,true,true,null,"2024-04-29","昭和の日",null,null,45411]
[null,"2024-05-03","憲法記念日",45415,null,true,true,true,null,"2024-05-03","憲法記念日",null,null,45415]
[null,"2024-05-04","みどりの日",45416,null,true,true,true,null,"2024-05-04","みどりの日",null,null,45416]
[null,"2024-05-05","こどもの日",45417,null,true,true,true,null,"2024-05-05","こどもの日",null,null,45417]
[null,"2024-05-06","振替休日",45418,null,true,false,true,null,"2024-05-06","休日",null,null,45418]
[null,"2024-07-15","海の日",45488,null,true,true,true,null,"2024-07-15","海の日",null,null,45488]
[null,"2024-08-11","山の日",45515,null,true,true,true,null,"2024-08-11","山の日",null,null,45515]
[null,"2024-08-12","振替休日",45516,null,true,false,true,null,"2024-08-12","休日",null,null,45516]
[null,"2024-09-16","敬老の日",45551,null,true,true,true,null,"2024-09-16","敬老の日",null,null,45551]
[null,"2024-09-22","秋分の日",45557,null,true,true,true,null,"2024-09-22","秋分の日",null,null,45557]
[null,"2024-09-23","振替休日",45558,null,true,false,true,null,"2024-09-23","休日",null,null,45558]
[null,"2024-10-14","スポーツの日",45579,null,true,true,true,null,"2024-10-14","スポーツの日",null,null,45579]
[null,"2024-11-03","文化の日",45599,null,true,true,true,null,"2024-11-03","文化の日",null,null,45599]
[null,"2024-11-04","振替休日",45600,null,true,false,true,null,"2024-11-04","休日",null,null,45600]
[null,"2024-11-23","勤労感謝の日",45619,null,true,true,true,null,"2024-11-23","勤労感謝の日",null,null,45619]
[null,"2025-01-01","元日",45658,null,true,true,true,null,{"$f":"X41","v":"2025-01-01"},{"$f":"P41","v":"元日"},null,{"$f":"J41","v":45658},{"$f":"J41","v":45658},"2025/01/01 (水)","元日",{"$f":"LEFT(O41,10)","v":"2025/01/01"},{"$f":"MID(Q41,6,2)","v":"01"},{"$f":"VALUE(R41)","v":1},{"$f":"RIGHT(Q41,2)","v":"01"},{"$f":"VALUE(T41)","v":1},{"$f":"LEFT(Q41,4)","v":"2025"},{"$f":"VALUE(V41)","v":2025},{"$f":"DATE(W41,S41,U41)","v":"2025-01-01"},{"$f":"X41=B41","v":true},"祝日一覧表（1949年から2050年まで） | amacoda blog"]
[null,"2025-01-13","成人の日",45670,null,true,true,true,null,{"$f":"X42","v":"2025-01-13"},{"$f":"P42","v":"成人の日"},null,{"$f":"J42","v":45670},45670,"2025/01/13 (月)","成人の日",{"$f":"LEFT(O42,10)","v":"2025/01/13"},{"$f":"MID(Q42,6,2)","v":"01"},{"$f":"VALUE(R42)","v":1},{"$f":"RIGHT(Q42,2)","v":"13"},{"$f":"VALUE(T42)","v":13},{"$f":"LEFT(Q42,4)","v":"2025"},{"$f":"VALUE(V42)","v":2025},{"$f":"DATE(W42,S42,U42)","v":"2025-01-13"},true,"https://amacoda.net/blog/2018/09/public_holidays_in_japan_1949-2050/"]
[null,"2025-02-11","建国記念の日",45699,null,true,true,true,null,"2025-02-11","建国記念の日",null,45699,45699,"2025/02/11 (火)","建国記念の日","2025/02/11","02",2,"11",11,"2025",2025,"2025-02-11",true,"https://amacoda.net/blog/wp-content/uploads/2018/09/Holidays.xlsx"]
[null,"2025-02-23","天皇誕生日",45711,null,true,true,true,null,"2025-02-23","天皇誕生日",null,45711,45711,"2025/02/23 (日)","天皇誕生日","2025/02/23","02",2,"23",23,"2025",2025,"2025-02-23",true,"よりD/Lし、2024/11/23以降を抽出&追記した。"]
[null,"2025-02-24","振替休日",45712,null,true,true,true,null,"2025-02-24","振替休日",null,45712,45712,"2025/02/24 (月)","振替休日","2025/02/24","02",2,"24",24,"2025",2025,"2025-02-24",true]
[null,"2025-03-20","春分の日",45736,null,true,true,true,null,"2025-03-20","春分の日",null,45736,45736,"2025/03/20 (木)","春分の日","2025/03/20","03",3,"20",20,"2025",2025,"2025-03-20",true]
[null,"2025-04-29","昭和の日",45776,null,true,true,true,null,"2025-04-29","昭和の日",null,45776,45776,"2025/04/29 (火)","昭和の日","2025/04/29","04",4,"29",29,"2025",2025,"2025-04-29",true]
[null,"2025-05-03","憲法記念日",45780,null,true,true,true,null,"2025-05-03","憲法記念日",null,45780,45780,"2025/05/03 (土)","憲法記念日","2025/05/03","05",5,"03",3,"2025",2025,"2025-05-03",true]
[null,"2025-05-04","みどりの日",45781,null,true,true,true,null,"2025-05-04","みどりの日",null,45781,45781,"2025/05/04 (日)","みどりの日","2025/05/04","05",5,"04",4,"2025",2025,"2025-05-04",true]
[null,"2025-05-05","こどもの日",45782,null,true,true,true,null,"2025-05-05","こどもの日",null,45782,45782,"2025/05/05 (月)","こどもの日","2025/05/05","05",5,"05",5,"2025",2025,"2025-05-05",true]
[null,"2025-05-06","振替休日",45783,null,true,true,true,null,"2025-05-06","振替休日",null,45783,45783,"2025/05/06 (火)","振替休日","2025/05/06","05",5,"06",6,"2025",2025,"2025-05-06",true]
[null,"2025-07-21","海の日",45859,null,true,true,true,null,"2025-07-21","海の日",null,45859,45859,"2025/07/21 (月)","海の日","2025/07/21","07",7,"21",21,"2025",2025,"2025-07-21",true]
[null,"2025-08-11","山の日",45880,null,true,true,true,null,"2025-08-11","山の日",null,45880,45880,"2025/08/11 (月)","山の日","2025/08/11","08",8,"11",11,"2025",2025,"2025-08-11",true]
[null,"2025-09-15","敬老の日",45915,null,true,true,true,null,"2025-09-15","敬老の日",null,45915,45915,"2025/09/15 (月)","敬老の日","2025/09/15","09",9,"15",15,"2025",2025,"2025-09-15",true]
[null,"2025-09-23","秋分の日",45923,null,true,true,true,null,"2025-09-23","秋分の日",null,45923,45923,"2025/09/23 (火)","秋分の日","2025/09/23","09",9,"23",23,"2025",2025,"2025-09-23",true]
[null,"2025-10-13","スポーツの日",45943,null,true,true,true,null,"2025-10-13","スポーツの日",null,45943,45943,"2025/10/13 (月)","スポーツの日","2025/10/13","10",10,"13",13,"2025",2025,"2025-10-13",true]
[null,"2025-11-03","文化の日",45964,null,true,true,true,null,"2025-11-03","文化の日",null,45964,45964,"2025/11/03 (月)","文化の日","2025/11/03","11",11,"03",3,"2025",2025,"2025-11-03",true]
[null,"2025-11-23","勤労感謝の日",45984,null,true,true,true,null,"2025-11-23","勤労感謝の日",null,45984,45984,"2025/11/23 (日)","勤労感謝の日","2025/11/23","11",11,"23",23,"2025",2025,"2025-11-23",true]
[null,"2025-11-24","振替休日",45985,null,true,true,true,null,"2025-11-24","振替休日",null,45985,45985,"2025/11/24 (月)","振替休日","2025/11/24","11",11,"24",24,"2025",2025,"2025-11-24",true]
[null,"2026-01-01","元日",46023,null,true,true,true,null,"2026-01-01","元日",null,46023,46023,"2026/01/01 (木)","元日","2026/01/01","01",1,"01",1,"2026",2026,"2026-01-01",true]
[null,"2026-01-12","成人の日",46034,null,true,true,true,null,"2026-01-12","成人の日",null,46034,46034,"2026/01/12 (月)","成人の日","2026/01/12","01",1,"12",12,"2026",2026,"2026-01-12",true]
[null,"2026-02-11","建国記念の日",46064,null,true,true,true,null,"2026-02-11","建国記念の日",null,46064,46064,"2026/02/11 (水)","建国記念の日","2026/02/11","02",2,"11",11,"2026",2026,"2026-02-11",true]
[null,"2026-02-23","天皇誕生日",46076,null,true,true,true,null,"2026-02-23","天皇誕生日",null,46076,46076,"2026/02/23 (月)","天皇誕生日","2026/02/23","02",2,"23",23,"2026",2026,"2026-02-23",true]
[null,"2026-03-20","春分の日",46101,null,true,true,true,null,"2026-03-20","春分の日",null,46101,46101,"2026/03/20 (金)","春分の日","2026/03/20","03",3,"20",20,"2026",2026,"2026-03-20",true]
[null,"2026-04-29","昭和の日",46141,null,true,true,true,null,"2026-04-29","昭和の日",null,46141,46141,"2026/04/29 (水)","昭和の日","2026/04/29","04",4,"29",29,"2026",2026,"2026-04-29",true]
[null,"2026-05-03","憲法記念日",46145,null,true,true,true,null,"2026-05-03","憲法記念日",null,46145,46145,"2026/05/03 (日)","憲法記念日","2026/05/03","05",5,"03",3,"2026",2026,"2026-05-03",true]
[null,"2026-05-04","みどりの日",46146,null,true,true,true,null,"2026-05-04","みどりの日",null,46146,46146,"2026/05/04 (月)","みどりの日","2026/05/04","05",5,"04",4,"2026",2026,"2026-05-04",true]
[null,"2026-05-05","こどもの日",{"$f":"B68","v":46147},null,true,true,{"$f":"EXACT(D68,N68)","v":true},null,"2026-05-05","こどもの日",null,46147,46147,"2026/05/05 (火)","こどもの日","2026/05/05","05",5,"05",5,"2026",2026,"2026-05-05",true]
[null,"2026-05-06","振替休日",46148,null,true,true,true,null,"2026-05-06","振替休日",null,46148,46148,"2026/05/06 (水)","振替休日","2026/05/06","05",5,"06",6,"2026",2026,"2026-05-06",true]
[null,"2026-07-20","海の日",46223,null,true,true,true,null,"2026-07-20","海の日",null,46223,46223,"2026/07/20 (月)","海の日","2026/07/20","07",7,"20",20,"2026",2026,"2026-07-20",true]
[null,"2026-08-11","山の日",46245,null,true,true,true,null,"2026-08-11","山の日",null,46245,46245,"2026/08/11 (火)","山の日","2026/08/11","08",8,"11",11,"2026",2026,"2026-08-11",true]
[null,"2026-09-21","敬老の日",46286,null,true,true,true,null,"2026-09-21","敬老の日",null,46286,46286,"2026/09/21 (月)","敬老の日","2026/09/21","09",9,"21",21,"2026",2026,"2026-09-21",true]
[null,"2026-09-22","国民の休日",46287,null,true,true,true,null,"2026-09-22","国民の休日",null,46287,46287,"2026/09/22 (火)","国民の休日","2026/09/22","09",9,"22",22,"2026",2026,"2026-09-22",true]
[null,"2026-09-23","秋分の日",46288,null,true,true,true,null,"2026-09-23","秋分の日",null,46288,46288,"2026/09/23 (水)","秋分の日","2026/09/23","09",9,"23",23,"2026",2026,"2026-09-23",true]
[null,"2026-10-12","スポーツの日",46307,null,true,true,true,null,"2026-10-12","スポーツの日",null,46307,46307,"2026/10/12 (月)","スポーツの日","2026/10/12","10",10,"12",12,"2026",2026,"2026-10-12",true]
[null,"2026-11-03","文化の日",46329,null,true,true,true,null,"2026-11-03","文化の日",null,46329,46329,"2026/11/03 (火)","文化の日","2026/11/03","11",11,"03",3,"2026",2026,"2026-11-03",true]
[null,"2026-11-23","勤労感謝の日",46349,null,true,true,true,null,"2026-11-23","勤労感謝の日",null,46349,46349,"2026/11/23 (月)","勤労感謝の日","2026/11/23","11",11,"23",23,"2026",2026,"2026-11-23",true]
[null,"2027-01-01","元日",46388,null,true,true,true,null,"2027-01-01","元日",null,46388,46388,"2027/01/01 (金)","元日","2027/01/01","01",1,"01",1,"2027",2027,"2027-01-01",true]
[null,"2027-01-11","成人の日",46398,null,true,true,true,null,"2027-01-11","成人の日",null,46398,46398,"2027/01/11 (月)","成人の日","2027/01/11","01",1,"11",11,"2027",2027,"2027-01-11",true]
[null,"2027-02-11","建国記念の日",46429,null,true,true,true,null,"2027-02-11","建国記念の日",null,46429,46429,"2027/02/11 (木)","建国記念の日","2027/02/11","02",2,"11",11,"2027",2027,"2027-02-11",true]
[null,"2027-02-23","天皇誕生日",46441,null,true,true,true,null,"2027-02-23","天皇誕生日",null,46441,46441,"2027/02/23 (火)","天皇誕生日","2027/02/23","02",2,"23",23,"2027",2027,"2027-02-23",true]
[null,"2027-03-21","春分の日",46467,null,true,true,true,null,"2027-03-21","春分の日",null,46467,46467,"2027/03/21 (日)","春分の日","2027/03/21","03",3,"21",21,"2027",2027,"2027-03-21",true]
[null,"2027-03-22","振替休日",46468,null,true,true,true,null,"2027-03-22","振替休日",null,46468,46468,"2027/03/22 (月)","振替休日","2027/03/22","03",3,"22",22,"2027",2027,"2027-03-22",true]
[null,"2027-04-29","昭和の日",46506,null,true,true,true,null,"2027-04-29","昭和の日",null,46506,46506,"2027/04/29 (木)","昭和の日","2027/04/29","04",4,"29",29,"2027",2027,"2027-04-29",true]
[null,"2027-05-03","憲法記念日",46510,null,true,true,true,null,"2027-05-03","憲法記念日",null,46510,46510,"2027/05/03 (月)","憲法記念日","2027/05/03","05",5,"03",3,"2027",2027,"2027-05-03",true]
[null,"2027-05-04","みどりの日",46511,null,true,true,true,null,"2027-05-04","みどりの日",null,46511,46511,"2027/05/04 (火)","みどりの日","2027/05/04","05",5,"04",4,"2027",2027,"2027-05-04",true]
[null,"2027-05-05","こどもの日",46512,null,true,true,true,null,"2027-05-05","こどもの日",null,46512,46512,"2027/05/05 (水)","こどもの日","2027/05/05","05",5,"05",5,"2027",2027,"2027-05-05",true]
[null,"2027-07-19","海の日",46587,null,true,true,true,null,"2027-07-19","海の日",null,46587,46587,"2027/07/19 (月)","海の日","2027/07/19","07",7,"19",19,"2027",2027,"2027-07-19",true]
[null,"2027-08-11","山の日",46610,null,true,true,true,null,"2027-08-11","山の日",null,46610,46610,"2027/08/11 (水)","山の日","2027/08/11","08",8,"11",11,"2027",2027,"2027-08-11",true]
[null,"2027-09-20","敬老の日",46650,null,true,true,true,null,"2027-09-20","敬老の日",null,46650,46650,"2027/09/20 (月)","敬老の日","2027/09/20","09",9,"20",20,"2027",2027,"2027-09-20",true]
[null,"2027-09-23","秋分の日",46653,null,true,true,true,null,"2027-09-23","秋分の日",null,46653,46653,"2027/09/23 (木)","秋分の日","2027/09/23","09",9,"23",23,"2027",2027,"2027-09-23",true]
[null,"2027-10-11","スポーツの日",46671,null,true,true,true,null,"2027-10-11","スポーツの日",null,46671,46671,"2027/10/11 (月)","スポーツの日","2027/10/11","10",10,"11",11,"2027",2027,"2027-10-11",true]
[null,"2027-11-03","文化の日",46694,null,true,true,true,null,"2027-11-03","文化の日",null,46694,46694,"2027/11/03 (水)","文化の日","2027/11/03","11",11,"03",3,"2027",2027,"2027-11-03",true]
[null,"2027-11-23","勤労感謝の日",46714,null,true,true,true,null,"2027-11-23","勤労感謝の日",null,46714,46714,"2027/11/23 (火)","勤労感謝の日","2027/11/23","11",11,"23",23,"2027",2027,"2027-11-23",true]
[null,"2028-01-01","元日",46753,null,true,true,true,null,"2028-01-01","元日",null,46753,46753,"2028/01/01 (土)","元日","2028/01/01","01",1,"01",1,"2028",2028,"2028-01-01",true]
[null,"2028-01-10","成人の日",46762,null,true,true,true,null,"2028-01-10","成人の日",null,46762,46762,"2028/01/10 (月)","成人の日","2028/01/10","01",1,"10",10,"2028",2028,"2028-01-10",true]
[null,"2028-02-11","建国記念の日",46794,null,true,true,true,null,"2028-02-11","建国記念の日",null,46794,46794,"2028/02/11 (金)","建国記念の日","2028/02/11","02",2,"11",11,"2028",2028,"2028-02-11",true]
[null,"2028-02-23","天皇誕生日",46806,null,true,true,true,null,"2028-02-23","天皇誕生日",null,46806,46806,"2028/02/23 (水)","天皇誕生日","2028/02/23","02",2,"23",23,"2028",2028,"2028-02-23",true]
[null,"2028-03-20","春分の日",46832,null,true,true,true,null,"2028-03-20","春分の日",null,46832,46832,"2028/03/20 (月)","春分の日","2028/03/20","03",3,"20",20,"2028",2028,"2028-03-20",true]
[null,"2028-04-29","昭和の日",46872,null,true,true,true,null,"2028-04-29","昭和の日",null,46872,46872,"2028/04/29 (土)","昭和の日","2028/04/29","04",4,"29",29,"2028",2028,"2028-04-29",true]
[null,"2028-05-03","憲法記念日",46876,null,true,true,true,null,"2028-05-03","憲法記念日",null,46876,46876,"2028/05/03 (水)","憲法記念日","2028/05/03","05",5,"03",3,"2028",2028,"2028-05-03",true]
[null,"2028-05-04","みどりの日",46877,null,true,true,true,null,"2028-05-04","みどりの日",null,46877,46877,"2028/05/04 (木)","みどりの日","2028/05/04","05",5,"04",4,"2028",2028,"2028-05-04",true]
[null,"2028-05-05","こどもの日",46878,null,true,true,true,null,"2028-05-05","こどもの日",null,46878,46878,"2028/05/05 (金)","こどもの日","2028/05/05","05",5,"05",5,"2028",2028,"2028-05-05",true]
[null,"2028-07-17","海の日",46951,null,true,true,true,null,"2028-07-17","海の日",null,46951,46951,"2028/07/17 (月)","海の日","2028/07/17","07",7,"17",17,"2028",2028,"2028-07-17",true]
[null,"2028-08-11","山の日",46976,null,true,true,true,null,"2028-08-11","山の日",null,46976,46976,"2028/08/11 (金)","山の日","2028/08/11","08",8,"11",11,"2028",2028,"2028-08-11",{"$f":"X105=B105","v":true}]
[null,"2028-09-18","敬老の日",47014,null,true,true,true,null,{"$f":"X106","v":"2028-09-18"},{"$f":"P106","v":"敬老の日"},null,{"$f":"J106","v":47014},{"$f":"J106","v":47014},"2028/09/18 (月)","敬老の日",{"$f":"LEFT(O106,10)","v":"2028/09/18"},{"$f":"MID(Q106,6,2)","v":"09"},{"$f":"VALUE(R106)","v":9},{"$f":"RIGHT(Q106,2)","v":"18"},{"$f":"VALUE(T106)","v":18},{"$f":"LEFT(Q106,4)","v":"2028"},{"$f":"VALUE(V106)","v":2028},{"$f":"DATE(W106,S106,U106)","v":"2028-09-18"},true]
[null,"2028-09-22","秋分の日",47018,null,true,true,true,null,"2028-09-22","秋分の日",null,47018,47018,"2028/09/22 (金)","秋分の日","2028/09/22","09",9,"22",22,"2028",2028,"2028-09-22",true]
[null,"2028-10-09","スポーツの日",47035,null,true,true,true,null,"2028-10-09","スポーツの日",null,47035,47035,"2028/10/09 (月)","スポーツの日","2028/10/09","10",10,"09",9,"2028",2028,"2028-10-09",true]
[null,"2028-11-03","文化の日",47060,null,true,true,true,null,"2028-11-03","文化の日",null,47060,47060,"2028/11/03 (金)","文化の日","2028/11/03","11",11,"03",3,"2028",2028,"2028-11-03",true]
[null,"2028-11-23","勤労感謝の日",47080,null,true,true,true,null,"2028-11-23","勤労感謝の日",null,47080,47080,"2028/11/23 (木)","勤労感謝の日","2028/11/23","11",11,"23",23,"2028",2028,"2028-11-23",true]
[null,"2029-01-01","元日",47119,null,true,true,true,null,"2029-01-01","元日",null,47119,47119,"2029/01/01 (月)","元日","2029/01/01","01",1,"01",1,"2029",2029,"2029-01-01",true]
[null,"2029-01-08","成人の日",47126,null,true,true,true,null,"2029-01-08","成人の日",null,47126,47126,"2029/01/08 (月)","成人の日","2029/01/08","01",1,"08",8,"2029",2029,"2029-01-08",true]
[null,"2029-02-11","建国記念の日",47160,null,true,true,true,null,"2029-02-11","建国記念の日",null,47160,47160,"2029/02/11 (日)","建国記念の日","2029/02/11","02",2,"11",11,"2029",2029,"2029-02-11",true]
[null,"2029-02-12","振替休日",47161,null,true,true,true,null,"2029-02-12","振替休日",null,47161,47161,"2029/02/12 (月)","振替休日","2029/02/12","02",2,"12",12,"2029",2029,"2029-02-12",true]
[null,"2029-02-23","天皇誕生日",47172,null,true,true,true,null,"2029-02-23","天皇誕生日",null,47172,47172,"2029/02/23 (金)","天皇誕生日","2029/02/23","02",2,"23",23,"2029",2029,"2029-02-23",true]
[null,"2029-03-20","春分の日",47197,null,true,true,true,null,"2029-03-20","春分の日",null,47197,47197,"2029/03/20 (火)","春分の日","2029/03/20","03",3,"20",20,"2029",2029,"2029-03-20",true]
[null,"2029-04-29","昭和の日",47237,null,true,true,true,null,"2029-04-29","昭和の日",null,47237,47237,"2029/04/29 (日)","昭和の日","2029/04/29","04",4,"29",29,"2029",2029,"2029-04-29",true]
[null,"2029-04-30","振替休日",47238,null,true,true,true,null,"2029-04-30","振替休日",null,47238,47238,"2029/04/30 (月)","振替休日","2029/04/30","04",4,"30",30,"2029",2029,"2029-04-30",true]
[null,"2029-05-03","憲法記念日",47241,null,true,true,true,null,"2029-05-03","憲法記念日",null,47241,47241,"2029/05/03 (木)","憲法記念日","2029/05/03","05",5,"03",3,"2029",2029,"2029-05-03",true]
[null,"2029-05-04","みどりの日",47242,null,true,true,true,null,"2029-05-04","みどりの日",null,47242,47242,"2029/05/04 (金)","みどりの日","2029/05/04","05",5,"04",4,"2029",2029,"2029-05-04",true]
[null,"2029-05-05","こどもの日",47243,null,true,true,true,null,"2029-05-05","こどもの日",null,47243,47243,"2029/05/05 (土)","こどもの日","2029/05/05","05",5,"05",5,"2029",2029,"2029-05-05",true]
[null,"2029-07-16","海の日",47315,null,true,true,true,null,"2029-07-16","海の日",null,47315,47315,"2029/07/16 (月)","海の日","2029/07/16","07",7,"16",16,"2029",2029,"2029-07-16",true]
[null,"2029-08-11","山の日",47341,null,true,true,true,null,"2029-08-11","山の日",null,47341,47341,"2029/08/11 (土)","山の日","2029/08/11","08",8,"11",11,"2029",2029,"2029-08-11",true]
[null,"2029-09-17","敬老の日",47378,null,true,true,true,null,"2029-09-17","敬老の日",null,47378,47378,"2029/09/17 (月)","敬老の日","2029/09/17","09",9,"17",17,"2029",2029,"2029-09-17",true]
[null,"2029-09-23","秋分の日",47384,null,true,true,true,null,"2029-09-23","秋分の日",null,47384,47384,"2029/09/23 (日)","秋分の日","2029/09/23","09",9,"23",23,"2029",2029,"2029-09-23",true]
[null,"2029-09-24","振替休日",47385,null,true,true,true,null,"2029-09-24","振替休日",null,47385,47385,"2029/09/24 (月)","振替休日","2029/09/24","09",9,"24",24,"2029",2029,"2029-09-24",true]
[null,"2029-10-08","スポーツの日",47399,null,true,true,true,null,"2029-10-08","スポーツの日",null,47399,47399,"2029/10/08 (月)","スポーツの日","2029/10/08","10",10,"08",8,"2029",2029,"2029-10-08",true]
[null,"2029-11-03","文化の日",47425,null,true,true,true,null,"2029-11-03","文化の日",null,47425,47425,"2029/11/03 (土)","文化の日","2029/11/03","11",11,"03",3,"2029",2029,"2029-11-03",true]
[null,"2029-11-23","勤労感謝の日",47445,null,true,true,true,null,"2029-11-23","勤労感謝の日",null,47445,47445,"2029/11/23 (金)","勤労感謝の日","2029/11/23","11",11,"23",23,"2029",2029,"2029-11-23",true]
[null,"2030-01-01","元日",47484,null,true,true,true,null,"2030-01-01","元日",null,47484,47484,"2030/01/01 (火)","元日","2030/01/01","01",1,"01",1,"2030",2030,"2030-01-01",true]
[null,"2030-01-14","成人の日",47497,null,true,true,true,null,"2030-01-14","成人の日",null,47497,47497,"2030/01/14 (月)","成人の日","2030/01/14","01",1,"14",14,"2030",2030,"2030-01-14",true]
[null,"2030-02-11","建国記念の日",{"$f":"B132","v":47525},null,true,true,{"$f":"EXACT(D132,N132)","v":true},null,"2030-02-11","建国記念の日",null,47525,47525,"2030/02/11 (月)","建国記念の日","2030/02/11","02",2,"11",11,"2030",2030,"2030-02-11",true]
[null,"2030-02-23","天皇誕生日",47537,null,true,true,true,null,"2030-02-23","天皇誕生日",null,47537,47537,"2030/02/23 (土)","天皇誕生日","2030/02/23","02",2,"23",23,"2030",2030,"2030-02-23",true]
[null,"2030-03-20","春分の日",47562,null,true,true,true,null,"2030-03-20","春分の日",null,47562,47562,"2030/03/20 (水)","春分の日","2030/03/20","03",3,"20",20,"2030",2030,"2030-03-20",true]
[null,"2030-04-29","昭和の日",47602,null,true,true,true,null,"2030-04-29","昭和の日",null,47602,47602,"2030/04/29 (月)","昭和の日","2030/04/29","04",4,"29",29,"2030",2030,"2030-04-29",true]
[null,"2030-05-03","憲法記念日",47606,null,true,true,true,null,"2030-05-03","憲法記念日",null,47606,47606,"2030/05/03 (金)","憲法記念日","2030/05/03","05",5,"03",3,"2030",2030,"2030-05-03",true]
[null,"2030-05-04","みどりの日",47607,null,true,true,true,null,"2030-05-04","みどりの日",null,47607,47607,"2030/05/04 (土)","みどりの日","2030/05/04","05",5,"04",4,"2030",2030,"2030-05-04",true]
[null,"2030-05-05","こどもの日",47608,null,true,true,true,null,"2030-05-05","こどもの日",null,47608,47608,"2030/05/05 (日)","こどもの日","2030/05/05","05",5,"05",5,"2030",2030,"2030-05-05",true]
[null,"2030-05-06","振替休日",47609,null,true,true,true,null,"2030-05-06","振替休日",null,47609,47609,"2030/05/06 (月)","振替休日","2030/05/06","05",5,"06",6,"2030",2030,"2030-05-06",true]
[null,"2030-07-15","海の日",47679,null,true,true,true,null,"2030-07-15","海の日",null,47679,47679,"2030/07/15 (月)","海の日","2030/07/15","07",7,"15",15,"2030",2030,"2030-07-15",true]
[null,"2030-08-11","山の日",47706,null,true,true,true,null,"2030-08-11","山の日",null,47706,47706,"2030/08/11 (日)","山の日","2030/08/11","08",8,"11",11,"2030",2030,"2030-08-11",true]
[null,"2030-08-12","振替休日",47707,null,true,true,true,null,"2030-08-12","振替休日",null,47707,47707,"2030/08/12 (月)","振替休日","2030/08/12","08",8,"12",12,"2030",2030,"2030-08-12",true]
[null,"2030-09-16","敬老の日",47742,null,true,true,true,null,"2030-09-16","敬老の日",null,47742,47742,"2030/09/16 (月)","敬老の日","2030/09/16","09",9,"16",16,"2030",2030,"2030-09-16",true]
[null,"2030-09-23","秋分の日",47749,null,true,true,true,null,"2030-09-23","秋分の日",null,47749,47749,"2030/09/23 (月)","秋分の日","2030/09/23","09",9,"23",23,"2030",2030,"2030-09-23",true]
[null,"2030-10-14","スポーツの日",47770,null,true,true,true,null,"2030-10-14","スポーツの日",null,47770,47770,"2030/10/14 (月)","スポーツの日","2030/10/14","10",10,"14",14,"2030",2030,"2030-10-14",true]
[null,"2030-11-03","文化の日",47790,null,true,true,true,null,"2030-11-03","文化の日",null,47790,47790,"2030/11/03 (日)","文化の日","2030/11/03","11",11,"03",3,"2030",2030,"2030-11-03",true]
[null,"2030-11-04","振替休日",47791,null,true,true,true,null,"2030-11-04","振替休日",null,47791,47791,"2030/11/04 (月)","振替休日","2030/11/04","11",11,"04",4,"2030",2030,"2030-11-04",true]
[null,"2030-11-23","勤労感謝の日",47810,null,true,true,true,null,"2030-11-23","勤労感謝の日",null,47810,47810,"2030/11/23 (土)","勤労感謝の日","2030/11/23","11",11,"23",23,"2030",2030,"2030-11-23",true]
[null,"2031-01-01","元日",47849,null,true,true,true,null,"2031-01-01","元日",null,47849,47849,"2031年01月01日(水)","元日","2031年01月01","01",1,"01",1,"2031",2031,"2031-01-01",true]
[null,"2031-01-13","成人の日",47861,null,true,true,true,null,"2031-01-13","成人の日",null,47861,47861,"2031年01月13日(月)","成人の日","2031年01月13","01",1,"13",13,"2031",2031,"2031-01-13",true]
[null,"2031-02-11","建国記念の日",47890,null,true,true,true,null,"2031-02-11","建国記念の日",null,47890,47890,"2031年02月11日(火)","建国記念の日","2031年02月11","02",2,"11",11,"2031",2031,"2031-02-11",true]
[null,"2031-02-23","天皇誕生日",47902,null,true,true,true,null,"2031-02-23","天皇誕生日",null,47902,47902,"2031年02月23日(日)","天皇誕生日","2031年02月23","02",2,"23",23,"2031",2031,"2031-02-23",true]
[null,"2031-02-24","振替休日",47903,null,true,true,true,null,"2031-02-24","振替休日",null,47903,47903,"2031年02月24日(月)","振替休日","2031年02月24","02",2,"24",24,"2031",2031,"2031-02-24",true]
[null,"2031-03-21","春分の日",47928,null,true,true,true,null,"2031-03-21","春分の日",null,47928,47928,"2031年03月21日(金)","春分の日","2031年03月21","03",3,"21",21,"2031",2031,"2031-03-21",true]
[null,"2031-04-29","昭和の日",47967,null,true,true,true,null,"2031-04-29","昭和の日",null,47967,47967,"2031年04月29日(火)","昭和の日","2031年04月29","04",4,"29",29,"2031",2031,"2031-04-29",true]
[null,"2031-05-03","憲法記念日",47971,null,true,true,true,null,"2031-05-03","憲法記念日",null,47971,47971,"2031年05月03日(土)","憲法記念日","2031年05月03","05",5,"03",3,"2031",2031,"2031-05-03",true]
[null,"2031-05-04","みどりの日",47972,null,true,true,true,null,"2031-05-04","みどりの日",null,47972,47972,"2031年05月04日(日)","みどりの日","2031年05月04","05",5,"04",4,"2031",2031,"2031-05-04",true]
[null,"2031-05-05","こどもの日",47973,null,true,true,true,null,"2031-05-05","こどもの日",null,47973,47973,"2031年05月05日(月)","こどもの日","2031年05月05","05",5,"05",5,"2031",2031,"2031-05-05",true]
[null,"2031-05-06","振替休日",47974,null,true,true,true,null,"2031-05-06","振替休日",null,47974,47974,"2031年05月06日(火)","振替休日","2031年05月06","05",5,"06",6,"2031",2031,"2031-05-06",true]
[null,"2031-07-21","海の日",48050,null,true,true,true,null,"2031-07-21","海の日",null,48050,48050,"2031年07月21日(月)","海の日","2031年07月21","07",7,"21",21,"2031",2031,"2031-07-21",true]
[null,"2031-08-11","山の日",48071,null,true,true,true,null,"2031-08-11","山の日",null,48071,48071,"2031年08月11日(月)","山の日","2031年08月11","08",8,"11",11,"2031",2031,"2031-08-11",true]
[null,"2031-09-15","敬老の日",48106,null,true,true,true,null,"2031-09-15","敬老の日",null,48106,48106,"2031年09月15日(月)","敬老の日","2031年09月15","09",9,"15",15,"2031",2031,"2031-09-15",true]
[null,"2031-09-23","秋分の日",48114,null,true,true,true,null,"2031-09-23","秋分の日",null,48114,48114,"2031年09月23日(火)","秋分の日","2031年09月23","09",9,"23",23,"2031",2031,"2031-09-23",true]
[null,"2031-10-13","スポーツの日",48134,null,true,false,true,null,"2031-10-13","体育の日",null,48134,48134,"2031年10月13日(月)","体育の日","2031年10月13","10",10,"13",13,"2031",2031,"2031-10-13",true]
[null,"2031-11-03","文化の日",48155,null,true,true,true,null,"2031-11-03","文化の日",null,48155,48155,"2031年11月03日(月)","文化の日","2031年11月03","11",11,"03",3,"2031",2031,"2031-11-03",true]
[null,"2031-11-23","勤労感謝の日",48175,null,true,true,true,null,"2031-11-23","勤労感謝の日",null,48175,48175,"2031年11月23日(日)","勤労感謝の日","2031年11月23","11",11,"23",23,"2031",2031,"2031-11-23",true]
[null,"2031-11-24","振替休日",48176,null,true,true,true,null,"2031-11-24","振替休日",null,48176,48176,"2031年11月24日(月)","振替休日","2031年11月24","11",11,"24",24,"2031",2031,"2031-11-24",true]
[null,"2032-01-01","元日",48214,null,true,true,true,null,"2032-01-01","元日",null,48214,48214,"2032年01月01日(木)","元日","2032年01月01","01",1,"01",1,"2032",2032,"2032-01-01",true]
[null,"2032-01-12","成人の日",48225,null,true,true,true,null,"2032-01-12","成人の日",null,48225,48225,"2032年01月12日(月)","成人の日","2032年01月12","01",1,"12",12,"2032",2032,"2032-01-12",{"$f":"X169=B169","v":true}]
[null,"2032-02-11","建国記念の日",48255,null,true,true,true,null,{"$f":"X170","v":"2032-02-11"},{"$f":"P170","v":"建国記念の日"},null,{"$f":"J170","v":48255},{"$f":"J170","v":48255},"2032年02月11日(水)","建国記念の日",{"$f":"LEFT(O170,10)","v":"2032年02月11"},{"$f":"MID(Q170,6,2)","v":"02"},{"$f":"VALUE(R170)","v":2},{"$f":"RIGHT(Q170,2)","v":"11"},{"$f":"VALUE(T170)","v":11},{"$f":"LEFT(Q170,4)","v":"2032"},{"$f":"VALUE(V170)","v":2032},{"$f":"DATE(W170,S170,U170)","v":"2032-02-11"},true]
[null,"2032-02-23","天皇誕生日",48267,null,true,true,true,null,"2032-02-23","天皇誕生日",null,48267,48267,"2032年02月23日(月)","天皇誕生日","2032年02月23","02",2,"23",23,"2032",2032,"2032-02-23",true]
[null,"2032-03-20","春分の日",48293,null,true,true,true,null,"2032-03-20","春分の日",null,48293,48293,"2032年03月20日(土)","春分の日","2032年03月20","03",3,"20",20,"2032",2032,"2032-03-20",true]
[null,"2032-04-29","昭和の日",48333,null,true,true,true,null,"2032-04-29","昭和の日",null,48333,48333,"2032年04月29日(木)","昭和の日","2032年04月29","04",4,"29",29,"2032",2032,"2032-04-29",true]
[null,"2032-05-03","憲法記念日",48337,null,true,true,true,null,"2032-05-03","憲法記念日",null,48337,48337,"2032年05月03日(月)","憲法記念日","2032年05月03","05",5,"03",3,"2032",2032,"2032-05-03",true]
[null,"2032-05-04","みどりの日",48338,null,true,true,true,null,"2032-05-04","みどりの日",null,48338,48338,"2032年05月04日(火)","みどりの日","2032年05月04","05",5,"04",4,"2032",2032,"2032-05-04",true]
[null,"2032-05-05","こどもの日",48339,null,true,true,true,null,"2032-05-05","こどもの日",null,48339,48339,"2032年05月05日(水)","こどもの日","2032年05月05","05",5,"05",5,"2032",2032,"2032-05-05",true]
[null,"2032-07-19","海の日",48414,null,true,true,true,null,"2032-07-19","海の日",null,48414,48414,"2032年07月19日(月)","海の日","2032年07月19","07",7,"19",19,"2032",2032,"2032-07-19",true]
[null,"2032-08-11","山の日",48437,null,true,true,true,null,"2032-08-11","山の日",null,48437,48437,"2032年08月11日(水)","山の日","2032年08月11","08",8,"11",11,"2032",2032,"2032-08-11",true]
[null,"2032-09-20","敬老の日",48477,null,true,true,true,null,"2032-09-20","敬老の日",null,48477,48477,"2032年09月20日(月)","敬老の日","2032年09月20","09",9,"20",20,"2032",2032,"2032-09-20",true]
[null,"2032-09-22","秋分の日",48479,null,true,true,true,null,"2032-09-22","秋分の日",null,48479,48479,"2032年09月22日(水)","秋分の日","2032年09月22","09",9,"22",22,"2032",2032,"2032-09-22",true]
[null,"2032-10-11","スポーツの日",48498,null,true,false,true,null,"2032-10-11","体育の日",null,48498,48498,"2032年10月11日(月)","体育の日","2032年10月11","10",10,"11",11,"2032",2032,"2032-10-11",true]
[null,"2032-11-03","文化の日",48521,null,true,true,true,null,"2032-11-03","文化の日",null,48521,48521,"2032年11月03日(水)","文化の日","2032年11月03","11",11,"03",3,"2032",2032,"2032-11-03",true]
[null,"2032-11-23","勤労感謝の日",48541,null,true,true,true,null,"2032-11-23","勤労感謝の日",null,48541,48541,"2032年11月23日(火)","勤労感謝の日","2032年11月23","11",11,"23",23,"2032",2032,"2032-11-23",true]
[null,"2033-01-01","元日",48580,null,true,true,true,null,"2033-01-01","元日",null,48580,48580,"2033年01月01日(土)","元日","2033年01月01","01",1,"01",1,"2033",2033,"2033-01-01",true]
[null,"2033-01-10","成人の日",48589,null,true,true,true,null,"2033-01-10","成人の日",null,48589,48589,"2033年01月10日(月)","成人の日","2033年01月10","01",1,"10",10,"2033",2033,"2033-01-10",true]
[null,"2033-02-11","建国記念の日",48621,null,true,true,true,null,"2033-02-11","建国記念の日",null,48621,48621,"2033年02月11日(金)","建国記念の日","2033年02月11","02",2,"11",11,"2033",2033,"2033-02-11",true]
[null,"2033-02-23","天皇誕生日",48633,null,true,true,true,null,"2033-02-23","天皇誕生日",null,48633,48633,"2033年02月23日(水)","天皇誕生日","2033年02月23","02",2,"23",23,"2033",2033,"2033-02-23",true]
[null,"2033-03-20","春分の日",48658,null,true,true,true,null,"2033-03-20","春分の日",null,48658,48658,"2033年03月20日(日)","春分の日","2033年03月20","03",3,"20",20,"2033",2033,"2033-03-20",true]
[null,"2033-03-21","振替休日",48659,null,true,true,true,null,"2033-03-21","振替休日",null,48659,48659,"2033年03月21日(月)","振替休日","2033年03月21","03",3,"21",21,"2033",2033,"2033-03-21",true]
[null,"2033-04-29","昭和の日",48698,null,true,true,true,null,"2033-04-29","昭和の日",null,48698,48698,"2033年04月29日(金)","昭和の日","2033年04月29","04",4,"29",29,"2033",2033,"2033-04-29",true]
[null,"2033-05-03","憲法記念日",48702,null,true,true,true,null,"2033-05-03","憲法記念日",null,48702,48702,"2033年05月03日(火)","憲法記念日","2033年05月03","05",5,"03",3,"2033",2033,"2033-05-03",true]
[null,"2033-05-04","みどりの日",48703,null,true,true,true,null,"2033-05-04","みどりの日",null,48703,48703,"2033年05月04日(水)","みどりの日","2033年05月04","05",5,"04",4,"2033",2033,"2033-05-04",true]
[null,"2033-05-05","こどもの日",48704,null,true,true,true,null,"2033-05-05","こどもの日",null,48704,48704,"2033年05月05日(木)","こどもの日","2033年05月05","05",5,"05",5,"2033",2033,"2033-05-05",true]
[null,"2033-07-18","海の日",48778,null,true,true,true,null,"2033-07-18","海の日",null,48778,48778,"2033年07月18日(月)","海の日","2033年07月18","07",7,"18",18,"2033",2033,"2033-07-18",true]
[null,"2033-08-11","山の日",48802,null,true,true,true,null,"2033-08-11","山の日",null,48802,48802,"2033年08月11日(木)","山の日","2033年08月11","08",8,"11",11,"2033",2033,"2033-08-11",true]
[null,"2033-09-19","敬老の日",{"$f":"B196","v":48841},null,true,true,{"$f":"EXACT(D196,N196)","v":true},null,"2033-09-19","敬老の日",null,48841,48841,"2033年09月19日(月)","敬老の日","2033年09月19","09",9,"19",19,"2033",2033,"2033-09-19",true]
[null,"2033-09-23","秋分の日",48845,null,true,true,true,null,"2033-09-23","秋分の日",null,48845,48845,"2033年09月23日(金)","秋分の日","2033年09月23","09",9,"23",23,"2033",2033,"2033-09-23",true]
[null,"2033-10-10","スポーツの日",48862,null,true,false,true,null,"2033-10-10","体育の日",null,48862,48862,"2033年10月10日(月)","体育の日","2033年10月10","10",10,"10",10,"2033",2033,"2033-10-10",true]
[null,"2033-11-03","文化の日",48886,null,true,true,true,null,"2033-11-03","文化の日",null,48886,48886,"2033年11月03日(木)","文化の日","2033年11月03","11",11,"03",3,"2033",2033,"2033-11-03",true]
[null,"2033-11-23","勤労感謝の日",48906,null,true,true,true,null,"2033-11-23","勤労感謝の日",null,48906,48906,"2033年11月23日(水)","勤労感謝の日","2033年11月23","11",11,"23",23,"2033",2033,"2033-11-23",true]
[null,"2034-01-01","元日",48945,null,true,true,true,null,"2034-01-01","元日",null,48945,48945,"2034年01月01日(日)","元日","2034年01月01","01",1,"01",1,"2034",2034,"2034-01-01",true]
[null,"2034-01-02","振替休日",48946,null,true,true,true,null,"2034-01-02","振替休日",null,48946,48946,"2034年01月02日(月)","振替休日","2034年01月02","01",1,"02",2,"2034",2034,"2034-01-02",true]
[null,"2034-01-09","成人の日",48953,null,true,true,true,null,"2034-01-09","成人の日",null,48953,48953,"2034年01月09日(月)","成人の日","2034年01月09","01",1,"09",9,"2034",2034,"2034-01-09",true]
[null,"2034-02-11","建国記念の日",48986,null,true,true,true,null,"2034-02-11","建国記念の日",null,48986,48986,"2034年02月11日(土)","建国記念の日","2034年02月11","02",2,"11",11,"2034",2034,"2034-02-11",true]
[null,"2034-02-23","天皇誕生日",48998,null,true,true,true,null,"2034-02-23","天皇誕生日",null,48998,48998,"2034年02月23日(木)","天皇誕生日","2034年02月23","02",2,"23",23,"2034",2034,"2034-02-23",true]
[null,"2034-03-20","春分の日",49023,null,true,true,true,null,"2034-03-20","春分の日",null,49023,49023,"2034年03月20日(月)","春分の日","2034年03月20","03",3,"20",20,"2034",2034,"2034-03-20",true]
[null,"2034-04-29","昭和の日",49063,null,true,true,true,null,"2034-04-29","昭和の日",null,49063,49063,"2034年04月29日(土)","昭和の日","2034年04月29","04",4,"29",29,"2034",2034,"2034-04-29",true]
[null,"2034-05-03","憲法記念日",49067,null,true,true,true,null,"2034-05-03","憲法記念日",null,49067,49067,"2034年05月03日(水)","憲法記念日","2034年05月03","05",5,"03",3,"2034",2034,"2034-05-03",true]
[null,"2034-05-04","みどりの日",49068,null,true,true,true,null,"2034-05-04","みどりの日",null,49068,49068,"2034年05月04日(木)","みどりの日","2034年05月04","05",5,"04",4,"2034",2034,"2034-05-04",true]
[null,"2034-05-05","こどもの日",49069,null,true,true,true,null,"2034-05-05","こどもの日",null,49069,49069,"2034年05月05日(金)","こどもの日","2034年05月05","05",5,"05",5,"2034",2034,"2034-05-05",true]
[null,"2034-07-17","海の日",49142,null,true,true,true,null,"2034-07-17","海の日",null,49142,49142,"2034年07月17日(月)","海の日","2034年07月17","07",7,"17",17,"2034",2034,"2034-07-17",true]
[null,"2034-08-11","山の日",49167,null,true,true,true,null,"2034-08-11","山の日",null,49167,49167,"2034年08月11日(金)","山の日","2034年08月11","08",8,"11",11,"2034",2034,"2034-08-11",true]
[null,"2034-09-18","敬老の日",49205,null,true,true,true,null,"2034-09-18","敬老の日",null,49205,49205,"2034年09月18日(月)","敬老の日","2034年09月18","09",9,"18",18,"2034",2034,"2034-09-18",true]
[null,"2034-09-23","秋分の日",49210,null,true,true,true,null,"2034-09-23","秋分の日",null,49210,49210,"2034年09月23日(土)","秋分の日","2034年09月23","09",9,"23",23,"2034",2034,"2034-09-23",true]
[null,"2034-10-09","スポーツの日",49226,null,true,false,true,null,"2034-10-09","体育の日",null,49226,49226,"2034年10月09日(月)","体育の日","2034年10月09","10",10,"09",9,"2034",2034,"2034-10-09",true]
[null,"2034-11-03","文化の日",49251,null,true,true,true,null,"2034-11-03","文化の日",null,49251,49251,"2034年11月03日(金)","文化の日","2034年11月03","11",11,"03",3,"2034",2034,"2034-11-03",true]
[null,"2034-11-23","勤労感謝の日",49271,null,true,true,true,null,"2034-11-23","勤労感謝の日",null,49271,49271,"2034年11月23日(木)","勤労感謝の日","2034年11月23","11",11,"23",23,"2034",2034,"2034-11-23",true]
[null,"2035-01-01","元日",49310,null,true,true,true,null,"2035-01-01","元日",null,49310,49310,"2035年01月01日(月)","元日","2035年01月01","01",1,"01",1,"2035",2035,"2035-01-01",true]
[null,"2035-01-08","成人の日",49317,null,true,true,true,null,"2035-01-08","成人の日",null,49317,49317,"2035年01月08日(月)","成人の日","2035年01月08","01",1,"08",8,"2035",2035,"2035-01-08",true]
[null,"2035-02-11","建国記念の日",49351,null,true,true,true,null,"2035-02-11","建国記念の日",null,49351,49351,"2035年02月11日(日)","建国記念の日","2035年02月11","02",2,"11",11,"2035",2035,"2035-02-11",true]
[null,"2035-02-12","振替休日",49352,null,true,true,true,null,"2035-02-12","振替休日",null,49352,49352,"2035年02月12日(月)","振替休日","2035年02月12","02",2,"12",12,"2035",2035,"2035-02-12",true]
[null,"2035-02-23","天皇誕生日",49363,null,true,true,true,null,"2035-02-23","天皇誕生日",null,49363,49363,"2035年02月23日(金)","天皇誕生日","2035年02月23","02",2,"23",23,"2035",2035,"2035-02-23",true]
[null,"2035-03-21","春分の日",49389,null,true,true,true,null,"2035-03-21","春分の日",null,49389,49389,"2035年03月21日(水)","春分の日","2035年03月21","03",3,"21",21,"2035",2035,"2035-03-21",true]
[null,"2035-04-29","昭和の日",49428,null,true,true,true,null,"2035-04-29","昭和の日",null,49428,49428,"2035年04月29日(日)","昭和の日","2035年04月29","04",4,"29",29,"2035",2035,"2035-04-29",true]
[null,"2035-04-30","振替休日",49429,null,true,true,true,null,"2035-04-30","振替休日",null,49429,49429,"2035年04月30日(月)","振替休日","2035年04月30","04",4,"30",30,"2035",2035,"2035-04-30",true]
[null,"2035-05-03","憲法記念日",49432,null,true,true,true,null,"2035-05-03","憲法記念日",null,49432,49432,"2035年05月03日(木)","憲法記念日","2035年05月03","05",5,"03",3,"2035",2035,"2035-05-03",true]
[null,"2035-05-04","みどりの日",49433,null,true,true,true,null,"2035-05-04","みどりの日",null,49433,49433,"2035年05月04日(金)","みどりの日","2035年05月04","05",5,"04",4,"2035",2035,"2035-05-04",true]
[null,"2035-05-05","こどもの日",49434,null,true,true,true,null,"2035-05-05","こどもの日",null,49434,49434,"2035年05月05日(土)","こどもの日","2035年05月05","05",5,"05",5,"2035",2035,"2035-05-05",true]
[null,"2035-07-16","海の日",49506,null,true,true,true,null,"2035-07-16","海の日",null,49506,49506,"2035年07月16日(月)","海の日","2035年07月16","07",7,"16",16,"2035",2035,"2035-07-16",true]
[null,"2035-08-11","山の日",49532,null,true,true,true,null,"2035-08-11","山の日",null,49532,49532,"2035年08月11日(土)","山の日","2035年08月11","08",8,"11",11,"2035",2035,"2035-08-11",true]
[null,"2035-09-17","敬老の日",49569,null,true,true,true,null,"2035-09-17","敬老の日",null,49569,49569,"2035年09月17日(月)","敬老の日","2035年09月17","09",9,"17",17,"2035",2035,"2035-09-17",true]
[null,"2035-09-23","秋分の日",49575,null,true,true,true,null,"2035-09-23","秋分の日",null,49575,49575,"2035年09月23日(日)","秋分の日","2035年09月23","09",9,"23",23,"2035",2035,"2035-09-23",true]
[null,"2035-09-24","振替休日",49576,null,true,true,true,null,"2035-09-24","振替休日",null,49576,49576,"2035年09月24日(月)","振替休日","2035年09月24","09",9,"24",24,"2035",2035,"2035-09-24",{"$f":"X233=B233","v":true}]
[null,"2035-10-08","スポーツの日",49590,null,true,false,true,null,{"$f":"X234","v":"2035-10-08"},{"$f":"P234","v":"体育の日"},null,{"$f":"J234","v":49590},{"$f":"J234","v":49590},"2035年10月08日(月)","体育の日",{"$f":"LEFT(O234,10)","v":"2035年10月08"},{"$f":"MID(Q234,6,2)","v":"10"},{"$f":"VALUE(R234)","v":10},{"$f":"RIGHT(Q234,2)","v":"08"},{"$f":"VALUE(T234)","v":8},{"$f":"LEFT(Q234,4)","v":"2035"},{"$f":"VALUE(V234)","v":2035},{"$f":"DATE(W234,S234,U234)","v":"2035-10-08"},true]
[null,"2035-11-03","文化の日",49616,null,true,true,true,null,"2035-11-03","文化の日",null,49616,49616,"2035年11月03日(土)","文化の日","2035年11月03","11",11,"03",3,"2035",2035,"2035-11-03",true]
[null,"2035-11-23","勤労感謝の日",49636,null,true,true,true,null,"2035-11-23","勤労感謝の日",null,49636,49636,"2035年11月23日(金)","勤労感謝の日","2035年11月23","11",11,"23",23,"2035",2035,"2035-11-23",true]
[null,"2036-01-01","元日",49675,null,true,true,true,null,"2036-01-01","元日",null,49675,49675,"2036年01月01日(火)","元日","2036年01月01","01",1,"01",1,"2036",2036,"2036-01-01",true]
[null,"2036-01-14","成人の日",49688,null,true,true,true,null,"2036-01-14","成人の日",null,49688,49688,"2036年01月14日(月)","成人の日","2036年01月14","01",1,"14",14,"2036",2036,"2036-01-14",true]
[null,"2036-02-11","建国記念の日",49716,null,true,true,true,null,"2036-02-11","建国記念の日",null,49716,49716,"2036年02月11日(月)","建国記念の日","2036年02月11","02",2,"11",11,"2036",2036,"2036-02-11",true]
[null,"2036-02-23","天皇誕生日",49728,null,true,true,true,null,"2036-02-23","天皇誕生日",null,49728,49728,"2036年02月23日(土)","天皇誕生日","2036年02月23","02",2,"23",23,"2036",2036,"2036-02-23",true]
[null,"2036-03-20","春分の日",49754,null,true,true,true,null,"2036-03-20","春分の日",null,49754,49754,"2036年03月20日(木)","春分の日","2036年03月20","03",3,"20",20,"2036",2036,"2036-03-20",true]
[null,"2036-04-29","昭和の日",49794,null,true,true,true,null,"2036-04-29","昭和の日",null,49794,49794,"2036年04月29日(火)","昭和の日","2036年04月29","04",4,"29",29,"2036",2036,"2036-04-29",true]
[null,"2036-05-03","憲法記念日",49798,null,true,true,true,null,"2036-05-03","憲法記念日",null,49798,49798,"2036年05月03日(土)","憲法記念日","2036年05月03","05",5,"03",3,"2036",2036,"2036-05-03",true]
[null,"2036-05-04","みどりの日",49799,null,true,true,true,null,"2036-05-04","みどりの日",null,49799,49799,"2036年05月04日(日)","みどりの日","2036年05月04","05",5,"04",4,"2036",2036,"2036-05-04",true]
[null,"2036-05-05","こどもの日",49800,null,true,true,true,null,"2036-05-05","こどもの日",null,49800,49800,"2036年05月05日(月)","こどもの日","2036年05月05","05",5,"05",5,"2036",2036,"2036-05-05",true]
[null,"2036-05-06","振替休日",49801,null,true,true,true,null,"2036-05-06","振替休日",null,49801,49801,"2036年05月06日(火)","振替休日","2036年05月06","05",5,"06",6,"2036",2036,"2036-05-06",true]
[null,"2036-07-21","海の日",49877,null,true,true,true,null,"2036-07-21","海の日",null,49877,49877,"2036年07月21日(月)","海の日","2036年07月21","07",7,"21",21,"2036",2036,"2036-07-21",true]
[null,"2036-08-11","山の日",49898,null,true,true,true,null,"2036-08-11","山の日",null,49898,49898,"2036年08月11日(月)","山の日","2036年08月11","08",8,"11",11,"2036",2036,"2036-08-11",true]
[null,"2036-09-15","敬老の日",49933,null,true,true,true,null,"2036-09-15","敬老の日",null,49933,49933,"2036年09月15日(月)","敬老の日","2036年09月15","09",9,"15",15,"2036",2036,"2036-09-15",true]
[null,"2036-09-22","秋分の日",49940,null,true,true,true,null,"2036-09-22","秋分の日",null,49940,49940,"2036年09月22日(月)","秋分の日","2036年09月22","09",9,"22",22,"2036",2036,"2036-09-22",true]
[null,"2036-10-13","スポーツの日",49961,null,true,false,true,null,"2036-10-13","体育の日",null,49961,49961,"2036年10月13日(月)","体育の日","2036年10月13","10",10,"13",13,"2036",2036,"2036-10-13",true]
[null,"2036-11-03","文化の日",49982,null,true,true,true,null,"2036-11-03","文化の日",null,49982,49982,"2036年11月03日(月)","文化の日","2036年11月03","11",11,"03",3,"2036",2036,"2036-11-03",true]
[null,"2036-11-23","勤労感謝の日",50002,null,true,true,true,null,"2036-11-23","勤労感謝の日",null,50002,50002,"2036年11月23日(日)","勤労感謝の日","2036年11月23","11",11,"23",23,"2036",2036,"2036-11-23",true]
[null,"2036-11-24","振替休日",50003,null,true,true,true,null,"2036-11-24","振替休日",null,50003,50003,"2036年11月24日(月)","振替休日","2036年11月24","11",11,"24",24,"2036",2036,"2036-11-24",true]
[null,"2037-01-01","元日",50041,null,true,true,true,null,"2037-01-01","元日",null,50041,50041,"2037年01月01日(木)","元日","2037年01月01","01",1,"01",1,"2037",2037,"2037-01-01",true]
[null,"2037-01-12","成人の日",50052,null,true,true,true,null,"2037-01-12","成人の日",null,50052,50052,"2037年01月12日(月)","成人の日","2037年01月12","01",1,"12",12,"2037",2037,"2037-01-12",true]
[null,"2037-02-11","建国記念の日",50082,null,true,true,true,null,"2037-02-11","建国記念の日",null,50082,50082,"2037年02月11日(水)","建国記念の日","2037年02月11","02",2,"11",11,"2037",2037,"2037-02-11",true]
[null,"2037-02-23","天皇誕生日",50094,null,true,true,true,null,"2037-02-23","天皇誕生日",null,50094,50094,"2037年02月23日(月)","天皇誕生日","2037年02月23","02",2,"23",23,"2037",2037,"2037-02-23",true]
[null,"2037-03-20","春分の日",50119,null,true,true,true,null,"2037-03-20","春分の日",null,50119,50119,"2037年03月20日(金)","春分の日","2037年03月20","03",3,"20",20,"2037",2037,"2037-03-20",true]
[null,"2037-04-29","昭和の日",{"$f":"B260","v":50159},null,true,true,{"$f":"EXACT(D260,N260)","v":true},null,"2037-04-29","昭和の日",null,50159,50159,"2037年04月29日(水)","昭和の日","2037年04月29","04",4,"29",29,"2037",2037,"2037-04-29",true]
[null,"2037-05-03","憲法記念日",50163,null,true,true,true,null,"2037-05-03","憲法記念日",null,50163,50163,"2037年05月03日(日)","憲法記念日","2037年05月03","05",5,"03",3,"2037",2037,"2037-05-03",true]
[null,"2037-05-04","みどりの日",50164,null,true,true,true,null,"2037-05-04","みどりの日",null,50164,50164,"2037年05月04日(月)","みどりの日","2037年05月04","05",5,"04",4,"2037",2037,"2037-05-04",true]
[null,"2037-05-05","こどもの日",50165,null,true,true,true,null,"2037-05-05","こどもの日",null,50165,50165,"2037年05月05日(火)","こどもの日","2037年05月05","05",5,"05",5,"2037",2037,"2037-05-05",true]
[null,"2037-05-06","振替休日",50166,null,true,true,true,null,"2037-05-06","振替休日",null,50166,50166,"2037年05月06日(水)","振替休日","2037年05月06","05",5,"06",6,"2037",2037,"2037-05-06",true]
[null,"2037-07-20","海の日",50241,null,true,true,true,null,"2037-07-20","海の日",null,50241,50241,"2037年07月20日(月)","海の日","2037年07月20","07",7,"20",20,"2037",2037,"2037-07-20",true]
[null,"2037-08-11","山の日",50263,null,true,true,true,null,"2037-08-11","山の日",null,50263,50263,"2037年08月11日(火)","山の日","2037年08月11","08",8,"11",11,"2037",2037,"2037-08-11",true]
[null,"2037-09-21","敬老の日",50304,null,true,true,true,null,"2037-09-21","敬老の日",null,50304,50304,"2037年09月21日(月)","敬老の日","2037年09月21","09",9,"21",21,"2037",2037,"2037-09-21",true]
[null,"2037-09-23","秋分の日",50306,null,true,true,true,null,"2037-09-23","秋分の日",null,50306,50306,"2037年09月23日(水)","秋分の日","2037年09月23","09",9,"23",23,"2037",2037,"2037-09-23",true]
[null,"2037-10-12","スポーツの日",50325,null,true,false,true,null,"2037-10-12","体育の日",null,50325,50325,"2037年10月12日(月)","体育の日","2037年10月12","10",10,"12",12,"2037",2037,"2037-10-12",true]
[null,"2037-11-03","文化の日",50347,null,true,true,true,null,"2037-11-03","文化の日",null,50347,50347,"2037年11月03日(火)","文化の日","2037年11月03","11",11,"03",3,"2037",2037,"2037-11-03",true]
[null,"2037-11-23","勤労感謝の日",50367,null,true,true,true,null,"2037-11-23","勤労感謝の日",null,50367,50367,"2037年11月23日(月)","勤労感謝の日","2037年11月23","11",11,"23",23,"2037",2037,"2037-11-23",true]
[null,"2038-01-01","元日",50406]
[null,"2038-01-11","成人の日",50416]
[null,"2038-02-11","建国記念の日",50447]
[null,"2038-02-23","天皇誕生日",50459]
[null,"2038-03-20","春分の日",50484]
[null,"2038-04-29","昭和の日",50524]
[null,"2038-05-03","憲法記念日",50528]
[null,"2038-05-04","みどりの日",50529]
[null,"2038-05-05","こどもの日",50530]
[null,"2038-07-19","海の日",50605]
[null,"2038-08-11","山の日",50628]
[null,"2038-09-20","敬老の日",50668]
[null,"2038-09-23","秋分の日",50671]
[null,"2038-10-11","スポーツの日",50689]
[null,"2038-11-03","文化の日",50712]
[null,"2038-11-23","勤労感謝の日",50732]
[null,"2039-01-01","元日",50771]
[null,"2039-01-10","成人の日",50780]
[null,"2039-02-11","建国記念の日",50812]
[null,"2039-02-23","天皇誕生日",50824]
[null,"2039-03-21","春分の日",50850]
[null,"2039-04-29","昭和の日",50889]
[null,"2039-05-03","憲法記念日",50893]
[null,"2039-05-04","みどりの日",50894]
[null,"2039-05-05","こどもの日",50895]
[null,"2039-07-18","海の日",50969]
[null,"2039-08-11","山の日",50993]
[null,"2039-09-19","敬老の日",51032]
[null,"2039-09-23","秋分の日",51036]
[null,"2039-10-10","スポーツの日",51053]
[null,"2039-11-03","文化の日",51077]
[null,"2039-11-23","勤労感謝の日",51097]
[null,"2040-01-01","元日",51136]
[null,"2040-01-02","振替休日",51137]
[null,"2040-01-09","成人の日",51144]
[null,"2040-02-11","建国記念の日",51177]
[null,"2040-02-23","天皇誕生日",51189]
[null,"2040-03-20","春分の日",51215]
[null,"2040-04-29","昭和の日",51255]
[null,"2040-04-30","振替休日",51256]
[null,"2040-05-03","憲法記念日",51259]
[null,"2040-05-04","みどりの日",51260]
[null,"2040-05-05","こどもの日",51261]
[null,"2040-07-16","海の日",51333]
[null,"2040-08-11","山の日",51359]
[null,"2040-09-17","敬老の日",51396]
[null,"2040-09-22","秋分の日",51401]
[null,"2040-10-08","スポーツの日",51417]
[null,"2040-11-03","文化の日",51443]
[null,"2040-11-23","勤労感謝の日",51463]
[null,"2040-12-24","振替休日",51494]
[null,"2041-01-01","元日",51502]
[null,"2041-01-14","成人の日",{"$f":"B324","v":51515}]
[null,"2041-02-11","建国記念の日",51543]
[null,"2041-02-23","天皇誕生日",51555]
[null,"2041-03-20","春分の日",51580]
[null,"2041-04-29","昭和の日",51620]
[null,"2041-05-03","憲法記念日",51624]
[null,"2041-05-04","みどりの日",51625]
[null,"2041-05-05","こどもの日",51626]
[null,"2041-05-06","振替休日",51627]
[null,"2041-07-15","海の日",51697]
[null,"2041-08-11","山の日",51724]
[null,"2041-08-12","振替休日",51725]
[null,"2041-09-16","敬老の日",51760]
[null,"2041-09-23","秋分の日",51767]
[null,"2041-10-14","スポーツの日",51788]
[null,"2041-11-03","文化の日",51808]
[null,"2041-11-04","振替休日",51809]
[null,"2041-11-23","勤労感謝の日",51828]
[null,"2042-01-01","元日",51867]
[null,"2042-01-13","成人の日",51879]
[null,"2042-02-11","建国記念の日",51908]
[null,"2042-02-23","天皇誕生日",51920]
[null,"2042-02-24","振替休日",51921]
[null,"2042-03-20","春分の日",51945]
[null,"2042-04-29","昭和の日",51985]
[null,"2042-05-03","憲法記念日",51989]
[null,"2042-05-04","みどりの日",51990]
[null,"2042-05-05","こどもの日",51991]
[null,"2042-05-06","振替休日",51992]
[null,"2042-07-21","海の日",52068]
[null,"2042-08-11","山の日",52089]
[null,"2042-09-15","敬老の日",52124]
[null,"2042-09-23","秋分の日",52132]
[null,"2042-10-13","スポーツの日",52152]
[null,"2042-11-03","文化の日",52173]
[null,"2042-11-23","勤労感謝の日",52193]
[null,"2042-11-24","振替休日",52194]
[null,"2043-01-01","元日",52232]
[null,"2043-01-12","成人の日",52243]
[null,"2043-02-11","建国記念の日",52273]
[null,"2043-02-23","天皇誕生日",52285]
[null,"2043-03-21","春分の日",52311]
[null,"2043-04-29","昭和の日",52350]
[null,"2043-05-03","憲法記念日",52354]
[null,"2043-05-04","みどりの日",52355]
[null,"2043-05-05","こどもの日",52356]
[null,"2043-05-06","振替休日",52357]
[null,"2043-07-20","海の日",52432]
[null,"2043-08-11","山の日",52454]
[null,"2043-09-21","敬老の日",52495]
[null,"2043-09-22","国民の休日",52496]
[null,"2043-09-23","秋分の日",52497]
[null,"2043-10-12","スポーツの日",52516]
[null,"2043-11-03","文化の日",52538]
[null,"2043-11-23","勤労感謝の日",52558]
[null,"2044-01-01","元日",52597]
[null,"2044-01-11","成人の日",52607]
[null,"2044-02-11","建国記念の日",52638]
[null,"2044-02-23","天皇誕生日",52650]
[null,"2044-03-20","春分の日",52676]
[null,"2044-03-21","振替休日",52677]
[null,"2044-04-29","昭和の日",52716]
[null,"2044-05-03","憲法記念日",52720]
[null,"2044-05-04","みどりの日",52721]
[null,"2044-05-05","こどもの日",{"$f":"B388","v":52722}]
[null,"2044-07-18","海の日",52796]
[null,"2044-08-11","山の日",52820]
[null,"2044-09-19","敬老の日",52859]
[null,"2044-09-22","秋分の日",52862]
[null,"2044-10-10","スポーツの日",52880]
[null,"2044-11-03","文化の日",52904]
[null,"2044-11-23","勤労感謝の日",52924]
[null,"2045-01-01","元日",52963]
[null,"2045-01-02","振替休日",52964]
[null,"2045-01-09","成人の日",52971]
[null,"2045-02-11","建国記念の日",53004]
[null,"2045-02-23","天皇誕生日",53016]
[null,"2045-03-20","春分の日",53041]
[null,"2045-04-29","昭和の日",53081]
[null,"2045-05-03","憲法記念日",53085]
[null,"2045-05-04","みどりの日",53086]
[null,"2045-05-05","こどもの日",53087]
[null,"2045-07-17","海の日",53160]
[null,"2045-08-11","山の日",53185]
[null,"2045-09-18","敬老の日",53223]
[null,"2045-09-22","秋分の日",53227]
[null,"2045-10-09","スポーツの日",53244]
[null,"2045-11-03","文化の日",53269]
[null,"2045-11-23","勤労感謝の日",53289]
[null,"2046-01-01","元日",53328]
[null,"2046-01-08","成人の日",53335]
[null,"2046-02-11","建国記念の日",53369]
[null,"2046-02-12","振替休日",53370]
[null,"2046-02-23","天皇誕生日",53381]
[null,"2046-03-20","春分の日",53406]
[null,"2046-04-29","昭和の日",53446]
[null,"2046-04-30","振替休日",53447]
[null,"2046-05-03","憲法記念日",53450]
[null,"2046-05-04","みどりの日",53451]
[null,"2046-05-05","こどもの日",53452]
[null,"2046-07-16","海の日",53524]
[null,"2046-08-11","山の日",53550]
[null,"2046-09-17","敬老の日",53587]
[null,"2046-09-23","秋分の日",53593]
[null,"2046-09-24","振替休日",53594]
[null,"2046-10-08","スポーツの日",53608]
[null,"2046-11-03","文化の日",53634]
[null,"2046-11-23","勤労感謝の日",53654]
[null,"2046-12-24","振替休日",53685]
[null,"2047-01-01","元日",53693]
[null,"2047-01-14","成人の日",53706]
[null,"2047-02-11","建国記念の日",53734]
[null,"2047-02-23","天皇誕生日",53746]
[null,"2047-03-21","春分の日",53772]
[null,"2047-04-29","昭和の日",53811]
[null,"2047-05-03","憲法記念日",53815]
[null,"2047-05-04","みどりの日",53816]
[null,"2047-05-05","こどもの日",53817]
[null,"2047-05-06","振替休日",53818]
[null,"2047-07-15","海の日",53888]
[null,"2047-08-11","山の日",53915]
[null,"2047-08-12","振替休日",53916]
[null,"2047-09-16","敬老の日",53951]
[null,"2047-09-23","秋分の日",53958]
[null,"2047-10-14","スポーツの日",53979]
[null,"2047-11-03","文化の日",53999]
[null,"2047-11-04","振替休日",54000]
[null,"2047-11-23","勤労感謝の日",54019]
[null,"2048-01-01","元日",{"$f":"B452","v":54058}]
[null,"2048-01-13","成人の日",54070]
[null,"2048-02-11","建国記念の日",54099]
[null,"2048-02-23","天皇誕生日",54111]
[null,"2048-02-24","振替休日",54112]
[null,"2048-03-20","春分の日",54137]
[null,"2048-04-29","昭和の日",54177]
[null,"2048-05-03","憲法記念日",54181]
[null,"2048-05-04","みどりの日",54182]
[null,"2048-05-05","こどもの日",54183]
[null,"2048-05-06","振替休日",54184]
[null,"2048-07-20","海の日",54259]
[null,"2048-08-11","山の日",54281]
[null,"2048-09-21","敬老の日",54322]
[null,"2048-09-22","秋分の日",54323]
[null,"2048-10-12","スポーツの日",54343]
[null,"2048-11-03","文化の日",54365]
[null,"2048-11-23","勤労感謝の日",54385]
[null,"2049-01-01","元日",54424]
[null,"2049-01-11","成人の日",54434]
[null,"2049-02-11","建国記念の日",54465]
[null,"2049-02-23","天皇誕生日",54477]
[null,"2049-03-20","春分の日",54502]
[null,"2049-04-29","昭和の日",54542]
[null,"2049-05-03","憲法記念日",54546]
[null,"2049-05-04","みどりの日",54547]
[null,"2049-05-05","こどもの日",54548]
[null,"2049-07-19","海の日",54623]
[null,"2049-08-11","山の日",54646]
[null,"2049-09-20","敬老の日",54686]
[null,"2049-09-21","国民の休日",54687]
[null,"2049-09-22","秋分の日",54688]
[null,"2049-10-11","スポーツの日",54707]
[null,"2049-11-03","文化の日",54730]
[null,"2049-11-23","勤労感謝の日",54750]
[null,"2050-01-01","元日",54789]
[null,"2050-01-10","成人の日",54798]
[null,"2050-02-11","建国記念の日",54830]
[null,"2050-02-23","天皇誕生日",54842]
[null,"2050-03-20","春分の日",54867]
[null,"2050-03-21","振替休日",54868]
[null,"2050-04-29","昭和の日",54907]
[null,"2050-05-03","憲法記念日",54911]
[null,"2050-05-04","みどりの日",54912]
[null,"2050-05-05","こどもの日",54913]
[null,"2050-07-18","海の日",54987]
[null,"2050-08-11","山の日",55011]
[null,"2050-09-19","敬老の日",55050]
[null,"2050-09-23","秋分の日",55054]
[null,"2050-10-10","スポーツの日",55071]
[null,"2050-11-03","文化の日",55095]
[null,"2050-11-23","勤労感謝の日",55115]

{"sheet":"提出書類一覧","index":5,"n_rows":23,"n_cols":13,"rows_kept":23,"cut":false,"hidden":false,"merged":[[3,12,4,12],[9,7,11,7],[9,8,11,8],[9,9,11,9],[9,10,11,10],[9,11,11,11],[9,12,11,12],[3,7,4,7],[3,8,4,8],[3,9,4,9],[3,10,4,10],[3,11,4,11],[7,7,7,12],[14,0,14,5],[15,1,17,1],[15,4,17,4],[18,5,21,5],[18,4,21,4],[18,3,21,3],[18,2,21,2],[18,0,21,0],[18,1,21,1],[15,0,17,0],[15,8,17,8],[13,7,13,12],[15,11,17,11],[15,12,17,12],[15,9,17,9],[15,10,17,10],[15,7,17,7],[22,0,24,0],[22,1,24,1],[22,3,24,3],[15,2,17,2],[15,5,17,5],[22,5,24,5],[22,2,24,2],[22,4,24,4],[15,3,17,3],[3,0,3,5],[1,1,2,1],[1,4,2,4],[4,3,13,3],[4,4,13,4],[10,5,12,5],[0,7,0,12],[1,0,2,0],[1,2,2,2],[1,5,2,5],[1,7,2,7],[1,9,2,9],[1,10,2,10],[1,11,2,11],[0,0,0,5],[1,8,2,8],[1,12,2,12],[1,3,2,3]]}
["融資計画書　提出書類一覧",null,null,null,null,null,null,"交付申請　提出書類一覧"]
["No","シート\nリンク","提出書類","ファイル\n形式","ファイル名","備考",null,"No","シート\nリンク","提出書類","ファイル\n形式","ファイル名","備考"]
[]
["融資計画書（ＳＩＩ指定書式）",null,null,null,null,null,null,1,"リンク","（様式第３）交付申請書（新規融資案件）","Excel","新規融資分_交付申請書_受付番号"]
[1,"リンク","（様式第１）融資計画書","Excel","融資計画書_利子補給対象事業者名"]
[2,"リンク","（別添１）融資計画詳細１",null,null,null,null,2,"-","金銭消費貸借契約証書の写し","PDF","契約証書_受付番号","・金銭消費貸借契約書に保証人の名前が記載されている場合は、 該当部分を黒塗りにしてご提出ください。"]
[3,"リンク","（別添１）融資計画詳細２"]
[4,"リンク","（別添１）融資計画詳細３",null,null,null,null,"実績報告　提出書類一覧"]
[5,"リンク","（別添２）役員名簿（利子補給対象事業者）",null,null,"・利子補給対象事業者の情報をご入力ください。",null,"No","シート\nリンク","提出書類","ファイル\n形式","ファイル名","備考"]
[6,"リンク","（別添３）利子補給金の交付の対象となる経費リスト",null,null,null,null,1,"リンク","（様式第９）実績報告書","Excel","新規融資分_実績報告書_受付番号"]
[7,"リンク","（別添４）エネルギー消費効率の根拠（要件ア）",null,null,"・対象となる要件の情報をご入力ください。"]
[8,"リンク","（別添５）エネルギー消費原単位の改善根拠（要件イ）"]
[9,"リンク","（別添６）省エネルギー取組の根拠（要件ウ）"]
[10,"リンク","個人情報等の取得及び利用に関する同意書",null,null,"・補助事業ポータルで申請する場合は、不要となります。",null,"精算払請求　提出書類一覧"]
["添付書類（自由書式）",null,null,null,null,null,null,"No","シート\nリンク","提出書類","ファイル\n形式","ファイル名","備考"]
[11,"-","見積書","PDF","見積書","・（別添３）利子補給金の交付の対象となる経費リストの整合性が\n　確認できる見積書を添付してください。\n・作成日、作成者、宛先等が明記されている状態としてください。\n・費用の記載箇所がわかるようにマーカーや付箋等で印をつけて\n　ください。",null,1,"リンク","（様式第１１）精算払請求書","Excel","新規融資分_精算払請求書_受付番号"]
[]
[]
[12,"-","省エネ計算の裏付け資料"," 自由","省エネ計算の裏付け資料_（資料名）","・設備のカタログや仕様書又は実測データ、図面等の省エネ計算\n　の裏付け資料を添付してください。\n・作成者が明記された状態としてください。\n・省エネ計算根拠の記載箇所がわかるよう、マーカー等で印を\n　つけてください。"]
[]
[]
[]
[13,"-","経営革新計画の承認企業であることの承認書の写し\n（任意）","PDF","経営革新計画の承認書","・審査の評価項目として中小企業等経営強化法に基づき、経営革\n　新計画の承認を受けた企業が実施する利子補給対象事業であ\n　れば、加点対象となります。\n・該当する場合は、経営革新計画に係る承認書の写しを添付して\n　ください。\n・実績報告時に経営革新計画の達成状況について報告いただき\n　ます。未達成であっても、利子補給金に影響はございません。"]

{"sheet":"【参考】見込み省エネルギー量の算出（要件アと要件ウ）","index":6,"n_rows":31,"n_cols":2,"rows_kept":31,"cut":false,"hidden":false,"merged":[[3,1,6,15]]}
[]
[null,"【参考】見込み省エネルギー量の算出（要件アと要件ウ）"]
[]
[null,"新規融資の利子補給対象事業について、見込み省エネルギー量[kl/年]を算出いただきます。\n本事業の見込み省エネルギー量の考え方は以下のとおりです。"]
[]
[]
[]
[]
[]
[]
[]
[]
[]
[]
[]
[]
[]
[]
[]
[]
[]
[]
[]
[]
[]
[]
[]
["　※「工作機械・射出成形機等」、「データセンターのクラウドサービス活用」の計算方法"]
[null,"の一例は以下のとおりです。"]
["　※要件ア「照明や空調」、要件ウ「データセンターのクラウドサービス活用」については"]
[null,"簡易的な計算ができる申請サポートツールがあります（使用は任意）。"]

{"sheet":"【任意】エネルギー使用量の原油換算表","index":7,"n_rows":126,"n_cols":14,"rows_kept":126,"cut":false,"hidden":false,"merged":[[5,6,7,6],[5,1,7,5],[5,7,7,7],[5,11,5,13],[39,1,56,1],[39,2,39,5],[40,2,40,5],[41,2,41,5],[42,2,42,5],[43,2,43,5],[44,2,44,5],[36,2,38,3],[38,4,38,5],[9,1,38,1],[9,2,9,5],[10,2,10,5],[11,2,11,5],[12,2,12,5],[13,2,13,5],[8,1,8,5],[14,2,14,5],[15,2,15,5],[16,2,16,5],[17,2,17,5],[18,2,18,5],[19,2,19,5],[20,2,21,2],[20,3,20,5],[21,3,21,5],[34,2,34,5],[35,2,35,5],[30,2,30,5],[31,2,31,5],[32,2,32,5],[33,2,33,5],[22,2,23,2],[22,3,22,5],[23,3,23,5],[24,2,29,2],[24,3,24,5],[25,3,25,5],[26,3,26,5],[27,3,27,5],[28,3,28,5],[29,3,29,5],[71,3,72,3],[71,4,71,5],[72,4,72,5],[50,2,50,5],[51,2,51,5],[52,2,52,5],[53,2,53,5],[54,2,54,5],[45,2,45,5],[46,2,46,5],[47,2,47,5],[48,2,48,5],[49,2,49,5],[73,1,83,1],[73,2,74,2],[55,2,56,3],[55,4,55,5],[56,4,56,5],[75,3,75,5],[76,3,76,5],[77,3,77,5],[78,3,78,5],[79,4,79,5],[80,4,80,5],[73,3,73,5],[74,4,74,5],[75,2,83,2],[81,3,81,5],[82,4,82,5],[83,4,83,5],[57,1,72,1],[57,2,66,2],[57,3,57,5],[58,3,58,4],[59,3,59,5],[60,3,60,4],[61,3,61,5],[84,1,95,1],[84,2,92,2],[84,3,84,5],[85,3,85,5],[86,3,86,5],[87,3,87,5],[88,3,88,5],[89,3,90,4],[91,3,92,4],[93,2,93,5],[94,3,94,5],[95,3,95,5],[116,7,116,12],[118,3,118,6],[119,3,119,6],[121,4,121,6],[122,4,122,6],[103,11,103,12],[112,4,112,6],[113,4,113,6],[96,1,96,5],[97,2,97,5],[98,1,98,5],[99,2,99,5],[100,1,100,5],[101,1,101,5],[2,2,3,7],[104,11,104,12],[105,11,105,12],[106,11,106,12],[104,9,104,10],[105,9,105,10],[106,9,106,10],[103,5,106,7],[5,8,5,10],[8,9,8,10],[103,8,103,9],[8,12,8,13],[36,4,36,5],[37,4,37,5],[62,3,62,4],[63,3,63,5],[64,3,64,4],[65,3,66,3],[65,4,65,5],[67,2,72,2],[67,3,67,5],[68,3,68,5],[69,3,69,5],[70,3,70,5]]}
[]
[null,"エネルギー使用量の原油換算表（任意）"]
[null,null,"複数のエネルギーを使用する設備を同時に導入する\n場合、本シートを利用して同時に試算することが可能です。\n要件アで申請をご希望の方は9行目の生産量の入力は不要です。"]
[]
[null,null,"令和５年度より追加となった種類",null,null,null,null,null,"※クリーム色部分のみ入力可能。"]
[null,"エネルギーの種類",null,null,null,null,"単位","\n換算\n係数\n(GJ/\n単位)","導入設備",null,null,"一代前モデル"]
[null,null,null,null,null,null,null,null,"使用量\nC","販売する副生エネルギーの量 D","差引後の熱量\n(C-D)×換算係数","使用量\nA","販売した副生エネルギーの量 B","差引後の熱量\n(A-B)×換算係数"]
[null,null,null,null,null,null,null,null,"数値","数値","熱量（GJ）","数値","数値","熱量（GJ）"]
[null,"生産量　　"]
[null,"化石燃料","原油",null,null,null,"ｋｌ",38.299999999999997,0,0,{"$f":"(I10-J10)*$H10","v":0},0,0,{"$f":"(L10-M10)*$H10","v":0}]
[null,null,"原油のうちコンデンセート\n（ＮＧＬ）",null,null,null,"ｋｌ",34.799999999999997,0,0,{"$f":"(I11-J11)*$H11","v":0},0,0,{"$f":"(L11-M11)*$H11","v":0}]
[null,null,"揮発油（ガソリン）",null,null,null,"ｋｌ",33.4,0,0,{"$f":"(I12-J12)*$H12","v":0},0,0,0]
[null,null,"ナフサ",null,null,null,"ｋｌ",33.299999999999997,0,0,0,0,0,0]
[null,null,"ジェット燃料油",null,null,null,"ｋｌ",36.299999999999997,0,0,{"$f":"(I14-J14)*$H14","v":0},0,0,{"$f":"(L14-M14)*$H14","v":0}]
[null,null,"灯油",null,null,null,"ｋｌ",36.5,0,0,{"$f":"(I15-J15)*$H15","v":0},0,0,0]
[null,null,"軽油",null,null,null,"ｋｌ",38,0,0,0,0,0,0]
[null,null,"Ａ重油",null,null,null,"ｋｌ",38.9,0,0,0,0,0,0]
[null,null,"Ｂ・Ｃ重油",null,null,null,"ｋｌ",41.8,0,0,{"$f":"(I18-J18)*$H18","v":0},0,0,0]
[null,null,"石油アスファルト",null,null,null,"ｔ",40,0,0,{"$f":"(I19-J19)*$H19","v":0},0,0,0]
[null,null,"石油コークス",null,null,null,"ｔ",34.1,0,0,0,0,0,0]
[null,null,"石油ガス","液化石油ガス(ＬＰＧ)",null,null,"ｔ",50.1,0,0,0,0,0,0]
[null,null,null,"石油系炭化水素ガス",null,null,"千ｍ３",46.1,0,0,0,0,0,0]
[null,null,"可燃性\n天然ガス","液化天然ガス(ＬＮＧ)",null,null,"ｔ",54.7,0,0,0,0,0,0]
[null,null,null,"その他可燃性天然ガス",null,null,"千ｍ３",38.4,0,0,0,0,0,0]
[null,null,"石炭","輸入原料炭",null,null,"ｔ",28.7,0,0,0,0,0,0]
[null,null,null,"コークス用原料炭",null,null,"ｔ",28.9,0,0,0,0,0,0]
[null,null,null,"吹込用原料炭",null,null,"ｔ",28.3,0,0,0,0,0,0]
[null,null,null,"輸入一般炭",null,null,"ｔ",26.1,0,0,0,0,0,0]
[null,null,null,"国産一般炭",null,null,"ｔ",24.2,0,0,0,0,0,0]
[null,null,null,"輸入無煙炭",null,null,"ｔ",27.8,0,0,0,0,0,0]
[null,null,"石炭コークス",null,null,null,"ｔ",29,0,0,0,0,0,0]
[null,null,"コールタール",null,null,null,"ｔ",37.299999999999997,0,0,0,0,0,0]
[null,null,"コークス炉ガス",null,null,null,"千ｍ３",18.399999999999999,0,0,0,0,0,{"$f":"(L33-M33)*$H33","v":0}]
[null,null,"高炉ガス",null,null,null,"千ｍ３",3.23,0,0,0,0,0,0]
[null,null,"発電用高炉ガス",null,null,null,"千ｍ３",3.45,0,0,0,0,0,0]
[null,null,"転炉ガス",null,null,null,"千ｍ３",7.53,0,0,0,0,0,0]
[null,null,"その他の\n化石燃料",null,"都市ガス１３A",null,"千ｍ３",null,0,0,0,0,0,0]
[null,null,null,null,"（           ）",null,null,null,0,0,0,0,0,0]
[null,null,null,null,"（           ）",null,null,null,0,0,0,0,0,0]
[null,"非化石燃料","黒液",null,null,null,"ｔ",13.6,0,0,{"$f":"(I40-J40)*$H40","v":0},0,0,0]
[null,null,"木材",null,null,null,"ｔ",13.2,0,0,{"$f":"(I41-J41)*$H41","v":0},0,0,0]
[null,null,"木質廃材",null,null,null,"ｔ",17.100000000000001,0,0,0,0,0,0]
[null,null,"バイオエタノール",null,null,null,"ｋｌ",23.4,0,0,{"$f":"(I43-J43)*$H43","v":0},0,0,0]
[null,null,"バイオディーゼル",null,null,null,"ｋｌ",35.6,0,0,{"$f":"(I44-J44)*$H44","v":0},0,0,0]
[null,null,"バイオガス",null,null,null,"千ｍ３",21.2,0,0,0,0,0,0]
[null,null,"その他バイオマス",null,null,null,"ｔ",13.2,0,0,{"$f":"(I46-J46)*$H46","v":0},0,0,{"$f":"(L46-M46)*$H46","v":0}]
[null,null,"ＲＤＦ",null,null,null,"ｔ",18,0,0,{"$f":"(I47-J47)*$H47","v":0},0,0,{"$f":"(L47-M47)*$H47","v":0}]
[null,null,"ＲＰＦ",null,null,null,"ｔ",26.9,0,0,0,0,0,0]
[null,null,"廃タイヤ",null,null,null,"ｔ",33.200000000000003,0,0,0,0,0,0]
[null,null,"廃プラスチック",null,null,null,"ｔ",29.3,0,0,{"$f":"(I50-J50)*$H50","v":0},0,0,{"$f":"(L50-M50)*$H50","v":0}]
[null,null,"廃油",null,null,null,"ｋｌ",40.200000000000003,0,0,{"$f":"(I51-J51)*$H51","v":0},0,0,{"$f":"(L51-M51)*$H51","v":0}]
[null,null,"廃棄物ガス",null,null,null,"千ｍ３",21.2,0,0,0,0,0,0]
[null,null,"混合廃材",null,null,null,"ｔ",17.100000000000001,0,0,0,0,0,0]
[null,null,"水素",null,null,null,"ｔ",142,0,0,{"$f":"(I54-J54)*$H54","v":0},0,0,0]
[null,null,"アンモニア",null,null,null,"ｔ",22.5,0,0,{"$f":"(I55-J55)*$H55","v":0},0,0,0]
[null,null,"その他の\n非化石燃料",null,"（           ）",null,null,null,0,0,0,0,0,{"$f":"(L56-M56)*$H56","v":0}]
[null,null,null,null,"（           ）",null,null,null,0,0,{"$f":"(I57-J57)*$H57","v":0},0,0,{"$f":"(L57-M57)*$H57","v":0}]
[null,"熱","他者から購入した熱","産業用蒸気",null,null,"GＪ",1.17,0,0,{"$f":"(I58-J58)*$H58","v":0},0,0,{"$f":"(L58-M58)*$H58","v":0}]
[null,null,null,null,null,"うち非化石","GＪ",1.17,0,0,{"$f":"(I59-J59)*$H59","v":0},0,0,{"$f":"(L59-M59)*$H59","v":0}]
[null,null,null,"産業用以外の蒸気",null,null,"GＪ",1.19,0,0,{"$f":"(I60-J60)*$H60","v":0},0,0,0]
[null,null,null,null,null,"うち非化石","GＪ",1.19,0,0,{"$f":"(I61-J61)*$H61","v":0},0,0,{"$f":"(L61-M61)*$H61","v":0}]
[null,null,null,"温水",null,null,"GＪ",1.19,0,0,{"$f":"(I62-J62)*$H62","v":0},0,0,0]
[null,null,null,null,null,"うち非化石","GＪ",1.19,0,0,{"$f":"(I63-J63)*$H63","v":0},0,0,{"$f":"(L63-M63)*$H63","v":0}]
[null,null,null,"冷水",null,null,"GＪ",1.19,0,0,{"$f":"(I64-J64)*$H64","v":0},0,0,0]
[null,null,null,null,null,"うち非化石","GＪ",1.19,0,0,0,0,0,0]
[null,null,null,"その他","（           ）",null,"GＪ",null,0,0,0,0,0,0]
[null,null,null,null,null,"うち非化石","GＪ",null,0,0,0,0,0,0]
[null,null,"その他使用した熱","地熱",null,null,"GＪ",1,0,0,0,0,0,0]
[null,null,null,"温泉熱",null,null,"GＪ",1,0,0,0,0,0,0]
[null,null,null,"太陽熱",null,null,"GＪ",1,0,0,0,0,0,0]
[null,null,null,"雪氷熱",null,null,"GＪ",1,0,0,0,0,0,0]
[null,null,null,"その他","（           ）",null,"GＪ",null,0,0,0,0,0,0]
[null,null,null,null,"（           ）",null,"GＪ",null,0,0,0,0,0,0]
[null,"電気","電気事業者\nからの買電","電気事業者",null,null,"千ｋWh",8.64,0,0,0,0,0,{"$f":"(L74-M74)*$H74","v":0}]
[null,null,null,null,"うち非化石",null,"千ｋWh",8.64,0,0,{"$f":"(I75-J75)*$H75","v":0},0,0,{"$f":"(L75-M75)*$H75","v":0}]
[null,null,"上記以外の\n買電","オフサイト型ＰＰＡ\n（重み付けなし）",null,null,"千ｋWh",3.6,0,0,{"$f":"(I76-J76)*$H76","v":0},0,0,{"$f":"(L76-M76)*$H76","v":0}]
[null,null,null,"オフサイト型ＰＰＡ\n（重み付けあり）",null,null,"千ｋWh",3.6,0,0,0,0,0,{"$f":"(L77-M77)*$H77","v":0}]
[null,null,null,"自己託送\n（非燃料由来の非化石電気）",null,null,"千ｋWh",3.6,0,0,0,0,0,{"$f":"(L78-M78)*$H78","v":0}]
[null,null,null,"上記以外の自己託送",null,null,"千ｋWh",8.64,0,0,0,0,0,{"$f":"(L79-M79)*$H79","v":0}]
[null,null,null,null,"うち非化石",null,"千ｋWh",8.64,0,0,0,0,0,{"$f":"(L80-M80)*$H80","v":0}]
[null,null,null,null,"重み付け非化石",null,"千ｋWh",8.64,0,0,0,0,0,0]
[null,null,null,"（           ）",null,null,"千ｋWh",null,0,0,0,0,0,0]
[null,null,null,null,"うち非化石",null,"千ｋWh",null,0,0,0,0,0,0]
[null,null,null,null,"重み付け非化石",null,"千ｋWh",null,0,0,0,0,0,0]
[null,"電気","自家発電","太陽光",null,null,"千ｋWh",3.6,0,0,0,0,0,{"$f":"(L85-M85)*$H85","v":0}]
[null,null,null,"風力",null,null,"千ｋWh",3.6,0,0,0,0,0,0]
[null,null,null,"地熱",null,null,"千ｋWh",3.6,0,0,0,0,0,0]
[null,null,null,"水力",null,null,"千ｋWh",3.6,0,0,0,0,0,0]
[null,null,null,"その他\n（非燃料由来の非化石）",null,null,"千ｋWh",3.6,0,0,0,0,0,0]
[null,null,null,"その他\n（燃料）",null,"化石","千ｋWh",8.64,0,0,{"$f":"(-J90)*$H90","v":0},0,0,{"$f":"(-M90)*$H90","v":0}]
[null,null,null,null,null,"非化石","千ｋWh",8.64,0,0,{"$f":"(-J91)*$H91","v":0},0,0,{"$f":"(-M91)*$H91","v":0}]
[null,null,null,"その他\n（熱）",null,"化石","千ｋWh",8.64,0,0,{"$f":"(-J92)*$H92","v":0},0,0,{"$f":"(-M92)*$H92","v":0}]
[null,null,null,null,null,"非化石","千ｋWh",8.64,0,0,{"$f":"(-J93)*$H93","v":0},0,0,{"$f":"(-M93)*$H93","v":0}]
[null,null,"小計（電気）※自家発電（燃料・熱）除く",null,null,null,"千ｋWh","-",{"$f":"SUM(I74,I76:I79,I82,I85:I89)","v":0},{"$f":"SUM(J74,J76:J79,J82,J85:J89)","v":0},0,{"$f":"SUM(L74,L76:L79,L82,L85:L89)","v":0},0,0]
[null,null,null,"うち非化石",null,null,"千ｋWh","-",{"$f":"SUM(I75:I76,I78,I80,I83,I85:I89)","v":0},0,0,{"$f":"SUM(L75:L76,L78,L80,L83,L85:L89)","v":0},0,0]
[null,null,null,"重み付け非化石",null,null,"千ｋWh","-",{"$f":"SUM(I77,I81,I84)","v":0},0,0,{"$f":"SUM(L77,L81,L84)","v":0},0,0]
[null,"熱量合計",null,null,null,null,"GJ","-",null,null,{"$f":"SUM(K10:K58,K60,K62,K64,K66,K68:K73,K94,K90:K93)","v":0},null,null,{"$f":"SUM(N10:N58,N60,N62,N64,N66,N68:N73,N94,N90:N93)","v":0}]
[null,null,"うち非化石",null,null,null,"GJ","-",null,null,{"$f":"SUM(K40:K57,K59,K61,K63,K65,K67:K73,K95:K96,K91,K93)","v":0},null,null,{"$f":"SUM(N40:N57,N59,N61,N63,N65,N67:N73,N95:N96,N91,N93)","v":0}]
[null,"原油換算量\n(10GJ=0.258kl)",null,null,null,null,"kl","-",null,null,{"$f":"K97*0.0258","v":0},null,null,{"$f":"N97*0.0258","v":0}]
[null,null,"うち非化石",null,null,null,"kl","-",null,null,{"$f":"ROUND(K98*0.0258,1)","v":0},null,null,{"$f":"ROUND(N98*0.0258,1)","v":0}]
[null,"エネルギー原単位",null,null,null,null,{"$f":"\"kl/\"&G9","v":"kl/"},null,"e",null,{"$f":"IF(J9=0,\"\",K99/J9)","v":""},"d",null,{"$f":"IF(M9=0,\"\",N99/M9)","v":""}]
[null,"エネルギー原単位",null,null,null,null,{"$f":"\"kl/\"&G9","v":"kl/"},null,null,null,{"$f":"IF(K101>1,ROUND(K101,3),--TEXT(K101,\"0.0e+000\"))","v":{"$error":"#VALUE!"}},null,null,{"$f":"IF(N101>1,ROUND(N101,3),--TEXT(N101,\"0.0e+000\"))","v":{"$error":"#VALUE!"}}]
[]
[null,null,null,null,null,"要件アで申請する際に別添４の省エネルギー量はこちらの値をご参照ください。",null,null,"導入設備のエネルギー使用量(kWh)",null,{"$f":"SUM(I94:I96)*1000","v":0},"一代前モデルのエネルギー使用量(kWh)",null,{"$f":"SUM(L94:L96)*1000","v":0}]
[null,null,null,null,null,null,null,null,null,"年間見込み省エネルギー量",null,"ｋWｈ",null,{"$f":"(L94-I94)*1000","v":0}]
[null,null,null,null,null,null,null,null,null,"年間見込み省エネルギー量原油換算値",null,"kl/年",null,{"$f":"(N99-K99)","v":0}]
[null,null,null,null,null,null,null,null,null,"年間見込み省エネルギー率",null,"％",null,{"$f":"IFERROR(ROUND((1-(I94/L94)),5)*100,\"\")","v":""}]
[null,null,"（注）","・導入後のエネルギー使用量は、補助事業に係わるエネルギー消費量の差異のみを織り込む。"]
[null,null,"　　　","・事業場への入出のエネルギー全てに関して記述すること。"]
[null,null,"　　　","・導入後に生産量や稼働時間等が減る見込みがある場合、導入後の生産量は過去の実績年度と同じとすることとし、"]
[null,null,"　　　","　同条件として省エネルギー計算すること。"]
[]
[null,null,"【省エネルギー効果】",null,"省エネルギー率",null,null,"Ｅ",null,null,null,{"$f":"ROUND((N99-#REF!)/N99*100,1)","v":{"$error":"#REF!"}},"%","（ｂ－ｃ）／ｂ"]
[null,null,null,null,"省エネルギー量",null,null,"Ｆ",null,null,null,{"$f":"ROUND(N99-#REF!,1)","v":{"$error":"#REF!"}},"kl","　ｂ－ｃ"]
[]
[null,null,"【非化石化を図る事業の増エネ判定】"]
[null,null,null,null,null,null,null,{"$f":"IF(N99>=((#REF!-(#REF!-N100))+(#REF!-N100)*0.8),\"増エネではない\",\"増エネ（申請不可）\")","v":{"$error":"#REF!"}}]
[null,null,"【非化石化を図る事業の省エネルギー効果】"]
[null,null,null,"非化石転換した部分に相当する\n化石エネルギー使用量（原油換算）",null,null,null,"Ｇ",null,null,null,0,"kl"]
[null,null,null,"事業実施後に増加した非化石燃料",null,null,null,"Ｈ",null,null,null,{"$f":"ROUND(#REF!-N100,1)","v":{"$error":"#REF!"}},"kl","　ｅ－ｄ"]
[]
[null,null,null,null,"非化石使用量",null,null,"Ⅰ",null,null,null,{"$f":"MIN(L119:L120)","v":{"$error":"#REF!"}},"kl","　Ｇ又はＨ"]
[null,null,null,null,"非化石割合増加率",null,null,"Ｊ",null,null,null,{"$f":"ROUND(L122/N99*100,1)","v":{"$error":"#REF!"}},"%","　I／ｂ"]
[]
[]
[null,null,"【エネルギー原単位の改善効果】",null,null,null,null,null,{"$f":"IF(OR(K101=\"\",N101=\"\"),\"\",ROUND((1-(K101/N101))*100,2))","v":""},"％","　1-(ｅ/ｄ) %"]

{"sheet":"個人情報等の取得及び利用に関する同意書","index":8,"n_rows":83,"n_cols":10,"rows_kept":83,"cut":false,"hidden":false,"merged":[[60,1,60,11],[64,1,64,11],[67,1,67,11],[71,1,71,11],[76,1,76,11],[62,1,62,11],[63,1,63,11],[61,1,61,11],[39,1,39,11],[19,2,19,11],[22,2,22,11],[26,2,26,11],[29,1,29,11],[21,1,21,11],[54,2,54,5],[54,9,54,10],[57,2,57,10],[25,2,25,11],[10,1,10,11],[17,1,17,11],[11,1,11,11],[12,1,12,11],[13,1,13,11],[14,1,14,11],[51,2,51,5],[51,9,51,10],[47,1,47,11],[40,1,40,11],[28,1,28,11],[32,1,32,11],[3,10,7,10],[75,1,75,11],[52,2,52,5],[52,9,52,10],[53,2,53,5],[53,9,53,10],[56,2,56,10],[70,1,70,11],[74,1,74,11],[48,1,48,11],[50,2,50,5],[50,9,50,10],[18,1,18,11],[20,2,20,11],[23,2,23,11],[24,2,24,11]]}
[]
[]
[]
[]
[null,null,null,"〇個人情報等の取得及び利用に関する同意"]
[null,null,null,null,"当金融機関は、令和７年度省エネルギー設備投資利子補給金の申請にあたり、個人情報の取得"]
[null,null,null,null,"及び利用に関する以下の項目を確認し、利子補給対象事業者の同意の上で書類を提出します。"]
[]
[]
["（１）個人情報の取得について"]
[null,"一般社団法人環境共創イニシアチブ（以下「ＳＩＩ」という）は、執行する令和７年度省エネルギー設備投資利子補給金（以下「本"]
[null,"事業」という。）の実施のため、以下「（２）」に記載する情報を本事業の実施期間にわたり取得する。これらの取得した情報"]
[null,"を、「（３）」に記載する利用目的で利用し、「（５）」に記載する範囲・目的で提供することに、指定金融機関は同意するものとする。"]
[null,"ＳＩＩの個人情報保護方針は以下を確認すること。"]
[null,"https://sii.or.jp/privacy/"]
[]
["（２）取得する情報"]
[null,"ＳＩＩは、本事業の実施期間に以下の情報を取得する。"]
[null,"ア）指定金融機関の情報"]
[null,null,"①氏名、住所、電話番号、メールアドレス等の指定金融機関情報"]
[null,null,"②その他、本事業に必要な情報"]
[null,"イ）指定金融機関経由で提供を受ける利子補給金対象事業者の情報"]
[null,null,"①氏名、生年月日、性別、住所、電話番号、メールアドレス、口座情報等"]
[null,null,"②融資額、融資利率、融資期間、返済条件等の融資情報"]
[null,null,"③エネルギー消費量（基準値、計画値、実績値）、発電量、売電量、買電量等のエネルギー使用情報"]
[null,null,"④製品名、型番、性能値等の設備情報"]
[null,null,"⑤その他、本事業に必要な情報"]
[]
[null,"なお、指定金融機関がＳＩＩに提供する上記の情報に、指定金融機関が自ら取得した個人情報が含まれる場合、特に上記イ）の"]
[null,"利子補給金対象事業者の情報は、ＳＩＩへの提供及びＳＩＩから国等への提供に対して適切な同意を取得するものとする。"]
[]
["（３）利用目的"]
[null,"ＳＩＩは「（２）」で取得した情報を以下の目的で利用する。"]
[null,null,"①本事業の審査、管理、事業進捗状況の把握"]
[null,null,"②省エネルギー効果の計算・把握"]
[null,null,"③ＳＩＩの各種情報案内、アンケート・調査等の実施"]
[null,null,"④上記の目的に付随する業務"]
[]
["（４）第三者への提供について"]
[null,"ＳＩＩは「（２）」で取得した情報を、以下の場合及び「（５）」へ記載する提供先を除き、第三者への提供を行わない。提供が必要と"]
[null,"なる場合は、事前に提供先と提供目的、提供する項目などを明示し、本人に同意を得たものに限る。"]
[null,null,"①法令により提供を求められた場合"]
[null,null,"②人の生命・身体又は財産の保護のために必要がある場合であって、本人の同意を得ることが困難である場合"]
[null,null,"③国の機関又は地方公共団体又はその委託を受けたものが法令の定める事務を遂行することに対して協力する必要がある"]
[null,null," 　場合"]
[]
["（５）本事業における提供先及び提供情報について"]
[null,"本事業では、以下の表に示す提供先、利用目的で取得情報を匿名加工は行わずに※1提供する。各提供先に本事業で取得"]
[null,"した情報を提供する場合は、提供元と提供先で利用目的等を明示した適切な契約締結を行うか、利用規約等の明示を行う。"]
[]
[null,null,"提供先※2",null,null,null,"利用目的","提供情報","提供方法","備考"]
[null,null,"国",null,null,null,"・本事業の申請状況、効果分析\n・その他省エネに資する調査、研究等","（２）\nア）①②\nイ）①②③④⑤","メール、Webストレージ"]
[null,null,"一般",null,null,null,"・指定金融機関名、交付決定事業者名（法人のみ）、事業内容、交付決定金額の確認","指定金融機関名、事業者名（法人のみ）、事業名、交付決定金額","ＳＩＩホームページへの掲載"]
[null,null,"学校法人、行政機関、研究開発を業とする法人",null,null,null,"・学術、研究、調査、商品/サービス開発等","（2）イ）①の住所のうち、市区町村まで、③","メール","提供先の会社名、連絡先を取得した上で、利用目的を明示し、同意を取得した方のみ  "]
[null,null,"経済産業省、及びその業務委託先、独立行政法人、大学その他の研究機関・施設等機関",null,null,null,"・効果的な政策立案及び政策の効果検証（ＥＢＰＭ）","（２）\nア）①②\nイ）①②③④⑤","　"]
[]
[null,null,"※１氏名、電話番号等の直接的な個人情報を含まない場合でも、１:１で紐づく情報は個人情報として扱う"]
[null,null,"※２「（８）」に示す外部委託先は提供先として扱わない"]
[]
["（６）匿名加工情報の提供について"]
[null,"本事業では、ＳＩＩのホームページ等で省エネルギー分野における技術やサービスのさらなる向上に寄与することを目的として、"]
[null,"「（２）」で取得した情報を、個人が特定できないよう匿名加工を行ったうえで、外部へ提供する場合がある。"]
[null,"提供時には、利用目的を明示し、個人を特定するような行為を行わないことに対して同意を取得する。"]
[null,"ＳＩＩの匿名加工情報に関するポリシーに関しては、以下を確認すること。"]
[null,"https://sii.or.jp/anonymous_processing/index.html"]
[]
["（７）個人情報提供の任意性"]
[null,"個人情報が提供されない場合、利用目的を遂行できないことがある。"]
[]
["（８）外部委託"]
[null,"ＳＩＩは「（２）」で取得した情報を、個人情報に関する機密保持契約を締結している業務委託会社等へ、利用目的の達成に必要"]
[null,"な範囲で委託することがある。委託会社等に対しては、適切な管理及び保護を行う。"]
[]
["（９）開示請求等について"]
[null,"ＳＩＩが保有している個人データ、個人情報の利用目的の通知、個人情報の開示、内容の訂正、追加又は削除、利用の停止、"]
[null,"消去及び第三者への提供の停止等に誠実に対応する。手続きは下記の相談窓口まで連絡すること。請求内容を確認し、対応"]
[null,"を行う。"]
[]
[]
["＜相談窓口＞"]
[null,"一般社団法人環境共創イニシアチブ"]
[null,"個人情報取扱管理担当"]
[null,"p-support@sii.or.jp"]

{"sheet":"（様式第１）融資計画書","index":9,"n_rows":78,"n_cols":55,"rows_kept":78,"cut":false,"hidden":false,"merged":[[74,18,75,23],[45,17,54,33],[70,18,71,32],[74,1,75,6],[70,1,71,15],[45,0,54,16],[29,20,31,23],[29,25,31,26],[29,27,31,33],[32,25,35,26],[32,27,33,32],[32,33,34,33],[34,27,35,32],[26,27,28,33],[15,25,17,26],[15,27,17,33],[18,20,20,23],[18,25,20,26],[18,27,20,33],[21,25,24,26],[21,27,22,32],[21,33,25,33],[23,27,24,32],[26,25,28,26],[26,8,28,9],[29,3,31,6],[29,8,31,9],[21,8,24,9],[32,8,35,9],[34,10,35,16],[21,10,22,16],[23,10,24,16],[26,10,28,16],[29,10,31,16],[32,10,33,16],[0,0,1,16],[15,8,17,9],[18,3,20,6],[18,8,20,9],[15,10,17,16],[18,10,20,16]]}
["(様式第１)融資計画書",null,null,null,null,null,null,null,null,null,null,null,null,null,null,null,null,null,null,null,null,null,null,null,null,null,null,null,null,null,null,null,null,null,null,null,null,null,null,null,null,null,null,null,null,null,null,null,null,null,null,null,"非表示","非表示","非表示"]
[]
["様式第１",null,null,null,null,null,null,null,null,null,null,null,null,null,null,null,null,{"$f":"A3","v":"様式第１"},null,null,null,null,null,null,null,null,null,null,null,null,null,null,null,null,null,null,null,null,null,null,null,null,null,null,null,null,null,null,null,null,null,null,"様式第1_L6","年",{"$f":"IF(L6=\"\",\"\",L6)","v":""}]
[null,null,null,null,null,null,null,null,null,null,null,null,null,null,null,null,null,null,null,null,null,null,null,null,null,null,null,null,null,null,null,null,null,null,null,null,null,null,null,null,null,null,null,null,null,null,null,null,null,null,null,null,"様式第1_N6","月",{"$f":"IF(N6=\"\",\"\",N6)","v":""}]
[null,null,null,null,null,null,null,null,null,null,null,null,null,null,null,null,null,null,null,null,null,null,null,null,null,null,null,null,null,null,null,null,null,null,null,null,null,null,null,null,null,null,null,null,null,null,null,null,null,null,null,null,"様式第1_P6","日",{"$f":"IF(P6=\"\",\"\",P6)","v":""}]
[null,null,null,null,null,null,null,null,null,null,null,null,"年",null,"月",null,"日",null,null,null,null,null,null,null,null,null,null,null,"202○",{"$f":"M6","v":"年"},"○○",{"$f":"O6","v":"月"},"○○",{"$f":"Q6","v":"日"},null,null,null,null,null,null,null,null,null,null,null,null,null,null,null,null,null,null,"様式第1_K16","指定金融機関_住所",{"$f":"IF(K16=\"\",\"\",K16)","v":""}]
[null,null,null,null,null,null,null,null,null,null,null,null,null,null,null,null,null,null,null,null,null,null,null,null,null,null,null,null,null,null,null,null,null,null,null,null,null,null,null,null,null,null,null,null,null,null,null,null,null,null,null,null,"様式第1_K19","指定金融機関_名称",{"$f":"IF(K19=\"\",\"\",K19)","v":""}]
[null,null,null,null,null,null,null,null,null,null,null,null,null,null,null,null,null,null,null,null,null,null,null,null,null,null,null,null,null,null,null,null,null,null,null,null,null,null,null,null,null,null,null,null,null,null,null,null,null,null,null,null,"様式第1_K22","指定金融機関_役職名",{"$f":"IF(K22=\"\",\"\",K22)","v":""}]
["一般社団法人　環境共創イニシアチブ",null,null,null,null,null,null,null,null,null,null,null,null,null,null,null,null,{"$f":"A9","v":"一般社団法人　環境共創イニシアチブ"},null,null,null,null,null,null,null,null,null,null,null,null,null,null,null,null,null,null,null,null,null,null,null,null,null,null,null,null,null,null,null,null,null,null,"様式第1_K24","指定金融機関_代表者名",{"$f":"IF(K24=\"\",\"\",K24)","v":""}]
[null,null,null,null,null,null,null,null,null,null,null,null,null,null,null,null,null,null,null,null,null,null,null,null,null,null,null,null,null,null,null,null,null,null,null,null,null,null,null,null,null,null,null,null,null,null,null,null,null,null,null,null,"様式第1_K27","利子補給対象事業者_住所",{"$f":"IF(K27=\"\",\"\",K27)","v":""}]
["代 表 理 事　殿",null,null,null,null,null,null,null,null,null,null,null,null,null,null,null,null,{"$f":"A11","v":"代 表 理 事　殿"},null,null,null,null,null,null,null,null,null,null,null,null,null,null,null,null,null,null,null,null,null,null,null,null,null,null,null,null,null,null,null,null,null,null,"様式第1_K30","利子補給対象事業者_名称",{"$f":"IF(K30=\"\",\"\",K30)","v":""}]
[null,null,null,null,null,null,null,null,null,null,null,null,null,null,null,null,null,null,null,null,null,null,null,null,null,null,null,null,null,null,null,null,null,null,null,null,null,null,null,null,null,null,null,null,null,null,null,null,null,null,null,null,"様式第1_K33","利子補給対象事業者_役職名",{"$f":"IF(K33=\"\",\"\",K33)","v":""}]
[null,null,null,null,null,null,null,null,null,null,null,null,null,null,null,null,null,null,null,null,null,null,null,null,null,null,null,null,null,null,null,null,null,null,null,null,null,null,null,null,null,null,null,null,null,null,null,null,null,null,null,null,"様式第1_K35","利子補給対象事業者_代表者名",{"$f":"IF(K35=\"\",\"\",K35)","v":""}]
[null,null,null,null,null,null,null,null,null,null,null,null,null,null,null,null,null,null,null,null,null,null,null,null,null,null,null,null,null,null,null,null,null,null,null,null,null,null,null,null,null,null,null,null,null,null,null,null,null,null,null,null,"様式第1_B72","融資名称",{"$f":"IF(B71=\"\",\"\",B71)","v":""}]
[null,null,null,null,null,null,null,null,null,null,{"$f":"IF(K16=\"\",\"↓住所は都道府県からご入力ください。\",\"\")","v":"↓住所は都道府県からご入力ください。"},null,null,null,null,null,null,null,null,null,null,null,null,null,null,null,null,null,null,null,null,null,null,null,null,null,null,null,null,null,null,null,null,null,null,null,null,null,null,null,null,null,"様式第1_B76","融資計画の内容",{"$f":"IF(B75=\"\",\"\",B75)","v":""}]
[null,null,null,null,null,null,null,null,"住　　所",null,null,null,null,null,null,null,null,null,null,null,null,null,null,null,null,{"$f":"I16","v":"住　　所"},null,"○○県○○市○○町○丁目○番○号"]
[]
[]
[null,null,null,"指定金融機関",null,null,null,null,"名　　称",null,null,null,null,null,null,null,null,null,null,null,{"$f":"D19","v":"指定金融機関"},null,null,null,null,{"$f":"I19","v":"名　　称"},null,"株式会社○○銀行"]
[]
[]
[null,null,null,null,null,null,null,null,"代表者等名",null,null,null,null,null,null,null,null,null,null,null,null,null,null,null,null,{"$f":"I22","v":"代表者等名"},null,"代表取締役"]
[]
[null,null,null,null,null,null,null,null,null,null,null,null,null,null,null,null,null,null,null,null,null,null,null,null,null,null,null,"○○　○○"]
[]
[]
[null,null,null,null,null,null,null,null,"住　　所",null,null,null,null,null,null,null,null,null,null,null,null,null,null,null,null,{"$f":"I27","v":"住　　所"},null,"○○県○○市○○町○丁目○番○号"]
[]
[]
[null,null,null,"利子補給対象事業者",null,null,null,null,"名　　称",null,null,null,null,null,null,null,null,null,null,null,{"$f":"D30","v":"利子補給対象事業者"},null,null,null,null,{"$f":"I30","v":"名　　称"},null,"株式会社○○○○"]
[]
[]
[null,null,null,null,null,null,null,null,"代表者等名",null,null,null,null,null,null,null,null,null,null,null,null,null,null,null,null,{"$f":"I33","v":"代表者等名"},null,"代表取締役"]
[]
[null,null,null,null,null,null,null,null,null,null,null,null,null,null,null,null,null,null,null,null,null,null,null,null,null,null,null,"○○　○○"]
[]
[]
[]
[null,null,null,null,null,null,null,null,"令和７年度省エネルギー設備投資利子補給金",null,null,null,null,null,null,null,null,null,null,null,null,null,null,null,null,{"$f":"I39","v":"令和７年度省エネルギー設備投資利子補給金"}]
[]
[null,null,null,null,null,null,null,null,"融資計画書",null,null,null,null,null,null,null,null,null,null,null,null,null,null,null,null,{"$f":"I41","v":"融資計画書"}]
[]
[]
[]
[]
["　省エネルギー設備投資利子補給金交付規程（ＳＩＩ－ＢＦＡ２４０－０１－２４０４０１－Ｒ。以下「交付規程」という。）第３条の規定する交付対象融資を行うため、交付規程第６条の規定に基づき、融資計画について下記のとおり提出します。",null,null,null,null,null,null,null,null,null,null,null,null,null,null,null,null,{"$f":"A46","v":"　省エネルギー設備投資利子補給金交付規程（ＳＩＩ－ＢＦＡ２４０－０１－２４０４０１－Ｒ。以下「交付規程」という。）第３条の規定する交付対象融資を行うため、交付規程第６条の規定に基づき、融資計画について下記のとおり提出します。"}]
[]
[]
[]
[]
[]
[]
[]
[]
[]
[]
[]
[]
[]
[]
[]
[]
[]
[]
[]
[]
[null,null,null,null,null,null,null,null,"記",null,null,null,null,null,null,null,null,null,null,null,null,null,null,null,null,{"$f":"I67","v":"記"}]
[]
[]
["１．融資名称",null,null,null,null,null,null,null,null,null,null,null,null,null,null,null,null,{"$f":"A70","v":"１．融資名称"}]
[null,null,null,null,null,null,null,null,null,null,null,null,null,null,null,null,null,null,"○○○○○○○にともなう融資"]
[]
[]
["２．融資計画の内容",null,null,null,null,null,null,null,null,null,null,null,null,null,null,null,null,{"$f":"A74","v":"２．融資計画の内容"}]
[null,null,null,null,null,null,null,null,null,null,null,null,null,null,null,null,null,null,"※（別添１）融資計画詳細　参照"]
[]
[]
["（注）この申請書には、ＳＩＩが指示する書面を添付すること。",null,null,null,null,null,null,null,null,null,null,null,null,null,null,null,null,{"$f":"A78","v":"（注）この申請書には、ＳＩＩが指示する書面を添付すること。"}]

{"sheet":"（別添１）融資計画詳細１","index":10,"n_rows":219,"n_cols":55,"rows_kept":219,"cut":false,"hidden":false,"merged":[[202,34,209,34],[202,39,209,39],[210,1,217,1],[210,7,217,7],[210,12,217,12],[210,28,217,28],[210,34,217,34],[210,39,217,39],[202,0,217,0],[202,1,209,1],[202,7,209,7],[202,12,209,12],[202,27,217,27],[202,28,209,28],[186,34,193,34],[186,39,193,39],[194,1,201,1],[194,7,201,7],[194,12,201,12],[194,28,201,28],[194,34,201,34],[194,39,201,39],[186,0,201,0],[186,1,193,1],[186,7,193,7],[186,12,193,12],[186,27,201,27],[186,28,193,28],[170,34,177,34],[170,39,177,39],[178,1,185,1],[178,7,185,7],[178,12,185,12],[178,28,185,28],[178,34,185,34],[178,39,185,39],[170,0,185,0],[170,1,177,1],[170,7,177,7],[170,12,177,12],[170,27,185,27],[170,28,177,28],[154,34,161,34],[154,39,161,39],[162,1,169,1],[162,7,169,7],[162,12,169,12],[162,28,169,28],[162,34,169,34],[162,39,169,39],[154,0,169,0],[154,1,161,1],[154,7,161,7],[154,12,161,12],[154,27,169,27],[154,28,161,28],[138,34,145,34],[138,39,145,39],[146,1,153,1],[146,7,153,7],[146,12,153,12],[146,28,153,28],[146,34,153,34],[146,39,153,39],[138,0,153,0],[138,1,145,1],[138,7,145,7],[138,12,145,12],[138,27,153,27],[138,28,145,28],[122,34,129,34],[122,39,129,39],[130,1,137,1],[130,7,137,7],[130,12,137,12],[130,28,137,28],[130,34,137,34],[130,39,137,39],[122,0,137,0],[122,1,129,1],[122,7,129,7],[122,12,129,12],[122,27,137,27],[122,28,129,28],[106,34,113,34],[106,39,113,39],[114,1,121,1],[114,7,121,7],[114,12,121,12],[114,28,121,28],[114,34,121,34],[114,39,121,39],[106,0,121,0],[106,1,113,1],[106,7,113,7],[106,12,113,12],[106,27,121,27],[106,28,113,28],[90,34,97,34],[90,39,97,39],[98,1,105,1],[98,7,105,7],[98,12,105,12],[98,28,105,28],[98,34,105,34],[98,39,105,39],[90,0,105,0],[90,1,97,1],[90,7,97,7],[90,12,97,12],[90,27,105,27],[90,28,97,28],[74,34,81,34],[74,39,81,39],[82,1,89,1],[82,7,89,7],[82,12,89,12],[82,28,89,28],[82,34,89,34],[82,39,89,39],[74,0,89,0],[74,1,81,1],[74,7,81,7],[74,12,81,12],[74,27,89,27],[74,28,81,28],[58,34,65,34],[58,39,65,39],[66,1,73,1],[66,7,73,7],[66,12,73,12],[66,28,73,28],[66,34,73,34],[66,39,73,39],[58,0,73,0],[58,1,65,1],[58,7,65,7],[58,12,65,12],[58,27,73,27],[58,28,65,28],[42,0,57,0],[42,1,49,1],[42,7,49,7],[42,12,49,12],[42,27,57,27],[38,0,40,1],[42,28,49,28],[42,34,49,34],[42,39,49,39],[50,1,57,1],[50,7,57,7],[50,12,57,12],[50,28,57,28],[50,34,57,34],[50,39,57,39],[38,29,38,39],[39,2,39,7],[39,8,40,8],[39,9,40,9],[39,10,40,10],[39,11,39,12],[39,18,40,19],[39,20,40,21],[39,22,40,22],[38,2,38,12],[38,13,39,16],[38,18,38,23],[39,23,40,23],[35,14,35,16],[35,10,35,12],[35,37,35,39],[35,41,35,43],[34,10,34,12],[34,14,34,16],[34,37,34,39],[34,41,34,43],[38,40,39,43],[38,24,38,26],[38,27,40,28],[39,26,40,26],[39,29,39,34],[39,35,40,35],[39,36,40,36],[39,37,40,37],[39,38,39,39],[25,33,26,33],[25,35,26,43],[27,0,30,1],[27,2,28,4],[27,5,28,5],[27,8,32,16],[27,27,30,28],[27,29,28,31],[27,32,28,32],[25,0,26,1],[25,2,26,4],[25,5,26,5],[25,8,26,16],[25,27,26,28],[25,29,26,31],[31,32,32,32],[31,33,32,33],[27,35,32,43],[29,2,30,4],[29,5,30,5],[29,29,30,31],[29,32,30,32],[21,0,22,1],[21,2,22,4],[21,5,22,5],[21,27,22,28],[21,29,22,31],[21,32,22,32],[31,0,32,1],[31,2,32,4],[31,5,32,5],[31,27,32,28],[31,29,32,31],[25,32,26,32],[14,32,15,32],[16,2,17,4],[16,5,17,5],[16,29,17,31],[16,32,17,32],[17,8,18,16],[17,35,18,43],[18,0,19,1],[18,2,19,4],[18,5,19,5],[18,27,19,28],[18,29,19,31],[18,32,19,32],[18,33,19,33],[19,8,24,16],[19,35,24,43],[21,33,22,33],[23,0,24,1],[23,2,24,4],[23,5,24,5],[23,27,24,28],[23,29,24,31],[23,32,24,32],[23,33,24,33],[8,32,9,32],[8,33,9,33],[8,35,9,43],[10,0,11,1],[10,2,11,4],[10,5,11,5],[10,8,16,16],[10,27,11,28],[10,29,11,31],[10,32,11,32],[10,33,11,33],[10,35,16,43],[12,0,13,1],[12,2,13,4],[12,5,13,5],[12,27,13,28],[12,29,13,31],[12,32,13,32],[12,33,13,33],[14,0,17,1],[14,2,15,4],[14,5,15,5],[14,27,17,28],[14,29,15,31],[0,0,1,16],[2,2,3,2],[2,29,3,29],[8,0,9,1],[8,2,9,4],[8,5,9,5],[8,8,9,16],[8,27,9,28],[8,29,9,31]]}
["（別添１）融資計画詳細１",null,null,null,null,null,null,null,null,null,null,null,null,null,null,null,null,null,null,null,null,null,null,null,null,null,null,null,null,null,null,null,null,null,null,null,null,null,null,null,null,null,null,null,null,null,null,null,null,null,null,null,"非表示","非表示","非表示"]
[]
["（別添１）",null,"融資計画",null,null,null,null,null,null,null,null,null,null,"非表示",null,"非表示",null,null,"非表示","非表示","非表示","非表示","非表示","非表示","非表示","非表示","非表示",{"$f":"A3","v":"（別添１）"},null,{"$f":"C3","v":"融資計画"},null,null,null,null,null,null,null,null,null,null,null,null,null,null,null,null,null,null,null,null,null,null,"別添1_C9","融資額",{"$f":"IF(C9=\"\",\"\",C9)","v":""}]
["融資計画詳細１",null,null,null,null,null,null,null,null,null,null,null,null,null,null,null,null,null,null,null,null,null,null,null,null,null,null,{"$f":"A4","v":"融資計画詳細１"},null,null,null,null,null,null,null,null,null,null,null,null,null,null,null,null,null,null,null,null,null,null,null,null,"別添1_C11","元金均等返済額",{"$f":"IF(C11=\"\",\"\",C11)","v":""}]
[null,null,null,null,null,null,null,null,null,null,null,null,null,null,null,null,null,null,null,null,null,null,null,null,null,null,null,null,null,null,null,null,null,null,null,null,null,null,null,null,null,null,null,null,null,null,null,null,null,null,null,null,"別添1_C13","最終弁済額",{"$f":"IF(C13=\"\",\"\",C13)","v":""}]
[null,null,null,null,null,null,null,null,null,null,null,null,null,null,null,null,null,null,null,null,null,null,null,null,null,null,null,null,null,null,null,null,null,null,null,null,null,null,null,null,null,null,null,null,null,null,null,null,null,null,null,null,"別添1_C15","融資期間_自：",{"$f":"IF(C15=\"\",\"\",C15)","v":""}]
["１．融資の内容",null,null,null,null,null,null,null,null,null,null,null,null,null,null,null,null,null,null,null,null,null,null,null,null,null,null,{"$f":"A7","v":"１．融資の内容"},null,null,null,null,null,null,null,null,null,null,null,null,null,null,null,null,null,null,null,null,null,null,null,null,"別添1_C17","融資期間_至：",{"$f":"IF(C17=\"\",\"\",C17)","v":""}]
[null,null,null,null,null,null,null,null,null,null,null,null,null,null,null,null,null,null,null,null,null,null,null,null,null,null,null,null,null,null,null,null,null,null,null,null,null,null,null,null,null,null,null,null,null,null,null,null,null,null,null,null,"別添1_C19","融資利率",{"$f":"IF(C19=\"\",\"\",C19)","v":""}]
["融資額",null,null,null,null,"円",null,null,"融資備考欄",null,null,null,null,null,null,null,null,null,null,null,null,null,null,null,null,null,null,{"$f":"A9","v":"融資額"},null,84000000,null,null,{"$f":"F9","v":"円"},null,null,"融資備考欄",null,null,null,null,null,null,null,null,null,null,null,null,null,null,null,null,"別添1_C22","内　交付対象融資額",{"$f":"IF(C22=\"\",\"\",C22)","v":""}]
[null,null,null,null,null,null,null,null,null,null,null,null,null,null,null,null,null,null,null,null,null,null,null,null,null,null,null,null,null,null,null,null,null,null,null,null,null,null,null,null,null,null,null,null,null,null,null,null,null,null,null,null,"別添1_C24","元金均等返済額",{"$f":"IF(C24=\"\",\"\",C24)","v":""}]
["元金均等返済額",null,null,null,null,"円",null,null,null,null,null,null,null,null,null,null,null,null,null,null,null,null,null,null,null,null,null,{"$f":"A11","v":"元金均等返済額"},null,1000000,null,null,{"$f":"F11","v":"円"},null,null,null,null,null,null,null,null,null,null,null,null,null,null,null,null,null,null,null,"別添1_C26","最終弁済額",{"$f":"IF(C26=\"\",\"\",C26)","v":""}]
[null,null,null,null,null,null,null,null,null,null,null,null,null,null,null,null,null,null,null,null,null,null,null,null,null,null,null,null,null,null,null,null,null,null,null,null,null,null,null,null,null,null,null,null,null,null,null,null,null,null,null,null,"別添1_C28","交付対象融資期間_自：",{"$f":"IF(C28=\"\",\"\",C28)","v":""}]
["最終弁済額",null,null,null,null,"円",null,null,null,null,null,null,null,null,null,null,null,null,null,null,null,null,null,null,null,null,null,{"$f":"A13","v":"最終弁済額"},null,1000000,null,null,{"$f":"F13","v":"円"},null,null,null,null,null,null,null,null,null,null,null,null,null,null,null,null,null,null,null,"別添1_C30","交付対象融資期間_至：",{"$f":"IF(C30=\"\",\"\",C30)","v":""}]
[null,null,null,null,null,null,null,null,null,null,null,null,null,null,null,null,null,null,null,null,null,null,null,null,null,null,null,null,null,null,null,null,null,null,null,null,null,null,null,null,null,null,null,null,null,null,null,null,null,null,null,null,"別添1_C32","利子補給率",{"$f":"IF(C32=\"\",\"\",C32)","v":""}]
["融資期間",null,null,null,null,"(自)",null,null,null,null,null,null,null,null,null,null,null,null,null,null,null,null,null,null,null,null,null,{"$f":"A15","v":"融資期間"},null,{"$f":"DATE(YEAR(U50),11,11)","v":"2025-11-11"},null,null,{"$f":"F15","v":"(自)"},null,null,null,null,null,null,null,null,null,null,null,null,null,null,null,null,null,null,null,"別添1_M43","利子補給金交付申請額（円）合計_単位期間Ⅰ",{"$f":"IF(M43=\"\",\"\",M43)","v":""}]
[null,null,null,null,null,null,null,null,null,null,null,null,null,null,null,null,null,null,null,null,null,null,null,null,null,null,null,null,null,null,null,null,null,null,null,null,null,null,null,null,null,null,null,null,null,null,null,null,null,null,null,null,"別添1_M51","利子補給金交付申請額（円）合計_単位期間Ⅱ",{"$f":"IF(M51=\"\",\"\",M51)","v":""}]
[null,null,null,null,null,"(至)",null,null,null,null,null,null,null,null,null,null,null,null,null,null,null,null,null,null,null,null,null,null,null,{"$f":"DATE(YEAR(U50)+7,11,10)","v":"2032-11-10"},null,null,{"$f":"F17","v":"(至)"},null,null,null,null,null,null,null,null,null,null,null,null,null,null,null,null,null,null,null,"別添1_N36","利子補給金交付申請額合計（円）",{"$f":"IF(O36=\"\",\"\",O36)","v":0}]
[null,null,null,null,null,null,null,null,"協調融資",null,null,null,null,null,null,null,null,null,null,null,null,null,null,null,null,null,null,null,null,null,null,null,null,null,null,"協調融資",null,null,null,null,null,null,null,null,null,null,null,null,null,null,null,null,"別添1_I11","融資備考欄",{"$f":"IF(I11=\"\",\"\",I11)","v":""}]
["融資利率",null,null,null,null,"％",null,null,null,null,null,null,null,null,null,null,null,null,null,null,null,null,null,null,null,null,null,{"$f":"A19","v":"融資利率"},null,1.1000000000000001,null,null,{"$f":"F19","v":"％"},null,null,null,null,null,null,null,null,null,null,null,null,null,null,null,null,null,null,null,"別添1_I21","協調融資",{"$f":"IF(I20=\"\",\"\",I20)","v":""}]
[null,null,null,null,null,null,null,null,null,null,null,null,null,null,null,null,null,null,null,null,null,null,null,null,null,null,null,null,null,null,null,null,null,null,null,"本件融資は協調融資となります。\n△△銀行　融資額　○○○,○○○,○○○円\n□□銀行　融資額　○○○,○○○,○○○円",null,null,null,null,null,null,null,null,null,null,null,null,null,null,null,null,"別添1_I28","シンジケートローン",{"$f":"IF(I28=\"\",\"\",I28)","v":""}]
[null,null,null,null,null,null,null,null,null,null,null,null,null,null,null,null,null,null,null,null,null,null,null,null,null,null,null,null,null,null,null,null,null,null,null,null,null,null,null,null,null,null,null,null,null,null,null,null,null,null,null,null,"別添1_N35","本年度の利子補給金交付申請額合計（円）",{"$f":"IF(O35=\"\",\"\",O35)","v":0}]
["内　交付対象融資額",null,null,null,null,"円",null,null,null,null,null,null,null,null,null,null,null,null,null,null,null,null,null,null,null,null,null,{"$f":"A22","v":"内　交付対象融資額"},null,84000000,null,null,{"$f":"F22","v":"円"}]
[]
["元金均等返済額",null,null,null,null,"円",null,null,null,null,null,null,null,null,null,null,null,null,null,null,null,null,null,null,null,null,null,{"$f":"A24","v":"元金均等返済額"},null,1000000,null,null,{"$f":"F24","v":"円"}]
[]
["最終弁済額",null,null,null,null,"円",null,null,"シンジケートローン",null,null,null,null,null,null,null,null,null,null,null,null,null,null,null,null,null,null,{"$f":"A26","v":"最終弁済額"},null,1000000,null,null,{"$f":"F26","v":"円"},null,null,"シンジケートローン"]
[]
["交付対象融資期間",null,null,null,null,"(自)",null,null,null,null,null,null,null,null,null,null,null,null,null,null,null,null,null,null,null,null,null,{"$f":"A28","v":"交付対象融資期間"},null,{"$f":"AD15","v":"2025-11-11"},null,null,{"$f":"F28","v":"(自)"},null,null,"本件融資はシンジケートローンを利用します。\n・アレンジャー\n○○銀行　融資額　○○○,○○○,○○○円\n・シンジケート団\n△△銀行　融資額　○○○,○○○,○○○円\n□□銀行　融資額　○○○,○○○,○○○円"]
[]
[null,null,null,null,null,"(至)",null,null,null,null,null,null,null,null,null,null,null,null,null,null,null,null,null,null,null,null,null,null,null,{"$f":"$AD$17","v":"2032-11-10"},null,null,{"$f":"F30","v":"(至)"}]
[]
["利子補給率",null,null,null,null,"％",null,null,null,null,null,null,null,null,null,null,null,null,null,null,null,null,null,null,null,null,null,{"$f":"A32","v":"利子補給率"},null,1,null,null,{"$f":"F32","v":"％"}]
[]
[null,null,null,null,null,null,null,null,null,null,null,null,null,null,null,null,null,null,null,null,null,null,null,null,null,null,null,null,1]
[null,null,null,null,null,null,null,null,null,null,"本年度の利子補給金申請額合計（円）",null,null,{"$f":"SUMIF($M$43:$M$58,\"<>#VALUE!\")","v":0},{"$f":"SUMIF(M43:M58,\"<>#VALUE!\")","v":0},null,null,null,null,null,null,null,null,null,null,null,null,null,null,null,null,null,null,null,null,null,null,"本年度の利子補給金申請額合計（円）",null,null,{"$f":"SUMIF($M$43:$M$58,\"<>#VALUE!\")","v":0},{"$f":"SUM(AN43:AN58)","v":271396}]
[null,null,null,null,null,null,null,null,null,null,"利子補給金交付申請額合計（円）",null,null,{"$f":"SUMIF(M43:M218,\"<>#VALUE!\")","v":0},{"$f":"SUMIF(M43:M218,\"<>#VALUE!\")","v":0},null,null,null,null,null,null,null,null,null,null,null,null,null,null,null,null,null,null,null,null,null,null,"利子補給金交付申請額合計（円）",null,null,{"$f":"SUMIF(AN43:AN218,\"<>#VALUE!\")","v":2976671},{"$f":"SUM(AN43:AN218)","v":2976671}]
["２．申請する利子補給金の額",null,null,null,null,null,null,null,null,null,null,null,null,null,null,null,null,null,"エラーメッセージ",null,"↓42行目に要修正の日付あり。再表示すること！",null,null,null,"エラーメッセージ",null,null,{"$f":"A37","v":"２．申請する利子補給金の額"}]
[null,null,null,{"$f":"IF(OR(E43>0,E51>0),\"\",\"↓上記にて交付対象融資期間を入力後、以下の「終了日」、「融資残高」、「交付対象融資残高」をご入力ください。\")","v":"↓上記にて交付対象融資期間を入力後、以下の「終了日」、「融資残高」、「交付対象融資残高」をご入力ください。"},null,null,null,null,null,null,null,null,null,null,null,null,"曜日色：土曜（青）、日曜（赤）、祝日（緑）※祝日は2025年5月時点",null,"↑開始日と終了日の入力に誤りがないかご確認ください。",null,null,null,null,null,"残高をご確認ください。"]
["単位期間",null,"利子補給金の額",null,null,null,null,null,null,null,null,null,null,"元金均等返済額\n（円）",null,null,null,null,"単位期間",null,null,null,null,null,"元金均等返済額",null,null,{"$f":"A39","v":"単位期間"},null,{"$f":"C39","v":"利子補給金の額"},null,null,null,null,null,null,null,null,null,null,{"$f":"N39","v":"元金均等返済額\n（円）"}]
[null,null,"単位期間",null,null,null,null,null,"融資残高\n（円）","交付対象\n融資残高\n（円）","利子\n補給率","利子補給金交付申請額（円）",null,null,null,null,null,null,"①日付の重複\n②「終了日-開始日」が1日以上あいている",null,"③単位期間以外の日程記載NG",null,"④日数が0","NG\nカウント","融資額","交付対象融資額","NG\nカウント",null,null,{"$f":"C40","v":"単位期間"},null,null,null,null,null,{"$f":"I40","v":"融資残高\n（円）"},{"$f":"J40","v":"交付対象\n融資残高\n（円）"},{"$f":"K40","v":"利子\n補給率"},{"$f":"L40","v":"利子補給金交付申請額（円）"}]
[null,null,"開始日","曜日","終了日","曜日","日数","日数\n（合計）",null,null,null,null,"合計（円）","計算用セル\n（配布時非表示）","融資額","計算用セル\n（配布時非表示）","交付対象\n融資額",null,null,null,null,null,null,null,{"$f":"$C$11","v":0},{"$f":"$C$24","v":0},null,null,null,{"$f":"C41","v":"開始日"},{"$f":"D41","v":"曜日"},{"$f":"E41","v":"終了日"},{"$f":"F41","v":"曜日"},{"$f":"G41","v":"日数"},{"$f":"H41","v":"日数\n（合計）"},null,null,null,null,{"$f":"M41","v":"合計（円）"},"計算用セル\n（配布時非表示）",{"$f":"O41","v":"融資額"},"計算用セル\n（配布時非表示）",{"$f":"Q41","v":"交付対象\n融資額"}]
[null,null,null,null,null,null,null,null,null,null,null,null,null,null,null,null,null,null,{"$f":"IF(C42=\"\",\"\",IF(C42>E42,\"NG\",\"\"))","v":""},{"$f":"IF(E42=\"\",\"\",IF(C43=\"\",\"\",IF(E42>C43,\"NG\",\"\")))","v":""},"2024-03-09","2024-09-12"]
[{"$f":"YEAR(U50)&\"年度\"","v":"2025年度"},"単位期間Ⅰ",{"$f":"IF(C28=\"\",\"\",IF(C28<=DATE(2025,9,10),C28,\"\"))","v":""},{"$f":"IF(C43=\"\",\"\",C43)","v":""},null,{"$f":"IF(E43=\"\",\"\",E43)","v":""},{"$f":"IF(E43=\"\",\"\",E43-C43+1)","v":""},{"$f":"IF(G43=\"\",\"\",SUM(G43:G50))","v":""},null,null,{"$f":"C32/100","v":0},{"$f":"IF(J43=\"\",\"\",ROUNDDOWN(J43*K43*G43/365,0))","v":""},{"$f":"IF(L43=\"\",\"\",SUM(L43:L50))","v":""},{"$f":"IF(I43=\"\",N42,I43)","v":0},{"$f":"IF(N43-N44<0,0,N43-N44)","v":0},{"$f":"IF(J43=\"\",P42,J43)","v":0},{"$f":"IF(P43-P44<0,0,P43-P44)","v":0},null,{"$f":"IF(C43=\"\",\"\",IF(C43>E43,\"NG\",\"\"))","v":""},"","","",{"$f":"IF(G43>0,\"\",\"NG\")","v":""},{"$f":"COUNTIF(S43:W43,\"NG\")","v":0},"-","-","-",{"$f":"A43","v":"2025年度"},{"$f":"B43","v":"単位期間Ⅰ"},null,{"$f":"IF(AD43=\"\",\"\",AD43)","v":""},null,{"$f":"IF(AF43=\"\",\"\",AF43)","v":""},{"$f":"IF(AD43=\"\",\"\",AF43-AD43+1)","v":""},{"$f":"IF(AH43=\"\",\"\",SUM(AH43:AH50))","v":""},null,null,{"$f":"AD32/100","v":0.01},{"$f":"IF(AF43=\"\",\"\",ROUNDDOWN(AK43*AL43*AH43/365,0))","v":""},{"$f":"IF(AM43=\"\",\"\",SUM(AM43:AM50))","v":""},{"$f":"IF(AJ43=\"\",AO42,AJ43)","v":0},"-",{"$f":"IF(AK43=\"\",AQ42,AK43)","v":0},"-"]
[null,null,{"$f":"IF(E44=\"\",\"\",IF(E43=\"\",\"\",IF(E43>=DATE(2025,9,10),\"\",E43+1)))","v":""},{"$f":"IF(C44=\"\",\"\",C44)","v":""},null,{"$f":"IF(E44=\"\",\"\",E44)","v":""},{"$f":"IF(E44=\"\",\"\",E44-C44+1)","v":""},null,{"$f":"IF(I43=\"\",\"\",IF(E44=\"\",\"\",I43-$C$11))","v":""},{"$f":"IF(J43=\"\",\"\",IF(F44=\"\",\"\",J43-$C$24))","v":""},{"$f":"IF(K43=\"\",\"\",$K$43)","v":0},{"$f":"IF(J44=\"\",\"\",ROUNDDOWN(J44*K44*G44/365,0))","v":""},null,{"$f":"IF(I44=\"\",N$51,I44)","v":0},{"$f":"N44-N45","v":0},{"$f":"IF(J44=\"\",$P$51,J44)","v":0},{"$f":"P44-P45","v":0},{"$f":"IF(AA44>0,$Y$38,\"\")","v":""},{"$f":"IF(C44=\"\",\"\",IF(C44=E43,\"NG\",IF(C44<E43,\"NG\",IF((C44-E43)>1,\"NG\",\"\"))))","v":""},"",null,"",{"$f":"IF(G44>0,\"\",\"NG\")","v":""},{"$f":"COUNTIF(S44:W44,\"NG\")","v":0},{"$f":"IF($O44=$I44,\"\",IF($O44=0,\"\",IF($O44=$Y$41,\"\",\"NG\")))","v":""},{"$f":"IF($Q44=$J44,\"\",IF($Q44=0,\"\",IF($Q44=$Z$41,\"\",\"NG\")))","v":""},{"$f":"COUNTIF(Y44:Z44,\"NG\")","v":0},null,null,null,{"$f":"IF(AD44=\"\",\"\",AD44)","v":""},null,{"$f":"IF(AF44=\"\",\"\",AF44)","v":""},{"$f":"IF(AD44=\"\",\"\",AF44-AD44+1)","v":""},null,{"$f":"IF(AJ43=\"\",\"\",IF(AF44=\"\",\"\",AJ43-$C$11))","v":""},{"$f":"IF(AK43=\"\",\"\",IF(AG44=\"\",\"\",AK43-$C$24))","v":""},0.01,{"$f":"IF(AF44=\"\",\"\",ROUNDDOWN(AK44*AL44*AH44/365,0))","v":""},null,0,{"$f":"AO43-AO44","v":0},0,{"$f":"AQ43-AQ44","v":0}]
[null,null,{"$f":"IF(E45=\"\",\"\",IF(E44=\"\",\"\",IF(E44>=DATE(2025,9,10),\"\",E44+1)))","v":""},"",null,{"$f":"IF(E45=\"\",\"\",E45)","v":""},{"$f":"IF(E45=\"\",\"\",E45-C45+1)","v":""},null,{"$f":"IF(I44=\"\",\"\",IF(E45=\"\",\"\",I44-$C$11))","v":""},{"$f":"IF(J44=\"\",\"\",IF(F45=\"\",\"\",J44-$C$24))","v":""},{"$f":"IF(K44=\"\",\"\",$K$43)","v":0},"",null,{"$f":"IF(I45=\"\",$N$51,I45)","v":0},0,{"$f":"IF(J45=\"\",$P$51,J45)","v":0},0,{"$f":"IF(AA45>0,$Y$38,\"\")","v":""},{"$f":"IF(C45=\"\",\"\",IF(C45=E44,\"NG\",IF(C45<E44,\"NG\",IF((C45-E44)>1,\"NG\",\"\"))))","v":""},"",null,"","",0,"","",{"$f":"COUNTIF(Y45:Z45,\"NG\")","v":0},null,null,{"$f":"IF(AF45=\"\",\"\",IF(AF44=\"\",\"\",IF(AF44>=DATE(2021,9,10),\"\",AF44+1)))","v":""},"",null,"","",null,{"$f":"IF(AJ44=\"\",\"\",IF(AF45=\"\",\"\",AJ44-$C$11))","v":""},{"$f":"IF(AK44=\"\",\"\",IF(AG45=\"\",\"\",AK44-$C$24))","v":""},0.01,{"$f":"IF(AF45=\"\",\"\",ROUNDDOWN(AK45*AL45*AH45/365,0))","v":""},null,0,{"$f":"AO44-AO45","v":0},0,{"$f":"AQ44-AQ45","v":0}]
[null,null,"","",null,{"$f":"IF(E46=\"\",\"\",E46)","v":""},{"$f":"IF(E46=\"\",\"\",E46-C46+1)","v":""},null,{"$f":"IF(I45=\"\",\"\",IF(E46=\"\",\"\",I45-$C$11))","v":""},{"$f":"IF(J45=\"\",\"\",IF(F46=\"\",\"\",J45-$C$24))","v":""},{"$f":"IF(K45=\"\",\"\",$K$43)","v":0},"",null,0,0,0,0,"","","",null,"","",0,"","",0,null,null,"","",null,"","",null,{"$f":"IF(AJ45=\"\",\"\",IF(AF46=\"\",\"\",AJ45-$C$11))","v":""},"",0.01,"",null,0,0,0,0]
[null,null,"","",null,{"$f":"IF(E47=\"\",\"\",E47)","v":""},"",null,{"$f":"IF(I46=\"\",\"\",IF(E47=\"\",\"\",I46-$C$11))","v":""},"",{"$f":"IF(K46=\"\",\"\",$K$43)","v":0},"",null,0,0,0,0,"","","",null,"","",0,"","",0,null,null,"","",null,"","",null,"","",0.01,"",null,0,0,0,0]
[null,null,"","",null,"","",null,"","",{"$f":"IF(K47=\"\",\"\",$K$43)","v":0},"",null,0,0,0,0,"","","",null,"","",0,"","",0,null,null,"","",null,"","",null,"","",0.01,"",null,0,0,0,0]
[null,null,"","",null,"","",null,"","",0,"",null,0,0,0,0,"","",{"$f":"IF(D49=\"\",\"\",IF(D49<C49,\"NG\",\"\"))","v":""},null,"",{"$f":"IF(G49>0,\"\",\"NG\")","v":""},0,"","",0,null,null,"","",null,"","",null,"","",0.01,"",null,0,0,0,0]
[null,null,{"$f":"IF(X50>0,$S$38,\"\")","v":""},null,null,null,null,null,null,null,0,{"$f":"IF(J50=\"\",\"\",ROUNDDOWN(J50*K50*G50/365,0))","v":""},null,0,{"$f":"IF(N50-N51<0,0,N50-N51)","v":0},{"$f":"IF(J50=\"\",$P$51,J50)","v":0},{"$f":"IF(P50-P51<0,0,P50-P51)","v":0},"",null,null,"2025-09-09","2026-03-12",null,{"$f":"SUM(X43:X49)","v":0},"",{"$f":"IF($Q50=$J50,\"\",IF($Q50=0,\"\",IF($Q50=$Z$41,\"\",\"NG\")))","v":""},0,null,null,{"$f":"IF($C$220>0,$H$224,IF($E$220>0,$H$224,\"\"))","v":""},"",null,"",null,null,null,null,0.01,"",null,0,0,0,0]
[null,"単位期間Ⅱ",{"$f":"IF(C28=\"\",\"\",IF(E49>M225,E49+1,IF(E48>M225,E48+1,IF(E47>M225,E47+1,IF(E46>M225,E46+1,IF(E45>M225,E45+1,IF(E44>M225,E44+1,IF(E43>M225,E43+1,IF(C28>M225,C28,\"\")))))))))","v":""},{"$f":"IF(C51=\"\",\"\",C51)","v":""},null,{"$f":"IF(E51=\"\",\"\",E51)","v":""},{"$f":"IF(E51=\"\",\"\",E51-C51+1)","v":""},{"$f":"IF(G51=\"\",\"\",SUM(G51:G58))","v":""},null,null,{"$f":"IF(K50=\"\",\"\",$K$43)","v":0},{"$f":"IF(J51=\"\",\"\",ROUNDDOWN(J51*K51*G51/365,0))","v":""},{"$f":"IF(L51=\"\",\"\",SUM(L51:L58))","v":""},{"$f":"IF(I51=\"\",$N$59,I51)","v":0},{"$f":"N51-N52","v":0},{"$f":"IF(J51=\"\",$P$59,J51)","v":0},{"$f":"P51-P52","v":0},"",{"$f":"IF(C51=\"\",\"\",IF(C51>E51,\"NG\",\"\"))","v":""},{"$f":"IF(E51=\"\",\"\",IF(C52=\"\",\"\",IF(E51>C52,\"NG\",\"\")))","v":""},"","",{"$f":"IF(G51>0,\"\",\"NG\")","v":""},{"$f":"COUNTIF(S51:W51,\"NG\")","v":0},"",{"$f":"IF($Q51=$J51,\"\",IF($Q51=0,\"\",IF($Q51=$Z$41,\"\",\"NG\")))","v":""},0,null,{"$f":"B51","v":"単位期間Ⅱ"},{"$f":"AD15","v":"2025-11-11"},{"$f":"IF(AD51=\"\",\"\",AD51)","v":45972},"2025-12-10",46001,{"$f":"IF(AD51=\"\",\"\",AF51-AD51+1)","v":30},{"$f":"IF(AH51=\"\",\"\",SUM(AH51:AH58))","v":120},84000000,84000000,0.01,{"$f":"IF(AD51=\"\",\"\",ROUNDDOWN(AK51*AL51*AH51/365,0))","v":69041},{"$f":"IF(AM51=\"\",\"\",SUM(AM51:AM58))","v":271396},84000000,1000000,84000000,1000000]
[null,null,{"$f":"IF(E52=\"\",\"\",IF(E51=\"\",\"\",IF(E51>=DATE(2026,3,10),\"\",E51+1)))","v":""},{"$f":"IF(C52=\"\",\"\",C52)","v":""},null,"",{"$f":"IF(E52=\"\",\"\",E52-C52+1)","v":""},null,{"$f":"IF(I51=\"\",\"\",IF(E52=\"\",\"\",I51-$C$11))","v":""},{"$f":"IF(J51=\"\",\"\",IF(F52=\"\",\"\",J51-$C$24))","v":""},0,{"$f":"IF(J52=\"\",\"\",ROUNDDOWN(J52*K52*G52/365,0))","v":""},null,{"$f":"IF(I52=\"\",$N$59,I52)","v":0},{"$f":"N52-N53","v":0},{"$f":"IF(J52=\"\",$P$59,J52)","v":0},{"$f":"P52-P53","v":0},"",{"$f":"IF(C52=\"\",\"\",IF(C52=E51,\"NG\",IF(C52<E51,\"NG\",IF((C52-E51)>1,\"NG\",\"\"))))","v":""},{"$f":"IF(E52=\"\",\"\",IF(C53=\"\",\"\",IF(E52>C53,\"NG\",\"\")))","v":""},null,"",{"$f":"IF(G52>0,\"\",\"NG\")","v":""},{"$f":"COUNTIF(S52:W52,\"NG\")","v":0},"","",0,null,null,{"$f":"AF51+1","v":"2025-12-11"},46002,"2026-01-13",46035,{"$f":"IF(AD52=\"\",\"\",AF52-AD52+1)","v":34},null,{"$f":"IF(AJ51=\"\",\"\",IF(AF52=\"\",\"\",AJ51-$AD$11))","v":83000000},{"$f":"IF(AK51=\"\",\"\",IF(AG52=\"\",\"\",AK51-$AD$24))","v":83000000},0.01,77315,null,83000000,1000000,83000000,1000000]
[null,null,{"$f":"IF(E53=\"\",\"\",IF(E52=\"\",\"\",IF(E52>=DATE(2026,3,10),\"\",E52+1)))","v":""},"",null,"","",null,{"$f":"IF(I52=\"\",\"\",IF(E53=\"\",\"\",I52-$C$11))","v":""},{"$f":"IF(J52=\"\",\"\",IF(F53=\"\",\"\",J52-$C$24))","v":""},0,"",null,0,0,0,0,"",{"$f":"IF(C53=\"\",\"\",IF(C53=E52,\"NG\",IF(C53<E52,\"NG\",IF((C53-E52)>1,\"NG\",\"\"))))","v":""},"",null,"","",0,"","",0,null,null,{"$f":"AF52+1","v":"2026-01-14"},46036,"2026-02-10",46063,28,null,{"$f":"IF(AJ52=\"\",\"\",IF(AF53=\"\",\"\",AJ52-$AD$11))","v":82000000},{"$f":"IF(AK52=\"\",\"\",IF(AG53=\"\",\"\",AK52-$AD$24))","v":82000000},0.01,62904,null,82000000,1000000,82000000,1000000]
[null,null,"","",null,"","",null,"","",0,"",null,0,0,0,0,"","","",null,"","",0,"","",0,null,null,"2026-02-11",46064,"2026-03-10",46091,28,null,81000000,81000000,0.01,62136,null,81000000,1000000,81000000,1000000]
[null,null,"","",null,"","",null,"","",0,"",null,0,0,0,0,"","","",null,"","",0,"","",0,null,null,null,"",null,"","",null,"","",0.01,"",null,81000000,0,80000000,0]
[null,null,"","",null,"","",null,"","",0,"",null,0,0,0,0,"","","",null,"","",0,"","",0,null,null,null,"",null,"","",null,"","",0.01,"",null,81000000,0,80000000,0]
[null,null,"","",null,"","",null,"","",0,"",null,0,0,0,0,"",{"$f":"IF(C57=\"\",\"\",IF(C57=E56,\"NG\",IF(C57<E56,\"NG\",IF((C57-E56)>1,\"NG\",\"\"))))","v":""},{"$f":"IF(D57=\"\",\"\",IF(D57<C57,\"NG\",\"\"))","v":""},null,"",{"$f":"IF(G57>0,\"\",\"NG\")","v":""},0,"","",0,null,null,null,"",null,"","",null,"","",0.01,"",null,81000000,0,80000000,0]
[null,null,{"$f":"IF(X58>0,$S$38,\"\")","v":""},null,null,null,null,null,null,null,0,{"$f":"IF(J58=\"\",\"\",ROUNDDOWN(J58*K58*G58/365,0))","v":""},null,0,{"$f":"IF(N58-N59<0,0,N58-N59)","v":0},0,{"$f":"IF(P58-P59<0,0,P58-P59)","v":0},"",null,null,"2026-03-09","2026-09-12",null,{"$f":"SUM(X51:X57)","v":0},"","",0,null,null,{"$f":"IF($C$238>0,$H$242,IF($E$238>0,$H$242,\"\"))","v":""},"",null,"",null,null,"","",0.01,"",null,81000000,0,80000000,0]
[{"$f":"YEAR(U66)&\"年度\"","v":"2026年度"},"単位期間Ⅰ",{"$f":"IF(E59=\"\",\"\",IF(E57>0,E57+1,IF(E56>0,E56+1,IF(E55>0,E55+1,IF(E54>0,E54+1,IF(E53>0,E53+1,IF(E52>0,E52+1,E51+1)))))))","v":""},{"$f":"IF(C59=\"\",\"\",C59)","v":""},null,{"$f":"IF(E59=\"\",\"\",E59)","v":""},{"$f":"IF(E59=\"\",\"\",E59-C59+1)","v":""},{"$f":"IF(G59=\"\",\"\",SUM(G59:G66))","v":""},null,null,{"$f":"IF(K58=\"\",\"\",$K$43)","v":0},{"$f":"IF(J59=\"\",\"\",ROUNDDOWN(J59*K59*G59/365,0))","v":""},{"$f":"IF(L59=\"\",\"\",SUM(L59:L66))","v":""},{"$f":"IF(I59=\"\",$N$67,I59)","v":0},0,{"$f":"IF(J59=\"\",$P$67,J59)","v":0},0,"",{"$f":"IF(C59=\"\",\"\",IF(C59>E59,\"NG\",\"\"))","v":""},{"$f":"IF(E59=\"\",\"\",IF(C60=\"\",\"\",IF(E59>C60,\"NG\",\"\")))","v":""},"","",{"$f":"IF(G59>0,\"\",\"NG\")","v":""},{"$f":"COUNTIF(S59:W59,\"NG\")","v":0},"","",0,{"$f":"A59","v":"2026年度"},"単位期間Ⅰ",{"$f":"AF54+1","v":"2026-03-11"},46092,"2026-04-10",46122,{"$f":"IF(AD59=\"\",\"\",AF59-AD59+1)","v":31},{"$f":"IF(AH59=\"\",\"\",SUM(AH59:AH66))","v":184},80000000,80000000,0.01,{"$f":"IF(AF59=\"\",\"\",ROUNDDOWN(AK59*AL59*AH59/365,0))","v":67945},{"$f":"IF(AM59=\"\",\"\",SUM(AM59:AM66))","v":390681},80000000,1000000,80000000,1000000]
[null,null,{"$f":"IF(E60=\"\",\"\",IF(E59=\"\",\"\",IF(E59>=DATE(2026,9,10),\"\",E59+1)))","v":""},{"$f":"IF(C60=\"\",\"\",C60)","v":""},null,{"$f":"IF(E60=\"\",\"\",E60)","v":""},{"$f":"IF(E60=\"\",\"\",E60-C60+1)","v":""},null,{"$f":"IF(I59=\"\",\"\",IF(E60=\"\",\"\",I59-$C$11))","v":""},{"$f":"IF(J59=\"\",\"\",IF(F60=\"\",\"\",J59-$C$24))","v":""},{"$f":"IF(K59=\"\",\"\",$K$43)","v":0},{"$f":"IF(J60=\"\",\"\",ROUNDDOWN(J60*K60*G60/365,0))","v":""},null,0,0,0,0,"",{"$f":"IF(C60=\"\",\"\",IF(C60=E59,\"NG\",IF(C60<E59,\"NG\",IF((C60-E59)>1,\"NG\",\"\"))))","v":""},{"$f":"IF(E60=\"\",\"\",IF(C61=\"\",\"\",IF(E60>C61,\"NG\",\"\")))","v":""},null,"",{"$f":"IF(G60>0,\"\",\"NG\")","v":""},{"$f":"COUNTIF(S60:W60,\"NG\")","v":0},"","",0,null,null,{"$f":"AF59+1","v":"2026-04-11"},46123,"2026-05-11",46153,{"$f":"IF(AD60=\"\",\"\",AF60-AD60+1)","v":31},null,79000000,79000000,0.01,{"$f":"IF(AF60=\"\",\"\",ROUNDDOWN(AK60*AL60*AH60/365,0))","v":67095},null,79000000,1000000,79000000,1000000]
[null,null,{"$f":"IF(E61=\"\",\"\",IF(E60=\"\",\"\",IF(E60>=DATE(2026,9,10),\"\",E60+1)))","v":""},"",null,"","",null,{"$f":"IF(I60=\"\",\"\",IF(E61=\"\",\"\",I60-$C$11))","v":""},{"$f":"IF(J60=\"\",\"\",IF(F61=\"\",\"\",J60-$C$24))","v":""},0,"",null,0,{"$f":"N61-N62","v":0},0,{"$f":"P61-P62","v":0},"",{"$f":"IF(C61=\"\",\"\",IF(C61=E60,\"NG\",IF(C61<E60,\"NG\",IF((C61-E60)>1,\"NG\",\"\"))))","v":""},"",null,"","",0,"","",0,null,null,"2026-05-12",46154,"2026-06-10",46183,30,null,78000000,78000000,0.01,{"$f":"IF(AF61=\"\",\"\",ROUNDDOWN(AK61*AL61*AH61/365,0))","v":64109},null,78000000,1000000,78000000,1000000]
[null,null,"","",null,"","",null,{"$f":"IF(I61=\"\",\"\",IF(E62=\"\",\"\",I61-$C$11))","v":""},{"$f":"IF(J61=\"\",\"\",IF(F62=\"\",\"\",J61-$C$24))","v":""},{"$f":"IF(K61=\"\",\"\",$K$43)","v":0},"",null,0,0,0,0,"","","",null,"","",0,"","",0,null,null,"2026-06-11",46184,"2026-07-10",46213,30,null,77000000,77000000,0.01,63287,null,{"$f":"IF(AJ62=\"\",AO61,AJ62)","v":77000000},1000000,77000000,1000000]
[null,null,"","",null,"","",null,"",{"$f":"IF(J62=\"\",\"\",IF(F63=\"\",\"\",J62-$C$24))","v":""},0,"",null,0,0,0,0,"","","",null,"","",0,"","",0,null,null,"2026-07-11",46214,"2026-08-10",46244,31,null,76000000,76000000,0.01,64547,null,76000000,1000000,76000000,1000000]
[null,null,"","",null,"","",null,"","",0,"",null,0,0,0,0,"","","",null,"","",0,"","",0,null,null,"2026-08-11",46245,"2026-09-10",46275,31,null,75000000,75000000,0.01,63698,null,75000000,1000000,75000000,1000000]
[null,null,"","",null,"","",null,"","",0,"",null,0,0,0,0,"","",{"$f":"IF(D65=\"\",\"\",IF(D65<C65,\"NG\",\"\"))","v":""},null,"","",0,"","",0,null,null,null,"",null,"","",null,null,null,0.01,"",null,75000000,0,74000000,0]
[null,null,{"$f":"IF(X66>0,$S$38,\"\")","v":""},null,null,null,null,null,null,null,0,{"$f":"IF(J66=\"\",\"\",ROUNDDOWN(J66*K66*G66/365,0))","v":""},null,0,{"$f":"IF(N66-N67<0,0,N66-N67)","v":0},0,0,"",null,null,"2026-09-09","2027-03-12",null,{"$f":"SUM(X59:X65)","v":0},"","",0,null,null,null,"",null,"",null,null,null,null,0.01,"",null,75000000,0,74000000,0]
[null,"単位期間Ⅱ",{"$f":"IF(E67=\"\",\"\",IF(E65>M240,E65+1,IF(E64>M240,E64+1,IF(E63>M240,E63+1,IF(E62>M240,E62+1,IF(E61>M240,E61+1,IF(E60>M240,E60+1,IF(E59>M240,E59+1,IF(C44>M240,C44,\"\")))))))))","v":""},{"$f":"IF(C67=\"\",\"\",C67)","v":""},null,{"$f":"IF(E67=\"\",\"\",E67)","v":""},{"$f":"IF(E67=\"\",\"\",E67-C67+1)","v":""},{"$f":"IF(G67=\"\",\"\",SUM(G67:G74))","v":""},null,null,0,{"$f":"IF(J67=\"\",\"\",ROUNDDOWN(J67*K67*G67/365,0))","v":""},{"$f":"IF(L67=\"\",\"\",SUM(L67:L74))","v":""},{"$f":"IF(I67=\"\",$N$75,I67)","v":0},0,{"$f":"IF(J67=\"\",$P$75,J67)","v":0},0,"",{"$f":"IF(C67=\"\",\"\",IF(C67>E67,\"NG\",\"\"))","v":""},{"$f":"IF(E67=\"\",\"\",IF(C68=\"\",\"\",IF(E67>C68,\"NG\",\"\")))","v":""},"","","",{"$f":"COUNTIF(S67:W67,\"NG\")","v":0},"","",0,null,"単位期間Ⅱ",{"$f":"AF64+1","v":"2026-09-11"},46276,"2026-10-13",46308,{"$f":"IF(AD67=\"\",\"\",AF67-AD67+1)","v":33},{"$f":"IF(AH67=\"\",\"\",SUM(AH67:AH74))","v":181},74000000,74000000,0.01,{"$f":"IF(AD67=\"\",\"\",ROUNDDOWN(AK67*AL67*AH67/365,0))","v":66904},{"$f":"IF(AM67=\"\",\"\",SUM(AM67:AM74))","v":354820},74000000,1000000,74000000,1000000]
[null,null,{"$f":"IF(E68=\"\",\"\",IF(E67=\"\",\"\",IF(E67>=DATE(2027,3,10),\"\",E67+1)))","v":""},{"$f":"IF(C68=\"\",\"\",C68)","v":""},null,{"$f":"IF(E68=\"\",\"\",E68)","v":""},{"$f":"IF(E68=\"\",\"\",E68-C68+1)","v":""},null,{"$f":"IF(I67=\"\",\"\",IF(E68=\"\",\"\",I67-$C$11))","v":""},{"$f":"IF(J67=\"\",\"\",IF(F68=\"\",\"\",J67-$C$24))","v":""},0,{"$f":"IF(J68=\"\",\"\",ROUNDDOWN(J68*K68*G68/365,0))","v":""},null,{"$f":"IF(I68=\"\",$N$75,I68)","v":0},0,{"$f":"IF(J68=\"\",$P$75,J68)","v":0},0,"",{"$f":"IF(C68=\"\",\"\",IF(C68=E67,\"NG\",IF(C68<E67,\"NG\",IF((C68-E67)>1,\"NG\",\"\"))))","v":""},{"$f":"IF(E68=\"\",\"\",IF(C69=\"\",\"\",IF(E68>C69,\"NG\",\"\")))","v":""},null,"","",{"$f":"COUNTIF(S68:W68,\"NG\")","v":0},"","",0,null,null,{"$f":"AF67+1","v":"2026-10-14"},46309,"2026-11-10",46336,{"$f":"IF(AD68=\"\",\"\",AF68-AD68+1)","v":28},null,73000000,73000000,0.01,56000,null,73000000,1000000,73000000,1000000]
[null,null,{"$f":"IF(E69=\"\",\"\",IF(E68=\"\",\"\",IF(E68>=DATE(2027,3,10),\"\",E68+1)))","v":""},"",null,{"$f":"IF(E69=\"\",\"\",E69)","v":""},{"$f":"IF(E69=\"\",\"\",E69-C69+1)","v":""},null,{"$f":"IF(I68=\"\",\"\",IF(E69=\"\",\"\",I68-$C$11))","v":""},{"$f":"IF(J68=\"\",\"\",IF(F69=\"\",\"\",J68-$C$24))","v":""},0,"",null,0,0,0,0,"",{"$f":"IF(C69=\"\",\"\",IF(C69=E68,\"NG\",IF(C69<E68,\"NG\",IF((C69-E68)>1,\"NG\",\"\"))))","v":""},{"$f":"IF(E69=\"\",\"\",IF(C70=\"\",\"\",IF(E69>C70,\"NG\",\"\")))","v":""},null,"","",0,"","",0,null,null,"2026-11-11",46337,"2026-12-10",46366,30,null,72000000,72000000,0.01,59178,null,72000000,1000000,72000000,1000000]
[null,null,"","",null,{"$f":"IF(E70=\"\",\"\",E70)","v":""},{"$f":"IF(E70=\"\",\"\",E70-C70+1)","v":""},null,{"$f":"IF(I69=\"\",\"\",IF(E70=\"\",\"\",I69-$C$11))","v":""},"",0,"",null,{"$f":"IF(I70=\"\",$N$75,I70)","v":0},0,0,0,"",{"$f":"IF(C70=\"\",\"\",IF(C70=E69,\"NG\",IF(C70<E69,\"NG\",IF((C70-E69)>1,\"NG\",\"\"))))","v":""},{"$f":"IF(E70=\"\",\"\",IF(C71=\"\",\"\",IF(E70>C71,\"NG\",\"\")))","v":""},null,"","",0,{"$f":"IF($O70=$I70,\"\",IF($O70=0,\"\",IF($O70=$Y$41,\"\",\"NG\")))","v":""},"",0,null,null,"2026-12-11",46367,"2027-01-12",46399,33,null,71000000,71000000,0.01,64191,null,71000000,1000000,71000000,1000000]
[null,null,"","",null,{"$f":"IF(E71=\"\",\"\",E71)","v":""},{"$f":"IF(E71=\"\",\"\",E71-C71+1)","v":""},null,{"$f":"IF(I70=\"\",\"\",IF(E71=\"\",\"\",I70-$C$11))","v":""},"",0,"",null,{"$f":"IF(I71=\"\",$N$75,I71)","v":0},0,0,0,"",{"$f":"IF(C71=\"\",\"\",IF(C71=E70,\"NG\",IF(C71<E70,\"NG\",IF((C71-E70)>1,\"NG\",\"\"))))","v":""},{"$f":"IF(E71=\"\",\"\",IF(C72=\"\",\"\",IF(E71>C72,\"NG\",\"\")))","v":""},null,"","",0,{"$f":"IF($O71=$I71,\"\",IF($O71=0,\"\",IF($O71=$Y$41,\"\",\"NG\")))","v":""},"",0,null,null,"2027-01-13",46400,"2027-02-10",46428,29,null,70000000,70000000,0.01,55616,null,70000000,1000000,70000000,1000000]
[null,null,"","",null,"","",null,{"$f":"IF(I71=\"\",\"\",IF(E72=\"\",\"\",I71-$C$11))","v":""},"",0,"",null,{"$f":"IF(I72=\"\",$N$75,I72)","v":0},0,0,0,"",{"$f":"IF(C72=\"\",\"\",IF(C72=E71,\"NG\",IF(C72<E71,\"NG\",IF((C72-E71)>1,\"NG\",\"\"))))","v":""},"",null,"","",0,{"$f":"IF($O72=$I72,\"\",IF($O72=0,\"\",IF($O72=$Y$41,\"\",\"NG\")))","v":""},"",0,null,null,"2027-02-11",46429,"2027-03-10",46456,28,null,69000000,69000000,0.01,52931,null,69000000,1000000,69000000,1000000]
[null,null,"","",null,"","",null,"","",0,"",null,{"$f":"IF(I73=\"\",$N$75,I73)","v":0},0,0,0,"","",{"$f":"IF(D73=\"\",\"\",IF(D73<C73,\"NG\",\"\"))","v":""},null,"","",0,{"$f":"IF($O73=$I73,\"\",IF($O73=0,\"\",IF($O73=$Y$41,\"\",\"NG\")))","v":""},"",0,null,null,null,"",null,"","",null,null,null,0.01,"",null,69000000,0,68000000,0]
[null,null,{"$f":"IF(X74>0,$S$38,\"\")","v":""},null,null,null,null,null,null,null,0,{"$f":"IF(J74=\"\",\"\",ROUNDDOWN(J74*K74*G74/365,0))","v":""},null,{"$f":"IF(I74=\"\",$N$75,I74)","v":0},{"$f":"IF(N74-N75<0,0,N74-N75)","v":0},0,0,"",null,null,"2027-03-09","2027-09-12",null,{"$f":"SUM(X67:X73)","v":0},{"$f":"IF($O74=$I74,\"\",IF($O74=0,\"\",IF($O74=$Y$41,\"\",\"NG\")))","v":""},"",0,null,null,null,"",null,"",null,null,null,null,0.01,"",null,69000000,0,68000000,0]
[{"$f":"YEAR(U82)&\"年度\"","v":"2027年度"},"単位期間Ⅰ",{"$f":"IF(E75=\"\",\"\",IF(E73>0,E73+1,IF(E72>0,E72+1,IF(E71>0,E71+1,IF(E70>0,E70+1,IF(E69>0,E69+1,IF(E68>0,E68+1,E67+1)))))))","v":""},{"$f":"IF(C75=\"\",\"\",C75)","v":""},null,{"$f":"IF(E75=\"\",\"\",E75)","v":""},{"$f":"IF(E75=\"\",\"\",E75-C75+1)","v":""},{"$f":"IF(G75=\"\",\"\",SUM(G75:G82))","v":""},null,null,{"$f":"IF(K74=\"\",\"\",$K$43)","v":0},{"$f":"IF(J75=\"\",\"\",ROUNDDOWN(J75*K75*G75/365,0))","v":""},{"$f":"IF(L75=\"\",\"\",SUM(L75:L82))","v":""},{"$f":"IF(I75=\"\",$N$83,I75)","v":0},0,{"$f":"IF(J75=\"\",$P$83,J75)","v":0},0,"",{"$f":"IF(C75=\"\",\"\",IF(C75>E75,\"NG\",\"\"))","v":""},{"$f":"IF(E75=\"\",\"\",IF(C76=\"\",\"\",IF(E75>C76,\"NG\",\"\")))","v":""},"","","",{"$f":"COUNTIF(S75:W75,\"NG\")","v":0},"","",0,{"$f":"A75","v":"2027年度"},"単位期間Ⅰ",{"$f":"AF72+1","v":"2027-03-11"},46457,"2027-04-12",46489,{"$f":"IF(AD75=\"\",\"\",AF75-AD75+1)","v":33},{"$f":"IF(AH75=\"\",\"\",SUM(AH75:AH82))","v":184},68000000,68000000,0.01,{"$f":"IF(AF75=\"\",\"\",ROUNDDOWN(AK75*AL75*AH75/365,0))","v":61479},{"$f":"IF(AM75=\"\",\"\",SUM(AM75:AM82))","v":330271},68000000,1000000,68000000,1000000]
[null,null,{"$f":"IF(E76=\"\",\"\",IF(E75=\"\",\"\",IF(E75>=DATE(2027,9,10),\"\",E75+1)))","v":""},{"$f":"IF(C76=\"\",\"\",C76)","v":""},null,{"$f":"IF(E76=\"\",\"\",E76)","v":""},{"$f":"IF(E76=\"\",\"\",E76-C76+1)","v":""},null,{"$f":"IF(I75=\"\",\"\",IF(E76=\"\",\"\",I75-$C$11))","v":""},{"$f":"IF(J75=\"\",\"\",IF(F76=\"\",\"\",J75-$C$24))","v":""},{"$f":"IF(K75=\"\",\"\",$K$43)","v":0},{"$f":"IF(J76=\"\",\"\",ROUNDDOWN(J76*K76*G76/365,0))","v":""},null,{"$f":"IF(I76=\"\",$N$83,I76)","v":0},0,{"$f":"IF(J76=\"\",$P$83,J76)","v":0},0,"",{"$f":"IF(C76=\"\",\"\",IF(C76=E75,\"NG\",IF(C76<E75,\"NG\",IF((C76-E75)>1,\"NG\",\"\"))))","v":""},{"$f":"IF(E76=\"\",\"\",IF(C77=\"\",\"\",IF(E76>C77,\"NG\",\"\")))","v":""},null,"","",{"$f":"COUNTIF(S76:W76,\"NG\")","v":0},"","",0,null,null,{"$f":"AF75+1","v":"2027-04-13"},46490,"2027-05-10",46517,{"$f":"IF(AD76=\"\",\"\",AF76-AD76+1)","v":28},null,67000000,67000000,0.01,{"$f":"IF(AF76=\"\",\"\",ROUNDDOWN(AK76*AL76*AH76/365,0))","v":51397},null,67000000,1000000,67000000,1000000]
[null,null,{"$f":"IF(E77=\"\",\"\",IF(E76=\"\",\"\",IF(E76>=DATE(2027,9,10),\"\",E76+1)))","v":""},"",null,"","",null,{"$f":"IF(I76=\"\",\"\",IF(E77=\"\",\"\",I76-$C$11))","v":""},{"$f":"IF(J76=\"\",\"\",IF(F77=\"\",\"\",J76-$C$24))","v":""},{"$f":"IF(K76=\"\",\"\",$K$43)","v":0},"",null,0,0,0,0,"",{"$f":"IF(C77=\"\",\"\",IF(C77=E76,\"NG\",IF(C77<E76,\"NG\",IF((C77-E76)>1,\"NG\",\"\"))))","v":""},"",null,"","",0,"","",0,null,null,"2027-05-11",46518,"2027-06-10",46548,31,null,66000000,66000000,0.01,{"$f":"IF(AF77=\"\",\"\",ROUNDDOWN(AK77*AL77*AH77/365,0))","v":56054},null,66000000,1000000,66000000,1000000]
[null,null,"","",null,"","",null,{"$f":"IF(I77=\"\",\"\",IF(E78=\"\",\"\",I77-$C$11))","v":""},{"$f":"IF(J77=\"\",\"\",IF(F78=\"\",\"\",J77-$C$24))","v":""},0,"",null,0,0,0,0,"","","",null,"","",0,"","",0,null,null,"2027-06-11",46549,"2027-07-12",46580,32,null,65000000,65000000,0.01,56986,null,65000000,1000000,65000000,1000000]
[null,null,"","",null,"","",null,"","",0,"",null,0,0,0,0,"","","",null,"","",0,"","",0,null,null,"2027-07-13",46581,"2027-08-10",46609,29,null,64000000,64000000,0.01,50849,null,64000000,1000000,64000000,1000000]
[null,null,"","",null,"","",null,"","",0,"",null,0,0,0,0,"","","",null,"","",0,"","",0,null,null,"2027-08-11",46610,"2027-09-10",46640,31,null,63000000,63000000,0.01,53506,null,63000000,1000000,63000000,1000000]
[null,null,"","",null,"","",null,"","",0,"",null,0,0,0,0,"",{"$f":"IF(C81=\"\",\"\",IF(C81=E80,\"NG\",IF(C81<E80,\"NG\",IF((C81-E80)>1,\"NG\",\"\"))))","v":""},{"$f":"IF(D81=\"\",\"\",IF(D81<C81,\"NG\",\"\"))","v":""},null,"","",0,"","",0,null,null,null,"",null,"","",null,null,null,0.01,"",null,63000000,0,62000000,0]
[null,null,{"$f":"IF(X82>0,$S$38,\"\")","v":""},null,null,null,null,null,null,null,0,{"$f":"IF(J82=\"\",\"\",ROUNDDOWN(J82*K82*G82/365,0))","v":""},null,0,{"$f":"IF(N82-N83<0,0,N82-N83)","v":0},0,0,"",null,null,"2027-09-09","2028-03-12",null,{"$f":"SUM(X75:X81)","v":0},"","",0,null,null,null,"",null,"",null,null,null,null,0.01,"",null,63000000,0,62000000,0]
[null,"単位期間Ⅱ",{"$f":"IF(E83=\"\",\"\",IF(E81>M256,E81+1,IF(E80>M256,E80+1,IF(E79>M256,E79+1,IF(E78>M256,E78+1,IF(E77>M256,E77+1,IF(E76>M256,E76+1,IF(E75>M256,E75+1,IF(C60>M256,C60,\"\")))))))))","v":""},{"$f":"IF(C83=\"\",\"\",C83)","v":""},null,{"$f":"IF(E83=\"\",\"\",E83)","v":""},{"$f":"IF(E83=\"\",\"\",E83-C83+1)","v":""},{"$f":"IF(G83=\"\",\"\",SUM(G83:G90))","v":""},null,null,0,{"$f":"IF(J83=\"\",\"\",ROUNDDOWN(J83*K83*G83/365,0))","v":""},{"$f":"IF(L83=\"\",\"\",SUM(L83:L90))","v":""},{"$f":"IF(I83=\"\",$N$91,I83)","v":0},0,{"$f":"IF(J83=\"\",$P$91,J83)","v":0},0,"",{"$f":"IF(C83=\"\",\"\",IF(C83>E83,\"NG\",\"\"))","v":""},{"$f":"IF(E83=\"\",\"\",IF(C84=\"\",\"\",IF(E83>C84,\"NG\",\"\")))","v":""},"","","",{"$f":"COUNTIF(S83:W83,\"NG\")","v":0},"","",0,null,"単位期間Ⅱ",{"$f":"AF80+1","v":"2027-09-11"},46641,"2027-10-12",46672,{"$f":"IF(AD83=\"\",\"\",AF83-AD83+1)","v":32},{"$f":"IF(AH83=\"\",\"\",SUM(AH83:AH90))","v":182},62000000,62000000,0.01,{"$f":"IF(AD83=\"\",\"\",ROUNDDOWN(AK83*AL83*AH83/365,0))","v":54356},{"$f":"IF(AM83=\"\",\"\",SUM(AM83:AM90))","v":296847},62000000,1000000,62000000,1000000]
[null,null,{"$f":"IF(E84=\"\",\"\",IF(E83=\"\",\"\",IF(E83>=DATE(2028,3,10),\"\",E83+1)))","v":""},{"$f":"IF(C84=\"\",\"\",C84)","v":""},null,{"$f":"IF(E84=\"\",\"\",E84)","v":""},{"$f":"IF(E84=\"\",\"\",E84-C84+1)","v":""},null,{"$f":"IF(I83=\"\",\"\",IF(E84=\"\",\"\",I83-$C$11))","v":""},{"$f":"IF(J83=\"\",\"\",IF(F84=\"\",\"\",J83-$C$24))","v":""},0,{"$f":"IF(J84=\"\",\"\",ROUNDDOWN(J84*K84*G84/365,0))","v":""},null,{"$f":"IF(I84=\"\",$N$91,I84)","v":0},0,{"$f":"IF(J84=\"\",$P$91,J84)","v":0},0,"",{"$f":"IF(C84=\"\",\"\",IF(C84=E83,\"NG\",IF(C84<E83,\"NG\",IF((C84-E83)>1,\"NG\",\"\"))))","v":""},{"$f":"IF(E84=\"\",\"\",IF(C85=\"\",\"\",IF(E84>C85,\"NG\",\"\")))","v":""},null,"","",{"$f":"COUNTIF(S84:W84,\"NG\")","v":0},"","",0,null,null,{"$f":"AF83+1","v":"2027-10-13"},46673,"2027-11-10",46701,{"$f":"IF(AD84=\"\",\"\",AF84-AD84+1)","v":29},null,61000000,61000000,0.01,48465,null,61000000,1000000,61000000,1000000]
[null,null,{"$f":"IF(E85=\"\",\"\",IF(E84=\"\",\"\",IF(E84>=DATE(2028,3,10),\"\",E84+1)))","v":""},"",null,"","",null,{"$f":"IF(I84=\"\",\"\",IF(E85=\"\",\"\",I84-$C$11))","v":""},{"$f":"IF(J84=\"\",\"\",IF(F85=\"\",\"\",J84-$C$24))","v":""},0,"",null,0,0,0,0,"",{"$f":"IF(C85=\"\",\"\",IF(C85=E84,\"NG\",IF(C85<E84,\"NG\",IF((C85-E84)>1,\"NG\",\"\"))))","v":""},"",null,"","",0,"","",0,null,null,"2027-11-11",46702,"2027-12-10",46731,30,null,60000000,60000000,0.01,49315,null,60000000,1000000,60000000,1000000]
[null,null,"","",null,"","",null,"","",0,"",null,0,0,0,0,"","","",null,"","",0,"","",0,null,null,"2027-12-11",46732,"2028-01-12",46764,33,null,59000000,59000000,0.01,53342,null,59000000,1000000,59000000,1000000]
[null,null,"","",null,"","",null,"","",0,"",null,0,0,0,0,"","","",null,"","",0,"","",0,null,null,"2028-01-13",46765,"2028-02-10",46793,29,null,58000000,58000000,0.01,46082,null,58000000,1000000,58000000,1000000]
[null,null,"","",null,"","",null,"","",0,"",null,0,0,0,0,"","",{"$f":"IF(E88=\"\",\"\",IF(C89=\"\",\"\",IF(E88>C89,\"NG\",\"\")))","v":""},null,"","",0,"","",0,null,null,"2028-02-11",46794,"2028-03-10",46822,29,null,57000000,57000000,0.01,45287,null,57000000,1000000,57000000,1000000]
[null,null,"","",null,"","",null,"","",0,"",null,0,0,0,0,"","",{"$f":"IF(D89=\"\",\"\",IF(D89<C89,\"NG\",\"\"))","v":""},null,"","",0,"","",0,null,null,null,"",null,"","",null,null,null,0.01,"",null,57000000,0,56000000,0]
[null,null,{"$f":"IF(X90>0,$S$38,\"\")","v":""},null,null,null,null,null,null,null,0,{"$f":"IF(J90=\"\",\"\",ROUNDDOWN(J90*K90*G90/365,0))","v":""},null,0,{"$f":"IF(N90-N91<0,0,N90-N91)","v":0},0,0,"",null,null,"2028-03-09","2028-09-12",null,{"$f":"SUM(X83:X89)","v":0},"","",0,null,null,null,"",null,"",null,null,null,null,0.01,"",null,57000000,0,56000000,0]
[{"$f":"YEAR(U98)&\"年度\"","v":"2028年度"},"単位期間Ⅰ",{"$f":"IF(E91=\"\",\"\",IF(E89>0,E89+1,IF(E88>0,E88+1,IF(E87>0,E87+1,IF(E86>0,E86+1,IF(E85>0,E85+1,IF(E84>0,E84+1,E83+1)))))))","v":""},{"$f":"IF(C91=\"\",\"\",C91)","v":""},null,{"$f":"IF(E91=\"\",\"\",E91)","v":""},{"$f":"IF(E91=\"\",\"\",E91-C91+1)","v":""},{"$f":"IF(G91=\"\",\"\",SUM(G91:G98))","v":""},null,null,{"$f":"IF(K90=\"\",\"\",$K$43)","v":0},{"$f":"IF(J91=\"\",\"\",ROUNDDOWN(J91*K91*G91/365,0))","v":""},{"$f":"IF(L91=\"\",\"\",SUM(L91:L98))","v":""},{"$f":"IF(I91=\"\",$N$99,I91)","v":0},0,{"$f":"IF(J91=\"\",$P$99,J91)","v":0},0,"",{"$f":"IF(C91=\"\",\"\",IF(C91>E91,\"NG\",\"\"))","v":""},{"$f":"IF(E91=\"\",\"\",IF(C92=\"\",\"\",IF(E91>C92,\"NG\",\"\")))","v":""},"","","",{"$f":"COUNTIF(S91:W91,\"NG\")","v":0},"","",0,{"$f":"A91","v":"2028年度"},"単位期間Ⅰ",{"$f":"AF88+1","v":"2028-03-11"},46823,"2028-04-10",46853,{"$f":"IF(AD91=\"\",\"\",AF91-AD91+1)","v":31},{"$f":"IF(AH91=\"\",\"\",SUM(AH91:AH98))","v":185},56000000,56000000,0.01,{"$f":"IF(AF91=\"\",\"\",ROUNDDOWN(AK91*AL91*AH91/365,0))","v":47561},{"$f":"IF(AM91=\"\",\"\",SUM(AM91:AM98))","v":271120},56000000,1000000,56000000,1000000]
[null,null,{"$f":"IF(E92=\"\",\"\",IF(E91=\"\",\"\",IF(E91>=DATE(2028,9,10),\"\",E91+1)))","v":""},{"$f":"IF(C92=\"\",\"\",C92)","v":""},null,{"$f":"IF(E92=\"\",\"\",E92)","v":""},{"$f":"IF(E92=\"\",\"\",E92-C92+1)","v":""},null,{"$f":"IF(I91=\"\",\"\",IF(E92=\"\",\"\",I91-$C$11))","v":""},{"$f":"IF(J91=\"\",\"\",IF(F92=\"\",\"\",J91-$C$24))","v":""},{"$f":"IF(K91=\"\",\"\",$K$43)","v":0},{"$f":"IF(J92=\"\",\"\",ROUNDDOWN(J92*K92*G92/365,0))","v":""},null,{"$f":"IF(I92=\"\",$N$99,I92)","v":0},0,{"$f":"IF(J92=\"\",$P$99,J92)","v":0},0,"",{"$f":"IF(C92=\"\",\"\",IF(C92=E91,\"NG\",IF(C92<E91,\"NG\",IF((C92-E91)>1,\"NG\",\"\"))))","v":""},{"$f":"IF(E92=\"\",\"\",IF(C93=\"\",\"\",IF(E92>C93,\"NG\",\"\")))","v":""},null,"","",{"$f":"COUNTIF(S92:W92,\"NG\")","v":0},"","",0,null,null,{"$f":"AF91+1","v":"2028-04-11"},46854,"2028-05-10",46883,{"$f":"IF(AD92=\"\",\"\",AF92-AD92+1)","v":30},null,55000000,55000000,0.01,{"$f":"IF(AF92=\"\",\"\",ROUNDDOWN(AK92*AL92*AH92/365,0))","v":45205},null,55000000,1000000,55000000,1000000]
[null,null,{"$f":"IF(E93=\"\",\"\",IF(E92=\"\",\"\",IF(E92>=DATE(2028,9,10),\"\",E92+1)))","v":""},"",null,"","",null,{"$f":"IF(I92=\"\",\"\",IF(E93=\"\",\"\",I92-$C$11))","v":""},{"$f":"IF(J92=\"\",\"\",IF(F93=\"\",\"\",J92-$C$24))","v":""},{"$f":"IF(K92=\"\",\"\",$K$43)","v":0},"",null,0,0,0,0,"",{"$f":"IF(C93=\"\",\"\",IF(C93=E92,\"NG\",IF(C93<E92,\"NG\",IF((C93-E92)>1,\"NG\",\"\"))))","v":""},"",null,"","",0,"","",0,null,null,"2028-05-11",46884,"2028-06-12",46916,33,null,54000000,54000000,0.01,{"$f":"IF(AF93=\"\",\"\",ROUNDDOWN(AK93*AL93*AH93/365,0))","v":48821},null,54000000,1000000,54000000,1000000]
[null,null,"","",null,"","",null,{"$f":"IF(I93=\"\",\"\",IF(E94=\"\",\"\",I93-$C$11))","v":""},{"$f":"IF(J93=\"\",\"\",IF(F94=\"\",\"\",J93-$C$24))","v":""},0,"",null,0,0,0,0,"","","",null,"","",0,"","",0,null,null,"2028-06-13",46917,"2028-07-10",46944,28,null,53000000,53000000,0.01,40657,null,53000000,1000000,53000000,1000000]
[null,null,"","",null,"","",null,"","",0,"",null,0,0,0,0,"","","",null,"","",0,"","",0,null,null,"2028-07-11",46945,"2028-08-10",46975,31,null,52000000,52000000,0.01,44164,null,52000000,1000000,52000000,1000000]
[null,null,"","",null,"","",null,"","",0,"",null,0,0,0,0,"","",{"$f":"IF(E96=\"\",\"\",IF(C97=\"\",\"\",IF(E96>C97,\"NG\",\"\")))","v":""},null,"","",0,"","",0,null,null,"2028-08-11",46976,"2028-09-11",47007,32,null,51000000,51000000,0.01,44712,null,51000000,1000000,51000000,1000000]
[null,null,"","",null,"","",null,"","",0,"",null,0,0,0,0,"","",{"$f":"IF(D97=\"\",\"\",IF(D97<C97,\"NG\",\"\"))","v":""},null,"",{"$f":"IF(G97>0,\"\",\"NG\")","v":""},0,"","",0,null,null,null,"",null,"","",null,null,null,0.01,"",null,51000000,0,50000000,0]
[null,null,{"$f":"IF(X98>0,$S$38,\"\")","v":""},null,null,null,null,null,null,null,0,{"$f":"IF(J98=\"\",\"\",ROUNDDOWN(J98*K98*G98/365,0))","v":""},null,0,{"$f":"IF(N98-N99<0,0,N98-N99)","v":0},0,0,"",null,null,"2028-09-09","2029-03-12",null,{"$f":"SUM(X91:X97)","v":0},"","",0,null,null,"","",null,"",null,null,null,null,0.01,"",null,51000000,0,50000000,0]
[null,"単位期間Ⅱ",{"$f":"IF(E99=\"\",\"\",IF(E97>M272,E97+1,IF(E96>M272,E96+1,IF(E95>M272,E95+1,IF(E94>M272,E94+1,IF(E93>M272,E93+1,IF(E92>M272,E92+1,IF(E91>M272,E91+1,IF(C76>M272,C76,\"\")))))))))","v":""},{"$f":"IF(C99=\"\",\"\",C99)","v":""},null,{"$f":"IF(E99=\"\",\"\",E99)","v":""},{"$f":"IF(E99=\"\",\"\",E99-C99+1)","v":""},{"$f":"IF(G99=\"\",\"\",SUM(G99:G106))","v":""},null,null,0,{"$f":"IF(J99=\"\",\"\",ROUNDDOWN(J99*K99*G99/365,0))","v":""},{"$f":"IF(L99=\"\",\"\",SUM(L99:L106))","v":""},{"$f":"IF(I99=\"\",$N$107,I99)","v":0},0,{"$f":"IF(J99=\"\",$P$107,J99)","v":0},0,"",{"$f":"IF(C99=\"\",\"\",IF(C99>E99,\"NG\",\"\"))","v":""},{"$f":"IF(E99=\"\",\"\",IF(C100=\"\",\"\",IF(E99>C100,\"NG\",\"\")))","v":""},"","",{"$f":"IF(G99>0,\"\",\"NG\")","v":""},{"$f":"COUNTIF(S99:W99,\"NG\")","v":0},"","",0,null,"単位期間Ⅱ",{"$f":"AF96+1","v":"2028-09-12"},47008,"2028-10-10",47036,{"$f":"IF(AD99=\"\",\"\",AF99-AD99+1)","v":29},{"$f":"IF(AH99=\"\",\"\",SUM(AH99:AH106))","v":182},50000000,50000000,0.01,{"$f":"IF(AD99=\"\",\"\",ROUNDDOWN(AK99*AL99*AH99/365,0))","v":39726},{"$f":"IF(AM99=\"\",\"\",SUM(AM99:AM106))","v":236875},50000000,1000000,50000000,1000000]
[null,null,{"$f":"IF(E100=\"\",\"\",IF(E99=\"\",\"\",IF(E99>=DATE(2029,3,10),\"\",E99+1)))","v":""},{"$f":"IF(C100=\"\",\"\",C100)","v":""},null,{"$f":"IF(E100=\"\",\"\",E100)","v":""},{"$f":"IF(E100=\"\",\"\",E100-C100+1)","v":""},null,{"$f":"IF(I99=\"\",\"\",IF(E100=\"\",\"\",I99-$C$11))","v":""},{"$f":"IF(J99=\"\",\"\",IF(F100=\"\",\"\",J99-$C$24))","v":""},0,{"$f":"IF(J100=\"\",\"\",ROUNDDOWN(J100*K100*G100/365,0))","v":""},null,{"$f":"IF(I100=\"\",$N$107,I100)","v":0},0,{"$f":"IF(J100=\"\",$P$107,J100)","v":0},0,"",{"$f":"IF(C100=\"\",\"\",IF(C100=E99,\"NG\",IF(C100<E99,\"NG\",IF((C100-E99)>1,\"NG\",\"\"))))","v":""},{"$f":"IF(E100=\"\",\"\",IF(C101=\"\",\"\",IF(E100>C101,\"NG\",\"\")))","v":""},null,"",{"$f":"IF(G100>0,\"\",\"NG\")","v":""},{"$f":"COUNTIF(S100:W100,\"NG\")","v":0},"","",0,null,null,{"$f":"AF99+1","v":"2028-10-11"},47037,"2028-11-10",47067,{"$f":"IF(AD100=\"\",\"\",AF100-AD100+1)","v":31},null,49000000,49000000,0.01,41616,null,49000000,1000000,49000000,1000000]
[null,null,{"$f":"IF(E101=\"\",\"\",IF(E100=\"\",\"\",IF(E100>=DATE(2029,3,10),\"\",E100+1)))","v":""},"",null,"","",null,{"$f":"IF(I100=\"\",\"\",IF(E101=\"\",\"\",I100-$C$11))","v":""},{"$f":"IF(J100=\"\",\"\",IF(F101=\"\",\"\",J100-$C$24))","v":""},0,"",null,0,0,0,0,"",{"$f":"IF(C101=\"\",\"\",IF(C101=E100,\"NG\",IF(C101<E100,\"NG\",IF((C101-E100)>1,\"NG\",\"\"))))","v":""},"",null,"","",0,"","",0,null,null,"2028-11-11",47068,"2028-12-11",47098,31,null,48000000,48000000,0.01,40767,null,48000000,1000000,48000000,1000000]
[null,null,"","",null,"","",null,"","",0,"",null,0,0,0,0,"","","",null,"","",0,"","",0,null,null,"2028-12-12",47099,"2029-01-10",47128,30,null,47000000,47000000,0.01,38630,null,47000000,1000000,47000000,1000000]
[null,null,"","",null,"","",null,"","",0,"",null,0,0,0,0,"","","",null,"","",0,"","",0,null,null,"2029-01-11",47129,"2029-02-13",47162,34,null,46000000,46000000,0.01,42849,null,46000000,1000000,46000000,1000000]
[null,null,"","",null,"","",null,"","",0,"",null,0,0,0,0,"","",{"$f":"IF(E104=\"\",\"\",IF(C105=\"\",\"\",IF(E104>C105,\"NG\",\"\")))","v":""},null,"","",0,"","",0,null,null,"2029-02-14",47163,"2029-03-12",47189,27,null,45000000,45000000,0.01,33287,null,45000000,1000000,45000000,1000000]
[null,null,"","",null,"","",null,"","",0,"",null,0,0,0,0,"","",{"$f":"IF(D105=\"\",\"\",IF(D105<C105,\"NG\",\"\"))","v":""},null,"","",0,"","",0,null,null,null,"",null,"","",null,null,null,0.01,"",null,45000000,0,44000000,0]
[null,null,{"$f":"IF(X106>0,$S$38,\"\")","v":""},null,null,null,null,null,null,null,0,{"$f":"IF(J106=\"\",\"\",ROUNDDOWN(J106*K106*G106/365,0))","v":""},null,0,{"$f":"IF(N106-N107<0,0,N106-N107)","v":0},0,0,"",null,null,"2029-03-09","2029-09-12",null,{"$f":"SUM(X99:X105)","v":0},"","",0,null,null,"","",null,"",null,null,null,null,0.01,"",null,45000000,0,44000000,0]
[{"$f":"YEAR(U114)&\"年度\"","v":"2029年度"},"単位期間Ⅰ",{"$f":"IF(E107=\"\",\"\",IF(E105>0,E105+1,IF(E104>0,E104+1,IF(E103>0,E103+1,IF(E102>0,E102+1,IF(E101>0,E101+1,IF(E100>0,E100+1,E99+1)))))))","v":""},{"$f":"IF(C107=\"\",\"\",C107)","v":""},null,{"$f":"IF(E107=\"\",\"\",E107)","v":""},{"$f":"IF(E107=\"\",\"\",E107-C107+1)","v":""},{"$f":"IF(G107=\"\",\"\",SUM(G107:G114))","v":""},null,null,{"$f":"IF(K106=\"\",\"\",$K$43)","v":0},{"$f":"IF(J107=\"\",\"\",ROUNDDOWN(J107*K107*G107/365,0))","v":""},{"$f":"IF(L107=\"\",\"\",SUM(L107:L114))","v":""},{"$f":"IF(I107=\"\",$N$115,I107)","v":0},0,{"$f":"IF(J107=\"\",$P$115,J107)","v":0},0,"",{"$f":"IF(C107=\"\",\"\",IF(C107>E107,\"NG\",\"\"))","v":""},{"$f":"IF(E107=\"\",\"\",IF(C108=\"\",\"\",IF(E107>C108,\"NG\",\"\")))","v":""},"","","",{"$f":"COUNTIF(S107:W107,\"NG\")","v":0},"","",0,{"$f":"A107","v":"2029年度"},"単位期間Ⅰ",{"$f":"AF104+1","v":"2029-03-13"},47190,"2029-04-10",47218,{"$f":"IF(AD107=\"\",\"\",AF107-AD107+1)","v":29},{"$f":"IF(AH107=\"\",\"\",SUM(AH107:AH114))","v":182},44000000,44000000,0.01,{"$f":"IF(AF107=\"\",\"\",ROUNDDOWN(AK107*AL107*AH107/365,0))","v":34958},{"$f":"IF(AM107=\"\",\"\",SUM(AM107:AM114))","v":206791},{"$f":"IF(AJ107=\"\",AO106,AJ107)","v":44000000},1000000,44000000,1000000]
[null,null,{"$f":"IF(E108=\"\",\"\",IF(E107=\"\",\"\",IF(E107>=DATE(2029,9,10),\"\",E107+1)))","v":""},{"$f":"IF(C108=\"\",\"\",C108)","v":""},null,{"$f":"IF(E108=\"\",\"\",E108)","v":""},{"$f":"IF(E108=\"\",\"\",E108-C108+1)","v":""},null,{"$f":"IF(I107=\"\",\"\",IF(E108=\"\",\"\",I107-$C$11))","v":""},{"$f":"IF(J107=\"\",\"\",IF(F108=\"\",\"\",J107-$C$24))","v":""},{"$f":"IF(K107=\"\",\"\",$K$43)","v":0},{"$f":"IF(J108=\"\",\"\",ROUNDDOWN(J108*K108*G108/365,0))","v":""},null,{"$f":"IF(I108=\"\",$N$115,I108)","v":0},0,{"$f":"IF(J108=\"\",$P$115,J108)","v":0},0,"",{"$f":"IF(C108=\"\",\"\",IF(C108=E107,\"NG\",IF(C108<E107,\"NG\",IF((C108-E107)>1,\"NG\",\"\"))))","v":""},{"$f":"IF(E108=\"\",\"\",IF(C109=\"\",\"\",IF(E108>C109,\"NG\",\"\")))","v":""},null,"","",{"$f":"COUNTIF(S108:W108,\"NG\")","v":0},{"$f":"IF($O108=$I108,\"\",IF($O108=0,\"\",IF($O108=$Y$41,\"\",\"NG\")))","v":""},{"$f":"IF($Q108=$J108,\"\",IF($Q108=0,\"\",IF($Q108=$Z$41,\"\",\"NG\")))","v":""},0,null,null,{"$f":"AF107+1","v":"2029-04-11"},{"$f":"IF(AD108=\"\",\"\",AD108)","v":47219},"2029-05-10",{"$f":"IF(AF108=\"\",\"\",AF108)","v":47248},{"$f":"IF(AD108=\"\",\"\",AF108-AD108+1)","v":30},null,43000000,43000000,0.01,{"$f":"IF(AF108=\"\",\"\",ROUNDDOWN(AK108*AL108*AH108/365,0))","v":35342},null,43000000,1000000,43000000,1000000]
[null,null,{"$f":"IF(E109=\"\",\"\",IF(E108=\"\",\"\",IF(E108>=DATE(2029,9,10),\"\",E108+1)))","v":""},"",null,"","",null,{"$f":"IF(I108=\"\",\"\",IF(E109=\"\",\"\",I108-$C$11))","v":""},{"$f":"IF(J108=\"\",\"\",IF(F109=\"\",\"\",J108-$C$24))","v":""},{"$f":"IF(K108=\"\",\"\",$K$43)","v":0},"",null,0,0,0,0,{"$f":"IF(AA109>0,$Y$38,\"\")","v":""},{"$f":"IF(C109=\"\",\"\",IF(C109=E108,\"NG\",IF(C109<E108,\"NG\",IF((C109-E108)>1,\"NG\",\"\"))))","v":""},"",null,"","",0,"","",{"$f":"COUNTIF(Y109:Z109,\"NG\")","v":0},null,null,"2029-05-11",47249,"2029-06-11",47280,32,null,42000000,42000000,0.01,{"$f":"IF(AF109=\"\",\"\",ROUNDDOWN(AK109*AL109*AH109/365,0))","v":36821},null,42000000,1000000,42000000,1000000]
[null,null,"","",null,"","",null,{"$f":"IF(I109=\"\",\"\",IF(E110=\"\",\"\",I109-$C$11))","v":""},{"$f":"IF(J109=\"\",\"\",IF(F110=\"\",\"\",J109-$C$24))","v":""},0,"",null,0,0,0,0,"","","",null,"","",0,"","",0,null,null,"2029-06-12",47281,"2029-07-10",47309,29,null,41000000,41000000,0.01,32575,null,41000000,1000000,41000000,1000000]
[null,null,"","",null,"","",null,"","",0,"",null,0,0,0,0,"","","",null,"","",0,"","",0,null,null,"2029-07-11",47310,"2029-08-10",47340,31,null,40000000,40000000,0.01,33972,null,40000000,1000000,40000000,1000000]
[null,null,"","",null,"","",null,"","",0,"",null,0,0,0,0,"","",{"$f":"IF(E112=\"\",\"\",IF(C113=\"\",\"\",IF(E112>C113,\"NG\",\"\")))","v":""},null,"","",0,"","",0,null,null,"2029-08-11",47341,"2029-09-10",47371,31,null,39000000,39000000,0.01,33123,null,39000000,1000000,39000000,1000000]
[null,null,"","",null,"","",null,"","",0,"",null,0,0,0,0,"","",{"$f":"IF(D113=\"\",\"\",IF(D113<C113,\"NG\",\"\"))","v":""},null,"","",0,"","",0,null,null,null,"",null,"","",null,null,null,0.01,"",null,39000000,0,38000000,0]
[null,null,{"$f":"IF(X114>0,$S$38,\"\")","v":""},null,null,null,null,null,null,null,0,{"$f":"IF(J114=\"\",\"\",ROUNDDOWN(J114*K114*G114/365,0))","v":""},null,0,{"$f":"IF(N114-N115<0,0,N114-N115)","v":0},0,0,"",null,null,"2029-09-09","2030-03-12",null,{"$f":"SUM(X107:X113)","v":0},"","",0,null,null,"","",null,"",null,null,null,null,0.01,"",null,39000000,0,38000000,0]
[null,"単位期間Ⅱ",{"$f":"IF(E115=\"\",\"\",IF(E113>M287,E113+1,IF(E112>M287,E112+1,IF(E111>M287,E111+1,IF(E110>M287,E110+1,IF(E109>M287,E109+1,IF(E108>M287,E108+1,IF(E107>M287,E107+1,IF(C92>M287,C92,\"\")))))))))","v":""},{"$f":"IF(C115=\"\",\"\",C115)","v":""},null,{"$f":"IF(E115=\"\",\"\",E115)","v":""},{"$f":"IF(E115=\"\",\"\",E115-C115+1)","v":""},{"$f":"IF(G115=\"\",\"\",SUM(G115:G122))","v":""},null,null,0,{"$f":"IF(J115=\"\",\"\",ROUNDDOWN(J115*K115*G115/365,0))","v":""},{"$f":"IF(L115=\"\",\"\",SUM(L115:L122))","v":""},{"$f":"IF(I115=\"\",$N$123,I115)","v":0},0,{"$f":"IF(J115=\"\",$P$123,J115)","v":0},0,"",{"$f":"IF(C115=\"\",\"\",IF(C115>E115,\"NG\",\"\"))","v":""},{"$f":"IF(E115=\"\",\"\",IF(C116=\"\",\"\",IF(E115>C116,\"NG\",\"\")))","v":""},"","","",{"$f":"COUNTIF(S115:W115,\"NG\")","v":0},"","",0,null,"単位期間Ⅱ",{"$f":"AF112+1","v":"2029-09-11"},47372,"2029-10-10",47401,{"$f":"IF(AD115=\"\",\"\",AF115-AD115+1)","v":30},{"$f":"IF(AH115=\"\",\"\",SUM(AH115:AH122))","v":182},38000000,38000000,0.01,{"$f":"IF(AD115=\"\",\"\",ROUNDDOWN(AK115*AL115*AH115/365,0))","v":31232},{"$f":"IF(AM115=\"\",\"\",SUM(AM115:AM122))","v":177175},38000000,1000000,38000000,1000000]
[null,null,{"$f":"IF(E116=\"\",\"\",IF(E115=\"\",\"\",IF(E115>=DATE(2030,3,10),\"\",E115+1)))","v":""},{"$f":"IF(C116=\"\",\"\",C116)","v":""},null,{"$f":"IF(E116=\"\",\"\",E116)","v":""},{"$f":"IF(E116=\"\",\"\",E116-C116+1)","v":""},null,{"$f":"IF(I115=\"\",\"\",IF(E116=\"\",\"\",I115-$C$11))","v":""},{"$f":"IF(J115=\"\",\"\",IF(F116=\"\",\"\",J115-$C$24))","v":""},0,{"$f":"IF(J116=\"\",\"\",ROUNDDOWN(J116*K116*G116/365,0))","v":""},null,{"$f":"IF(I116=\"\",$N$123,I116)","v":0},{"$f":"N116-N117","v":0},{"$f":"IF(J116=\"\",$P$123,J116)","v":0},{"$f":"P116-P117","v":0},"",{"$f":"IF(C116=\"\",\"\",IF(C116=E115,\"NG\",IF(C116<E115,\"NG\",IF((C116-E115)>1,\"NG\",\"\"))))","v":""},{"$f":"IF(E116=\"\",\"\",IF(C117=\"\",\"\",IF(E116>C117,\"NG\",\"\")))","v":""},null,"","",{"$f":"COUNTIF(S116:W116,\"NG\")","v":0},"","",0,null,null,{"$f":"AF115+1","v":"2029-10-11"},47402,"2029-11-12",47434,{"$f":"IF(AD116=\"\",\"\",AF116-AD116+1)","v":33},null,37000000,37000000,0.01,33452,null,37000000,1000000,37000000,1000000]
[null,null,{"$f":"IF(E117=\"\",\"\",IF(E116=\"\",\"\",IF(E116>=DATE(2030,3,10),\"\",E116+1)))","v":""},"",null,"","",null,{"$f":"IF(I116=\"\",\"\",IF(E117=\"\",\"\",I116-$C$11))","v":""},{"$f":"IF(J116=\"\",\"\",IF(F117=\"\",\"\",J116-$C$24))","v":""},0,"",null,0,0,0,0,"",{"$f":"IF(C117=\"\",\"\",IF(C117=E116,\"NG\",IF(C117<E116,\"NG\",IF((C117-E116)>1,\"NG\",\"\"))))","v":""},"",null,"","",0,"","",0,null,null,"2029-11-13",47435,"2029-12-10",47462,28,null,36000000,36000000,0.01,27616,null,36000000,1000000,36000000,1000000]
[null,null,"","",null,"","",null,"","",0,"",null,0,0,0,0,"","","",null,"","",0,"","",0,null,null,"2029-12-11",47463,"2030-01-10",47493,31,null,35000000,35000000,0.01,29726,null,35000000,1000000,35000000,1000000]
[null,null,"","",null,"","",null,"","",0,"",null,0,0,0,0,"","","",null,"","",0,"","",0,null,null,"2030-01-11",47494,"2030-02-12",47526,33,null,34000000,34000000,0.01,30739,null,34000000,1000000,34000000,1000000]
[null,null,"","",null,"","",null,"","",0,"",null,0,0,0,0,"","",{"$f":"IF(E120=\"\",\"\",IF(C121=\"\",\"\",IF(E120>C121,\"NG\",\"\")))","v":""},null,"","",0,"","",0,null,null,"2030-02-13",47527,"2030-03-11",47553,27,null,33000000,33000000,0.01,24410,null,33000000,1000000,33000000,1000000]
[null,null,"","",null,"","",null,"","",0,"",null,0,0,0,0,"","",{"$f":"IF(D121=\"\",\"\",IF(D121<C121,\"NG\",\"\"))","v":""},null,"","",0,"","",0,null,null,null,"",null,"","",null,null,null,0.01,"",null,33000000,0,32000000,0]
[null,null,{"$f":"IF(X122>0,$S$38,\"\")","v":""},null,null,null,null,null,null,null,0,{"$f":"IF(J122=\"\",\"\",ROUNDDOWN(J122*K122*G122/365,0))","v":""},null,0,{"$f":"IF(N122-N123<0,0,N122-N123)","v":0},0,0,"",null,null,"2030-03-09","2030-09-12",null,{"$f":"SUM(X115:X121)","v":0},"","",0,null,null,null,"",null,"",null,null,null,null,0.01,"",null,33000000,0,32000000,0]
[{"$f":"YEAR(U130)&\"年度\"","v":"2030年度"},"単位期間Ⅰ",{"$f":"IF(E123=\"\",\"\",IF(E121>0,E121+1,IF(E120>0,E120+1,IF(E119>0,E119+1,IF(E118>0,E118+1,IF(E117>0,E117+1,IF(E116>0,E116+1,E115+1)))))))","v":""},{"$f":"IF(C123=\"\",\"\",C123)","v":""},null,{"$f":"IF(E123=\"\",\"\",E123)","v":""},{"$f":"IF(E123=\"\",\"\",E123-C123+1)","v":""},{"$f":"IF(G123=\"\",\"\",SUM(G123:G130))","v":""},null,null,{"$f":"IF(K122=\"\",\"\",$K$43)","v":0},{"$f":"IF(J123=\"\",\"\",ROUNDDOWN(J123*K123*G123/365,0))","v":""},{"$f":"IF(L123=\"\",\"\",SUM(L123:L130))","v":""},{"$f":"IF(I123=\"\",$N$131,I123)","v":0},0,{"$f":"IF(J123=\"\",$P$131,J123)","v":0},0,"",{"$f":"IF(C123=\"\",\"\",IF(C123>E123,\"NG\",\"\"))","v":""},{"$f":"IF(E123=\"\",\"\",IF(C124=\"\",\"\",IF(E123>C124,\"NG\",\"\")))","v":""},"","","",{"$f":"COUNTIF(S123:W123,\"NG\")","v":0},"","",0,{"$f":"A123","v":"2030年度"},"単位期間Ⅰ",{"$f":"AF120+1","v":"2030-03-12"},47554,"2030-04-10",47583,{"$f":"IF(AD123=\"\",\"\",AF123-AD123+1)","v":30},{"$f":"IF(AH123=\"\",\"\",SUM(AH123:AH130))","v":183},32000000,32000000,0.01,{"$f":"IF(AF123=\"\",\"\",ROUNDDOWN(AK123*AL123*AH123/365,0))","v":26301},{"$f":"IF(AM123=\"\",\"\",SUM(AM123:AM130))","v":147888},32000000,1000000,32000000,1000000]
[null,null,{"$f":"IF(E124=\"\",\"\",IF(E123=\"\",\"\",IF(E123>=DATE(2030,9,10),\"\",E123+1)))","v":""},{"$f":"IF(C124=\"\",\"\",C124)","v":""},null,{"$f":"IF(E124=\"\",\"\",E124)","v":""},{"$f":"IF(E124=\"\",\"\",E124-C124+1)","v":""},null,{"$f":"IF(I123=\"\",\"\",IF(E124=\"\",\"\",I123-$C$11))","v":""},{"$f":"IF(J123=\"\",\"\",IF(F124=\"\",\"\",J123-$C$24))","v":""},{"$f":"IF(K123=\"\",\"\",$K$43)","v":0},{"$f":"IF(J124=\"\",\"\",ROUNDDOWN(J124*K124*G124/365,0))","v":""},null,{"$f":"IF(I124=\"\",$N$131,I124)","v":0},0,{"$f":"IF(J124=\"\",$P$131,J124)","v":0},0,"",{"$f":"IF(C124=\"\",\"\",IF(C124=E123,\"NG\",IF(C124<E123,\"NG\",IF((C124-E123)>1,\"NG\",\"\"))))","v":""},{"$f":"IF(E124=\"\",\"\",IF(C125=\"\",\"\",IF(E124>C125,\"NG\",\"\")))","v":""},null,"","",{"$f":"COUNTIF(S124:W124,\"NG\")","v":0},"","",0,null,null,{"$f":"AF123+1","v":"2030-04-11"},47584,"2030-05-10",47613,{"$f":"IF(AD124=\"\",\"\",AF124-AD124+1)","v":30},null,31000000,31000000,0.01,{"$f":"IF(AF124=\"\",\"\",ROUNDDOWN(AK124*AL124*AH124/365,0))","v":25479},null,31000000,1000000,31000000,1000000]
[null,null,{"$f":"IF(E125=\"\",\"\",IF(E124=\"\",\"\",IF(E124>=DATE(2030,9,10),\"\",E124+1)))","v":""},"",null,"","",null,{"$f":"IF(I124=\"\",\"\",IF(E125=\"\",\"\",I124-$C$11))","v":""},{"$f":"IF(J124=\"\",\"\",IF(F125=\"\",\"\",J124-$C$24))","v":""},{"$f":"IF(K124=\"\",\"\",$K$43)","v":0},"",null,0,0,0,0,"",{"$f":"IF(C125=\"\",\"\",IF(C125=E124,\"NG\",IF(C125<E124,\"NG\",IF((C125-E124)>1,\"NG\",\"\"))))","v":""},"",null,"","",0,"","",0,null,null,"2030-05-11",47614,"2030-06-10",47644,31,null,30000000,30000000,0.01,{"$f":"IF(AF125=\"\",\"\",ROUNDDOWN(AK125*AL125*AH125/365,0))","v":25479},null,30000000,1000000,30000000,1000000]
[null,null,"","",null,"","",null,{"$f":"IF(I125=\"\",\"\",IF(E126=\"\",\"\",I125-$C$11))","v":""},{"$f":"IF(J125=\"\",\"\",IF(F126=\"\",\"\",J125-$C$24))","v":""},0,"",null,0,0,0,0,"","","",null,"","",0,"","",0,null,null,"2030-06-11",47645,"2030-07-10",{"$f":"IF(AF126=\"\",\"\",AF126)","v":47674},30,null,29000000,29000000,0.01,23835,null,29000000,1000000,29000000,1000000]
[null,null,"","",null,"","",null,"","",0,"",null,0,0,0,0,"","","",null,"","",0,"","",0,null,null,"2030-07-11",47675,"2030-08-13",47708,34,null,28000000,28000000,0.01,26082,null,28000000,1000000,28000000,1000000]
[null,null,"","",null,"","",null,"","",0,"",null,0,0,0,0,"","","",null,"","",0,"","",0,null,null,"2030-08-14",47709,"2030-09-10",47736,28,null,27000000,27000000,0.01,20712,null,27000000,1000000,27000000,1000000]
[null,null,"","",null,"","",null,"","",0,"",null,0,0,0,0,"","",{"$f":"IF(D129=\"\",\"\",IF(D129<C129,\"NG\",\"\"))","v":""},null,"","",0,"","",0,null,null,null,"",null,"","",null,null,null,0.01,"",null,27000000,0,26000000,0]
[null,null,{"$f":"IF(X130>0,$S$38,\"\")","v":""},null,null,null,null,null,null,null,0,{"$f":"IF(J130=\"\",\"\",ROUNDDOWN(J130*K130*G130/365,0))","v":""},null,0,{"$f":"IF(N130-N131<0,0,N130-N131)","v":0},0,0,"",null,null,"2030-09-09","2031-03-12",null,{"$f":"SUM(X123:X129)","v":0},"","",0,null,null,"","",null,"",null,null,null,null,0.01,"",null,27000000,0,26000000,0]
[null,"単位期間Ⅱ",{"$f":"IF(E131=\"\",\"\",IF(E129>M303,E129+1,IF(E128>M303,E128+1,IF(E127>M303,E127+1,IF(E126>M303,E126+1,IF(E125>M303,E125+1,IF(E124>M303,E124+1,IF(E123>M303,E123+1,IF(C108>M303,C108,\"\")))))))))","v":""},{"$f":"IF(C131=\"\",\"\",C131)","v":""},null,{"$f":"IF(E131=\"\",\"\",E131)","v":""},{"$f":"IF(E131=\"\",\"\",E131-C131+1)","v":""},{"$f":"IF(G131=\"\",\"\",SUM(G131:G138))","v":""},null,null,0,{"$f":"IF(J131=\"\",\"\",ROUNDDOWN(J131*K131*G131/365,0))","v":""},{"$f":"IF(L131=\"\",\"\",SUM(L131:L138))","v":""},{"$f":"IF(I131=\"\",$N$139,I131)","v":0},0,{"$f":"IF(J131=\"\",$P$139,J131)","v":0},0,"",{"$f":"IF(C131=\"\",\"\",IF(C131>E131,\"NG\",\"\"))","v":""},{"$f":"IF(E131=\"\",\"\",IF(C132=\"\",\"\",IF(E131>C132,\"NG\",\"\")))","v":""},"","","",{"$f":"COUNTIF(S131:W131,\"NG\")","v":0},"","",0,null,"単位期間Ⅱ",{"$f":"AF128+1","v":"2030-09-11"},47737,"2030-10-10",47766,{"$f":"IF(AD131=\"\",\"\",AF131-AD131+1)","v":30},{"$f":"IF(AH131=\"\",\"\",SUM(AH131:AH138))","v":181},26000000,26000000,0.01,{"$f":"IF(AD131=\"\",\"\",ROUNDDOWN(AK131*AL131*AH131/365,0))","v":21369},{"$f":"IF(AM131=\"\",\"\",SUM(AM131:AM138))","v":116681},26000000,1000000,26000000,1000000]
[null,null,{"$f":"IF(E132=\"\",\"\",IF(E131=\"\",\"\",IF(E131>=DATE(2031,3,10),\"\",E131+1)))","v":""},{"$f":"IF(C132=\"\",\"\",C132)","v":""},null,{"$f":"IF(E132=\"\",\"\",E132)","v":""},{"$f":"IF(E132=\"\",\"\",E132-C132+1)","v":""},null,{"$f":"IF(I131=\"\",\"\",IF(E132=\"\",\"\",I131-$C$11))","v":""},{"$f":"IF(J131=\"\",\"\",IF(F132=\"\",\"\",J131-$C$24))","v":""},0,{"$f":"IF(J132=\"\",\"\",ROUNDDOWN(J132*K132*G132/365,0))","v":""},null,{"$f":"IF(I132=\"\",$N$139,I132)","v":0},0,{"$f":"IF(J132=\"\",$P$139,J132)","v":0},0,"",{"$f":"IF(C132=\"\",\"\",IF(C132=E131,\"NG\",IF(C132<E131,\"NG\",IF((C132-E131)>1,\"NG\",\"\"))))","v":""},{"$f":"IF(E132=\"\",\"\",IF(C133=\"\",\"\",IF(E132>C133,\"NG\",\"\")))","v":""},null,"","",{"$f":"COUNTIF(S132:W132,\"NG\")","v":0},"","",0,null,null,{"$f":"AF131+1","v":"2030-10-11"},47767,"2030-11-11",47798,{"$f":"IF(AD132=\"\",\"\",AF132-AD132+1)","v":32},null,25000000,25000000,0.01,21917,null,25000000,1000000,25000000,1000000]
[null,null,{"$f":"IF(E133=\"\",\"\",IF(E132=\"\",\"\",IF(E132>=DATE(2031,3,10),\"\",E132+1)))","v":""},{"$f":"IF(C133=\"\",\"\",C133)","v":""},null,"","",null,{"$f":"IF(I132=\"\",\"\",IF(E133=\"\",\"\",I132-$C$11))","v":""},{"$f":"IF(J132=\"\",\"\",IF(F133=\"\",\"\",J132-$C$24))","v":""},0,"",null,0,0,0,0,"",{"$f":"IF(C133=\"\",\"\",IF(C133=E132,\"NG\",IF(C133<E132,\"NG\",IF((C133-E132)>1,\"NG\",\"\"))))","v":""},"",null,"","",0,"","",0,null,null,"2030-11-12",47799,"2030-12-10",47827,29,null,24000000,24000000,0.01,19068,null,24000000,1000000,24000000,1000000]
[null,null,"","",null,"","",null,"","",0,"",null,0,0,0,0,"","","",null,"","",0,"","",0,null,null,"2030-12-11",47828,"2031-01-10",47858,31,null,23000000,23000000,0.01,19534,null,23000000,1000000,23000000,1000000]
[null,null,"","",null,"","",null,"","",0,"",null,0,0,0,0,"","","",null,"","",0,"","",0,null,null,"2031-01-11",47859,"2031-02-10",47889,31,null,22000000,22000000,0.01,18684,null,22000000,1000000,22000000,1000000]
[null,null,"","",null,"","",null,"","",0,"",null,0,0,0,0,"","",{"$f":"IF(E136=\"\",\"\",IF(C137=\"\",\"\",IF(E136>C137,\"NG\",\"\")))","v":""},null,"","",0,"","",0,null,null,"2031-02-11",47890,"2031-03-10",47917,28,null,21000000,21000000,0.01,16109,null,21000000,1000000,21000000,1000000]
[null,null,"","",null,"","",null,"","",0,"",null,0,0,0,0,"","",{"$f":"IF(D137=\"\",\"\",IF(D137<C137,\"NG\",\"\"))","v":""},null,"","",0,"","",0,null,null,null,"",null,"","",null,null,null,0.01,"",null,21000000,0,20000000,0]
[null,null,{"$f":"IF(X138>0,$S$38,\"\")","v":""},null,null,null,null,null,null,null,0,{"$f":"IF(J138=\"\",\"\",ROUNDDOWN(J138*K138*G138/365,0))","v":""},null,0,{"$f":"IF(N138-N139<0,0,N138-N139)","v":0},0,0,"",null,null,"2031-03-09","2031-09-12",null,{"$f":"SUM(X131:X137)","v":0},"","",0,null,null,null,"",null,"",null,null,null,null,0.01,"",null,21000000,0,20000000,0]
[{"$f":"YEAR(U146)&\"年度\"","v":"2031年度"},"単位期間Ⅰ",{"$f":"IF(E139=\"\",\"\",IF(E137>0,E137+1,IF(E136>0,E136+1,IF(E135>0,E135+1,IF(E134>0,E134+1,IF(E133>0,E133+1,IF(E132>0,E132+1,E131+1)))))))","v":""},{"$f":"IF(C139=\"\",\"\",C139)","v":""},null,{"$f":"IF(E139=\"\",\"\",E139)","v":""},{"$f":"IF(E139=\"\",\"\",E139-C139+1)","v":""},{"$f":"IF(G139=\"\",\"\",SUM(G139:G146))","v":""},null,null,{"$f":"IF(K138=\"\",\"\",$K$43)","v":0},{"$f":"IF(J139=\"\",\"\",ROUNDDOWN(J139*K139*G139/365,0))","v":""},{"$f":"IF(L139=\"\",\"\",SUM(L139:L146))","v":""},{"$f":"IF(I139=\"\",$N$147,I139)","v":0},0,{"$f":"IF(J139=\"\",$P$147,J139)","v":0},0,"",{"$f":"IF(C139=\"\",\"\",IF(C139>E139,\"NG\",\"\"))","v":""},{"$f":"IF(E139=\"\",\"\",IF(C140=\"\",\"\",IF(E139>C140,\"NG\",\"\")))","v":""},"","","",{"$f":"COUNTIF(S139:W139,\"NG\")","v":0},"","",0,{"$f":"A139","v":"2031年度"},"単位期間Ⅰ",{"$f":"AF136+1","v":"2031-03-11"},47918,"2031-04-10",47948,{"$f":"IF(AD139=\"\",\"\",AF139-AD139+1)","v":31},{"$f":"IF(AH139=\"\",\"\",SUM(AH139:AH146))","v":184},20000000,20000000,0.01,{"$f":"IF(AF139=\"\",\"\",ROUNDDOWN(AK139*AL139*AH139/365,0))","v":16986},{"$f":"IF(AM139=\"\",\"\",SUM(AM139:AM146))","v":88298},20000000,1000000,20000000,1000000]
[null,null,{"$f":"IF(E140=\"\",\"\",IF(E139=\"\",\"\",IF(E139>=DATE(2031,9,10),\"\",E139+1)))","v":""},{"$f":"IF(C140=\"\",\"\",C140)","v":""},null,{"$f":"IF(E140=\"\",\"\",E140)","v":""},{"$f":"IF(E140=\"\",\"\",E140-C140+1)","v":""},null,{"$f":"IF(I139=\"\",\"\",IF(E140=\"\",\"\",I139-$C$11))","v":""},{"$f":"IF(J139=\"\",\"\",IF(F140=\"\",\"\",J139-$C$24))","v":""},{"$f":"IF(K139=\"\",\"\",$K$43)","v":0},{"$f":"IF(J140=\"\",\"\",ROUNDDOWN(J140*K140*G140/365,0))","v":""},null,{"$f":"IF(I140=\"\",$N$147,I140)","v":0},0,{"$f":"IF(J140=\"\",$P$147,J140)","v":0},0,"",{"$f":"IF(C140=\"\",\"\",IF(C140=E139,\"NG\",IF(C140<E139,\"NG\",IF((C140-E139)>1,\"NG\",\"\"))))","v":""},{"$f":"IF(E140=\"\",\"\",IF(C141=\"\",\"\",IF(E140>C141,\"NG\",\"\")))","v":""},null,"","",{"$f":"COUNTIF(S140:W140,\"NG\")","v":0},"","",0,null,null,{"$f":"AF139+1","v":"2031-04-11"},47949,"2031-05-12",47980,{"$f":"IF(AD140=\"\",\"\",AF140-AD140+1)","v":32},null,19000000,19000000,0.01,{"$f":"IF(AF140=\"\",\"\",ROUNDDOWN(AK140*AL140*AH140/365,0))","v":16657},null,19000000,1000000,19000000,1000000]
[null,null,{"$f":"IF(E141=\"\",\"\",IF(E140=\"\",\"\",IF(E140>=DATE(2031,9,10),\"\",E140+1)))","v":""},"",null,"","",null,{"$f":"IF(I140=\"\",\"\",IF(E141=\"\",\"\",I140-$C$11))","v":""},{"$f":"IF(J140=\"\",\"\",IF(F141=\"\",\"\",J140-$C$24))","v":""},{"$f":"IF(K140=\"\",\"\",$K$43)","v":0},"",null,0,0,0,0,"",{"$f":"IF(C141=\"\",\"\",IF(C141=E140,\"NG\",IF(C141<E140,\"NG\",IF((C141-E140)>1,\"NG\",\"\"))))","v":""},"",null,"","",0,"","",0,null,null,"2031-05-13",47981,"2031-06-10",48009,29,null,18000000,18000000,0.01,{"$f":"IF(AF141=\"\",\"\",ROUNDDOWN(AK141*AL141*AH141/365,0))","v":14301},null,18000000,1000000,18000000,1000000]
[null,null,"","",null,"","",null,{"$f":"IF(I141=\"\",\"\",IF(E142=\"\",\"\",I141-$C$11))","v":""},{"$f":"IF(J141=\"\",\"\",IF(F142=\"\",\"\",J141-$C$24))","v":""},0,"",null,0,0,0,0,"","","",null,"","",0,"","",0,null,null,"2031-06-11",48010,"2031-07-10",48039,30,null,17000000,17000000,0.01,13972,null,17000000,1000000,17000000,1000000]
[null,null,"","",null,"","",null,"","",0,"",null,0,0,0,0,"","","",null,"","",0,"","",0,null,null,"2031-07-11",48040,"2031-08-12",48072,33,null,16000000,16000000,0.01,14465,null,16000000,1000000,16000000,1000000]
[null,null,"","",null,"","",null,"","",0,"",null,0,0,0,0,"","",{"$f":"IF(E144=\"\",\"\",IF(C145=\"\",\"\",IF(E144>C145,\"NG\",\"\")))","v":""},null,"","",0,"","",0,null,null,"2031-08-13",48073,"2031-09-10",48101,29,null,15000000,15000000,0.01,11917,null,15000000,1000000,15000000,1000000]
[null,null,"","",null,"","",null,"","",0,"",null,0,0,0,0,"","",{"$f":"IF(D145=\"\",\"\",IF(D145<C145,\"NG\",\"\"))","v":""},null,"","",0,"","",0,null,null,null,"",null,"","",null,null,null,0.01,"",null,15000000,0,14000000,0]
[null,null,{"$f":"IF(X146>0,$S$38,\"\")","v":""},null,null,null,null,null,null,null,0,{"$f":"IF(J146=\"\",\"\",ROUNDDOWN(J146*K146*G146/365,0))","v":""},null,0,{"$f":"IF(N146-N147<0,0,N146-N147)","v":0},0,0,"",null,null,"2031-09-09","2032-03-12",null,{"$f":"SUM(X139:X145)","v":0},"","",0,null,null,null,"",null,"",null,null,null,null,0.01,"",null,15000000,0,14000000,0]
[null,"単位期間Ⅱ",{"$f":"IF(E147=\"\",\"\",IF(E145>M318,E145+1,IF(E144>M318,E144+1,IF(E143>M318,E143+1,IF(E142>M318,E142+1,IF(E141>M318,E141+1,IF(E140>M318,E140+1,IF(E139>M318,E139+1,IF(C124>M318,C124,\"\")))))))))","v":""},{"$f":"IF(C147=\"\",\"\",C147)","v":""},null,{"$f":"IF(E147=\"\",\"\",E147)","v":""},{"$f":"IF(E147=\"\",\"\",E147-C147+1)","v":""},{"$f":"IF(G147=\"\",\"\",SUM(G147:G154))","v":""},null,null,0,{"$f":"IF(J147=\"\",\"\",ROUNDDOWN(J147*K147*G147/365,0))","v":""},{"$f":"IF(L147=\"\",\"\",SUM(L147:L154))","v":""},{"$f":"IF(I147=\"\",$N$155,I147)","v":0},0,{"$f":"IF(J147=\"\",$P$155,J147)","v":0},0,"",{"$f":"IF(C147=\"\",\"\",IF(C147>E147,\"NG\",\"\"))","v":""},{"$f":"IF(E147=\"\",\"\",IF(C148=\"\",\"\",IF(E147>C148,\"NG\",\"\")))","v":""},"","","",{"$f":"COUNTIF(S147:W147,\"NG\")","v":0},"","",0,null,"単位期間Ⅱ",{"$f":"AF144+1","v":"2031-09-11"},48102,"2031-10-10",48131,{"$f":"IF(AD147=\"\",\"\",AF147-AD147+1)","v":30},{"$f":"IF(AH147=\"\",\"\",SUM(AH147:AH154))","v":182},14000000,14000000,0.01,{"$f":"IF(AD147=\"\",\"\",ROUNDDOWN(AK147*AL147*AH147/365,0))","v":11506},{"$f":"IF(AM147=\"\",\"\",SUM(AM147:AM154))","v":57477},14000000,1000000,14000000,1000000]
[null,null,{"$f":"IF(E148=\"\",\"\",IF(E147=\"\",\"\",IF(E147>=DATE(2032,3,10),\"\",E147+1)))","v":""},{"$f":"IF(C148=\"\",\"\",C148)","v":""},null,{"$f":"IF(E148=\"\",\"\",E148)","v":""},{"$f":"IF(E148=\"\",\"\",E148-C148+1)","v":""},null,{"$f":"IF(I147=\"\",\"\",IF(E148=\"\",\"\",I147-$C$11))","v":""},{"$f":"IF(J147=\"\",\"\",IF(F148=\"\",\"\",J147-$C$24))","v":""},0,{"$f":"IF(J148=\"\",\"\",ROUNDDOWN(J148*K148*G148/365,0))","v":""},null,{"$f":"IF(I148=\"\",$N$155,I148)","v":0},0,{"$f":"IF(J148=\"\",$P$155,J148)","v":0},0,"",{"$f":"IF(C148=\"\",\"\",IF(C148=E147,\"NG\",IF(C148<E147,\"NG\",IF((C148-E147)>1,\"NG\",\"\"))))","v":""},{"$f":"IF(E148=\"\",\"\",IF(C149=\"\",\"\",IF(E148>C149,\"NG\",\"\")))","v":""},null,"","",{"$f":"COUNTIF(S148:W148,\"NG\")","v":0},"","",0,null,null,{"$f":"AF147+1","v":"2031-10-11"},48132,"2031-11-10",48162,{"$f":"IF(AD148=\"\",\"\",AF148-AD148+1)","v":31},null,13000000,13000000,0.01,11041,null,13000000,1000000,13000000,1000000]
[null,null,{"$f":"IF(E149=\"\",\"\",IF(E148=\"\",\"\",IF(E148>=DATE(2032,3,10),\"\",E148+1)))","v":""},"",null,"","",null,{"$f":"IF(I148=\"\",\"\",IF(E149=\"\",\"\",I148-$C$11))","v":""},{"$f":"IF(J148=\"\",\"\",IF(F149=\"\",\"\",J148-$C$24))","v":""},0,"",null,0,0,0,0,"",{"$f":"IF(C149=\"\",\"\",IF(C149=E148,\"NG\",IF(C149<E148,\"NG\",IF((C149-E148)>1,\"NG\",\"\"))))","v":""},"",null,"","",0,"","",0,null,null,"2031-11-11",48163,"2031-12-10",48192,30,null,12000000,12000000,0.01,9863,null,12000000,1000000,12000000,1000000]
[null,null,"","",null,"","",null,"","",0,"",null,0,0,0,0,"","","",null,"","",0,"","",0,null,null,"2031-12-11",48193,"2032-01-13",48226,34,null,11000000,11000000,0.01,10246,null,11000000,1000000,11000000,1000000]
[null,null,"","",null,"","",null,"","",0,"",null,0,0,0,0,"","","",null,"","",0,"","",0,null,null,"2032-01-14",48227,"2032-02-10",{"$f":"IF(AF151=\"\",\"\",AF151)","v":48254},28,null,10000000,10000000,0.01,7671,null,10000000,1000000,10000000,1000000]
[null,null,"","",null,"","",null,"","",0,"",null,0,0,0,0,"","",{"$f":"IF(E152=\"\",\"\",IF(C153=\"\",\"\",IF(E152>C153,\"NG\",\"\")))","v":""},null,"","",0,"","",0,null,null,"2032-02-11",48255,"2032-03-10",48283,29,null,9000000,9000000,0.01,7150,null,9000000,1000000,9000000,1000000]
[null,null,"","",null,"","",null,"","",0,"",null,0,0,0,0,"","",{"$f":"IF(D153=\"\",\"\",IF(D153<C153,\"NG\",\"\"))","v":""},null,"","",0,"","",0,null,null,null,"",null,"","",null,null,null,0.01,"",null,9000000,0,8000000,0]
[null,null,{"$f":"IF(X154>0,$S$38,\"\")","v":""},null,null,null,null,null,null,null,0,{"$f":"IF(J154=\"\",\"\",ROUNDDOWN(J154*K154*G154/365,0))","v":""},null,0,{"$f":"IF(N154-N155<0,0,N154-N155)","v":0},0,0,"",null,null,"2032-03-09","2032-09-12",null,{"$f":"SUM(X147:X153)","v":0},"","",0,null,null,null,"",null,"",null,null,null,null,0.01,"",null,9000000,0,8000000,0]
[{"$f":"YEAR(U162)&\"年度\"","v":"2032年度"},"単位期間Ⅰ",{"$f":"IF(E155=\"\",\"\",IF(E153>0,E153+1,IF(E152>0,E152+1,IF(E151>0,E151+1,IF(E150>0,E150+1,IF(E149>0,E149+1,IF(E148>0,E148+1,E147+1)))))))","v":""},{"$f":"IF(C155=\"\",\"\",C155)","v":""},null,{"$f":"IF(E155=\"\",\"\",E155)","v":""},{"$f":"IF(E155=\"\",\"\",E155-C155+1)","v":""},{"$f":"IF(G155=\"\",\"\",SUM(G155:G162))","v":""},null,null,{"$f":"IF(K154=\"\",\"\",$K$43)","v":0},{"$f":"IF(J155=\"\",\"\",ROUNDDOWN(J155*K155*G155/365,0))","v":""},{"$f":"IF(L155=\"\",\"\",SUM(L155:L162))","v":""},{"$f":"IF(I155=\"\",$N$163,I155)","v":0},0,{"$f":"IF(J155=\"\",$P$163,J155)","v":0},0,"",{"$f":"IF(C155=\"\",\"\",IF(C155>E155,\"NG\",\"\"))","v":""},{"$f":"IF(E155=\"\",\"\",IF(C156=\"\",\"\",IF(E155>C156,\"NG\",\"\")))","v":""},"","","",{"$f":"COUNTIF(S155:W155,\"NG\")","v":0},"","",0,{"$f":"A155","v":"2032年度"},"単位期間Ⅰ",{"$f":"AF152+1","v":"2032-03-11"},48284,"2032-04-12",48316,{"$f":"IF(AD155=\"\",\"\",AF155-AD155+1)","v":33},{"$f":"IF(AH155=\"\",\"\",SUM(AH155:AH162))","v":184},8000000,8000000,0.01,{"$f":"IF(AF155=\"\",\"\",ROUNDDOWN(AK155*AL155*AH155/365,0))","v":7232},{"$f":"IF(AM155=\"\",\"\",SUM(AM155:AM162))","v":27804},8000000,1000000,8000000,1000000]
[null,null,{"$f":"IF(E156=\"\",\"\",IF(E155=\"\",\"\",IF(E155>=DATE(2032,9,10),\"\",E155+1)))","v":""},{"$f":"IF(C156=\"\",\"\",C156)","v":""},null,{"$f":"IF(E156=\"\",\"\",E156)","v":""},{"$f":"IF(E156=\"\",\"\",E156-C156+1)","v":""},null,{"$f":"IF(I155=\"\",\"\",IF(E156=\"\",\"\",I155-$C$11))","v":""},{"$f":"IF(J155=\"\",\"\",IF(F156=\"\",\"\",J155-$C$24))","v":""},{"$f":"IF(K155=\"\",\"\",$K$43)","v":0},{"$f":"IF(J156=\"\",\"\",ROUNDDOWN(J156*K156*G156/365,0))","v":""},null,{"$f":"IF(I156=\"\",$N$163,I156)","v":0},0,{"$f":"IF(J156=\"\",$P$163,J156)","v":0},0,"",{"$f":"IF(C156=\"\",\"\",IF(C156=E155,\"NG\",IF(C156<E155,\"NG\",IF((C156-E155)>1,\"NG\",\"\"))))","v":""},{"$f":"IF(E156=\"\",\"\",IF(C157=\"\",\"\",IF(E156>C157,\"NG\",\"\")))","v":""},null,"","",{"$f":"COUNTIF(S156:W156,\"NG\")","v":0},"","",0,null,null,{"$f":"AF155+1","v":"2032-04-13"},48317,"2032-05-10",48344,{"$f":"IF(AD156=\"\",\"\",AF156-AD156+1)","v":28},null,7000000,7000000,0.01,{"$f":"IF(AF156=\"\",\"\",ROUNDDOWN(AK156*AL156*AH156/365,0))","v":5369},null,7000000,1000000,7000000,1000000]
[null,null,{"$f":"IF(E157=\"\",\"\",IF(E156=\"\",\"\",IF(E156>=DATE(2032,9,10),\"\",E156+1)))","v":""},"",null,"","",null,{"$f":"IF(I156=\"\",\"\",IF(E157=\"\",\"\",I156-$C$11))","v":""},{"$f":"IF(J156=\"\",\"\",IF(F157=\"\",\"\",J156-$C$24))","v":""},{"$f":"IF(K156=\"\",\"\",$K$43)","v":0},"",null,0,0,0,0,"",{"$f":"IF(C157=\"\",\"\",IF(C157=E156,\"NG\",IF(C157<E156,\"NG\",IF((C157-E156)>1,\"NG\",\"\"))))","v":""},"",null,"","",0,"","",0,null,null,"2032-05-11",48345,"2032-06-10",48375,31,null,6000000,6000000,0.01,{"$f":"IF(AF157=\"\",\"\",ROUNDDOWN(AK157*AL157*AH157/365,0))","v":5095},null,6000000,1000000,6000000,1000000]
[null,null,"","",null,"","",null,{"$f":"IF(I157=\"\",\"\",IF(E158=\"\",\"\",I157-$C$11))","v":""},{"$f":"IF(J157=\"\",\"\",IF(F158=\"\",\"\",J157-$C$24))","v":""},0,"",null,0,0,0,0,"","","",null,"","",0,{"$f":"IF($O158=$I158,\"\",IF($O158=0,\"\",IF($O158=$Y$41,\"\",\"NG\")))","v":""},{"$f":"IF($Q158=$J158,\"\",IF($Q158=0,\"\",IF($Q158=$Z$41,\"\",\"NG\")))","v":""},0,null,null,"2032-06-11",48376,"2032-07-12",48407,32,null,5000000,5000000,0.01,4383,null,5000000,1000000,5000000,1000000]
[null,null,"","",null,"","",null,"","",0,"",null,0,0,0,0,"","","",null,"","",0,{"$f":"IF($O159=$I159,\"\",IF($O159=0,\"\",IF($O159=$Y$41,\"\",\"NG\")))","v":""},{"$f":"IF($Q159=$J159,\"\",IF($Q159=0,\"\",IF($Q159=$Z$41,\"\",\"NG\")))","v":""},0,null,null,"2032-07-13",48408,"2032-08-10",48436,29,null,4000000,4000000,0.01,3178,null,4000000,1000000,4000000,1000000]
[null,null,"","",null,"","",null,"","",0,"",null,{"$f":"IF(I160=\"\",$N$163,I160)","v":0},0,{"$f":"IF(J160=\"\",$P$163,J160)","v":0},0,"","",{"$f":"IF(E160=\"\",\"\",IF(C161=\"\",\"\",IF(E160>C161,\"NG\",\"\")))","v":""},null,"","",0,"","",0,null,null,"2032-08-11",48437,"2032-09-10",48467,31,null,3000000,3000000,0.01,2547,null,3000000,1000000,3000000,1000000]
[null,null,"","",null,"","",null,"","",0,"",null,{"$f":"IF(I161=\"\",$N$163,I161)","v":0},0,{"$f":"IF(J161=\"\",$P$163,J161)","v":0},0,"","",{"$f":"IF(D161=\"\",\"\",IF(D161<C161,\"NG\",\"\"))","v":""},null,"","",0,"","",0,null,null,null,"",null,"","",null,null,null,0.01,"",null,3000000,0,2000000,0]
[null,null,{"$f":"IF(X162>0,$S$38,\"\")","v":""},null,null,null,null,null,null,null,0,{"$f":"IF(J162=\"\",\"\",ROUNDDOWN(J162*K162*G162/365,0))","v":""},null,{"$f":"IF(I162=\"\",$N$163,I162)","v":0},{"$f":"IF(N162-N163<0,0,N162-N163)","v":0},{"$f":"IF(J162=\"\",$P$163,J162)","v":0},0,"",null,null,"2032-09-09","2033-03-12",null,{"$f":"SUM(X155:X161)","v":0},"","",0,null,null,null,"",null,"",null,null,null,null,0.01,"",null,3000000,0,2000000,0]
[null,"単位期間Ⅱ",{"$f":"IF(E163=\"\",\"\",IF(E161>M334,E161+1,IF(E160>M334,E160+1,IF(E159>M334,E159+1,IF(E158>M334,E158+1,IF(E157>M334,E157+1,IF(E156>M334,E156+1,IF(E155>M334,E155+1,IF(C140>M334,C140,\"\")))))))))","v":""},{"$f":"IF(C163=\"\",\"\",C163)","v":""},null,{"$f":"IF(E163=\"\",\"\",E163)","v":""},{"$f":"IF(E163=\"\",\"\",E163-C163+1)","v":""},{"$f":"IF(G163=\"\",\"\",SUM(G163:G170))","v":""},null,null,0,{"$f":"IF(J163=\"\",\"\",ROUNDDOWN(J163*K163*G163/365,0))","v":""},{"$f":"IF(L163=\"\",\"\",SUM(L163:L170))","v":""},{"$f":"IF(I163=\"\",$N$171,I163)","v":0},0,{"$f":"IF(J163=\"\",$P$171,J163)","v":0},0,"",{"$f":"IF(C163=\"\",\"\",IF(C163>E163,\"NG\",\"\"))","v":""},{"$f":"IF(E163=\"\",\"\",IF(C164=\"\",\"\",IF(E163>C164,\"NG\",\"\")))","v":""},"","","",{"$f":"COUNTIF(S163:W163,\"NG\")","v":0},"","",0,null,"単位期間Ⅱ",{"$f":"AF160+1","v":"2032-09-11"},48468,"2032-10-12",48499,{"$f":"IF(AD163=\"\",\"\",AF163-AD163+1)","v":32},{"$f":"IF(AH163=\"\",\"\",SUM(AH163:AH170))","v":61},2000000,2000000,0.01,{"$f":"IF(AD163=\"\",\"\",ROUNDDOWN(AK163*AL163*AH163/365,0))","v":1753},{"$f":"IF(AM163=\"\",\"\",SUM(AM163:AM170))","v":2547},2000000,1000000,2000000,1000000]
[null,null,{"$f":"IF(E164=\"\",\"\",IF(E163=\"\",\"\",IF(E163>=DATE(2033,3,10),\"\",E163+1)))","v":""},{"$f":"IF(C164=\"\",\"\",C164)","v":""},null,{"$f":"IF(E164=\"\",\"\",E164)","v":""},{"$f":"IF(E164=\"\",\"\",E164-C164+1)","v":""},null,{"$f":"IF(I163=\"\",\"\",IF(E164=\"\",\"\",I163-$C$11))","v":""},{"$f":"IF(J163=\"\",\"\",IF(F164=\"\",\"\",J163-$C$24))","v":""},0,{"$f":"IF(J164=\"\",\"\",ROUNDDOWN(J164*K164*G164/365,0))","v":""},null,{"$f":"IF(I164=\"\",$N$171,I164)","v":0},0,{"$f":"IF(J164=\"\",$P$171,J164)","v":0},0,"",{"$f":"IF(C164=\"\",\"\",IF(C164=E163,\"NG\",IF(C164<E163,\"NG\",IF((C164-E163)>1,\"NG\",\"\"))))","v":""},{"$f":"IF(E164=\"\",\"\",IF(C165=\"\",\"\",IF(E164>C165,\"NG\",\"\")))","v":""},null,"","",{"$f":"COUNTIF(S164:W164,\"NG\")","v":0},"","",0,null,null,{"$f":"AF163+1","v":"2032-10-13"},48500,"2032-11-10",48528,{"$f":"IF(AD164=\"\",\"\",AF164-AD164+1)","v":29},null,1000000,1000000,0.01,794,null,1000000,1000000,1000000,1000000]
[null,null,{"$f":"IF(E165=\"\",\"\",IF(E164=\"\",\"\",IF(E164>=DATE(2033,3,10),\"\",E164+1)))","v":""},"",null,"","",null,{"$f":"IF(I164=\"\",\"\",IF(E165=\"\",\"\",I164-$C$11))","v":""},{"$f":"IF(J164=\"\",\"\",IF(F165=\"\",\"\",J164-$C$24))","v":""},0,"",null,0,0,0,0,"",{"$f":"IF(C165=\"\",\"\",IF(C165=E164,\"NG\",IF(C165<E164,\"NG\",IF((C165-E164)>1,\"NG\",\"\"))))","v":""},"",null,"",{"$f":"IF(G165>0,\"\",\"NG\")","v":""},0,"","",0,null,null,null,"",null,"","",null,null,null,0.01,"",null,1000000,{"$f":"AO164-AO165","v":0},{"$f":"IF(AK165=\"\",AQ164,AK165)","v":1000000},{"$f":"AQ164-AQ165","v":0}]
[null,null,"","",null,"","",null,"","",0,"",null,0,0,0,0,"","","",null,"","",0,"","",0,null,null,null,"",null,"","",null,null,null,0.01,"",null,1000000,0,1000000,0]
[null,null,"","",null,"","",null,"","",0,"",null,0,0,0,0,"","","",null,"","",0,"","",0,null,null,null,"",null,"","",null,null,null,0.01,"",null,1000000,0,1000000,0]
[null,null,"","",null,"","",null,"","",0,"",null,0,0,0,0,"","",{"$f":"IF(E168=\"\",\"\",IF(C169=\"\",\"\",IF(E168>C169,\"NG\",\"\")))","v":""},null,"","",0,"","",0,null,null,null,"",null,"","",null,null,null,0.01,"",null,1000000,0,1000000,0]
[null,null,"","",null,"","",null,"","",0,"",null,0,0,0,0,"","",{"$f":"IF(D169=\"\",\"\",IF(D169<C169,\"NG\",\"\"))","v":""},null,"","",0,"","",0,null,null,null,"",null,"","",null,null,null,0.01,"",null,1000000,0,1000000,0]
[null,null,{"$f":"IF(X170>0,$S$38,\"\")","v":""},null,null,null,null,null,null,null,0,{"$f":"IF(J170=\"\",\"\",ROUNDDOWN(J170*K170*G170/365,0))","v":""},null,0,{"$f":"IF(N170-N171<0,0,N170-N171)","v":0},0,0,"",null,null,"2033-03-09","2033-09-12",null,{"$f":"SUM(X163:X169)","v":0},"","",0,null,null,null,"",null,"",null,null,null,null,0.01,"",null,1000000,0,1000000,0]
[{"$f":"YEAR(U178)&\"年度\"","v":"2033年度"},"単位期間Ⅰ",{"$f":"IF(E171=\"\",\"\",IF(E169>0,E169+1,IF(E168>0,E168+1,IF(E167>0,E167+1,IF(E166>0,E166+1,IF(E165>0,E165+1,IF(E164>0,E164+1,E163+1)))))))","v":""},{"$f":"IF(C171=\"\",\"\",C171)","v":""},null,{"$f":"IF(E171=\"\",\"\",E171)","v":""},{"$f":"IF(E171=\"\",\"\",E171-C171+1)","v":""},{"$f":"IF(G171=\"\",\"\",SUM(G171:G178))","v":""},null,null,{"$f":"IF(K170=\"\",\"\",$K$43)","v":0},{"$f":"IF(J171=\"\",\"\",ROUNDDOWN(J171*K171*G171/365,0))","v":""},{"$f":"IF(L171=\"\",\"\",SUM(L171:L178))","v":""},{"$f":"IF(I171=\"\",$N$179,I171)","v":0},0,{"$f":"IF(J171=\"\",$P$179,J171)","v":0},0,"",{"$f":"IF(C171=\"\",\"\",IF(C171>E171,\"NG\",\"\"))","v":""},{"$f":"IF(E171=\"\",\"\",IF(C172=\"\",\"\",IF(E171>C172,\"NG\",\"\")))","v":""},"","","",{"$f":"COUNTIF(S171:W171,\"NG\")","v":0},"","",0,{"$f":"A171","v":"2033年度"},"単位期間Ⅰ",null,"",null,"",{"$f":"IF(AD171=\"\",\"\",AF171-AD171+1)","v":""},{"$f":"IF(AH171=\"\",\"\",SUM(AH171:AH178))","v":""},null,null,0.01,{"$f":"IF(AF171=\"\",\"\",ROUNDDOWN(AK171*AL171*AH171/365,0))","v":""},{"$f":"IF(AM171=\"\",\"\",SUM(AM171:AM178))","v":""},{"$f":"IF(AJ171=\"\",AO170,AJ171)","v":1000000},"-",{"$f":"IF(AK171=\"\",AQ170,AK171)","v":1000000},"-"]
[null,null,{"$f":"IF(E172=\"\",\"\",IF(E171=\"\",\"\",IF(E171>=DATE(2033,9,10),\"\",E171+1)))","v":""},{"$f":"IF(C172=\"\",\"\",C172)","v":""},null,{"$f":"IF(E172=\"\",\"\",E172)","v":""},{"$f":"IF(E172=\"\",\"\",E172-C172+1)","v":""},null,{"$f":"IF(I171=\"\",\"\",IF(E172=\"\",\"\",I171-$C$11))","v":""},{"$f":"IF(J171=\"\",\"\",IF(F172=\"\",\"\",J171-$C$24))","v":""},{"$f":"IF(K171=\"\",\"\",$K$43)","v":0},{"$f":"IF(J172=\"\",\"\",ROUNDDOWN(J172*K172*G172/365,0))","v":""},null,{"$f":"IF(I172=\"\",$N$179,I172)","v":0},0,{"$f":"IF(J172=\"\",$P$179,J172)","v":0},0,"",{"$f":"IF(C172=\"\",\"\",IF(C172=E171,\"NG\",IF(C172<E171,\"NG\",IF((C172-E171)>1,\"NG\",\"\"))))","v":""},{"$f":"IF(E172=\"\",\"\",IF(C173=\"\",\"\",IF(E172>C173,\"NG\",\"\")))","v":""},null,"","",{"$f":"COUNTIF(S172:W172,\"NG\")","v":0},"","",0,null,null,null,{"$f":"IF(AD172=\"\",\"\",AD172)","v":""},null,{"$f":"IF(AF172=\"\",\"\",AF172)","v":""},{"$f":"IF(AD172=\"\",\"\",AF172-AD172+1)","v":""},null,null,null,0.01,{"$f":"IF(AF172=\"\",\"\",ROUNDDOWN(AK172*AL172*AH172/365,0))","v":""},null,1000000,{"$f":"AO171-AO172","v":0},1000000,{"$f":"AQ171-AQ172","v":0}]
[null,null,{"$f":"IF(E173=\"\",\"\",IF(E172=\"\",\"\",IF(E172>=DATE(2033,9,10),\"\",E172+1)))","v":""},"",null,"","",null,{"$f":"IF(I172=\"\",\"\",IF(E173=\"\",\"\",I172-$C$11))","v":""},{"$f":"IF(J172=\"\",\"\",IF(F173=\"\",\"\",J172-$C$24))","v":""},{"$f":"IF(K172=\"\",\"\",$K$43)","v":0},"",null,0,0,0,0,{"$f":"IF(AA173>0,$Y$38,\"\")","v":""},{"$f":"IF(C173=\"\",\"\",IF(C173=E172,\"NG\",IF(C173<E172,\"NG\",IF((C173-E172)>1,\"NG\",\"\"))))","v":""},"",null,"","",0,"","",{"$f":"COUNTIF(Y173:Z173,\"NG\")","v":0},null,null,null,"",null,"","",null,null,null,0.01,{"$f":"IF(AF173=\"\",\"\",ROUNDDOWN(AK173*AL173*AH173/365,0))","v":""},null,1000000,{"$f":"AO172-AO173","v":0},1000000,{"$f":"AQ172-AQ173","v":0}]
[null,null,"","",null,"","",null,{"$f":"IF(I173=\"\",\"\",IF(E174=\"\",\"\",I173-$C$11))","v":""},{"$f":"IF(J173=\"\",\"\",IF(F174=\"\",\"\",J173-$C$24))","v":""},0,"",null,0,0,0,0,"","","",null,"","",0,"","",0,null,null,null,"",null,"","",null,null,null,0.01,"",null,1000000,0,1000000,0]
[null,null,"","",null,"","",null,"","",0,"",null,0,0,0,0,"","","",null,"","",0,"","",0,null,null,null,"",null,"","",null,null,null,0.01,"",null,1000000,0,1000000,0]
[null,null,"","",null,"","",null,"","",0,"",null,0,0,0,0,"","",{"$f":"IF(E176=\"\",\"\",IF(C177=\"\",\"\",IF(E176>C177,\"NG\",\"\")))","v":""},null,"","",0,"","",0,null,null,null,"",null,"","",null,null,null,0.01,"",null,1000000,0,1000000,0]
[null,null,"","",null,"","",null,"","",0,"",null,0,0,0,0,"","",{"$f":"IF(D177=\"\",\"\",IF(D177<C177,\"NG\",\"\"))","v":""},null,"","",0,"","",0,null,null,null,"",null,"","",null,null,null,0.01,"",null,1000000,0,1000000,0]
[null,null,{"$f":"IF(X178>0,$S$38,\"\")","v":""},null,null,null,null,null,null,null,0,{"$f":"IF(J178=\"\",\"\",ROUNDDOWN(J178*K178*G178/365,0))","v":""},null,0,{"$f":"IF(N178-N179<0,0,N178-N179)","v":0},0,0,"",null,null,"2033-09-09","2034-03-12",null,{"$f":"SUM(X171:X177)","v":0},"","",0,null,null,null,"",null,"",null,null,null,null,0.01,"",null,1000000,0,1000000,0]
[null,"単位期間Ⅱ",{"$f":"IF(E179=\"\",\"\",IF(E177>M349,E177+1,IF(E176>M349,E176+1,IF(E175>M349,E175+1,IF(E174>M349,E174+1,IF(E173>M349,E173+1,IF(E172>M349,E172+1,IF(E171>M349,E171+1,IF(C156>M349,C156,\"\")))))))))","v":""},{"$f":"IF(C179=\"\",\"\",C179)","v":""},null,{"$f":"IF(E179=\"\",\"\",E179)","v":""},{"$f":"IF(E179=\"\",\"\",E179-C179+1)","v":""},{"$f":"IF(G179=\"\",\"\",SUM(G179:G186))","v":""},null,null,0,{"$f":"IF(J179=\"\",\"\",ROUNDDOWN(J179*K179*G179/365,0))","v":""},{"$f":"IF(L179=\"\",\"\",SUM(L179:L186))","v":""},{"$f":"IF(I179=\"\",$N$187,I179)","v":0},0,{"$f":"IF(J179=\"\",$P$187,J179)","v":0},0,"",{"$f":"IF(C179=\"\",\"\",IF(C179>E179,\"NG\",\"\"))","v":""},{"$f":"IF(E179=\"\",\"\",IF(C180=\"\",\"\",IF(E179>C180,\"NG\",\"\")))","v":""},"","","",{"$f":"COUNTIF(S179:W179,\"NG\")","v":0},"","",0,null,"単位期間Ⅱ",null,"",null,"",null,null,null,null,0.01,{"$f":"IF(AD179=\"\",\"\",ROUNDDOWN(AK179*AL179*AH179/365,0))","v":""},{"$f":"IF(AM179=\"\",\"\",SUM(AM179:AM186))","v":""},1000000,0,1000000,0]
[null,null,{"$f":"IF(E180=\"\",\"\",IF(E179=\"\",\"\",IF(E179>=DATE(2034,3,10),\"\",E179+1)))","v":""},{"$f":"IF(C180=\"\",\"\",C180)","v":""},null,{"$f":"IF(E180=\"\",\"\",E180)","v":""},{"$f":"IF(E180=\"\",\"\",E180-C180+1)","v":""},null,{"$f":"IF(I179=\"\",\"\",IF(E180=\"\",\"\",I179-$C$11))","v":""},{"$f":"IF(J179=\"\",\"\",IF(F180=\"\",\"\",J179-$C$24))","v":""},0,{"$f":"IF(J180=\"\",\"\",ROUNDDOWN(J180*K180*G180/365,0))","v":""},null,{"$f":"IF(I180=\"\",$N$187,I180)","v":0},{"$f":"N180-N181","v":0},{"$f":"IF(J180=\"\",$P$187,J180)","v":0},{"$f":"P180-P181","v":0},"",{"$f":"IF(C180=\"\",\"\",IF(C180=E179,\"NG\",IF(C180<E179,\"NG\",IF((C180-E179)>1,\"NG\",\"\"))))","v":""},{"$f":"IF(E180=\"\",\"\",IF(C181=\"\",\"\",IF(E180>C181,\"NG\",\"\")))","v":""},null,"","",{"$f":"COUNTIF(S180:W180,\"NG\")","v":0},"","",0,null,null,null,"",null,"",null,null,null,null,0.01,"",null,1000000,{"$f":"AO179-AO180","v":0},1000000,{"$f":"AQ179-AQ180","v":0}]
[null,null,{"$f":"IF(E181=\"\",\"\",IF(E180=\"\",\"\",IF(E180>=DATE(2034,3,10),\"\",E180+1)))","v":""},"",null,"","",null,{"$f":"IF(I180=\"\",\"\",IF(E181=\"\",\"\",I180-$C$11))","v":""},{"$f":"IF(J180=\"\",\"\",IF(F181=\"\",\"\",J180-$C$24))","v":""},0,"",null,0,0,0,0,"",{"$f":"IF(C181=\"\",\"\",IF(C181=E180,\"NG\",IF(C181<E180,\"NG\",IF((C181-E180)>1,\"NG\",\"\"))))","v":""},"",null,"","",0,"","",0,null,null,null,"",null,"",null,null,null,null,0.01,"",null,1000000,0,1000000,0]
[null,null,"","",null,"","",null,"","",0,"",null,0,0,0,0,"","","",null,"","",0,"","",0,null,null,null,"",null,"",null,null,null,null,0.01,"",null,1000000,0,1000000,0]
[null,null,"","",null,"","",null,"","",0,"",null,0,0,0,0,"","","",null,"","",0,"","",0,null,null,null,"",null,"",null,null,null,null,0.01,"",null,1000000,0,1000000,0]
[null,null,"","",null,"","",null,"","",0,"",null,0,0,0,0,"","",{"$f":"IF(E184=\"\",\"\",IF(C185=\"\",\"\",IF(E184>C185,\"NG\",\"\")))","v":""},null,"","",0,"","",0,null,null,null,"",null,"",null,null,null,null,0.01,"",null,1000000,0,1000000,0]
[null,null,"","",null,"","",null,"","",0,"",null,0,0,0,0,"","",{"$f":"IF(D185=\"\",\"\",IF(D185<C185,\"NG\",\"\"))","v":""},null,"",{"$f":"IF(G185>0,\"\",\"NG\")","v":""},0,"","",0,null,null,null,"",null,"",null,null,null,null,0.01,"",null,1000000,0,1000000,0]
[null,null,{"$f":"IF(X186>0,$S$38,\"\")","v":""},null,null,null,null,null,null,null,0,{"$f":"IF(J186=\"\",\"\",ROUNDDOWN(J186*K186*G186/365,0))","v":""},null,0,{"$f":"IF(N186-N187<0,0,N186-N187)","v":0},0,0,"",null,null,"2034-03-09","2034-09-12",null,{"$f":"SUM(X179:X185)","v":0},"","",0,null,null,null,"",null,"",null,null,null,null,0.01,"",null,1000000,0,1000000,0]
[{"$f":"YEAR(U194)&\"年度\"","v":"2034年度"},"単位期間Ⅰ",{"$f":"IF(E187=\"\",\"\",IF(E185>0,E185+1,IF(E184>0,E184+1,IF(E183>0,E183+1,IF(E182>0,E182+1,IF(E181>0,E181+1,IF(E180>0,E180+1,E179+1)))))))","v":""},{"$f":"IF(C187=\"\",\"\",C187)","v":""},null,{"$f":"IF(E187=\"\",\"\",E187)","v":""},{"$f":"IF(E187=\"\",\"\",E187-C187+1)","v":""},{"$f":"IF(G187=\"\",\"\",SUM(G187:G194))","v":""},null,null,{"$f":"IF(K186=\"\",\"\",$K$43)","v":0},{"$f":"IF(J187=\"\",\"\",ROUNDDOWN(J187*K187*G187/365,0))","v":""},{"$f":"IF(L187=\"\",\"\",SUM(L187:L194))","v":""},{"$f":"IF(I187=\"\",$N$195,I187)","v":0},0,{"$f":"IF(J187=\"\",$P$195,J187)","v":0},0,"",{"$f":"IF(C187=\"\",\"\",IF(C187>E187,\"NG\",\"\"))","v":""},{"$f":"IF(E187=\"\",\"\",IF(C188=\"\",\"\",IF(E187>C188,\"NG\",\"\")))","v":""},"","",{"$f":"IF(G187>0,\"\",\"NG\")","v":""},{"$f":"COUNTIF(S187:W187,\"NG\")","v":0},"","",0,{"$f":"A187","v":"2034年度"},"単位期間Ⅰ",null,"",null,"",null,null,null,null,0.01,{"$f":"IF(AF187=\"\",\"\",ROUNDDOWN(AK187*AL187*AH187/365,0))","v":""},{"$f":"IF(AM187=\"\",\"\",SUM(AM187:AM194))","v":""},1000000,"-",1000000,"-"]
[null,null,{"$f":"IF(E188=\"\",\"\",IF(E187=\"\",\"\",IF(E187>=DATE(2034,9,10),\"\",E187+1)))","v":""},{"$f":"IF(C188=\"\",\"\",C188)","v":""},null,{"$f":"IF(E188=\"\",\"\",E188)","v":""},{"$f":"IF(E188=\"\",\"\",E188-C188+1)","v":""},null,{"$f":"IF(I187=\"\",\"\",IF(E188=\"\",\"\",I187-$C$11))","v":""},{"$f":"IF(J187=\"\",\"\",IF(F188=\"\",\"\",J187-$C$24))","v":""},{"$f":"IF(K187=\"\",\"\",$K$43)","v":0},{"$f":"IF(J188=\"\",\"\",ROUNDDOWN(J188*K188*G188/365,0))","v":""},null,{"$f":"IF(I188=\"\",$N$195,I188)","v":0},0,{"$f":"IF(J188=\"\",$P$195,J188)","v":0},0,"",{"$f":"IF(C188=\"\",\"\",IF(C188=E187,\"NG\",IF(C188<E187,\"NG\",IF((C188-E187)>1,\"NG\",\"\"))))","v":""},{"$f":"IF(E188=\"\",\"\",IF(C189=\"\",\"\",IF(E188>C189,\"NG\",\"\")))","v":""},null,"",{"$f":"IF(G188>0,\"\",\"NG\")","v":""},{"$f":"COUNTIF(S188:W188,\"NG\")","v":0},"","",0,null,null,null,"",null,"",null,null,null,null,0.01,{"$f":"IF(AF188=\"\",\"\",ROUNDDOWN(AK188*AL188*AH188/365,0))","v":""},null,1000000,{"$f":"AO187-AO188","v":0},1000000,{"$f":"AQ187-AQ188","v":0}]
[null,null,{"$f":"IF(E189=\"\",\"\",IF(E188=\"\",\"\",IF(E188>=DATE(2034,9,10),\"\",E188+1)))","v":""},"",null,"","",null,{"$f":"IF(I188=\"\",\"\",IF(E189=\"\",\"\",I188-$C$11))","v":""},{"$f":"IF(J188=\"\",\"\",IF(F189=\"\",\"\",J188-$C$24))","v":""},{"$f":"IF(K188=\"\",\"\",$K$43)","v":0},"",null,0,0,0,0,"",{"$f":"IF(C189=\"\",\"\",IF(C189=E188,\"NG\",IF(C189<E188,\"NG\",IF((C189-E188)>1,\"NG\",\"\"))))","v":""},"",null,"","",0,"","",0,null,null,null,"",null,"",null,null,null,null,0.01,{"$f":"IF(AF189=\"\",\"\",ROUNDDOWN(AK189*AL189*AH189/365,0))","v":""},null,1000000,{"$f":"AO188-AO189","v":0},1000000,{"$f":"AQ188-AQ189","v":0}]
[null,null,"","",null,"","",null,{"$f":"IF(I189=\"\",\"\",IF(E190=\"\",\"\",I189-$C$11))","v":""},{"$f":"IF(J189=\"\",\"\",IF(F190=\"\",\"\",J189-$C$24))","v":""},0,"",null,0,0,0,0,"","","",null,"","",0,"","",0,null,null,null,"",null,"",null,null,null,null,0.01,"",null,1000000,0,1000000,0]
[null,null,"","",null,"","",null,"","",0,"",null,0,0,0,0,"","","",null,"","",0,"","",0,null,null,null,"",null,"",null,null,null,null,0.01,"",null,1000000,0,1000000,0]
[null,null,"","",null,"","",null,"","",0,"",null,0,0,0,0,"","",{"$f":"IF(E192=\"\",\"\",IF(C193=\"\",\"\",IF(E192>C193,\"NG\",\"\")))","v":""},null,"","",0,"","",0,null,null,null,"",null,"",null,null,null,null,0.01,"",null,1000000,0,1000000,0]
[null,null,"","",null,"","",null,"","",0,"",null,0,0,0,0,"","",{"$f":"IF(D193=\"\",\"\",IF(D193<C193,\"NG\",\"\"))","v":""},null,"","",0,"","",0,null,null,null,"",null,"",null,null,null,null,0.01,"",null,1000000,0,1000000,0]
[null,null,{"$f":"IF(X194>0,$S$38,\"\")","v":""},null,null,null,null,null,null,null,0,{"$f":"IF(J194=\"\",\"\",ROUNDDOWN(J194*K194*G194/365,0))","v":""},null,0,{"$f":"IF(N194-N195<0,0,N194-N195)","v":0},0,0,"",null,null,"2034-09-09","2035-03-12",null,{"$f":"SUM(X187:X193)","v":0},"","",0,null,null,null,"",null,"",null,null,null,null,0.01,"",null,1000000,0,1000000,0]
[null,"単位期間Ⅱ",{"$f":"IF(E195=\"\",\"\",IF(E193>M365,E193+1,IF(E192>M365,E192+1,IF(E191>M365,E191+1,IF(E190>M365,E190+1,IF(E189>M365,E189+1,IF(E188>M365,E188+1,IF(E187>M365,E187+1,IF(C172>M365,C172,\"\")))))))))","v":""},{"$f":"IF(C195=\"\",\"\",C195)","v":""},null,{"$f":"IF(E195=\"\",\"\",E195)","v":""},{"$f":"IF(E195=\"\",\"\",E195-C195+1)","v":""},{"$f":"IF(G195=\"\",\"\",SUM(G195:G202))","v":""},null,null,0,{"$f":"IF(J195=\"\",\"\",ROUNDDOWN(J195*K195*G195/365,0))","v":""},{"$f":"IF(L195=\"\",\"\",SUM(L195:L202))","v":""},{"$f":"IF(I195=\"\",$N$203,I195)","v":0},0,{"$f":"IF(J195=\"\",$P$203,J195)","v":0},0,"",{"$f":"IF(C195=\"\",\"\",IF(C195>E195,\"NG\",\"\"))","v":""},{"$f":"IF(E195=\"\",\"\",IF(C196=\"\",\"\",IF(E195>C196,\"NG\",\"\")))","v":""},"","","",{"$f":"COUNTIF(S195:W195,\"NG\")","v":0},"","",0,null,"単位期間Ⅱ",null,"",null,"",null,null,null,null,0.01,{"$f":"IF(AD195=\"\",\"\",ROUNDDOWN(AK195*AL195*AH195/365,0))","v":""},{"$f":"IF(AM195=\"\",\"\",SUM(AM195:AM202))","v":""},1000000,0,1000000,0]
[null,null,{"$f":"IF(E196=\"\",\"\",IF(E195=\"\",\"\",IF(E195>=DATE(2035,3,10),\"\",E195+1)))","v":""},{"$f":"IF(C196=\"\",\"\",C196)","v":""},null,{"$f":"IF(E196=\"\",\"\",E196)","v":""},{"$f":"IF(E196=\"\",\"\",E196-C196+1)","v":""},null,{"$f":"IF(I195=\"\",\"\",IF(E196=\"\",\"\",I195-$C$11))","v":""},{"$f":"IF(J195=\"\",\"\",IF(F196=\"\",\"\",J195-$C$24))","v":""},0,{"$f":"IF(J196=\"\",\"\",ROUNDDOWN(J196*K196*G196/365,0))","v":""},null,{"$f":"IF(I196=\"\",$N$203,I196)","v":0},0,{"$f":"IF(J196=\"\",$P$203,J196)","v":0},0,"",{"$f":"IF(C196=\"\",\"\",IF(C196=E195,\"NG\",IF(C196<E195,\"NG\",IF((C196-E195)>1,\"NG\",\"\"))))","v":""},{"$f":"IF(E196=\"\",\"\",IF(C197=\"\",\"\",IF(E196>C197,\"NG\",\"\")))","v":""},null,"","",{"$f":"COUNTIF(S196:W196,\"NG\")","v":0},"","",0,null,null,null,"",null,"",null,null,null,null,0.01,"",null,1000000,{"$f":"AO195-AO196","v":0},1000000,{"$f":"AQ195-AQ196","v":0}]
[null,null,{"$f":"IF(E197=\"\",\"\",IF(E196=\"\",\"\",IF(E196>=DATE(2035,3,10),\"\",E196+1)))","v":""},"",null,"","",null,{"$f":"IF(I196=\"\",\"\",IF(E197=\"\",\"\",I196-$C$11))","v":""},{"$f":"IF(J196=\"\",\"\",IF(F197=\"\",\"\",J196-$C$24))","v":""},0,"",null,0,0,0,0,"",{"$f":"IF(C197=\"\",\"\",IF(C197=E196,\"NG\",IF(C197<E196,\"NG\",IF((C197-E196)>1,\"NG\",\"\"))))","v":""},"",null,"","",0,"","",0,null,null,null,"",null,"",null,null,null,null,0.01,"",null,1000000,0,1000000,0]
[null,null,"","",null,"","",null,"","",0,"",null,0,0,0,0,"","","",null,"","",0,"","",0,null,null,null,"",null,"",null,null,null,null,0.01,"",null,1000000,0,1000000,0]
[null,null,"","",null,"","",null,"","",0,"",null,0,0,0,0,"","","",null,"","",0,"","",0,null,null,null,"",null,"",null,null,null,null,0.01,"",null,1000000,0,1000000,0]
[null,null,"","",null,"","",null,"","",0,"",null,0,0,0,0,"","",{"$f":"IF(E200=\"\",\"\",IF(C201=\"\",\"\",IF(E200>C201,\"NG\",\"\")))","v":""},null,"","",0,"","",0,null,null,null,"",null,"",null,null,null,null,0.01,"",null,1000000,0,1000000,0]
[null,null,"","",null,"","",null,"","",0,"",null,0,0,0,0,"","",{"$f":"IF(D201=\"\",\"\",IF(D201<C201,\"NG\",\"\"))","v":""},null,"","",0,"","",0,null,null,null,"",null,"",null,null,null,null,0.01,"",null,1000000,0,1000000,0]
[null,null,{"$f":"IF(X202>0,$S$38,\"\")","v":""},null,null,null,null,null,null,null,0,{"$f":"IF(J202=\"\",\"\",ROUNDDOWN(J202*K202*G202/365,0))","v":""},null,0,{"$f":"IF(N202-N203<0,0,N202-N203)","v":0},0,0,"",null,null,"2035-03-09","2035-09-12",null,{"$f":"SUM(X195:X201)","v":0},"","",0,null,null,null,"",null,"",null,null,null,null,0.01,"",null,1000000,0,1000000,0]
[{"$f":"YEAR(U210)&\"年度\"","v":"2035年度"},"単位期間Ⅰ",{"$f":"IF(E203=\"\",\"\",IF(E201>0,E201+1,IF(E200>0,E200+1,IF(E199>0,E199+1,IF(E198>0,E198+1,IF(E197>0,E197+1,IF(E196>0,E196+1,E195+1)))))))","v":""},{"$f":"IF(C203=\"\",\"\",C203)","v":""},null,{"$f":"IF(E203=\"\",\"\",E203)","v":""},{"$f":"IF(E203=\"\",\"\",E203-C203+1)","v":""},{"$f":"IF(G203=\"\",\"\",SUM(G203:G210))","v":""},null,null,{"$f":"IF(K202=\"\",\"\",$K$43)","v":0},{"$f":"IF(J203=\"\",\"\",ROUNDDOWN(J203*K203*G203/365,0))","v":""},{"$f":"IF(L203=\"\",\"\",SUM(L203:L210))","v":""},{"$f":"IF(I203=\"\",$N$211,I203)","v":0},0,{"$f":"IF(J203=\"\",$P$211,J203)","v":0},0,{"$f":"IF(AA203>0,$Y$38,\"\")","v":""},{"$f":"IF(C203=\"\",\"\",IF(C203>E203,\"NG\",\"\"))","v":""},{"$f":"IF(E203=\"\",\"\",IF(C204=\"\",\"\",IF(E203>C204,\"NG\",\"\")))","v":""},{"$f":"IF(C203=\"\",\"\",IF(C203<$U202,\"NG\",IF(C203>$V202,\"NG\",\"\")))","v":""},{"$f":"IF(E203=\"\",\"\",IF(C203<$U$202,\"NG\",IF(E203>$V$202,\"NG\",\"\")))","v":""},"",{"$f":"COUNTIF(S203:W203,\"NG\")","v":0},"","",0,{"$f":"A203","v":"2035年度"},"単位期間Ⅰ",null,"",null,"",null,null,null,null,0.01,{"$f":"IF(AF203=\"\",\"\",ROUNDDOWN(AK203*AL203*AH203/365,0))","v":""},{"$f":"IF(AM203=\"\",\"\",SUM(AM203:AM210))","v":""},1000000,"-",1000000,"-"]
[null,null,{"$f":"IF(E204=\"\",\"\",IF(E203=\"\",\"\",IF(E203>=DATE(2035,9,10),\"\",E203+1)))","v":""},{"$f":"IF(C204=\"\",\"\",C204)","v":""},null,{"$f":"IF(E204=\"\",\"\",E204)","v":""},{"$f":"IF(E204=\"\",\"\",E204-C204+1)","v":""},null,{"$f":"IF(I203=\"\",\"\",IF(E204=\"\",\"\",I203-$C$11))","v":""},{"$f":"IF(J203=\"\",\"\",IF(F204=\"\",\"\",J203-$C$24))","v":""},{"$f":"IF(K203=\"\",\"\",$K$43)","v":0},{"$f":"IF(J204=\"\",\"\",ROUNDDOWN(J204*K204*G204/365,0))","v":""},null,{"$f":"IF(I204=\"\",$N$211,I204)","v":0},0,{"$f":"IF(J204=\"\",$P$211,J204)","v":0},0,"",{"$f":"IF(C204=\"\",\"\",IF(C204=E203,\"NG\",IF(C204<E203,\"NG\",IF((C204-E203)>1,\"NG\",\"\"))))","v":""},{"$f":"IF(E204=\"\",\"\",IF(C205=\"\",\"\",IF(E204>C205,\"NG\",\"\")))","v":""},null,{"$f":"IF(E204=\"\",\"\",IF(C204<$U$202,\"NG\",IF(E204>$V$202,\"NG\",\"\")))","v":""},"",{"$f":"COUNTIF(S204:W204,\"NG\")","v":0},"","",0,null,null,null,"",null,"",null,null,null,null,0.01,{"$f":"IF(AF204=\"\",\"\",ROUNDDOWN(AK204*AL204*AH204/365,0))","v":""},null,1000000,{"$f":"AO203-AO204","v":0},1000000,{"$f":"AQ203-AQ204","v":0}]
[null,null,{"$f":"IF(E205=\"\",\"\",IF(E204=\"\",\"\",IF(E204>=DATE(2035,9,10),\"\",E204+1)))","v":""},"",null,"","",null,{"$f":"IF(I204=\"\",\"\",IF(E205=\"\",\"\",I204-$C$11))","v":""},{"$f":"IF(J204=\"\",\"\",IF(F205=\"\",\"\",J204-$C$24))","v":""},{"$f":"IF(K204=\"\",\"\",$K$43)","v":0},"",null,0,0,0,0,"",{"$f":"IF(C205=\"\",\"\",IF(C205=E204,\"NG\",IF(C205<E204,\"NG\",IF((C205-E204)>1,\"NG\",\"\"))))","v":""},"",null,"","",0,"","",0,null,null,null,"",null,"",null,null,null,null,0.01,{"$f":"IF(AF205=\"\",\"\",ROUNDDOWN(AK205*AL205*AH205/365,0))","v":""},null,1000000,{"$f":"AO204-AO205","v":0},1000000,{"$f":"AQ204-AQ205","v":0}]
[null,null,"","",null,"","",null,{"$f":"IF(I205=\"\",\"\",IF(E206=\"\",\"\",I205-$C$11))","v":""},{"$f":"IF(J205=\"\",\"\",IF(F206=\"\",\"\",J205-$C$24))","v":""},0,"",null,0,0,0,0,"","","",null,"","",0,"","",0,null,null,null,"",null,"",null,null,null,null,0.01,"",null,1000000,0,1000000,0]
[null,null,"","",null,"","",null,"","",0,"",null,0,0,0,0,"","","",null,"","",0,"","",0,null,null,null,"",null,"",null,null,null,null,0.01,"",null,1000000,0,1000000,0]
[null,null,"","",null,"","",null,"","",0,"",null,0,0,0,0,"","","",null,"","",0,"","",0,null,null,null,"",null,"",null,null,null,null,0.01,"",null,1000000,0,1000000,0]
[null,null,"","",null,"","",null,"","",0,"",null,0,0,0,0,"","",{"$f":"IF(D209=\"\",\"\",IF(D209<C209,\"NG\",\"\"))","v":""},null,"","",0,"","",0,null,null,null,"",null,"",null,null,null,null,0.01,"",null,1000000,0,1000000,0]
[null,null,{"$f":"IF(X210>0,$S$38,\"\")","v":""},null,null,null,null,null,null,null,0,{"$f":"IF(J210=\"\",\"\",ROUNDDOWN(J210*K210*G210/365,0))","v":""},null,0,{"$f":"IF(N210-N211<0,0,N210-N211)","v":0},0,0,"",null,null,"2035-09-09","2036-03-12",null,{"$f":"SUM(X203:X209)","v":0},"","",0,null,null,null,"",null,"",null,null,null,null,0.01,"",null,1000000,0,1000000,0]
[null,"単位期間Ⅱ",{"$f":"IF(E211=\"\",\"\",IF(E209>M381,E209+1,IF(E208>M381,E208+1,IF(E207>M381,E207+1,IF(E206>M381,E206+1,IF(E205>M381,E205+1,IF(E204>M381,E204+1,IF(E203>M381,E203+1,IF(C188>M381,C188,\"\")))))))))","v":""},{"$f":"IF(C211=\"\",\"\",C211)","v":""},null,{"$f":"IF(E211=\"\",\"\",E211)","v":""},{"$f":"IF(E211=\"\",\"\",E211-C211+1)","v":""},{"$f":"IF(G211=\"\",\"\",SUM(G211:G218))","v":""},null,null,0,{"$f":"IF(J211=\"\",\"\",ROUNDDOWN(J211*K211*G211/365,0))","v":""},{"$f":"IF(L211=\"\",\"\",SUM(L211:L218))","v":""},{"$f":"IF(I211=\"\",$N$219,I211)","v":0},0,{"$f":"IF(J211=\"\",$P$219,J211)","v":0},0,"",{"$f":"IF(C211=\"\",\"\",IF(C211>E211,\"NG\",\"\"))","v":""},{"$f":"IF(E211=\"\",\"\",IF(C212=\"\",\"\",IF(E211>C212,\"NG\",\"\")))","v":""},{"$f":"IF(C211=\"\",\"\",IF(C211<$U210,\"NG\",IF(C211>$V210,\"NG\",\"\")))","v":""},{"$f":"IF(E211=\"\",\"\",IF(C211<$U$210,\"NG\",IF(E211>$V$210,\"NG\",\"\")))","v":""},"",{"$f":"COUNTIF(S211:W211,\"NG\")","v":0},"","",0,null,"単位期間Ⅱ",null,"",null,"",null,{"$f":"IF(AH211=\"\",\"\",SUM(AH211:AH218))","v":""},null,null,0.01,{"$f":"IF(AD211=\"\",\"\",ROUNDDOWN(AK211*AL211*AH211/365,0))","v":""},{"$f":"IF(AM211=\"\",\"\",SUM(AM211:AM218))","v":""},1000000,0,1000000,0]
[null,null,{"$f":"IF(E212=\"\",\"\",IF(E211=\"\",\"\",IF(E211>=DATE(2036,3,10),\"\",E211+1)))","v":""},{"$f":"IF(C212=\"\",\"\",C212)","v":""},null,{"$f":"IF(E212=\"\",\"\",E212)","v":""},{"$f":"IF(E212=\"\",\"\",E212-C212+1)","v":""},null,{"$f":"IF(I211=\"\",\"\",IF(E212=\"\",\"\",I211-$C$11))","v":""},{"$f":"IF(J211=\"\",\"\",IF(F212=\"\",\"\",J211-$C$24))","v":""},0,{"$f":"IF(J212=\"\",\"\",ROUNDDOWN(J212*K212*G212/365,0))","v":""},null,{"$f":"IF(I212=\"\",$N$219,I212)","v":0},0,{"$f":"IF(J212=\"\",$P$219,J212)","v":0},0,"",{"$f":"IF(C212=\"\",\"\",IF(C212=E211,\"NG\",IF(C212<E211,\"NG\",IF((C212-E211)>1,\"NG\",\"\"))))","v":""},{"$f":"IF(E212=\"\",\"\",IF(C213=\"\",\"\",IF(E212>C213,\"NG\",\"\")))","v":""},null,{"$f":"IF(E212=\"\",\"\",IF(C212<$U$210,\"NG\",IF(E212>$V$210,\"NG\",\"\")))","v":""},"",{"$f":"COUNTIF(S212:W212,\"NG\")","v":0},"","",0,null,null,null,"",null,"",null,null,{"$f":"IF(AJ211=\"\",\"\",IF(AF212=\"\",\"\",AJ211-$AD$11))","v":""},{"$f":"IF(AK211=\"\",\"\",IF(AG212=\"\",\"\",AK211-$AD$24))","v":""},0.01,"",null,1000000,{"$f":"AO211-AO212","v":0},1000000,{"$f":"AQ211-AQ212","v":0}]
[null,null,{"$f":"IF(E213=\"\",\"\",IF(E212=\"\",\"\",IF(E212>=DATE(2036,3,10),\"\",E212+1)))","v":""},"",null,"","",null,{"$f":"IF(I212=\"\",\"\",IF(E213=\"\",\"\",I212-$C$11))","v":""},{"$f":"IF(J212=\"\",\"\",IF(F213=\"\",\"\",J212-$C$24))","v":""},0,"",null,0,0,0,0,"",{"$f":"IF(C213=\"\",\"\",IF(C213=E212,\"NG\",IF(C213<E212,\"NG\",IF((C213-E212)>1,\"NG\",\"\"))))","v":""},"",null,"","",0,"","",0,null,null,null,"",null,"",null,null,{"$f":"IF(AJ212=\"\",\"\",IF(AF213=\"\",\"\",AJ212-$AD$11))","v":""},{"$f":"IF(AK212=\"\",\"\",IF(AG213=\"\",\"\",AK212-$AD$24))","v":""},0.01,"",null,1000000,0,1000000,0]
[null,null,"","",null,"","",null,"","",0,"",null,0,0,0,0,"","","",null,"","",0,"","",0,null,null,null,"",null,"",null,null,"","",0.01,"",null,1000000,0,1000000,0]
[null,null,"","",null,"","",null,"","",0,"",null,0,0,0,0,"","","",null,"","",0,"","",0,null,null,null,"",null,"",null,null,"","",0.01,"",null,1000000,0,1000000,0]
[null,null,"","",null,"","",null,"","",0,"",null,0,0,0,0,"","","",null,"","",0,"","",0,null,null,null,"",null,"",null,null,"","",0.01,"",null,1000000,0,1000000,0]
[null,null,"","",null,"","",null,"","",0,"",null,0,0,0,0,"","",{"$f":"IF(D217=\"\",\"\",IF(D217<C217,\"NG\",\"\"))","v":""},null,"",{"$f":"IF(G217>0,\"\",\"NG\")","v":""},0,"","",0,null,null,null,"",null,"",null,null,"","",0.01,"",null,1000000,0,1000000,0]
[null,null,{"$f":"IF(X218>0,$S$38,\"\")","v":""},null,null,null,null,null,"","",0,{"$f":"IF(J218=\"\",\"\",ROUNDDOWN(J218*K218*G218/365,0))","v":""},null,0,{"$f":"IF(N218-N219<0,0,N218-N219)","v":0},0,{"$f":"P217-P218","v":0},"",null,null,null,null,null,{"$f":"SUM(X211:X217)","v":0},{"$f":"IF(U218=0,\"\",IF(U218=#REF!,\"\",\"NG\"))","v":""},{"$f":"IF(W218=0,\"\",IF(W218=#REF!,\"\",\"NG\"))","v":""},0,null,null,{"$f":"IF($C$238>0,$H$242,IF($E$238>0,$H$242,\"\"))","v":""},"",null,"",null,null,"","",0.01,"",null,1000000,0,1000000,0]
[null,null,null,null,null,null,null,null,null,null,null,null,null,null,null,0]

{"sheet":"（別添１）融資計画詳細２","index":11,"n_rows":90,"n_cols":74,"rows_kept":90,"cut":false,"hidden":false,"merged":[[85,39,88,41],[85,42,88,44],[89,39,92,41],[89,42,92,44],[72,0,81,2],[72,3,81,17],[72,19,81,21],[72,22,81,36],[72,39,81,41],[72,42,81,56],[85,19,88,21],[85,22,88,24],[89,19,92,21],[89,22,92,24],[85,0,88,2],[89,0,92,2],[89,3,92,5],[85,3,88,5],[60,48,61,56],[62,0,71,2],[62,3,71,17],[62,19,71,21],[62,22,71,36],[62,39,71,41],[62,42,71,56],[60,28,61,36],[60,39,61,41],[60,42,61,42],[60,43,61,44],[60,45,61,45],[60,46,61,47],[60,9,61,17],[60,19,61,21],[60,22,61,22],[60,23,61,24],[60,25,61,25],[60,26,61,27],[60,0,61,2],[60,3,61,3],[60,4,61,5],[60,6,61,6],[60,7,61,8],[42,0,56,2],[48,22,50,22],[48,23,50,36],[54,3,56,3],[48,42,50,42],[48,43,50,56],[51,3,53,3],[51,4,53,17],[51,22,53,22],[51,23,53,36],[51,42,53,42],[51,43,53,56],[42,39,56,41],[42,42,44,42],[42,43,44,56],[45,3,47,3],[45,4,47,17],[45,22,47,22],[45,23,47,36],[45,42,47,42],[45,43,47,56],[48,3,50,3],[42,3,44,3],[42,4,44,17],[42,19,56,21],[42,22,44,22],[42,23,44,36],[48,4,50,17],[54,4,56,17],[54,22,56,22],[54,23,56,36],[54,42,56,42],[54,43,56,56],[37,39,38,41],[37,42,38,50],[33,39,34,41],[33,42,34,50],[33,51,34,56],[35,0,36,2],[35,3,36,11],[35,19,36,21],[35,22,36,30],[35,39,36,41],[35,42,36,50],[33,0,34,2],[33,3,34,11],[33,19,34,21],[33,22,34,30],[33,31,34,36],[28,43,29,44],[28,45,29,45],[28,46,29,47],[28,48,29,48],[28,49,29,50],[28,51,29,56],[28,26,29,27],[28,28,29,28],[28,29,29,30],[28,31,29,36],[28,39,29,41],[28,42,29,42],[26,39,27,41],[26,42,27,50],[22,39,23,41],[22,42,23,50],[22,51,23,56],[24,0,25,2],[24,3,25,11],[24,19,25,21],[24,22,25,30],[24,39,25,41],[24,42,25,50],[22,0,23,2],[22,3,23,11],[22,19,23,21],[22,22,23,30],[22,31,23,36],[26,0,27,2],[26,3,27,11],[26,19,27,21],[26,22,27,30],[18,51,19,56],[20,0,21,2],[20,3,21,11],[20,19,21,21],[20,22,21,30],[20,39,21,41],[20,42,21,50],[18,0,19,2],[18,3,19,11],[18,19,19,21],[18,22,19,30],[18,31,19,36],[16,39,17,41],[16,42,17,50],[14,0,15,2],[14,3,15,11],[14,19,15,21],[14,22,15,30],[14,39,15,41],[14,42,15,50],[18,39,19,41],[18,42,19,50],[16,0,17,2],[16,3,17,11],[16,19,17,21],[16,22,17,30],[8,39,9,41],[8,42,9,50],[0,0,1,17],[12,0,13,2],[12,3,13,11],[12,19,13,21],[12,22,13,30],[12,39,13,41],[12,42,13,50],[10,0,11,2],[10,3,11,11],[10,19,11,21],[10,22,11,30],[10,39,11,41],[10,42,11,50],[2,3,3,5],[8,0,9,2],[8,3,9,11],[8,19,9,21],[8,22,9,30],[28,0,29,2],[28,10,29,11],[28,12,29,17],[28,19,29,21],[28,22,29,22],[28,23,29,24],[37,0,38,2],[37,3,38,11],[37,19,38,21],[37,22,38,30],[28,25,29,25],[28,3,29,3],[28,4,29,5],[28,6,29,6],[28,7,29,8],[28,9,29,9]]}
["（別添１）融資計画詳細２",null,null,null,null,null,null,null,null,null,null,null,null,null,null,null,null,null,null,null,null,null,null,null,null,null,null,null,null,null,null,null,null,null,null,null,null,null,null,null,null,null,null,null,null,null,null,null,null,null,null,null,null,null,null,null,null,null,"非表示","非表示","非表示","非表示","非表示","非表示","非表示","非表示","非表示","非表示","非表示","非表示","非表示","非表示","非表示","非表示"]
[]
["（別添１）",null,null,"融資計画",null,null,null,null,null,null,null,null,null,null,null,null,null,null,null,{"$f":"A3","v":"（別添１）"},null,null,null,null,null,null,null,null,null,null,null,null,null,null,null,null,null,null,null,"（別添１）",null,null,null,null,null,null,null,null,null,null,null,null,null,null,null,null,null,null,"別添1-2_D9","事業者名",{"$f":"IF(D9=\"\",\"\",D9)","v":""}]
["融資計画詳細２",null,null,null,null,null,null,null,null,null,null,null,null,null,null,null,null,null,null,"融資計画詳細3",null,null,null,null,null,null,null,null,null,null,null,null,null,null,null,null,null,null,null,"融資計画詳細3",null,null,null,null,null,null,null,null,null,null,null,null,null,null,null,null,null,null,"別添1-2_D11","設備等利用者名",{"$f":"IF(D11=\"\",\"\",D11)","v":""}]
[null,null,null,null,null,null,null,null,null,null,null,null,null,null,null,null,null,null,null,null,null,null,null,null,null,null,null,null,null,null,null,null,null,null,null,null,null,null,null,null,null,null,null,null,null,null,null,null,null,null,null,null,null,null,null,null,null,null,"別添1-2_D13","都道府県",{"$f":"IF(D13=\"\",\"\",D13)","v":""}]
[null,null,null,null,null,null,null,null,null,null,null,null,null,null,null,null,null,null,null,null,null,null,null,null,null,null,null,null,null,null,null,null,null,null,null,null,null,null,null,null,null,null,null,null,null,null,null,null,null,null,null,null,null,null,null,null,null,null,"別添1-2_D15","市区町村",{"$f":"IF(D15=\"\",\"\",D15)","v":""}]
["４．利子補給対象事業者情報",null,null,null,null,null,null,null,null,null,null,null,null,null,null,null,null,null,null,{"$f":"A7","v":"４．利子補給対象事業者情報"},null,null,null,null,null,null,null,null,null,null,null,null,null,null,null,null,null,null,null,"４．利子補給対象事業者情報",null,null,null,null,null,null,null,null,null,null,null,null,null,null,null,null,null,null,"別添1-2_D17","丁目・番地",{"$f":"IF(D17=\"\",\"\",D17)","v":""}]
[null,null,null,null,null,null,null,null,null,null,null,null,null,null,null,null,null,null,null,null,null,null,null,null,null,null,null,null,null,null,null,null,null,null,null,null,null,null,null,null,null,null,null,null,null,null,null,null,null,null,null,null,null,null,null,null,null,null,"別添1-2_D19","業種大分類",{"$f":"IF(D19=\"\",\"\",D19)","v":""}]
["事業者名",null,null,null,null,null,null,null,null,null,null,null,null,null,null,null,null,null,null,{"$f":"A9","v":"事業者名"},null,null,"株式会社○○○○",null,null,null,null,null,null,null,null,null,null,null,null,null,null,null,null,"事業者名",null,null,"○○○○",null,null,null,null,null,null,null,null,null,null,null,null,null,null,null,"別添1-2_D21","業種分類項目名",{"$f":"IF(D21=\"\",\"\",D21)","v":""}]
[null,null,null,null,null,null,null,null,null,null,null,null,null,null,null,null,null,null,null,null,null,null,null,null,null,null,null,null,null,null,null,null,null,null,null,null,null,null,null,null,null,null,null,null,null,null,null,null,null,null,null,null,null,null,null,null,null,null,"別添1-2_D23","資本金",{"$f":"IF(D23=\"\",\"\",D23)","v":""}]
["設備等利用者名",null,null,null,null,null,null,null,null,null,null,null,null,null,null,null,null,null,null,{"$f":"A11","v":"設備等利用者名"},null,null,"株式会社○○○○",null,null,null,null,null,null,null,null,null,null,null,null,null,null,null,null,"設備等利用者名",null,null,"○○○○",null,null,null,null,null,null,null,null,null,null,null,null,null,null,null,"別添1-2_D25","従業員数",{"$f":"IF(D25=\"\",\"\",D25)","v":""}]
[null,null,null,null,null,null,null,null,null,null,null,null,null,null,null,null,null,null,null,null,null,null,null,null,null,null,null,null,null,null,null,null,null,null,null,null,null,null,null,null,null,null,null,null,null,null,null,null,null,null,null,null,null,null,null,null,null,null,"別添1-2_D27","企業の内容",{"$f":"IF(D27=\"\",\"\",D27)","v":""}]
["都道府県",null,null,null,null,null,null,null,null,null,null,null,null,null,null,null,null,null,null,{"$f":"A13","v":"都道府県"},null,null,"○○県",null,null,null,null,null,null,null,null,null,null,null,null,null,null,null,null,"都道府県",null,null,"○○県",null,null,null,null,null,null,null,null,null,null,null,null,null,null,null,"別添1-2_D29","企業の規模",{"$f":"IF(BK13=\"中小企業\",BK13,IF(BM13=\"個人事業主\",BM13,IF(BO13:BO13=\"その他\",BO13,\"\")))","v":""},{"$f":"_xlfn.IFS(D29=\"\",FALSE,D29=\"　\",FALSE,D29=\"☑\",TRUE)","v":false},{"$f":"IF(D29=\"☑\",\"中小企業\",\"\")","v":""},{"$f":"_xlfn.IFS(G29=\"\",FALSE,G29=\"　\",FALSE,G29=\"☑\",TRUE)","v":false},{"$f":"IF(G29=\"☑\",\"個人事業主\",\"\")","v":""},{"$f":"_xlfn.IFS(J29=\"\",FALSE,J29=\"　\",FALSE,J29=\"☑\",TRUE)","v":false},{"$f":"IF(J29=\"☑\",\"その他\",\"\")","v":""},{"$f":"COUNTIF(BJ13:BO13,TRUE)","v":0},{"$f":"IF(BP13=3,\"NG\",IF(BP13=2,\"NG\",IF(BP13=0,\"NG\",\"OK\")))","v":"NG"}]
[null,null,null,null,null,null,null,null,null,null,null,null,null,null,null,null,null,null,null,null,null,null,null,null,null,null,null,null,null,null,null,null,null,null,null,null,null,null,null,null,null,null,null,null,null,null,null,null,null,null,null,null,null,null,null,null,null,null,"別添1-2_D34","都道府県",{"$f":"IF(D34=\"\",\"\",D34)","v":""}]
["市区町村",null,null,null,null,null,null,null,null,null,null,null,null,null,null,null,null,null,null,{"$f":"A15","v":"市区町村"},null,null,"○○市○○町",null,null,null,null,null,null,null,null,null,null,null,null,null,null,null,null,"市区町村",null,null,"○○市○○町",null,null,null,null,null,null,null,null,null,null,null,null,null,null,null,"別添1-2_D36","市区町村",{"$f":"IF(D36=\"\",\"\",D36)","v":""}]
[null,null,null,null,null,null,null,null,null,null,null,null,null,null,null,null,null,null,null,null,null,null,null,null,null,null,null,null,null,null,null,null,null,null,null,null,null,null,null,null,null,null,null,null,null,null,null,null,null,null,null,null,null,null,null,null,null,null,"別添1-2_D38","丁目・番地",{"$f":"IF(D38=\"\",\"\",D38)","v":""}]
["丁目・番地",null,null,null,null,null,null,null,null,null,null,null,null,null,null,null,null,null,null,{"$f":"A17","v":"丁目・番地"},null,null,"○丁目○番○号",null,null,null,null,null,null,null,null,null,null,null,null,null,null,null,null,"丁目・番地",null,null,"○丁目○番○号",null,null,null,null,null,null,null,null,null,null,null,null,null,null,null,"別添1-2_D43～55","対象要件１",{"$f":"IF(OR(BK17=TRUE,BM17=TRUE),_xlfn.CONCAT(BI25:BI26)&\"-（ア）\",IF(BO17=TRUE,_xlfn.CONCAT(BI25:BI26)&\"-（イ）\",IF(OR(BQ17=TRUE,BS17=TRUE),_xlfn.CONCAT(BI25:BI26)&\"-（ウ）\",\"\")))","v":""},null,{"$f":"_xlfn.IFS(D43=\"\",FALSE,D43=\"　\",FALSE,D43=\"☑\",TRUE)","v":false},{"$f":"IF(BK17=FALSE,\"\",IF(D43=\"☑\",\"(ア)TR\"))","v":""},{"$f":"_xlfn.IFS(D46=\"\",FALSE,D46=\"　\",FALSE,D46=\"☑\",TRUE)","v":false},{"$f":"IF(BM17=FALSE,\"\",IF(D46=\"☑\",\"(ア)TR該当なし\"))","v":""},{"$f":"_xlfn.IFS(D49=\"\",FALSE,D49=\"　\",FALSE,D49=\"☑\",TRUE)","v":false},{"$f":"IF(BO17=FALSE,\"\",IF(D49=\"☑\",\"イ\"))","v":""},{"$f":"_xlfn.IFS(D52=\"\",FALSE,D52=\"　\",FALSE,D52=\"☑\",TRUE)","v":false},{"$f":"IF(BQ17=FALSE,\"\",IF(D52=\"☑\",\"(ウ)データセンター\"))","v":""},{"$f":"_xlfn.IFS(D55=\"\",FALSE,D55=\"　\",FALSE,D55=\"☑\",TRUE)","v":false},{"$f":"IF(BS17=FALSE,\"\",IF(D55=\"☑\",\"(ウ)EMS\"))","v":""},{"$f":"COUNTIF(BK17:BT17,TRUE)","v":0},{"$f":"IF(BU17=0,\"NG\",\"OK\")","v":"NG"}]
[null,null,null,null,null,null,null,null,null,null,null,null,null,null,null,null,null,null,null,null,null,null,null,null,null,null,null,null,null,null,null,null,null,null,null,null,null,null,null,null,null,null,null,null,null,null,null,null,null,null,null,null,null,null,null,null,null,null,"別添1-2_D43～55","対象要件２",{"$f":"BL17&BN17&BP17&BR17&BT17","v":""}]
["業種大分類",null,null,null,null,null,null,null,null,null,null,null,null,null,null,null,null,null,null,{"$f":"A19","v":"業種大分類"},null,null,"○○業",null,null,null,null,null,null,null,null,null,null,null,null,null,null,null,null,"業種大分類",null,null,"無",null,null,null,null,null,null,null,null,null,null,null,null,null,null,null,"別添1-2_D61","設備導入区分１",{"$f":"IF(OR(BJ19=\"①\",BJ19=\"①②\"),\"①\",IF(BJ19=\"②\",\"②\",\"\"))","v":""},{"$f":"BL19&BN19","v":""},{"$f":"_xlfn.IFS(D61=\"\",FALSE,D61=\"　\",FALSE,D61=\"☑\",TRUE)","v":false},{"$f":"IF(BK19=FALSE,\"\",IF(D61=\"☑\",\"①\"))","v":""},{"$f":"_xlfn.IFS(G61=\"\",FALSE,G61=\"　\",FALSE,G61=\"☑\",TRUE)","v":false},{"$f":"IF(BM19=FALSE,\"\",IF(G61=\"☑\",\"②\"))","v":""},{"$f":"COUNTIF(BK19:BN19,TRUE)","v":0},{"$f":"IF(BO19=0,\"NG\",IF(BO19=0,\"NG\",\"OK\"))","v":"NG"}]
[null,null,null,null,null,null,null,null,null,null,null,null,null,null,null,null,null,null,null,null,null,null,null,null,null,null,null,null,null,null,null,null,null,null,null,null,null,null,null,null,null,null,null,null,null,null,null,null,null,null,null,null,null,null,null,null,null,null,"別添1-2_D61","設備導入区分2",{"$f":"BL20&BN20","v":""},null,{"$f":"_xlfn.IFS(D61=\"\",FALSE,D61=\"　\",FALSE,D61=\"☑\",TRUE)","v":false},{"$f":"IF(BK19=FALSE,\"\",IF(D61=\"☑\",\"新設\"))","v":""},{"$f":"_xlfn.IFS(G62=\"\",FALSE,G62=\"　\",FALSE,G62=\"☑\",TRUE)","v":false},{"$f":"IF(BM19=FALSE,\"\",IF(G61=\"☑\",\"増設\"))","v":""},{"$f":"COUNTIF(BK20:BN20,TRUE)","v":0},{"$f":"IF(BO20=0,\"NG\",IF(BO20=0,\"NG\",\"OK\"))","v":"NG"}]
["業種分類項目名",null,null,null,null,null,null,null,null,null,null,null,null,null,null,null,null,null,null,{"$f":"A21","v":"業種分類項目名"},null,null,"○○業",null,null,null,null,null,null,null,null,null,null,null,null,null,null,null,null,"業種分類項目名",null,null,"無",null,null,null,null,null,null,null,null,null,null,null,null,null,null,null,"別添1-2_D63","導入設備の概要",{"$f":"IF(D63=\"\",\"\",D63)","v":""}]
[null,null,null,null,null,null,null,null,null,null,null,null,null,null,null,null,null,null,null,null,null,null,null,null,null,null,null,null,null,null,null,null,null,null,null,null,null,null,null,null,null,null,null,null,null,null,null,null,null,null,null,null,null,null,null,null,null,null,"別添1-2_D73","対象事業の概要",{"$f":"IF(D73=\"\",\"\",D73)","v":""}]
["資本金",null,null,null,null,null,null,null,null,null,null,null,null,null,null,null,null,null,null,{"$f":"A23","v":"資本金"},null,null,"○，○○○，○○○ 円",null,null,null,null,null,null,null,null,null,null,null,null,null,null,null,null,"資本金",null,null,"0 円",null,null,null,null,null,null,null,null,null,null,null,null,null,null,null,"別添1-2_D86","経営革新計画の承認有無",{"$f":"IF(D86=\"\",\"\",IF(D86=\"☑\",\"1\",\"\"))","v":""}]
[null,null,null,null,null,null,null,null,null,null,null,null,null,null,null,null,null,null,null,null,null,null,null,null,null,null,null,null,null,null,null,null,null,null,null,null,null,null,null,null,null,null,null,null,null,null,null,null,null,null,null,null,null,null,null,null,null,null,"別添1-2_D90","経営革新計画の承認取得年",{"$f":"IF(D90=\"\",\"\",D90)","v":""}]
["従業員数",null,null,null,null,null,null,null,null,null,null,null,null,null,null,null,null,null,null,{"$f":"A25","v":"従業員数"},null,null,"○○○ 人",null,null,null,null,null,null,null,null,null,null,null,null,null,null,null,null,"従業員数",null,null,"○○○ 人",null,null,null,null,null,null,null,null,null,null,null,null,null,null,null,"西暦年",{"$f":"TODAY()","v":"2025-11-10"},{"$f":"IF(LEN(YEAR(BH25)-2018)>1,\"\",0)","v":0},"←和暦2桁判定"]
[null,null,null,null,null,null,null,null,null,null,null,null,null,null,null,null,null,null,null,null,null,null,null,null,null,null,null,null,null,null,null,null,null,null,null,null,null,null,null,null,null,null,null,null,null,null,null,null,null,null,null,null,null,null,null,null,null,null,"申請月",{"$f":"MONTH(BH25)","v":11},7]
["企業の内容",null,null,null,null,null,null,null,null,null,null,null,null,null,null,null,null,null,null,{"$f":"A27","v":"企業の内容"},null,null,"○○部品の製造",null,null,null,null,null,null,null,null,null,null,null,null,null,null,null,null,"企業の内容",null,null,"○○部品の製造"]
[]
["企業の規模",null,null,null,"中小企業",null,null,"個人事業主",null,"　","その他",null,{"$f":"IF(BQ13=\"NG\",\"←該当する対象要件（チェックボックス）を選択してください。\",\"\")","v":"←該当する対象要件（チェックボックス）を選択してください。"},null,null,null,null,null,null,{"$f":"A29","v":"企業の規模"},null,null,"☑",{"$f":"E29","v":"中小企業"},null,null,{"$f":"H29","v":"個人事業主"},null,null,{"$f":"K29","v":"その他"},null,{"$f":"IF(W9=\"\",\"\",IF(CJ13=\"NG\",\"←該当する対象要件（チェックボックス）を選択してください。\",\"\"))","v":""},null,null,null,null,null,null,null,"企業の規模",null,null,null,"中小企業",null,"☑","個人事業主",null,null,"その他",null,{"$f":"IF(AQ9=\"\",\"\",IF(DD13=\"NG\",\"←該当する対象要件（チェックボックス）を選択してください。\",\"\"))","v":""}]
[]
[]
["５．所在地（省エネルギー設備の使用場所及び省エネルギー取組の実施場所）",null,null,null,null,null,null,null,null,null,null,null,null,null,null,null,null,null,null,{"$f":"A32","v":"５．所在地（省エネルギー設備の使用場所及び省エネルギー取組の実施場所）"},null,null,null,null,null,null,null,null,null,null,null,null,null,null,null,null,null,null,null,"５．所在地（省エネルギー設備の使用場所及び省エネルギー取組の実施場所）"]
[]
["都道府県",null,null,null,null,null,null,null,null,null,null,null,null,null,null,null,null,null,null,{"$f":"A34","v":"都道府県"},null,null,"○○県",null,null,null,null,null,null,null,null,null,null,null,null,null,null,null,null,"（住所）都道府県",null,null,"○○県"]
[]
["市区町村",null,null,null,null,null,null,null,null,null,null,null,null,null,null,null,null,null,null,{"$f":"A36","v":"市区町村"},null,null,"○○市○○町",null,null,null,null,null,null,null,null,null,null,null,null,null,null,null,null,"市区町村",null,null,"○○市○○町"]
[]
["丁目・番地",null,null,null,null,null,null,null,null,null,null,null,null,null,null,null,null,null,null,{"$f":"A38","v":"丁目・番地"},null,null,"○丁目○番○号",null,null,null,null,null,null,null,null,null,null,null,null,null,null,null,null,"丁目・番地",null,null,"○丁目○番○号"]
[]
[]
["６．対象要件",null,null,null,null,null,null,null,null,null,null,null,null,null,null,null,null,null,null,{"$f":"A41","v":"６．対象要件"},null,null,null,null,null,null,null,null,null,null,null,null,null,null,null,null,null,null,null,"６．対象要件"]
[{"$f":"IF(BV17=\"NG\",\"↓該当する対象要件（チェックボックス）を選択してください。\",\"\")","v":"↓該当する対象要件（チェックボックス）を選択してください。"}]
["対象要件",null,null,null,"（ア）エネルギー消費効率が高い省エネルギー設備を新設、又は増設する事業。\n　　※トップランナー基準を満たす設備の導入",null,null,null,null,null,null,null,null,null,null,null,null,null,null,{"$f":"A43","v":"対象要件"},null,null,"☑",{"$f":"E43","v":"（ア）エネルギー消費効率が高い省エネルギー設備を新設、又は増設する事業。\n　　※トップランナー基準を満たす設備の導入"},null,null,null,null,null,null,null,null,null,null,null,null,null,null,null,"対象要件",null,null,"☑","（ア）エネルギー消費効率が高い省エネルギー設備を新設、又は増設する事業。\n　　※トップランナー基準を満たす設備の導入"]
[]
[]
[null,null,null,null,"（ア）エネルギー消費効率が高い省エネルギー設備を新設、又は増設する事業。\n　　※トップランナー基準に該当しない設備で、エネルギー消費効率が高い設備の導入",null,null,null,null,null,null,null,null,null,null,null,null,null,null,null,null,null,"☑",{"$f":"E46","v":"（ア）エネルギー消費効率が高い省エネルギー設備を新設、又は増設する事業。\n　　※トップランナー基準に該当しない設備で、エネルギー消費効率が高い設備の導入"},null,null,null,null,null,null,null,null,null,null,null,null,null,null,null,null,null,null,null,"（ア）エネルギー消費効率が高い省エネルギー設備を新設、又は増設する事業。\n　　※トップランナー基準に該当しない設備で、エネルギー消費効率が高い設備の導入"]
[]
[]
[null,null,null,null,"（イ）省エネルギー設備等を新設、又は増設し、工場・事業場全体におけるエネルギー\n　　 消費原単位が１％以上改善される事業。",null,null,null,null,null,null,null,null,null,null,null,null,null,null,null,null,null,null,{"$f":"E49","v":"（イ）省エネルギー設備等を新設、又は増設し、工場・事業場全体におけるエネルギー\n　　 消費原単位が１％以上改善される事業。"},null,null,null,null,null,null,null,null,null,null,null,null,null,null,null,null,null,null,null,"（イ）省エネルギー設備等を新設、又は増設し、工場・事業場全体におけるエネルギー\n　　 消費原単位が１％以上改善される事業。"]
[]
[]
[null,null,null,null,"（ウ）データセンターのクラウドサービス活用に関する事業。",null,null,null,null,null,null,null,null,null,null,null,null,null,null,null,null,null,null,{"$f":"E52","v":"（ウ）データセンターのクラウドサービス活用に関する事業。"},null,null,null,null,null,null,null,null,null,null,null,null,null,null,null,null,null,null,null,"（ウ）データセンターのクラウドサービス活用に関する事業。"]
[]
[]
[null,null,null,"　","（ウ）ＥＭＳの導入等による省エネルギー取組に関する事業。",null,null,null,null,null,null,null,null,null,null,null,null,null,null,null,null,null,null,{"$f":"E55","v":"（ウ）ＥＭＳの導入等による省エネルギー取組に関する事業。"},null,null,null,null,null,null,null,null,null,null,null,null,null,null,null,null,null,null,null,"（ウ）ＥＭＳの導入等による省エネルギー取組に関する事業。"]
[]
[]
[null,null,null,null,null,null,null,null,null,null,null,null,null,null,null,null,null,null,null,{"$f":"IF(W9=\"\",\"\",IF(CO17=\"NG\",\"↑該当する対象要件（チェックボックス）を選択してください。\",\"\"))","v":""},null,null,null,null,null,null,null,null,null,null,null,null,null,null,null,null,null,null,null,{"$f":"IF(AQ9=\"\",\"\",IF(DI17=\"NG\",\"↑該当する対象要件（チェックボックス）を選択してください。\",\"\"))","v":""}]
["７．利子補給対象事業の概要",null,null,null,null,null,null,null,null,null,null,null,null,null,null,null,null,null,null,{"$f":"A59","v":"７．利子補給対象事業の概要"},null,null,null,null,null,null,null,null,null,null,null,null,null,null,null,null,null,null,null,"７．利子補給対象事業の概要"]
[]
["導入設備区分",null,null,null,"新設",null,null,"増設",null,{"$f":"IF(BP19=\"NG\",\"←該当する導入設備区分（チェックボックス）を選択してください。\",\"\")","v":"←該当する導入設備区分（チェックボックス）を選択してください。"},null,null,null,null,null,null,null,null,null,{"$f":"A61","v":"導入設備区分"},null,null,"☑","新設",null,"☑","増設",null,{"$f":"IF(W9=\"\",\"\",IF(CI18=\"NG\",\"←該当する導入設備区分（チェックボックス）を選択してください。\",\"\"))","v":""},null,null,null,null,null,null,null,null,null,null,"導入設備区分",null,null,"☑","新設",null,"☑","増設",null,{"$f":"IF(AQ9=\"\",\"\",IF(DC18=\"NG\",\"←該当する導入設備区分（チェックボックス）を選択してください。\",\"\"))","v":""}]
[]
["対象事業の概要",null,null,null,null,null,null,null,null,null,null,null,null,null,null,null,null,null,null,"対象事業の概要",null,null,"例①：○○工場に○○機器を新設する事業\n例②：○○作業所の生産ラインを増設する事業\n　　　（現状6ラインから8ラインへ2ライン増設）",null,null,null,null,null,null,null,null,null,null,null,null,null,null,null,null,"対象事業の概要",null,null,"例①：○○工場に○○機器を新設する事業\n例②：○○作業所の生産ラインを増設する事業\n　　　（現状6ラインから8ラインへ2ライン増設）"]
[]
[]
[]
[]
[]
[]
[]
[]
[]
["導入設備の概要",null,null,null,null,null,null,null,null,null,null,null,null,null,null,null,null,null,null,"導入設備の概要",null,null,"例①：工場新設による○○機器新規導入\n　　　○○機器○台、○○機器○台の新規導入\n例②：生産ライン拡大による○○機器の増設\n　　　○○機器○台、○○機器○台の増設",null,null,null,null,null,null,null,null,null,null,null,null,null,null,null,null,"導入設備の概要",null,null,"例①：工場新設による○○機器新規導入\n　　　○○機器○台、○○機器○台の新規導入\n例②：生産ライン拡大による○○機器の増設\n　　　○○機器○台、○○機器○台の増設"]
[]
[]
[]
[]
[]
[]
[]
[]
[]
[]
["８．経営革新計画の承認状況（任意）",null,null,null,null,null,null,null,null,null,null,null,null,null,null,null,null,null,null,{"$f":"A84","v":"８．経営革新計画の承認状況（任意）"},null,null,null,null,null,null,null,null,null,null,null,null,null,null,null,null,null,null,null,{"$f":"T84","v":"８．経営革新計画の承認状況（任意）"}]
[]
["経営革新計画の\n承認有無",null,null,null,null,null,null,null,null,null,null,null,null,null,null,null,null,null,null,{"$f":"A86","v":"経営革新計画の\n承認有無"},null,null,"☑",null,null,null,null,null,null,null,null,null,null,null,null,null,null,null,null,{"$f":"T86","v":"経営革新計画の\n承認有無"},null,null,"☑"]
[]
[]
[]
["経営革新計画の\n承認取得年",null,null,null,null,null,null,null,null,null,null,null,null,null,null,null,null,null,null,{"$f":"A90","v":"経営革新計画の\n承認取得年"},null,null,"2025",null,null,null,null,null,null,null,null,null,null,null,null,null,null,null,null,{"$f":"T90","v":"経営革新計画の\n承認取得年"},null,null,"2025"]

{"sheet":"（別添１）融資計画詳細３","index":12,"n_rows":34,"n_cols":55,"rows_kept":34,"cut":false,"hidden":false,"merged":[[9,11,11,15],[12,11,14,15],[15,11,17,15],[18,11,20,15],[24,11,26,15],[18,16,20,18],[30,0,32,4],[30,5,32,7],[33,0,35,4],[33,5,35,7],[27,11,29,15],[30,11,32,15],[33,11,35,15],[24,0,26,4],[24,5,26,7],[27,0,29,4],[27,5,29,7],[0,0,1,9],[24,16,26,18],[27,16,29,18],[30,16,32,18],[33,16,35,18],[9,0,11,4],[9,5,11,7],[12,0,14,4],[12,5,14,7],[15,0,17,4],[15,5,17,7],[9,16,11,18],[12,16,14,18],[15,16,17,18],[18,0,20,4],[18,5,20,7]]}
["（別添１）融資計画詳細３",null,null,null,null,null,null,null,null,null,null,null,null,null,null,null,null,null,null,null,null,null,null,null,null,null,null,null,null,null,null,null,null,null,null,null,null,null,null,null,null,null,null,null,null,null,null,null,null,null,null,null,"非表示","非表示","非表示"]
[]
["（別添１）",null,null,null,null,null,null,null,null,null,null,{"$f":"A3","v":"（別添１）"},null,null,null,null,null,null,null,null,null,null,null,null,null,null,null,null,null,null,null,null,null,null,null,null,null,null,null,null,null,null,null,null,null,null,null,null,null,null,null,null,"別添1-3_F10","指定金融機関_担当部署等",{"$f":"IF(F10=\"\",\"\",F10)","v":""}]
["融資計画詳細３",null,null,null,null,null,null,null,null,null,null,{"$f":"A4","v":"融資計画詳細３"},null,null,null,null,null,null,null,null,null,null,null,null,null,null,null,null,null,null,null,null,null,null,null,null,null,null,null,null,null,null,null,null,null,null,null,null,null,null,null,null,"別添1-3_F13","指定金融機関_担当者名",{"$f":"IF(F13=\"\",\"\",F13)","v":""}]
[null,null,null,null,null,null,null,null,null,null,null,null,null,null,null,null,null,null,null,null,null,null,null,null,null,null,null,null,null,null,null,null,null,null,null,null,null,null,null,null,null,null,null,null,null,null,null,null,null,null,null,null,"別添1-3_F16","指定金融機関_連絡先電話番号",{"$f":"IF(F16=\"\",\"\",F16)","v":""}]
["本提出書類に関する問い合わせ先",null,null,null,null,null,null,null,null,null,null,{"$f":"A6","v":"本提出書類に関する問い合わせ先"},null,null,null,null,null,null,null,null,null,null,null,null,null,null,null,null,null,null,null,null,null,null,null,null,null,null,null,null,null,null,null,null,null,null,null,null,null,null,null,null,"別添1-3_F19","指定金融機関_連絡先E-MAIL",{"$f":"IF(F19=\"\",\"\",F19)","v":""}]
[null,null,null,null,null,null,null,null,null,null,null,null,null,null,null,null,null,null,null,null,null,null,null,null,null,null,null,null,null,null,null,null,null,null,null,null,null,null,null,null,null,null,null,null,null,null,null,null,null,null,null,null,"別添1-3_F25","利子補給対象事業者_担当部署等",{"$f":"IF(F25=\"\",\"\",F25)","v":""}]
["指定金融機関",null,null,null,null,null,null,null,null,null,null,{"$f":"A8","v":"指定金融機関"},null,null,null,null,null,null,null,null,null,null,null,null,null,null,null,null,null,null,null,null,null,null,null,null,null,null,null,null,null,null,null,null,null,null,null,null,null,null,null,null,"別添1-3_F28","利子補給対象事業者_担当者名",{"$f":"IF(F28=\"\",\"\",F28)","v":""}]
[null,null,null,null,null,null,null,null,null,null,null,null,null,null,null,null,null,null,null,null,null,null,null,null,null,null,null,null,null,null,null,null,null,null,null,null,null,null,null,null,null,null,null,null,null,null,null,null,null,null,null,null,"別添1-3_F31","利子補給対象事業者_連絡先電話番号",{"$f":"IF(F31=\"\",\"\",F31)","v":""}]
["担当部署等",null,null,null,null,null,null,null,null,null,null,{"$f":"A10","v":"担当部署等"},null,null,null,null,"○○○○部",null,null,null,null,null,null,null,null,null,null,null,null,null,null,null,null,null,null,null,null,null,null,null,null,null,null,null,null,null,null,null,null,null,null,null,"別添1-3_F34","利子補給対象事業者_連絡先E-MAIL",{"$f":"IF(F34=\"\",\"\",F34)","v":""}]
[]
[]
["担当者名",null,null,null,null,null,null,null,null,null,null,{"$f":"A13","v":"担当者名"},null,null,null,null,"○○　○○"]
[]
[]
["連絡先電話番号",null,null,null,null,null,null,null,null,null,null,{"$f":"A16","v":"連絡先電話番号"},null,null,null,null,"○○‐○○○○‐○○○○"]
[]
[]
["連絡先e-mail",null,null,null,null,null,null,null,null,null,null,{"$f":"A19","v":"連絡先e-mail"},null,null,null,null,"○○○○＠○○○○"]
[]
[]
[]
["利子補給対象事業者",null,null,null,null,null,null,null,null,null,null,{"$f":"A23","v":"利子補給対象事業者"}]
[]
["担当部署等",null,null,null,null,null,null,null,null,null,null,{"$f":"A25","v":"担当部署等"},null,null,null,null,"○○○○部"]
[]
[]
["担当者名",null,null,null,null,null,null,null,null,null,null,{"$f":"A28","v":"担当者名"},null,null,null,null,"○○　○○"]
[]
[]
["連絡先電話番号",null,null,null,null,null,null,null,null,null,null,{"$f":"A31","v":"連絡先電話番号"},null,null,null,null,"○○‐○○○○‐○○○○"]
[]
[]
["連絡先e-mail",null,null,null,null,null,null,null,null,null,null,{"$f":"A34","v":"連絡先e-mail"},null,null,null,null,"○○○○＠○○○○"]

{"sheet":"（別添２）役員名簿（利子補給対象事業者）","index":13,"n_rows":30,"n_cols":29,"rows_kept":30,"cut":false,"hidden":false,"merged":[[0,0,1,9],[7,17,8,17],[7,18,8,18],[7,19,8,19],[29,11,33,19],[7,0,8,0],[29,0,33,8],[7,11,8,11],[7,12,8,12],[7,13,7,16],[7,1,8,1],[7,2,7,5],[7,6,8,6],[7,7,8,7],[7,8,8,8]]}
["（別添２）役員名簿（利子補給対象事業者）",null,null,null,null,null,null,null,null,null,null,null,null,null,null,null,null,null,null,null,null,null,null,null,null,null,null,"非表示","非表示"]
[]
["（別添２）",null,null,null,null,null,null,null,null,null,null,{"$f":"A3","v":"（別添２）"}]
["役員名簿（利子補給対象事業者）",null,null,null,null,null,null,null,null,null,null,{"$f":"A4","v":"役員名簿（利子補給対象事業者）"}]
[]
[null,null,{"$f":"IF(COUNTA(A10:A29)>0,IF(MIN(COUNTA(B10:I10:B29:I29))<8,\"入力していない列があります\",\"\"),\"\")","v":""}]
[]
["氏名（ｶﾅ）","氏名（漢字）","生年月日",null,null,null,"性別","会社名","役職名",null,null,{"$f":"A8","v":"氏名（ｶﾅ）"},{"$f":"B8","v":"氏名（漢字）"},{"$f":"C8","v":"生年月日"},null,null,null,{"$f":"G8","v":"性別"},{"$f":"H8","v":"会社名"},{"$f":"I8","v":"役職名"},null,null,null,null,null,null,null,"T","M"]
[null,null,"和暦","年","月","日",null,null,null,null,null,null,null,{"$f":"C9","v":"和暦"},{"$f":"D9","v":"年"},"月","日",null,null,null,null,null,null,null,null,null,null,"S","F"]
[null,null,null,null,null,null,null,null,null,null,null,"○○○ ○○○","○○　○○","S","30","03","04","M","株式会社○○○○","代表取締役",null,null,null,null,null,null,null,"H"]
[null,null,null,null,null,null,null,null,null,null,null,"△△△△ △△△△","△△△　△△","S","40","01","10","M","株式会社○○○○","取締役"]
[null,null,null,null,null,null,null,null,null,null,null,"□□ □□□","□　□□","S","45","12","12","M","株式会社○○○○","取締役"]
[]
[]
[]
[]
[]
[]
[]
[]
[]
[]
[]
[]
[]
[]
[]
[]
[]
["（注）\n　役員名簿については、氏名カナ（半角、姓と名の間も半角で１マス空け）、氏名漢字（全角、姓と名の間も全角で１マス空け）、生年月日（半角で大正はT、昭和はS、平成はH、数字は２桁半角）、性別（半角で男性はM、女性はF）、会社名及び役職名を入力すること。\n　また、外国人については、氏名漢字欄はアルファベットを、氏名カナ欄は当該アルファベットのカナ読みを入力すること。",null,null,null,null,null,null,null,null,null,null,"（注）\n　役員名簿については、氏名カナ（半角、姓と名の間も半角で１マス空け）、氏名漢字（全角、姓と名の間も全角で１マス空け）、生年月日（半角で大正はT、昭和はS、平成はH、数字は２桁半角）、性別（半角で男性はM、女性はF）、会社名及び役職名を入力すること。\n　また、外国人については、氏名漢字欄はアルファベットを、氏名カナ欄は当該アルファベットのカナ読みを入力すること。"]

{"sheet":"（別添３）利子補給金の交付の対象となる経費リスト","index":14,"n_rows":84,"n_cols":77,"rows_kept":84,"cut":false,"hidden":false,"merged":[[6,56,7,57],[24,37,24,38],[24,39,24,40],[24,42,24,43],[24,45,24,46],[20,28,20,30],[20,31,20,32],[20,33,20,34],[20,35,20,36],[20,37,20,38],[20,39,20,40],[78,3,78,20],[79,3,80,20],[81,3,82,20],[83,3,84,20],[70,29,70,46],[71,29,72,46],[73,29,74,46],[75,29,76,46],[78,29,78,46],[79,29,80,46],[81,29,82,46],[83,29,84,46],[75,26,76,28],[78,26,78,28],[79,26,80,28],[81,26,82,28],[83,26,84,28],[20,42,20,43],[20,45,20,46],[23,5,23,6],[23,7,23,8],[23,9,23,10],[67,47,67,50],[70,26,70,28],[71,26,72,28],[73,26,74,28],[26,28,26,30],[26,31,26,32],[26,33,26,34],[26,35,26,36],[26,37,26,38],[26,39,26,40],[26,42,26,43],[26,45,26,46],[26,47,26,50],[27,28,27,30],[27,31,27,32],[27,33,27,34],[27,35,27,36],[27,37,27,38],[27,39,27,40],[27,42,27,43],[27,45,27,46],[27,47,27,50],[28,42,28,43],[28,45,28,46],[28,47,28,50],[30,42,30,43],[30,45,30,46],[30,47,30,50],[31,47,31,50],[29,28,29,30],[29,31,29,32],[29,33,29,34],[24,47,24,50],[25,28,25,30],[25,31,25,32],[25,33,25,34],[25,35,25,36],[25,37,25,38],[25,39,25,40],[25,42,25,43],[25,45,25,46],[25,47,25,50],[22,28,22,30],[22,31,22,32],[22,33,22,34],[22,35,22,36],[22,37,22,38],[22,39,22,40],[22,42,22,43],[22,45,22,46],[22,47,22,50],[23,28,23,30],[23,31,23,32],[23,33,23,34],[23,35,23,36],[23,37,23,38],[23,39,23,40],[23,42,23,43],[23,45,23,46],[23,47,23,50],[24,28,24,30],[24,31,24,32],[24,33,24,34],[24,35,24,36],[20,47,20,50],[21,28,21,30],[21,31,21,32],[21,33,21,34],[21,35,21,36],[21,37,21,38],[21,39,21,40],[21,42,21,43],[21,45,21,46],[21,47,21,50],[18,28,18,30],[18,31,18,32],[18,33,18,34],[18,35,18,36],[18,37,18,38],[18,39,18,40],[18,42,18,43],[18,45,18,46],[18,47,18,50],[19,28,19,30],[19,31,19,32],[19,33,19,34],[19,35,19,36],[19,37,19,38],[19,39,19,40],[19,42,19,43],[19,45,19,46],[19,47,19,50],[14,28,14,30],[14,31,14,32],[14,33,14,34],[14,35,14,36],[14,37,14,38],[14,39,14,40],[14,42,14,43],[14,45,14,46],[14,47,14,50],[17,28,17,30],[17,31,17,32],[17,33,17,34],[17,35,17,36],[17,37,17,38],[17,39,17,40],[17,42,17,43],[17,45,17,46],[17,47,17,50],[15,44,16,44],[15,28,16,30],[15,31,16,32],[15,33,16,34],[15,35,16,36],[15,37,16,38],[15,39,16,40],[15,41,16,41],[15,42,16,43],[15,45,16,46],[15,47,16,50],[12,28,12,30],[12,31,12,32],[12,33,12,34],[12,35,12,36],[12,37,12,38],[12,39,12,40],[12,42,12,43],[12,45,12,46],[12,47,12,50],[13,28,13,30],[13,31,13,32],[13,33,13,34],[13,35,13,36],[13,37,13,38],[13,39,13,40],[13,42,13,43],[13,45,13,46],[13,47,13,50],[10,28,10,30],[10,31,10,32],[10,33,10,34],[10,35,10,36],[10,37,10,38],[10,39,10,40],[10,42,10,43],[10,45,10,46],[10,47,10,50],[11,28,11,30],[11,31,11,32],[11,33,11,34],[11,35,11,36],[11,37,11,38],[11,39,11,40],[11,42,11,43],[11,45,11,46],[11,47,11,50],[79,0,80,2],[81,0,82,2],[83,0,84,2],[78,0,78,2],[24,5,24,6],[24,7,24,8],[24,9,24,10],[24,11,24,12],[24,13,24,14],[30,9,30,10],[30,11,30,12],[30,13,30,14],[32,2,32,4],[32,5,32,6],[32,7,32,8],[32,9,32,10],[32,11,32,12],[32,13,32,14],[34,2,34,4],[34,5,34,6],[75,3,76,20],[34,16,34,17],[34,19,34,20],[64,2,64,4],[64,5,64,6],[64,7,64,8],[64,9,64,10],[64,11,64,12],[64,13,64,14],[64,16,64,17],[64,19,64,20],[67,2,67,4],[71,0,72,2],[73,0,74,2],[75,0,76,2],[23,11,23,12],[23,13,23,14],[26,7,26,8],[26,9,26,10],[26,11,26,12],[26,13,26,14],[28,2,28,4],[28,5,28,6],[28,7,28,8],[28,9,28,10],[28,11,28,12],[28,13,28,14],[30,2,30,4],[30,5,30,6],[30,7,30,8],[29,9,29,10],[29,11,29,12],[29,13,29,14],[71,3,72,20],[73,3,74,20],[70,3,70,20],[29,19,29,20],[34,7,34,8],[34,9,34,10],[34,11,34,12],[34,13,34,14],[31,2,31,4],[31,5,31,6],[31,7,31,8],[6,21,7,24],[6,18,7,18],[6,0,7,0],[6,1,7,1],[6,2,7,4],[6,5,7,6],[6,7,7,8],[6,9,7,10],[6,11,7,12],[6,13,7,14],[6,16,7,17],[6,15,7,15],[23,19,23,20],[6,19,7,20],[23,2,23,4],[14,2,14,4],[14,5,14,6],[14,7,14,8],[14,9,14,10],[14,11,14,12],[14,13,14,14],[11,9,11,10],[11,11,11,12],[11,13,11,14],[11,16,11,17],[14,16,14,17],[14,19,14,20],[15,19,15,20],[17,2,17,4],[23,16,23,17],[10,2,10,4],[10,5,10,6],[8,21,8,24],[9,2,9,4],[9,5,9,6],[9,7,9,8],[9,9,9,10],[9,11,9,12],[9,13,9,14],[9,16,9,17],[9,19,9,20],[9,21,9,24],[8,19,8,20],[8,2,8,4],[8,5,8,6],[8,7,8,8],[8,9,8,10],[8,11,8,12],[8,13,8,14],[8,16,8,17],[14,21,14,24],[11,21,11,24],[12,2,12,4],[12,5,12,6],[12,7,12,8],[12,9,12,10],[12,11,12,12],[12,13,12,14],[12,16,12,17],[12,21,12,24],[13,16,13,17],[13,19,13,20],[10,21,10,24],[10,16,10,17],[10,19,10,20],[13,2,13,4],[13,5,13,6],[13,7,13,8],[13,9,13,10],[13,11,13,12],[13,13,13,14],[11,19,11,20],[11,2,11,4],[12,19,12,20],[13,21,13,24],[11,5,11,6],[11,7,11,8],[10,7,10,8],[10,9,10,10],[10,11,10,12],[10,13,10,14],[15,2,15,4],[15,5,15,6],[15,7,15,8],[15,9,15,10],[15,11,15,12],[15,13,15,14],[15,16,15,17],[18,2,18,4],[18,5,18,6],[18,7,18,8],[18,9,18,10],[18,11,18,12],[18,13,18,14],[17,5,17,6],[17,7,17,8],[17,9,17,10],[17,11,17,12],[17,13,17,14],[17,16,17,17],[18,16,18,17],[20,11,20,12],[20,13,20,14],[20,16,20,17],[20,19,20,20],[20,21,20,24],[19,2,19,4],[19,5,19,6],[19,7,19,8],[19,9,19,10],[19,11,19,12],[19,13,19,14],[19,16,19,17],[16,2,16,4],[16,5,16,6],[16,7,16,8],[16,9,16,10],[16,11,16,12],[16,13,16,14],[16,16,16,17],[16,19,16,20],[16,21,16,24],[17,19,17,20],[17,21,17,24],[18,19,18,20],[15,27,16,27],[24,16,24,17],[24,19,24,20],[25,16,25,17],[24,2,24,4],[21,21,21,24],[22,2,22,4],[22,5,22,6],[22,7,22,8],[22,9,22,10],[22,11,22,12],[22,13,22,14],[22,16,22,17],[22,19,22,20],[22,21,22,24],[21,11,21,12],[21,13,21,14],[21,16,21,17],[21,2,21,4],[21,5,21,6],[21,7,21,8],[21,9,21,10],[21,19,21,20],[15,26,16,26],[18,21,18,24],[15,21,15,24],[19,19,19,20],[19,21,19,24],[20,2,20,4],[20,5,20,6],[20,7,20,8],[20,9,20,10],[70,0,70,2],[26,21,26,24],[27,2,27,4],[27,5,27,6],[27,7,27,8],[27,9,27,10],[27,11,27,12],[27,13,27,14],[27,16,27,17],[27,19,27,20],[27,21,27,24],[23,21,23,24],[24,21,24,24],[25,19,25,20],[25,21,25,24],[26,2,26,4],[26,5,26,6],[26,16,26,17],[26,19,26,20],[25,2,25,4],[25,5,25,6],[25,7,25,8],[25,9,25,10],[25,11,25,12],[25,13,25,14],[29,2,29,4],[29,5,29,6],[29,7,29,8],[29,16,29,17],[29,21,29,24],[34,21,34,24],[55,16,55,17],[9,28,9,30],[9,31,9,32],[9,33,9,34],[9,35,9,36],[9,37,9,38],[9,39,9,40],[9,42,9,43],[9,45,9,46],[9,47,9,50],[6,26,7,26],[6,28,7,30],[6,31,7,32],[6,33,7,34],[6,35,7,36],[6,37,7,38],[6,39,7,40],[6,41,7,41],[6,42,7,43],[6,27,7,27],[6,44,7,44],[6,45,7,46],[6,47,7,50],[8,28,8,30],[8,31,8,32],[8,33,8,34],[8,35,8,36],[8,37,8,38],[8,39,8,40],[8,42,8,43],[8,45,8,46],[8,47,8,50],[29,35,29,36],[29,37,29,38],[29,39,29,40],[29,42,29,43],[29,45,29,46],[29,47,29,50],[28,16,28,17],[28,19,28,20],[28,21,28,24],[28,28,28,30],[28,31,28,32],[28,33,28,34],[28,35,28,36],[28,37,28,38],[28,39,28,40],[31,9,31,10],[31,11,31,12],[31,13,31,14],[31,16,31,17],[31,19,31,20],[31,21,31,24],[31,28,31,30],[31,31,31,32],[31,33,31,34],[31,35,31,36],[31,37,31,38],[31,39,31,40],[31,42,31,43],[31,45,31,46],[30,16,30,17],[30,19,30,20],[30,21,30,24],[30,28,30,30],[30,31,30,32],[30,33,30,34],[30,35,30,36],[30,37,30,38],[30,39,30,40],[33,31,33,32],[33,33,33,34],[33,35,33,36],[33,37,33,38],[33,39,33,40],[33,42,33,43],[33,45,33,46],[33,47,33,50],[32,16,32,17],[32,19,32,20],[32,21,32,24],[32,28,32,30],[32,31,32,32],[32,33,32,34],[32,35,32,36],[32,37,32,38],[32,39,32,40],[34,28,34,30],[34,31,34,32],[32,42,32,43],[32,45,32,46],[34,33,34,34],[34,35,34,36],[34,37,34,38],[34,39,34,40],[34,42,34,43],[34,45,34,46],[34,47,34,50],[35,2,35,4],[35,5,35,6],[35,7,35,8],[35,9,35,10],[35,11,35,12],[35,13,35,14],[35,16,35,17],[35,19,35,20],[35,21,35,24],[32,47,32,50],[33,2,33,4],[33,5,33,6],[33,7,33,8],[33,9,33,10],[33,11,33,12],[33,13,33,14],[33,16,33,17],[33,19,33,20],[33,21,33,24],[33,28,33,30],[36,28,36,30],[36,31,36,32],[36,33,36,34],[36,35,36,36],[36,37,36,38],[36,39,36,40],[36,42,36,43],[36,45,36,46],[36,47,36,50],[36,2,36,4],[36,5,36,6],[36,7,36,8],[36,9,36,10],[36,11,36,12],[36,13,36,14],[36,16,36,17],[36,19,36,20],[36,21,36,24],[37,28,37,30],[37,31,37,32],[37,33,37,34],[37,35,37,36],[37,37,37,38],[37,39,37,40],[37,42,37,43],[37,45,37,46],[37,47,37,50],[37,2,37,4],[37,5,37,6],[37,7,37,8],[37,9,37,10],[37,11,37,12],[37,13,37,14],[37,16,37,17],[37,19,37,20],[37,21,37,24],[38,28,38,30],[38,31,38,32],[38,33,38,34],[38,35,38,36],[38,37,38,38],[38,39,38,40],[38,42,38,43],[38,45,38,46],[38,47,38,50],[38,2,38,4],[38,5,38,6],[38,7,38,8],[38,9,38,10],[38,11,38,12],[38,13,38,14],[38,16,38,17],[38,19,38,20],[38,21,38,24],[39,28,39,30],[39,31,39,32],[39,33,39,34],[39,35,39,36],[39,37,39,38],[39,39,39,40],[39,42,39,43],[39,45,39,46],[39,47,39,50],[39,2,39,4],[39,5,39,6],[39,7,39,8],[39,9,39,10],[39,11,39,12],[39,13,39,14],[39,16,39,17],[39,19,39,20],[39,21,39,24],[40,28,40,30],[40,31,40,32],[40,33,40,34],[40,35,40,36],[40,37,40,38],[40,39,40,40],[40,42,40,43],[40,45,40,46],[40,47,40,50],[40,2,40,4],[40,5,40,6],[40,7,40,8],[40,9,40,10],[40,11,40,12],[40,13,40,14],[40,16,40,17],[40,19,40,20],[40,21,40,24],[41,28,41,30],[41,31,41,32],[41,33,41,34],[41,35,41,36],[41,37,41,38],[41,39,41,40],[41,42,41,43],[41,45,41,46],[41,47,41,50],[41,2,41,4],[41,5,41,6],[41,7,41,8],[41,9,41,10],[41,11,41,12],[41,13,41,14],[41,16,41,17],[41,19,41,20],[41,21,41,24],[42,28,42,30],[42,31,42,32],[42,33,42,34],[42,35,42,36],[42,37,42,38],[42,39,42,40],[42,42,42,43],[42,45,42,46],[42,47,42,50],[42,2,42,4],[42,5,42,6],[42,7,42,8],[42,9,42,10],[42,11,42,12],[42,13,42,14],[42,16,42,17],[42,19,42,20],[42,21,42,24],[43,28,43,30],[43,31,43,32],[43,33,43,34],[43,35,43,36],[43,37,43,38],[43,39,43,40],[43,42,43,43],[43,45,43,46],[43,47,43,50],[43,2,43,4],[43,5,43,6],[43,7,43,8],[43,9,43,10],[43,11,43,12],[43,13,43,14],[43,16,43,17],[43,19,43,20],[43,21,43,24],[44,28,44,30],[44,31,44,32],[44,33,44,34],[44,35,44,36],[44,37,44,38],[44,39,44,40],[44,42,44,43],[44,45,44,46],[44,47,44,50],[44,2,44,4],[44,5,44,6],[44,7,44,8],[44,9,44,10],[44,11,44,12],[44,13,44,14],[44,16,44,17],[44,19,44,20],[44,21,44,24],[45,28,45,30],[45,31,45,32],[45,33,45,34],[45,35,45,36],[45,37,45,38],[45,39,45,40],[45,42,45,43],[45,45,45,46],[45,47,45,50],[45,2,45,4],[45,5,45,6],[45,7,45,8],[45,9,45,10],[45,11,45,12],[45,13,45,14],[45,16,45,17],[45,19,45,20],[45,21,45,24],[46,28,46,30],[46,31,46,32],[46,33,46,34],[46,35,46,36],[46,37,46,38],[46,39,46,40],[46,42,46,43],[46,45,46,46],[46,47,46,50],[46,2,46,4],[46,5,46,6],[46,7,46,8],[46,9,46,10],[46,11,46,12],[46,13,46,14],[46,16,46,17],[46,19,46,20],[46,21,46,24],[47,28,47,30],[47,31,47,32],[47,33,47,34],[47,35,47,36],[47,37,47,38],[47,39,47,40],[47,42,47,43],[47,45,47,46],[47,47,47,50],[47,2,47,4],[47,5,47,6],[47,7,47,8],[47,9,47,10],[47,11,47,12],[47,13,47,14],[47,16,47,17],[47,19,47,20],[47,21,47,24],[48,28,48,30],[48,31,48,32],[48,33,48,34],[48,35,48,36],[48,37,48,38],[48,39,48,40],[48,42,48,43],[48,45,48,46],[48,47,48,50],[48,2,48,4],[48,5,48,6],[48,7,48,8],[48,9,48,10],[48,11,48,12],[48,13,48,14],[48,16,48,17],[48,19,48,20],[48,21,48,24],[49,28,49,30],[49,31,49,32],[49,33,49,34],[49,35,49,36],[49,37,49,38],[49,39,49,40],[49,42,49,43],[49,45,49,46],[49,47,49,50],[49,2,49,4],[49,5,49,6],[49,7,49,8],[49,9,49,10],[49,11,49,12],[49,13,49,14],[49,16,49,17],[49,19,49,20],[49,21,49,24],[50,28,50,30],[50,31,50,32],[50,33,50,34],[50,35,50,36],[50,37,50,38],[50,39,50,40],[50,42,50,43],[50,45,50,46],[50,47,50,50],[50,2,50,4],[50,5,50,6],[50,7,50,8],[50,9,50,10],[50,11,50,12],[50,13,50,14],[50,16,50,17],[50,19,50,20],[50,21,50,24],[51,28,51,30],[51,31,51,32],[51,33,51,34],[51,35,51,36],[51,37,51,38],[51,39,51,40],[51,42,51,43],[51,45,51,46],[51,47,51,50],[51,2,51,4],[51,5,51,6],[51,7,51,8],[51,9,51,10],[51,11,51,12],[51,13,51,14],[51,16,51,17],[51,19,51,20],[51,21,51,24],[52,28,52,30],[52,31,52,32],[52,33,52,34],[52,35,52,36],[52,37,52,38],[52,39,52,40],[52,42,52,43],[52,45,52,46],[52,47,52,50],[52,2,52,4],[52,5,52,6],[52,7,52,8],[52,9,52,10],[52,11,52,12],[52,13,52,14],[52,16,52,17],[52,19,52,20],[52,21,52,24],[53,28,53,30],[53,31,53,32],[53,33,53,34],[53,35,53,36],[53,37,53,38],[53,39,53,40],[53,42,53,43],[53,45,53,46],[53,47,53,50],[53,2,53,4],[53,5,53,6],[53,7,53,8],[53,9,53,10],[53,11,53,12],[53,13,53,14],[53,16,53,17],[53,19,53,20],[53,21,53,24],[55,19,55,20],[55,21,55,24],[54,28,54,30],[54,31,54,32],[54,33,54,34],[54,35,54,36],[54,37,54,38],[54,39,54,40],[54,42,54,43],[54,45,54,46],[54,47,54,50],[54,2,54,4],[54,5,54,6],[54,7,54,8],[54,9,54,10],[54,11,54,12],[54,13,54,14],[54,16,54,17],[54,19,54,20],[54,21,54,24],[55,47,55,50],[55,45,55,46],[55,11,55,12],[55,13,55,14],[58,47,58,50],[58,2,58,4],[58,5,58,6],[58,7,58,8],[58,9,58,10],[58,11,58,12],[58,13,58,14],[58,16,58,17],[58,19,58,20],[58,21,58,24],[57,28,57,30],[57,31,57,32],[57,33,57,34],[57,35,57,36],[57,37,57,38],[57,39,57,40],[57,42,57,43],[57,45,57,46],[57,47,57,50],[57,2,57,4],[57,5,57,6],[57,7,57,8],[57,9,57,10],[57,11,57,12],[57,13,57,14],[57,16,57,17],[57,19,57,20],[57,21,57,24],[60,47,60,50],[60,2,60,4],[60,5,60,6],[60,7,60,8],[60,9,60,10],[60,11,60,12],[60,13,60,14],[60,16,60,17],[60,19,60,20],[60,21,60,24],[59,28,59,30],[59,31,59,32],[59,33,59,34],[59,35,59,36],[59,37,59,38],[59,39,59,40],[59,42,59,43],[59,45,59,46],[59,47,59,50],[59,2,59,4],[59,5,59,6],[59,7,59,8],[59,9,59,10],[59,11,59,12],[59,13,59,14],[59,16,59,17],[59,19,59,20],[59,21,59,24],[60,28,60,30],[60,31,60,32],[60,33,60,34],[60,35,60,36],[61,33,61,34],[61,35,61,36],[61,37,61,38],[61,39,61,40],[61,42,61,43],[61,45,61,46],[61,47,61,50],[61,2,61,4],[61,5,61,6],[61,7,61,8],[61,9,61,10],[61,11,61,12],[61,13,61,14],[61,16,61,17],[61,19,61,20],[61,21,61,24],[62,28,62,30],[62,31,62,32],[62,33,62,34],[62,35,62,36],[61,28,61,30],[61,31,61,32],[63,2,63,4],[63,5,63,6],[63,7,63,8],[63,9,63,10],[63,11,63,12],[63,13,63,14],[63,16,63,17],[63,19,63,20],[63,21,63,24],[64,45,64,46]],"merged_total":1121,"flags":["merged_cut"]}
["（別添３）利子補給金の交付の対象となる経費リスト",null,null,null,null,null,null,null,null,null,null,null,null,null,null,null,null,null,null,null,null,null,null,null,null,null,null,null,null,null,null,null,null,null,null,null,null,null,null,null,null,null,null,null,null,null,null,null,null,null,null,null,null,null,null,null,"非表示","非表示"]
[]
["（別添３）",null,null,null,null,null,null,null,null,null,null,null,null,null,null,null,null,null,null,null,null,null,null,null,null,null,{"$f":"A3","v":"（別添３）"},null,null,null,null,null,null,null,null,null,null,null,null,null,null,null,null,null,null,null,null,null,null,null,null,null,null,null,null,null,null,null,null,null,null,null,null,null,null,null,null,null,null,null,null,null,null,null,null,null,"非表示"]
["利子補給金の交付の対象となる経費リスト",null,null,null,null,null,null,null,null,null,null,null,null,null,null,null,null,null,"合計",{"$f":"IF(T9=\"\",\"\",SUM(T9:U68))","v":""},null,null,null,null,null,null,{"$f":"A4","v":"利子補給金の交付の対象となる経費リスト"},null,null,null,null,null,null,null,null,null,null,null,null,null,null,null,null,null,"合計","○○○,○○○"]
[]
[]
["No","対象\n要件","名称",null,null,"費用区分",null,"発注予定日",null,"支払予定日",null,"納入予定日",null,"型番",null,"耐用\n年数","単価",null,"個数\n（回数）","小計",null,"補足事項",null,null,null,null,{"$f":"A7","v":"No"},{"$f":"B7","v":"対象\n要件"},{"$f":"C7","v":"名称"},null,null,{"$f":"F7","v":"費用区分"},null,{"$f":"H7","v":"発注予定日"},null,{"$f":"J7","v":"支払予定日"},null,{"$f":"L7","v":"納入予定日"},null,{"$f":"N7","v":"型番"},null,{"$f":"P7","v":"耐用\n年数"},{"$f":"Q7","v":"単価"},null,{"$f":"S7","v":"個数\n（回数）"},{"$f":"T7","v":"小計"},null,{"$f":"V7","v":"補足事項"},null,null,null,null,null,null,null,null,"見込省エネ量"]
[null,null,null,null,null,null,null,null,null,null,null,null,null,null,null,null,null,null,null,null,null,null,null,null,null,null,null,null,null,null,null,null,null,null,null,null,null,null,null,null,null,null,null,null,null,null,null,null,null,null,null,null,null,null,null,null,null,null,null,null,null,null,null,null,null,null,null,null,null,null,null,null,null,null,null,null,{"$f":"COUNTIF(P9:P28,\"<>\")","v":0}]
[1,null,null,null,null,null,null,null,null,null,null,null,null,null,null,null,null,null,null,{"$f":"IF(S9=\"\",\"\",Q9*S9)","v":""},null,null,null,null,null,null,1,"（ア）","○○加工機",null,null,"設備費",null,"20○○/○/○",null,"20○○/○/○",null,"20○○/○/○",null,"○○‐○○",null,7,"○○○,○○○",null,2,"○○○,○○○",null,"見積書①参照",null,null,null,null,null,null,null,null,{"$f":"IFERROR(VLOOKUP(#REF!,見込み省エネルギー量!$B$2:$D$4,3,0),\"\")","v":""},null,null,null,null,null,null,null,null,null,null,null,null,null,null,null,null,null,null,null,{"$f":"IF(BY8=0,\"\",MAX(P9:P28))","v":""}]
[2,null,null,null,null,null,null,null,null,null,null,null,null,null,null,null,null,null,null,{"$f":"IF(S10=\"\",\"\",Q10*S10)","v":""},null,null,null,null,null,null,2,"（ア）","○○加工機",null,null,"工事費",null,"20○○/○/○",null,"20○○/○/○",null,"20○○/○/○",null,"-",null,"-","○○○,○○○",null,1,"○○○,○○○",null,"見積書①参照",null,null,null,null,null,null,null,null,{"$f":"IFERROR(VLOOKUP(#REF!,見込み省エネルギー量!$B$2:$D$4,3,0),\"\")","v":""}]
[3,null,null,null,null,null,null,null,null,null,null,null,null,null,null,null,null,null,null,"",null,null,null,null,null,null,3,"（ア）","○○エアコン",null,null,"設備費",null,"20○○/○/○",null,"20○○/○/○",null,"20○○/○/○",null,"○○‐○○",null,7,"○○○,○○○",null,5,"○○○,○○○",null,"見積書②参照",null,null,null,null,null,null,null,null,{"$f":"IFERROR(VLOOKUP(#REF!,見込み省エネルギー量!$B$2:$D$4,3,0),\"\")","v":""}]
[4,null,null,null,null,null,null,null,null,null,null,null,null,null,null,null,null,null,null,"",null,null,null,null,null,null,4,"（ア）","○○エアコン",null,null,"工事費",null,"20○○/○/○",null,"20○○/○/○",null,"20○○/○/○",null,"-",null,"-","○○○,○○○",null,1,"○○○,○○○",null,"見積書②参照",null,null,null,null,null,null,null,null,{"$f":"IFERROR(VLOOKUP(#REF!,見込み省エネルギー量!$B$2:$D$4,3,0),\"\")","v":""}]
[5,null,null,null,null,null,null,null,null,null,null,null,null,null,null,null,null,null,null,"",null,null,null,null,null,null,5,"（ア）","○○照明",null,null,"設備費",null,"20○○/○/○",null,"20○○/○/○",null,"20○○/○/○",null,"○○‐○○",null,5,"○○○,○○○",null,10,"○○○,○○○",null,"見積書③参照",null,null,null,null,null,null,null,null,{"$f":"IFERROR(VLOOKUP(#REF!,見込み省エネルギー量!$B$2:$D$4,3,0),\"\")","v":""}]
[6,null,null,null,null,null,null,null,null,null,null,null,null,null,null,null,null,null,null,"",null,null,null,null,null,null,6,"（ア）","○○照明",null,null,"設備費",null,"20○○/○/○",null,"20○○/○/○",null,"20○○/○/○",null,"○○‐○○",null,5,"○○○,○○○",null,10,"○○○,○○○",null,"見積書③参照",null,null,null,null,null,null,null,null,{"$f":"IFERROR(VLOOKUP(#REF!,見込み省エネルギー量!$B$2:$D$4,3,0),\"\")","v":""}]
[7,null,null,null,null,null,null,null,null,null,null,null,null,null,null,null,null,null,null,"",null,null,null,null,null,null,7,"（ア）","○○照明",null,null,"設備費",null,"20○○/○/○",null,"20○○/○/○",null,"20○○/○/○",null,"○○‐○○",null,5,"○○○,○○○",null,10,"○○○,○○○",null,"見積書③参照",null,null,null,null,null,null,null,null,{"$f":"IFERROR(VLOOKUP(#REF!,見込み省エネルギー量!$B$2:$D$4,3,0),\"\")","v":""}]
[8,null,null,null,null,null,null,null,null,null,null,null,null,null,null,null,null,null,null,"",null,null,null,null,null,null,8,"（ア）","○○照明",null,null,"工事費",null,"20○○/○/○",null,"20○○/○/○",null,"20○○/○/○",null,"-",null,"-","○○○,○○○",null,1,"○○○,○○○",null,"見積書③参照\n※NO,5～7の工事費合計",null,null,null,null,null,null,null,null,{"$f":"IFERROR(VLOOKUP(#REF!,見込み省エネルギー量!$B$2:$D$4,3,0),\"\")","v":""}]
[9,null,null,null,null,null,null,null,null,null,null,null,null,null,null,null,null,null,null,"",null,null,null,null,null,null,null,null,null,null,null,null,null,null,null,null,null,null,null,null,null,null,null,null,null,null,null,null,null,null,null,null,null,null,null,null,{"$f":"IFERROR(VLOOKUP(#REF!,見込み省エネルギー量!$B$2:$D$4,3,0),\"\")","v":""}]
[10,null,null,null,null,null,null,null,null,null,null,null,null,null,null,null,null,null,null,"",null,null,null,null,null,null,10,"（ア）","○○ポンプ",null,null,"設備費",null,"20○○/○/○",null,"20○○/○/○",null,"20○○/○/○",null,"○○‐○○",null,7,"○○○,○○○",null,5,"○○○,○○○",null,"見積書④参照",null,null,null,null,null,null,null,null,{"$f":"IFERROR(VLOOKUP(#REF!,見込み省エネルギー量!$B$2:$D$4,3,0),\"\")","v":""}]
[11,null,null,null,null,null,null,null,null,null,null,null,null,null,null,null,null,null,null,"",null,null,null,null,null,null,11,"（ア）","○○ポンプ",null,null,"工事費",null,"20○○/○/○",null,"20○○/○/○",null,"20○○/○/○",null,"-",null,"-","○○○,○○○",null,1,"○○○,○○○",null,"見積書④参照",null,null,null,null,null,null,null,null,{"$f":"IFERROR(VLOOKUP(#REF!,見込み省エネルギー量!$B$2:$D$4,3,0),\"\")","v":""}]
[12,null,null,null,null,null,null,null,null,null,null,null,null,null,null,null,null,null,null,"",null,null,null,null,null,null,12,null,null,null,null,null,null,null,null,null,null,null,null,null,null,null,null,null,null,{"$f":"IF(AQ20=\"\",\"\",AQ20*AS20)","v":""},null,null,null,null,null,null,null,null,null,null,{"$f":"IFERROR(VLOOKUP(#REF!,見込み省エネルギー量!$B$2:$D$4,3,0),\"\")","v":""}]
[13,null,null,null,null,null,null,null,null,null,null,null,null,null,null,null,null,null,null,"",null,null,null,null,null,null,13,null,null,null,null,null,null,null,null,null,null,null,null,null,null,null,null,null,null,"",null,null,null,null,null,null,null,null,null,null,{"$f":"IFERROR(VLOOKUP(#REF!,見込み省エネルギー量!$B$2:$D$4,3,0),\"\")","v":""}]
[14,null,null,null,null,null,null,null,null,null,null,null,null,null,null,null,null,null,null,"",null,null,null,null,null,null,14,null,null,null,null,null,null,null,null,null,null,null,null,null,null,null,null,null,null,"",null,null,null,null,null,null,null,null,null,null,{"$f":"IFERROR(VLOOKUP(#REF!,見込み省エネルギー量!$B$2:$D$4,3,0),\"\")","v":""}]
[15,null,null,null,null,null,null,null,null,null,null,null,null,null,null,null,null,null,null,"",null,null,null,null,null,null,15,null,null,null,null,null,null,null,null,null,null,null,null,null,null,null,null,null,null,"",null,null,null,null,null,null,null,null,null,null,{"$f":"IFERROR(VLOOKUP(#REF!,見込み省エネルギー量!$B$2:$D$4,3,0),\"\")","v":""}]
[16,null,null,null,null,null,null,null,null,null,null,null,null,null,null,null,null,null,null,"",null,null,null,null,null,null,16,null,null,null,null,null,null,null,null,null,null,null,null,null,null,null,null,null,null,"",null,null,null,null,null,null,null,null,null,null,{"$f":"IFERROR(VLOOKUP(#REF!,見込み省エネルギー量!$B$2:$D$4,3,0),\"\")","v":""}]
[17,null,null,null,null,null,null,null,null,null,null,null,null,null,null,null,null,null,null,"",null,null,null,null,null,null,17,null,null,null,null,null,null,null,null,null,null,null,null,null,null,null,null,null,null,"",null,null,null,null,null,null,null,null,null,null,{"$f":"IFERROR(VLOOKUP(#REF!,見込み省エネルギー量!$B$2:$D$4,3,0),\"\")","v":""}]
[18,null,null,null,null,null,null,null,null,null,null,null,null,null,null,null,null,null,null,"",null,null,null,null,null,null,18,null,null,null,null,null,null,null,null,null,null,null,null,null,null,null,null,null,null,"",null,null,null,null,null,null,null,null,null,null,{"$f":"IFERROR(VLOOKUP(#REF!,見込み省エネルギー量!$B$2:$D$4,3,0),\"\")","v":""}]
[19,null,null,null,null,null,null,null,null,null,null,null,null,null,null,null,null,null,null,"",null,null,null,null,null,null,19,null,null,null,null,null,null,null,null,null,null,null,null,null,null,null,null,null,null,"",null,null,null,null,null,null,null,null,null,null,{"$f":"IFERROR(VLOOKUP(#REF!,見込み省エネルギー量!$B$2:$D$4,3,0),\"\")","v":""}]
[20,null,null,null,null,null,null,null,null,null,null,null,null,null,null,null,null,null,null,"",null,null,null,null,null,null,20,null,null,null,null,null,null,null,null,null,null,null,null,null,null,null,null,null,null,"",null,null,null,null,null,null,null,null,null,null,{"$f":"IFERROR(VLOOKUP(#REF!,見込み省エネルギー量!$B$2:$D$4,3,0),\"\")","v":""}]
[21,null,null,null,null,null,null,null,null,null,null,null,null,null,null,null,null,null,null,"",null,null,null,null,null,null,21,null,null,null,null,null,null,null,null,null,null,null,null,null,null,null,null,null,null,null,null,null,null,null,null,null,null,null,null,null,{"$f":"IFERROR(VLOOKUP(#REF!,見込み省エネルギー量!$B$2:$D$4,3,0),\"\")","v":""},null,null,null,null,null,null,null,null,null,null,null,null,null,null,null,null,null,null,null,{"$f":"IF(BY28=0,\"\",MAX(P29:P47))","v":""}]
[22,null,null,null,null,null,null,null,null,null,null,null,null,null,null,null,null,null,null,"",null,null,null,null,null,null,22,null,null,null,null,null,null,null,null,null,null,null,null,null,null,null,null,null,null,null,null,null,null,null,null,null,null,null,null,null,{"$f":"IFERROR(VLOOKUP(#REF!,見込み省エネルギー量!$B$2:$D$4,3,0),\"\")","v":""}]
[23,null,null,null,null,null,null,null,null,null,null,null,null,null,null,null,null,null,null,"",null,null,null,null,null,null,23,null,null,null,null,null,null,null,null,null,null,null,null,null,null,null,null,null,null,null,null,null,null,null,null,null,null,null,null,null,{"$f":"IFERROR(VLOOKUP(#REF!,見込み省エネルギー量!$B$2:$D$4,3,0),\"\")","v":""}]
[24,null,null,null,null,null,null,null,null,null,null,null,null,null,null,null,null,null,null,"",null,null,null,null,null,null,24,null,null,null,null,null,null,null,null,null,null,null,null,null,null,null,null,null,null,null,null,null,null,null,null,null,null,null,null,null,{"$f":"IFERROR(VLOOKUP(#REF!,見込み省エネルギー量!$B$2:$D$4,3,0),\"\")","v":""}]
[25,null,null,null,null,null,null,null,null,null,null,null,null,null,null,null,null,null,null,"",null,null,null,null,null,null,25,null,null,null,null,null,null,null,null,null,null,null,null,null,null,null,null,null,null,null,null,null,null,null,null,null,null,null,null,null,{"$f":"IFERROR(VLOOKUP(#REF!,見込み省エネルギー量!$B$2:$D$4,3,0),\"\")","v":""}]
[26,null,null,null,null,null,null,null,null,null,null,null,null,null,null,null,null,null,null,"",null,null,null,null,null,null,26,null,null,null,null,null,null,null,null,null,null,null,null,null,null,null,null,null,null,null,null,null,null,null,null,null,null,null,null,null,{"$f":"IFERROR(VLOOKUP(#REF!,見込み省エネルギー量!$B$2:$D$4,3,0),\"\")","v":""}]
[27,null,null,null,null,null,null,null,null,null,null,null,null,null,null,null,null,null,null,"",null,null,null,null,null,null,27,null,null,null,null,null,null,null,null,null,null,null,null,null,null,null,null,null,null,null,null,null,null,null,null,null,null,null,null,null,{"$f":"IFERROR(VLOOKUP(#REF!,見込み省エネルギー量!$B$2:$D$4,3,0),\"\")","v":""}]
[28,null,null,null,null,null,null,null,null,null,null,null,null,null,null,null,null,null,null,"",null,null,null,null,null,null,28,null,null,null,null,null,null,null,null,null,null,null,null,null,null,null,null,null,null,null,null,null,null,null,null,null,null,null,null,null,{"$f":"IFERROR(VLOOKUP(#REF!,見込み省エネルギー量!$B$2:$D$4,3,0),\"\")","v":""}]
[29,null,null,null,null,null,null,null,null,null,null,null,null,null,null,null,null,null,null,"",null,null,null,null,null,null,29,null,null,null,null,null,null,null,null,null,null,null,null,null,null,null,null,null,null,{"$f":"IF(AQ37=\"\",\"\",AQ37*AS37)","v":""},null,null,null,null,null,null,null,null,null,null,{"$f":"IFERROR(VLOOKUP(#REF!,見込み省エネルギー量!$B$2:$D$4,3,0),\"\")","v":""}]
[30,null,null,null,null,null,null,null,null,null,null,null,null,null,null,null,null,null,null,"",null,null,null,null,null,null,30,null,null,null,null,null,null,null,null,null,null,null,null,null,null,null,null,null,null,"",null,null,null,null,null,null,null,null,null,null,{"$f":"IFERROR(VLOOKUP(#REF!,見込み省エネルギー量!$B$2:$D$4,3,0),\"\")","v":""}]
[31,null,null,null,null,null,null,null,null,null,null,null,null,null,null,null,null,null,null,"",null,null,null,null,null,null,31,null,null,null,null,null,null,null,null,null,null,null,null,null,null,null,null,null,null,"",null,null,null,null,null,null,null,null,null,null,{"$f":"IFERROR(VLOOKUP(#REF!,見込み省エネルギー量!$B$2:$D$4,3,0),\"\")","v":""}]
[32,null,null,null,null,null,null,null,null,null,null,null,null,null,null,null,null,null,null,"",null,null,null,null,null,null,32,null,null,null,null,null,null,null,null,null,null,null,null,null,null,null,null,null,null,"",null,null,null,null,null,null,null,null,null,null,{"$f":"IFERROR(VLOOKUP(#REF!,見込み省エネルギー量!$B$2:$D$4,3,0),\"\")","v":""}]
[33,null,null,null,null,null,null,null,null,null,null,null,null,null,null,null,null,null,null,"",null,null,null,null,null,null,33,null,null,null,null,null,null,null,null,null,null,null,null,null,null,null,null,null,null,"",null,null,null,null,null,null,null,null,null,null,{"$f":"IFERROR(VLOOKUP(#REF!,見込み省エネルギー量!$B$2:$D$4,3,0),\"\")","v":""}]
[34,null,null,null,null,null,null,null,null,null,null,null,null,null,null,null,null,null,null,"",null,null,null,null,null,null,34,null,null,null,null,null,null,null,null,null,null,null,null,null,null,null,null,null,null,"",null,null,null,null,null,null,null,null,null,null,{"$f":"IFERROR(VLOOKUP(#REF!,見込み省エネルギー量!$B$2:$D$4,3,0),\"\")","v":""}]
[35,null,null,null,null,null,null,null,null,null,null,null,null,null,null,null,null,null,null,"",null,null,null,null,null,null,35,null,null,null,null,null,null,null,null,null,null,null,null,null,null,null,null,null,null,"",null,null,null,null,null,null,null,null,null,null,{"$f":"IFERROR(VLOOKUP(#REF!,見込み省エネルギー量!$B$2:$D$4,3,0),\"\")","v":""}]
[36,null,null,null,null,null,null,null,null,null,null,null,null,null,null,null,null,null,null,"",null,null,null,null,null,null,36,null,null,null,null,null,null,null,null,null,null,null,null,null,null,null,null,null,null,"",null,null,null,null,null,null,null,null,null,null,{"$f":"IFERROR(VLOOKUP(#REF!,見込み省エネルギー量!$B$2:$D$4,3,0),\"\")","v":""}]
[37,null,null,null,null,null,null,null,null,null,null,null,null,null,null,null,null,null,null,"",null,null,null,null,null,null,37,null,null,null,null,null,null,null,null,null,null,null,null,null,null,null,null,null,null,"",null,null,null,null,null,null,null,null,null,null,{"$f":"IFERROR(VLOOKUP(#REF!,見込み省エネルギー量!$B$2:$D$4,3,0),\"\")","v":""}]
[38,null,null,null,null,null,null,null,null,null,null,null,null,null,null,null,null,null,null,"",null,null,null,null,null,null,38,null,null,null,null,null,null,null,null,null,null,null,null,null,null,null,null,null,null,"",null,null,null,null,null,null,null,null,null,null,{"$f":"IFERROR(VLOOKUP(#REF!,見込み省エネルギー量!$B$2:$D$4,3,0),\"\")","v":""}]
[39,null,null,null,null,null,null,null,null,null,null,null,null,null,null,null,null,null,null,"",null,null,null,null,null,null,39,null,null,null,null,null,null,null,null,null,null,null,null,null,null,null,null,null,null,"",null,null,null,null,null,null,null,null,null,null,{"$f":"IFERROR(VLOOKUP(#REF!,見込み省エネルギー量!$B$2:$D$4,3,0),\"\")","v":""}]
[40,null,null,null,null,null,null,null,null,null,null,null,null,null,null,null,null,null,null,"",null,null,null,null,null,null,40,null,null,null,null,null,null,null,null,null,null,null,null,null,null,null,null,null,null,"",null,null,null,null,null,null,null,null,null,null,{"$f":"IFERROR(VLOOKUP(#REF!,見込み省エネルギー量!$B$2:$D$4,3,0),\"\")","v":""}]
[41,null,null,null,null,null,null,null,null,null,null,null,null,null,null,null,null,null,null,"",null,null,null,null,null,null,41,null,null,null,null,null,null,null,null,null,null,null,null,null,null,null,null,null,null,null,null,null,null,null,null,null,null,null,null,null,{"$f":"IFERROR(VLOOKUP(#REF!,見込み省エネルギー量!$B$2:$D$4,3,0),\"\")","v":""},null,null,null,null,null,null,null,null,null,null,null,null,null,null,null,null,null,null,null,{"$f":"IF(BY48=0,\"\",MAX(P49:P68))","v":""}]
[42,null,null,null,null,null,null,null,null,null,null,null,null,null,null,null,null,null,null,"",null,null,null,null,null,null,42,null,null,null,null,null,null,null,null,null,null,null,null,null,null,null,null,null,null,null,null,null,null,null,null,null,null,null,null,null,{"$f":"IFERROR(VLOOKUP(#REF!,見込み省エネルギー量!$B$2:$D$4,3,0),\"\")","v":""}]
[43,null,null,null,null,null,null,null,null,null,null,null,null,null,null,null,null,null,null,"",null,null,null,null,null,null,43,null,null,null,null,null,null,null,null,null,null,null,null,null,null,null,null,null,null,null,null,null,null,null,null,null,null,null,null,null,{"$f":"IFERROR(VLOOKUP(#REF!,見込み省エネルギー量!$B$2:$D$4,3,0),\"\")","v":""}]
[44,null,null,null,null,null,null,null,null,null,null,null,null,null,null,null,null,null,null,"",null,null,null,null,null,null,44,null,null,null,null,null,null,null,null,null,null,null,null,null,null,null,null,null,null,null,null,null,null,null,null,null,null,null,null,null,{"$f":"IFERROR(VLOOKUP(#REF!,見込み省エネルギー量!$B$2:$D$4,3,0),\"\")","v":""}]
[45,null,null,null,null,null,null,null,null,null,null,null,null,null,null,null,null,null,null,"",null,null,null,null,null,null,45,null,null,null,null,null,null,null,null,null,null,null,null,null,null,null,null,null,null,null,null,null,null,null,null,null,null,null,null,null,{"$f":"IFERROR(VLOOKUP(#REF!,見込み省エネルギー量!$B$2:$D$4,3,0),\"\")","v":""}]
[46,null,null,null,null,null,null,null,null,null,null,null,null,null,null,null,null,null,null,"",null,null,null,null,null,null,46,null,null,null,null,null,null,null,null,null,null,null,null,null,null,null,null,null,null,null,null,null,null,null,null,null,null,null,null,null,{"$f":"IFERROR(VLOOKUP(#REF!,見込み省エネルギー量!$B$2:$D$4,3,0),\"\")","v":""}]
[47,null,null,null,null,null,null,null,null,null,null,null,null,null,null,null,null,null,null,"",null,null,null,null,null,null,47,null,null,null,null,null,null,null,null,null,null,null,null,null,null,null,null,null,null,null,null,null,null,null,null,null,null,null,null,null,{"$f":"IFERROR(VLOOKUP(#REF!,見込み省エネルギー量!$B$2:$D$4,3,0),\"\")","v":""}]
[48,null,null,null,null,null,null,null,null,null,null,null,null,null,null,null,null,null,null,"",null,null,null,null,null,null,48,null,null,null,null,null,null,null,null,null,null,null,null,null,null,null,null,null,null,null,null,null,null,null,null,null,null,null,null,null,{"$f":"IFERROR(VLOOKUP(#REF!,見込み省エネルギー量!$B$2:$D$4,3,0),\"\")","v":""}]
[49,null,null,null,null,null,null,null,null,null,null,null,null,null,null,null,null,null,null,"",null,null,null,null,null,null,49,null,null,null,null,null,null,null,null,null,null,null,null,null,null,null,null,null,null,null,null,null,null,null,null,null,null,null,null,null,{"$f":"IFERROR(VLOOKUP(#REF!,見込み省エネルギー量!$B$2:$D$4,3,0),\"\")","v":""}]
[50,null,null,null,null,null,null,null,null,null,null,null,null,null,null,null,null,null,null,"",null,null,null,null,null,null,50,null,null,null,null,null,null,null,null,null,null,null,null,null,null,null,null,null,null,null,null,null,null,null,null,null,null,null,null,null,{"$f":"IFERROR(VLOOKUP(#REF!,見込み省エネルギー量!$B$2:$D$4,3,0),\"\")","v":""}]
[51,null,null,null,null,null,null,null,null,null,null,null,null,null,null,null,null,null,null,"",null,null,null,null,null,null,51,null,null,null,null,null,null,null,null,null,null,null,null,null,null,null,null,null,null,{"$f":"IF(AQ59=\"\",\"\",AQ59*AS59)","v":""},null,null,null,null,null,null,null,null,null,null,{"$f":"IFERROR(VLOOKUP(#REF!,見込み省エネルギー量!$B$2:$D$4,3,0),\"\")","v":""}]
[52,null,null,null,null,null,null,null,null,null,null,null,null,null,null,null,null,null,null,"",null,null,null,null,null,null,52,null,null,null,null,null,null,null,null,null,null,null,null,null,null,null,null,null,null,"",null,null,null,null,null,null,null,null,null,null,{"$f":"IFERROR(VLOOKUP(#REF!,見込み省エネルギー量!$B$2:$D$4,3,0),\"\")","v":""}]
[53,null,null,null,null,null,null,null,null,null,null,null,null,null,null,null,null,null,null,"",null,null,null,null,null,null,53,null,null,null,null,null,null,null,null,null,null,null,null,null,null,null,null,null,null,"",null,null,null,null,null,null,null,null,null,null,{"$f":"IFERROR(VLOOKUP(#REF!,見込み省エネルギー量!$B$2:$D$4,3,0),\"\")","v":""}]
[54,null,null,null,null,null,null,null,null,null,null,null,null,null,null,null,null,null,null,"",null,null,null,null,null,null,54,null,null,null,null,null,null,null,null,null,null,null,null,null,null,null,null,null,null,"",null,null,null,null,null,null,null,null,null,null,{"$f":"IFERROR(VLOOKUP(#REF!,見込み省エネルギー量!$B$2:$D$4,3,0),\"\")","v":""}]
[55,null,null,null,null,null,null,null,null,null,null,null,null,null,null,null,null,null,null,"",null,null,null,null,null,null,55,null,null,null,null,null,null,null,null,null,null,null,null,null,null,null,null,null,null,"",null,null,null,null,null,null,null,null,null,null,{"$f":"IFERROR(VLOOKUP(#REF!,見込み省エネルギー量!$B$2:$D$4,3,0),\"\")","v":""}]
[56,null,null,null,null,null,null,null,null,null,null,null,null,null,null,null,null,null,null,"",null,null,null,null,null,null,56,null,null,null,null,null,null,null,null,null,null,null,null,null,null,null,null,null,null,"",null,null,null,null,null,null,null,null,null,null,{"$f":"IFERROR(VLOOKUP(#REF!,見込み省エネルギー量!$B$2:$D$4,3,0),\"\")","v":""}]
[57,null,null,null,null,null,null,null,null,null,null,null,null,null,null,null,null,null,null,"",null,null,null,null,null,null,57,null,null,null,null,null,null,null,null,null,null,null,null,null,null,null,null,null,null,"",null,null,null,null,null,null,null,null,null,null,{"$f":"IFERROR(VLOOKUP(#REF!,見込み省エネルギー量!$B$2:$D$4,3,0),\"\")","v":""}]
[58,null,null,null,null,null,null,null,null,null,null,null,null,null,null,null,null,null,null,"",null,null,null,null,null,null,58,null,null,null,null,null,null,null,null,null,null,null,null,null,null,null,null,null,null,"",null,null,null,null,null,null,null,null,null,null,{"$f":"IFERROR(VLOOKUP(#REF!,見込み省エネルギー量!$B$2:$D$4,3,0),\"\")","v":""}]
[59,null,null,null,null,null,null,null,null,null,null,null,null,null,null,null,null,null,null,"",null,null,null,null,null,null,59,null,null,null,null,null,null,null,null,null,null,null,null,null,null,null,null,null,null,null,null,null,null,null,null,null,null,null,null,null,{"$f":"IFERROR(VLOOKUP(#REF!,見込み省エネルギー量!$B$2:$D$4,3,0),\"\")","v":""}]
[60,null,null,null,null,null,null,null,null,null,null,null,null,null,null,null,null,null,null,"",null,null,null,null,null,null,60,null,null,null,null,null,null,null,null,null,null,null,null,null,null,null,null,null,null,{"$f":"IF(AQ68=\"\",\"\",AQ68*AS68)","v":""},null,null,null,null,null,null,null,null,null,null,{"$f":"IFERROR(VLOOKUP(#REF!,見込み省エネルギー量!$B$2:$D$4,3,0),\"\")","v":""}]
[]
[]
["対象要件",null,null,"内容",null,null,null,null,null,null,null,null,null,null,null,null,null,null,null,null,null,null,null,null,null,null,"対象要件",null,null,"内容"]
["（ア）",null,null,"エネルギー消費効率が高い省エネルギー設備を新設、又は増設する事業。",null,null,null,null,null,null,null,null,null,null,null,null,null,null,null,null,null,null,null,null,null,null,"（ア）",null,null,"エネルギー消費効率が高い省エネルギー設備を新設、又は増設する事業。"]
[]
["（イ）",null,null,"省エネルギー設備等を新設、又は増設し、工場・事業場全体におけるエネルギー消費原単位が１％以上改善される事業。",null,null,null,null,null,null,null,null,null,null,null,null,null,null,null,null,null,null,null,null,null,null,"（イ）",null,null,"省エネルギー設備等を新設、又は増設し、工場・事業場全体におけるエネルギー消費原単位が１％以上改善される事業。"]
[]
["（ウ）",null,null,"データセンターのクラウドサービス活用やＥＭＳの導入等による省エネルギー取組に関する事業。",null,null,null,null,null,null,null,null,null,null,null,null,null,null,null,null,null,null,null,null,null,null,"（ウ）",null,null,"データセンターのクラウドサービス活用やＥＭＳの導入等による省エネルギー取組に関する事業。"]
[]
[]
["費用区分",null,null,"内容",null,null,null,null,null,null,null,null,null,null,null,null,null,null,null,null,null,null,null,null,null,null,"費用区分",null,null,"内容"]
["設計費",null,null,"省エネルギー設備等の導入に必要な機械装置の設計費、システム設計費等。",null,null,null,null,null,null,null,null,null,null,null,null,null,null,null,null,null,null,null,null,null,null,"設計費",null,null,"省エネルギー設備等の導入に必要な機械装置の設計費、システム設計費等。"]
[]
["設備費",null,null,"省エネルギー設備等の購入に必要な経費。",null,null,null,null,null,null,null,null,null,null,null,null,null,null,null,null,null,null,null,null,null,null,"設備費",null,null,"省エネルギー設備等の購入に必要な経費。"]
[]
["工事費",null,null,"省エネルギー設備等の導入に不可欠な工事に要する経費。\n※工事実施に伴う工事用図面等の経費は、設計費に含めず、工事費に含めること。",null,null,null,null,null,null,null,null,null,null,null,null,null,null,null,null,null,null,null,null,null,null,"工事費",null,null,"省エネルギー設備等の導入に不可欠な工事に要する経費。\n※工事実施に伴う工事用図面等の経費は、設計費に含めず、工事費に含めること。"]

{"sheet":"（別添４）エネルギー消費効率の根拠（要件ア）入力例","index":15,"n_rows":42,"n_cols":35,"rows_kept":42,"cut":false,"hidden":false,"merged":[[28,5,28,6],[30,3,31,3],[30,4,31,4],[30,5,31,6],[32,3,32,6],[33,4,33,6],[34,4,34,6],[20,3,20,6],[21,3,21,6],[22,3,22,4],[22,5,22,6],[23,3,23,4],[23,5,23,6],[24,3,24,4],[24,5,24,6],[27,5,27,6],[27,18,27,19],[27,20,27,21],[23,8,23,9],[23,10,23,11],[24,8,24,9],[24,10,24,11],[34,9,34,11],[23,18,23,19],[28,18,28,19],[28,20,28,21],[30,18,31,18],[30,19,31,19],[30,20,31,21],[32,18,32,21],[33,19,33,21],[34,19,34,21],[25,10,25,11],[27,8,27,9],[27,10,27,11],[30,8,31,8],[30,9,31,9],[30,10,31,11],[33,9,33,11],[33,14,33,16],[33,32,33,34],[34,32,34,34],[24,31,24,32],[24,33,24,34],[25,31,25,32],[25,33,25,34],[27,31,27,32],[27,33,27,34],[28,31,28,32],[28,33,28,34],[30,31,31,31],[30,32,31,32],[30,33,31,34],[27,24,27,25],[25,27,25,28],[32,27,32,30],[27,22,27,23],[27,13,27,14],[17,31,17,34],[18,31,18,34],[19,31,19,34],[20,31,20,34],[21,31,21,34],[22,31,22,32],[22,33,22,34],[23,31,23,32],[23,33,23,34],[25,22,25,23],[25,24,25,25],[18,27,18,30],[19,27,19,30],[20,27,20,30],[21,27,21,30],[25,29,25,30],[22,29,22,30],[32,31,32,34],[22,18,22,19],[17,27,17,30],[14,22,14,25],[16,22,16,25],[17,22,17,25],[14,13,14,16],[16,13,16,16],[17,13,17,16],[14,31,14,34],[15,31,15,34],[15,22,15,25],[15,13,15,16],[15,27,15,30],[14,27,14,30],[16,31,16,34],[16,27,16,30],[23,27,23,28],[23,29,23,30],[22,27,22,28],[25,15,25,16],[19,8,19,11],[20,8,20,11],[21,8,21,11],[22,8,22,9],[22,10,22,11],[24,27,24,28],[24,29,24,30],[22,20,22,21],[23,20,23,21],[24,18,24,19],[24,20,24,21],[25,18,25,19],[25,20,25,21],[25,13,25,14],[15,0,15,2],[14,8,14,11],[14,0,14,2],[16,8,16,11],[18,1,18,2],[19,1,19,2],[20,1,20,2],[16,0,34,0],[16,1,16,2],[17,1,17,2],[30,1,33,1],[30,2,31,2],[21,1,21,2],[22,1,29,1],[14,3,14,6],[15,3,15,6],[16,3,16,6],[15,8,15,11],[25,3,25,4],[25,5,25,6],[27,3,27,4],[17,3,17,6],[19,3,19,6],[28,3,28,4],[34,14,34,16],[28,15,28,16],[32,22,32,25],[17,8,17,11],[14,18,14,21],[15,18,15,21],[16,18,16,21],[17,18,17,21],[19,18,19,21],[20,18,20,21],[21,18,21,21],[27,15,27,16],[28,13,28,14],[25,8,25,9],[19,13,19,16],[20,13,20,16],[21,13,21,16],[22,13,22,14],[22,15,22,16],[23,13,23,14],[23,15,23,16],[24,13,24,14],[24,15,24,16],[28,10,28,11],[28,22,28,23],[28,24,28,25],[30,22,31,22],[30,23,31,23],[30,24,31,25],[32,8,32,11],[30,13,31,13],[30,14,31,14],[30,15,31,16],[32,13,32,16],[35,0,39,6],[41,0,47,6],[0,0,2,2],[27,29,27,30],[28,27,28,28],[28,29,28,30],[19,22,19,25],[20,22,20,25],[21,22,21,25],[22,22,22,23],[22,24,22,25],[23,22,23,23],[23,24,23,25],[24,22,24,23],[24,24,24,25],[27,27,27,28],[34,28,34,30],[33,28,33,30],[30,27,31,27],[30,28,31,28],[30,29,31,30],[33,23,33,25],[34,23,34,25],[28,8,28,9]]}
["（別添４）エネルギー消費効率の根拠\n（要件ア）入力例"]
[]
[]
[]
[]
[]
[]
[]
[]
[]
[]
[]
[]
[]
["申請設備ごとの入力例",null,null,"トップランナー基準を満たす設備の入力例",null,null,null,null,"トップランナー基準を満たすエアコンディショナー、\n産業用モータ、照明器具、変圧器の入力例",null,null,null,null,"省エネ補助金で登録済みの（高効率空調\n（電気式パッケージエアコン、ガスヒートポンプエアコン、\nチリングユニット)、産業用モータ、照明器具、変圧器）の\n入力例（省エネ量計算ツールを使用）",null,null,null,null,"一代前モデルと比較してエネルギー消費効率が高い設備の入力例",null,null,null,"省エネ補助金で登録済みの\n生産設備の入力例　（ 製品情報証明書を利用 ）",null,null,null,null,"　　同じ設備種類が多数ある場合や、様式が不足する場合の入力例",null,null,null,"非化石エネルギーを使用する設備の場合の入力例"]
["No",null,null,1,null,null,null,null,2,null,null,null,null,3,null,null,null,null,4,null,null,null,5,null,null,null,null,6,null,null,null,7]
["エ\nネ\nル\nギ\n|\n消\n費\n効\n率\nの\n改\n善\nに\nつ\nい\nて\nの\n根\n拠","トップランナー基準",null,"トップランナー基準を満たす設備の導入",null,null,null,null,"トップランナー基準を満たす設備の導入",null,null,null,null,"トップランナー基準を満たす設備の導入",null,null,null,null,"トップランナー対象範囲外でエネルギー消費効率が高い設備の導入",null,null,null,"トップランナー対象範囲外でエネルギー消費効率が高い設備の導入",null,null,null,null,"別紙参照",null,null,null,"トップランナー基準に該当しない設備で、エネルギー消費効率が高い設備の導入"]
[null,"トップランナー基準の区分名又は数値",null,"2A　冷凍冷蔵庫　縦型",null,null,null,null,"油入変圧器　三相　５０ヘルツ　○○ＫＶＡ　○○W",null,null,null,null,"区分名af　4.8"]
[null,"トップランナー基準の数値（導入設備）",null,"○○ｋｗh/年",null,null,null,null,"○○W",null,null,null,null,"導入設備　5.4"]
[null,"比較指標/トップランナー基準\n（基準エネルギー消費効率又はその算定式）",null,"基準エネルギー消費効率",null,null,null,null,"基準エネルギー消費効率",null,null,null,null,"基準エネルギー消費効率",null,null,null,null,"１サイクルあたりの電力使用量",null,null,null,"１サイクルあたりの電力使用量",null,null,null,null,null,null,null,null,"年間稼働時間当たりの燃料消費量"]
[null,"省エネ計算の裏付け資料\n（根拠情報記載箇所）",null,"カタログの51ページ\n追加資料「〇〇一覧表」",null,null,null,null,"カタログの8ページ\n省エネ計算ツール",null,null,null,null,"省エネ補助金における指定設備\n省エネ計算ツール",null,null,null,null,"追加資料「〇〇一覧表」",null,null,null,"製品情報証明書",null,null,null,null,null,null,null,null,"仕様書の２０ページ"]
[null,"省エネ要因",null,"エネルギー消費効率の改善。",null,null,null,null,"エネルギー消費効率の改善。",null,null,null,null,"エネルギー消費効率の改善。",null,null,null,null,"パワーセーブ機能が搭載されたことにより、工具交換時等の機械停止時の消費電力量を削減。",null,null,null,"省エネモーターの採用による加工サイクルタイム短縮を実現。",null,null,null,null,null,null,null,null,"水素を混焼させることで、従来よりも燃料消費量を削減可能となったため。"]
[null,"年間\nエネルギー使用量",null,"導入設備",null,"一代前モデル",null,null,"導入設備",null,"一代前モデル",null,null,"導入設備",null,"一代前モデル",null,null,"導入設備",null,"一代前モデル",null,"導入設備",null,"一代前モデル",null,null,"導入設備",null,"一代前モデル",null,"導入設備",null,"一代前モデル"]
[null,null,"製品名","冷凍冷蔵庫",null,"冷凍冷蔵庫",null,null,"○○変圧器",null,null,null,null,"〇〇エアコン",null,null,null,null,"〇〇加工機",null,"〇〇加工機",null,"〇〇マシニングセンタ",null,"〇〇マシニングセンタ",null,null,"照明器具",null,"照明器具",null,"ガスタービンコージェネレーションシステム",null,"蒸気タービンコージェネレーションシステム"]
[null,null,"製造メーカー","株式会社○○",null,"株式会社○○",null,null,"株式会社○○",null,null,null,null,"株式会社〇〇〇〇",null,null,null,null,"株式会社〇〇〇",null,"株式会社〇〇〇",null,"株式会社〇〇〇",null,"株式会社〇〇〇",null,null,"別紙参照",null,"別紙参照",null,"○○株式会社",null,"○○株式会社"]
[null,null,"型番","〇〇 - 〇〇",null,"〇〇 - 〇〇",null,null,"〇〇 - 〇〇",null,null,null,null,"〇〇 - 〇〇",null,null,null,null,"〇〇 - 〇〇",null,"〇〇 - 〇〇",null,"〇〇 - 〇〇",null,"〇〇 - 〇〇",null,null,"別紙参照",null,"別紙参照",null,"〇〇 - 〇〇",null,"〇〇 - 〇〇"]
[null,null,"導入台数",4,"台",4,"台",null,1,"台",null,"台",null,3,"台",null,"台",null,2,"台",2,"台",3,"台",3,"台",null,10,"台",10,"台",1,"台",1,"台"]
[null,null,"1台あたりの\n使用エネルギー","年間電力使用量：1510kWh",null,"年間電力使用量：1650kWh",null,null,null,null,null,null,null,null,null,null,null,null,"○○製品を加工する際の1サイクルあたりの電力使用量：20.2kWh",null,"○○製品を加工する際の1サイクルあたりの電力使用量：28.7kWh",null,"1サイクルあたりの電力使用量：0.875kWh",null,"1サイクルあたりの電力使用量：0.967kWh",null,null,"別紙参照",null,"別紙参照",null,"ガスタービン設備(○○MW)\n排熱回収ボイラ設備 ○○t/h供給",null,"石炭焚ボイラ:○○t/h×○○MPa級\n+蒸気タービン:○○kW抽気(○○MPa)\n復水タービンシステム\n燃料消費量　○○t/h(輸入一般炭) "]
[null,null,"年間\nエネルギー使用量\n計算式","導入設備の年間電力使用量[kWh] × 導入台数　4台 ＝ 年間エネルギー使用量[kWh]\n\n年間エネルギー使用量：6,040ｋｗｈ/年",null,"一代前モデルの年間電力使用量[kWh] × 導入台数　4台 ＝ 年間エネルギー使用量[kWh]\n\n年間エネルギー使用量：6,600kwh/年",null,null,null,null,null,null,null,null,null,null,null,null,"年間の想定サイクル数を200回として以下の式に代入し、年間エネルギー使用量[kWh/年]を算出。\n\n導入設備の1サイクルあたりの電力使用量[kWh] × 年間想定サイクル数 × 導入台数　2台 ＝ 年間エネルギー使用量[kWh/年]\n\n年間エネルギー使用量：8,080kWh/年",null,"年間の想定サイクル数を200回として以下の式に代入し、年間エネルギー使用量[kWh/年]を算出。\n\n一代前モデルの1サイクルあたりの電力使用量[kWh] × 年間想定サイクル数 × 導入台数　2台 ＝ 年間エネルギー使用量[kWh/年]\n\n年間エネルギー使用量：11,480kWh/年",null,"算出根拠は、別添「製品情報証明書」を利用。\n年間の想定サイクル数を300回として算出。\n\n導入設備の1サイクルあたりの電力使用量[kWh] × 年間想定サイクル数 × 導入台数　3台 ＝ 年間エネルギー使用量[kWh/年]\n　\n導入設備の電力使用量 ： 787.5kWh/年",null,"算出根拠は、別添「製品情報証明書」を利用。\n年間の想定サイクル数を300回として計算。　　\n\n一代前モデルの1サイクルあたりの電力使用量[kWh] × 年間想定サイクル数 × 導入台数　3台 ＝ 年間エネルギー使用量[kWh/年]\n\n一代前モデルの電力使用量 ： 870.3kWh/年",null,null,"別紙参照",null,"別紙参照",null,"2,920時間/年稼働と仮定\nガスタービン設備に水素30%(Vol)を混焼する。\n(LNG) 0.16t/h×2,920h=467.2t/年\n(水素) 0.02t/h×2,920h= 58.4t/年\n\n◆導入設備\n　　(LNG) 467.2t/年×54.7GJ÷10GJ×0.258kl=659.341kl/年\n　　(水素） 58.4t/年×142GJ÷10GJ×0.258kl=213.954kl/年\n　　原油換算使用量計：873.295kl/年…②",null,"\n\n\n2,920時間/年稼働と仮定\n0.45t/h×2,920時間=1,314t/年\n\n◆一代前モデル\n1,314t/年×26.1GJ÷10GJ×0.258ｋｌ＝884.821kl/年･･･①"]
[null,null,"計算結果",6040,"kWh",6600,{"$f":"E30","v":"kWh"},null,null,null,null,null,null,null,"kWh",null,{"$f":"O30","v":"kWh"},null,8080,"kWh",11480,{"$f":"T30","v":"kWh"},787.5,"kWh",870.3,{"$f":"X30","v":"kWh"},null,787.5,"kWh",870.3,{"$f":"AC30","v":"kWh"},873.29499999999996,"kl",884.82100000000003,{"$f":"AG30","v":"kl"}]
[null,"年間見込み\n省エネルギー量\n[kl/年]","年間見込み\n省エネルギー量",{"$f":"F30-D30","v":560},"kWh",null,null,null,null,null,null,null,null,{"$f":"P30-N30","v":0},"kWh",null,null,null,{"$f":"U30-S30","v":3400},"kWh",null,null,{"$f":"Y30-W30","v":82.799999999999955},"kWh",null,null,null,{"$f":"AD30-AB30","v":82.799999999999955},"kWh",null,null,{"$f":"AH30-AF30","v":11.526000000000067},"kl"]
[]
[null,null,"原油換算\n計算式","見込み省エネルギー量を以下の式に代入し、原油換算[kl/年]する。\n見込み省エネルギー量[kWh/年]×熱量換算係数[昼間電力：千kWh/8.64]×原油換算係数[10GJ=0.258]\n\n見込み省エネルギー量 ： 560.000[kWh/年] ÷ 1,000 × 8.64[GJ]（熱量換算係数） ÷ 10 × 0.258[ｋｌ]（原油換算係数） = 0.1248…[kl/年]\n※算出根拠は、申請者自ら手計算した見込み省エネルギー計算を記載してもよい。",null,null,null,null,null,null,null,null,null,null,null,null,null,null,"見込み省エネルギー量を以下の式に代入し、原油換算[kl/年]する。\n見込み省エネルギー量[kWh/年]×熱量換算係数[昼間電力：千kWh/8.64]×原油換算係数[10GJ=0.258]\n\n見込み省エネルギー量 ： 3,400[kWh/年] ÷ 1,000 × 8.64[GJ]（熱量換算係数） ÷ 10 × 0.258[ｋｌ]（原油換算係数） = 0.7579…[kl/年]\n※算出根拠は、申請者自ら手計算した見込み省エネルギー計算を記載してもよい。",null,null,null,"見込み省エネルギー量を以下の式に代入し、原油換算[kl/年]する。\n見込み省エネルギー量[kWh/年]×熱量換算係数[昼間電力：千kWh/8.64]×原油換算係数[10GJ=0.258]\n\n見込み省エネルギー量 ： 82.8[kWh/年] ÷ 1,000 × 8.64[GJ]（熱量換算係数） ÷ 10 × 0.258[ｋｌ]（原油換算係数） = 0.0184…[kl/年]\n※算出根拠は、申請者自ら手計算した見込み省エネルギー計算を記載してもよい。",null,null,null,null,"見込み省エネルギー量を以下の式に代入し、原油換算[kl/年]する。\n見込み省エネルギー量[kWh/年]×熱量換算係数[昼間電力：千kWh/8.64]×原油換算係数[10GJ=0.258]\n\n見込み省エネルギー量 ： 82.8[kWh/年] ÷ 1,000 × 8.64[GJ]（熱量換算係数） ÷ 10 × 0.258[ｋｌ]（原油換算係数） = 0.0184…[kl/年]\n※算出根拠は、申請者自ら手計算した見込み省エネルギー計算を記載してもよい。",null,null,null,"◆①-②=11.526kl/年"]
[null,null,"計算結果",0.12479999999999999,"kl/年",null,null,null,1.7030000000000001,"kl/年",null,null,null,6.5339999999999998,"kl/年",null,null,null,0.75790000000000002,"kl/年",null,null,1.84E-2,"kl/年",null,null,null,1.84E-2,"kl/年",null,null,11.526,"kl/年"]
[null,"年間見込み\n省エネルギー率\n[%/年]","自動計算",{"$f":"IFERROR(ROUND((1-(D30/F30)),5)*100,\"\")","v":8.4849999999999994},"％",null,null,null,{"$f":"IFERROR(ROUND((1-(I30/K30)),5)*100,\"\")","v":""},"％",null,null,null,{"$f":"IFERROR(ROUND((1-(N30/P30)),5)*100,\"\")","v":""},"％",null,null,null,{"$f":"IFERROR(ROUND((1-(S30/U30)),5)*100,\"\")","v":29.616999999999997},"％",null,null,{"$f":"IFERROR(ROUND((1-(W30/Y30)),5)*100,\"\")","v":9.5139999999999993},"％",null,null,null,{"$f":"IFERROR(ROUND((1-(AB30/AD30)),5)*100,\"\")","v":9.5139999999999993},"％",null,null,{"$f":"IFERROR(ROUND(1-(AF30/AH30),5)*100,\"\")","v":1.3029999999999999},"％"]
["  （注）\n  トップランナー基準とは、現在商品化されている製品のうち、エネルギー消費効率が最も優れているもの（トップランナー）の性能に加え、\n  技術開発の将来の見通し等を勘案して定めているものです。トップランナー制度に関する詳細については、\n  資源エネルギー庁のホームページ（以下URL）をご参照ください。"]
[]
[]
[]
[]
[]
["  （注）\n  導入設備と一代前モデルの設備を比較し、エネルギー消費効率が改善されていることを明示してください。\n  導入設備と同一製造メーカー同等製品にて、機能や構造などエネルギー使用量に係る変更があった場合をモデル変更とみなし、導入\n  設備に対して最も近いモデル変更を一代前とし、その変更前の設備を原則として一代前モデルとします。\n  どのような技術を用いてそのエネルギー消費効率の改善を実現しているかを説明すること。カタログや仕様書又は実測データ、図面等\n  の省エネ計算の裏付け資料を添付してください。"]

{"sheet":"（別添４）エネルギー消費効率の根拠（要件ア）","index":16,"n_rows":67,"n_cols":243,"rows_kept":67,"cut":false,"hidden":false,"merged":[[3,4,3,5],[4,4,4,5],[22,196,23,198],[22,200,23,202],[22,204,23,206],[22,208,23,210],[22,212,23,214],[22,216,23,218],[22,220,23,222],[22,223,23,223],[22,227,23,227],[22,231,23,231],[22,235,23,235],[22,239,23,239],[22,199,23,199],[22,203,23,203],[22,207,23,207],[22,211,23,211],[22,215,23,215],[22,219,23,219],[22,152,23,154],[22,155,23,155],[22,159,23,159],[22,163,23,163],[22,167,23,167],[22,171,23,171],[22,175,23,175],[22,156,23,158],[22,160,23,162],[22,164,23,166],[22,168,23,170],[22,172,23,174],[22,179,23,179],[22,183,23,183],[22,187,23,187],[22,191,23,191],[22,195,23,195],[22,176,23,178],[22,180,23,182],[22,184,23,186],[22,188,23,190],[22,192,23,194],[22,111,23,111],[22,115,23,115],[22,119,23,119],[22,123,23,123],[22,127,23,127],[22,108,23,110],[22,112,23,114],[22,116,23,118],[22,120,23,122],[22,124,23,126],[22,128,23,130],[22,131,23,131],[22,135,23,135],[22,139,23,139],[22,143,23,143],[22,147,23,147],[22,151,23,151],[22,132,23,134],[22,136,23,138],[22,140,23,142],[22,144,23,146],[22,148,23,150],[22,75,23,75],[22,79,23,79],[22,83,23,83],[22,72,23,74],[22,76,23,78],[22,80,23,82],[22,84,23,86],[22,87,23,87],[22,91,23,91],[22,95,23,95],[22,99,23,99],[22,103,23,103],[22,107,23,107],[22,88,23,90],[22,92,23,94],[22,96,23,98],[22,100,23,102],[22,104,23,106],[0,0,1,6],[11,3,11,6],[13,3,13,6],[26,4,26,6],[8,0,26,0],[15,5,15,6],[3,0,3,2],[7,0,7,2],[17,3,17,4],[17,5,17,6],[19,3,19,4],[19,5,19,6],[11,1,11,2],[12,1,12,2],[14,3,14,4],[7,3,7,6],[15,13,15,14],[16,11,16,12],[16,13,16,14],[9,11,9,14],[15,11,15,12],[13,11,13,14],[10,11,10,14],[7,11,7,14],[8,11,8,14],[11,11,11,14],[12,11,12,14],[14,11,14,12],[14,13,14,14],[7,7,7,10],[8,7,8,10],[9,7,9,10],[10,7,10,10],[17,9,17,10],[17,7,17,8],[12,3,12,6],[16,7,16,8],[16,9,16,10],[13,7,13,10],[15,7,15,8],[15,9,15,10],[14,7,14,8],[14,9,14,10],[33,0,38,6],[8,3,8,6],[9,1,9,2],[8,1,8,2],[9,3,9,6],[14,5,14,6],[25,4,25,6],[16,3,16,4],[10,1,10,2],[13,1,13,2],[10,3,10,6],[20,3,20,4],[14,1,21,1],[22,1,25,1],[22,2,23,2],[22,3,23,3],[22,7,23,7],[32,0,32,6],[27,0,31,6],[7,15,7,18],[8,15,8,18],[9,15,9,18],[10,15,10,18],[11,15,11,18],[20,19,20,20],[20,21,20,22],[24,19,24,22],[25,20,25,22],[26,20,26,22],[25,12,25,14],[26,12,26,14],[24,3,24,6],[15,3,15,4],[17,11,17,12],[19,11,19,12],[19,13,19,14],[24,11,24,14],[24,7,24,10],[25,8,25,10],[26,8,26,10],[19,7,19,8],[19,9,19,10],[20,7,20,8],[20,9,20,10],[17,13,17,14],[20,11,20,12],[20,13,20,14],[20,5,20,6],[16,5,16,6],[12,7,12,10],[11,7,11,10],[20,15,20,16],[20,17,20,18],[24,15,24,18],[25,16,25,18],[26,16,26,18],[16,15,16,16],[16,17,16,18],[17,15,17,16],[17,17,17,18],[19,15,19,16],[19,17,19,18],[12,15,12,18],[13,15,13,18],[14,15,14,16],[14,17,14,18],[15,15,15,16],[15,17,15,18],[22,15,23,15],[16,19,16,20],[16,21,16,22],[17,19,17,20],[17,21,17,22],[19,19,19,20],[19,21,19,22],[12,19,12,22],[13,19,13,22],[14,19,14,20],[14,21,14,22],[15,19,15,20],[15,21,15,22],[7,27,7,30],[8,27,8,30],[9,27,9,30],[10,27,10,30],[11,27,11,30],[7,23,7,26],[8,23,8,26],[9,23,9,26],[10,23,10,26],[11,23,11,26],[7,19,7,22],[8,19,8,22],[9,19,9,22],[10,19,10,22],[11,19,11,22],[20,33,20,34],[24,31,24,34],[25,32,25,34],[26,32,26,34],[20,23,20,24],[20,25,20,26],[24,23,24,26],[25,24,25,26],[26,24,26,26],[16,23,16,24],[16,25,16,26],[17,23,17,24],[17,25,17,26],[19,23,19,24],[19,25,19,26],[12,23,12,26],[13,23,13,26],[14,23,14,24],[14,25,14,26],[15,23,15,24],[15,25,15,26],[22,23,23,23],[22,27,23,27],[22,31,23,31],[14,35,14,36],[14,37,14,38],[15,35,15,36],[15,37,15,38],[7,31,7,34],[8,31,8,34],[9,31,9,34],[10,31,10,34],[11,31,11,34],[20,35,20,36],[20,37,20,38],[24,35,24,38],[25,36,25,38],[26,36,26,38],[20,27,20,28],[20,29,20,30],[24,27,24,30],[25,28,25,30],[26,28,26,30],[16,27,16,28],[16,29,16,30],[17,27,17,28],[17,29,17,30],[19,27,19,28],[19,29,19,30],[12,27,12,30],[13,27,13,30],[14,27,14,28],[14,29,14,30],[15,27,15,28],[15,29,15,30],[20,31,20,32],[7,39,7,42],[8,39,8,42],[9,39,9,42],[10,39,10,42],[11,39,11,42],[7,35,7,38],[8,35,8,38],[9,35,9,38],[10,35,10,38],[11,35,11,38],[20,39,20,40],[20,41,20,42],[16,31,16,32],[16,33,16,34],[17,31,17,32],[17,33,17,34],[19,31,19,32],[19,33,19,34],[12,31,12,34],[13,31,13,34],[14,31,14,32],[14,33,14,34],[15,31,15,32],[15,33,15,34],[16,35,16,36],[16,37,16,38],[17,35,17,36],[17,37,17,38],[19,35,19,36],[19,37,19,38],[12,35,12,38],[13,35,13,38],[24,39,24,42],[25,40,25,42],[26,40,26,42],[16,39,16,40],[16,41,16,42],[17,39,17,40],[17,41,17,42],[19,39,19,40],[19,41,19,42],[12,39,12,42],[13,39,13,42],[14,39,14,40],[14,41,14,42],[15,39,15,40],[15,41,15,42],[7,47,7,50],[8,47,8,50],[9,47,9,50],[10,47,10,50],[11,47,11,50],[19,49,19,50],[12,47,12,50],[13,47,13,50],[14,47,14,48],[14,49,14,50],[15,47,15,48],[15,49,15,50],[7,43,7,46],[8,43,8,46],[9,43,9,46],[10,43,10,46],[11,43,11,46],[20,51,20,52],[20,53,20,54],[24,51,24,54],[25,52,25,54],[26,52,26,54],[20,43,20,44],[20,45,20,46],[24,43,24,46],[25,44,25,46],[26,44,26,46],[16,43,16,44],[16,45,16,46],[17,43,17,44],[17,45,17,46],[19,43,19,44],[19,45,19,46],[12,43,12,46],[13,43,13,46],[14,43,14,44],[14,45,14,46],[15,43,15,44],[15,45,15,46],[20,47,20,48],[20,49,20,50],[24,47,24,50],[25,48,25,50],[26,48,26,50],[16,47,16,48],[16,49,16,50],[17,47,17,48],[17,49,17,50],[19,47,19,48],[16,51,16,52],[16,53,16,54],[17,51,17,52],[17,53,17,54],[19,51,19,52],[19,53,19,54],[12,51,12,54],[13,51,13,54],[14,51,14,52],[14,53,14,54],[15,51,15,52],[15,53,15,54],[7,59,7,62],[8,59,8,62],[9,59,9,62],[10,59,10,62],[11,59,11,62],[7,55,7,58],[8,55,8,58],[9,55,9,58],[10,55,10,58],[11,55,11,58],[7,51,7,54],[8,51,8,54],[9,51,9,54],[10,51,10,54],[11,51,11,54],[20,55,20,56],[20,57,20,58],[24,55,24,58],[25,56,25,58],[26,56,26,58],[16,55,16,56],[16,57,16,58],[17,55,17,56],[17,57,17,58],[19,55,19,56],[19,57,19,58],[12,55,12,58],[13,55,13,58],[14,55,14,56],[14,57,14,58],[15,55,15,56],[15,57,15,58],[22,55,23,55],[20,59,20,60],[20,61,20,62],[24,59,24,62],[25,60,25,62],[26,60,26,62],[16,59,16,60],[16,61,16,62],[17,59,17,60],[17,61,17,62],[19,59,19,60],[19,61,19,62],[12,59,12,62],[13,59,13,62],[14,59,14,60],[14,61,14,62],[15,59,15,60],[15,61,15,62],[22,59,23,59],[7,103,7,106],[7,107,7,110],[7,111,7,114],[8,63,8,66],[8,67,8,70],[8,71,8,74],[8,75,8,78],[8,79,8,82],[8,83,8,86],[8,87,8,90],[8,91,8,94],[8,95,8,98],[8,99,8,102],[8,103,8,106],[8,107,8,110],[8,111,8,114],[7,83,7,86],[7,87,7,90],[7,91,7,94],[7,95,7,98],[7,99,7,102],[7,63,7,66],[7,67,7,70],[7,71,7,74],[7,75,7,78],[7,79,7,82],[9,103,9,106],[9,107,9,110],[9,111,9,114],[10,63,10,66],[10,67,10,70],[10,71,10,74],[10,75,10,78],[10,79,10,82],[10,83,10,86],[10,87,10,90],[10,91,10,94],[10,95,10,98],[10,99,10,102],[10,103,10,106],[10,107,10,110],[10,111,10,114],[9,83,9,86],[9,87,9,90],[9,91,9,94],[9,95,9,98],[9,99,9,102],[9,63,9,66],[9,67,9,70],[9,71,9,74],[9,75,9,78],[9,79,9,82],[11,103,11,106],[11,107,11,110],[11,111,11,114],[12,63,12,66],[12,67,12,70],[12,71,12,74],[12,75,12,78],[12,79,12,82],[12,83,12,86],[12,87,12,90],[12,91,12,94],[12,95,12,98],[12,99,12,102],[12,103,12,106],[12,107,12,110],[12,111,12,114],[11,83,11,86],[11,87,11,90],[11,91,11,94],[11,95,11,98],[11,99,11,102],[11,63,11,66],[11,67,11,70],[11,71,11,74],[11,75,11,78],[11,79,11,82],[13,103,13,106],[13,107,13,110],[13,111,13,114],[14,63,14,64],[14,65,14,66],[14,67,14,68],[14,69,14,70],[14,71,14,72],[14,73,14,74],[14,75,14,76],[14,77,14,78],[14,79,14,80],[14,81,14,82],[14,83,14,84],[14,85,14,86],[14,87,14,88],[13,83,13,86],[13,87,13,90],[13,91,13,94],[13,95,13,98],[13,99,13,102],[13,63,13,66],[13,67,13,70],[13,71,13,74],[13,75,13,78],[13,79,13,82],[14,109,14,110],[14,111,14,112],[14,113,14,114],[14,107,14,108],[15,67,15,68],[15,69,15,70],[15,71,15,72],[15,73,15,74],[15,75,15,76],[15,77,15,78],[15,79,15,80],[15,81,15,82],[15,83,15,84],[15,85,15,86],[15,87,15,88],[14,99,14,100],[14,101,14,102],[14,103,14,104],[14,105,14,106],[14,89,14,90],[14,91,14,92],[14,93,14,94],[14,95,14,96],[14,97,14,98],[15,109,15,110],[15,111,15,112],[15,113,15,114],[16,63,16,64],[16,65,16,66],[16,67,16,68],[16,69,16,70],[16,71,16,72],[16,73,16,74],[16,75,16,76],[16,77,16,78],[16,79,16,80],[16,81,16,82],[16,83,16,84],[16,85,16,86],[16,87,16,88],[15,99,15,100],[15,101,15,102],[15,103,15,104],[15,105,15,106],[15,107,15,108],[15,89,15,90],[15,91,15,92],[15,93,15,94],[15,95,15,96],[15,97,15,98],[16,109,16,110],[16,111,16,112],[16,113,16,114],[16,107,16,108],[15,63,15,64],[15,65,15,66],[17,69,17,70],[17,71,17,72],[17,73,17,74],[17,75,17,76],[17,77,17,78],[17,79,17,80],[17,81,17,82],[17,83,17,84],[17,85,17,86],[17,87,17,88],[16,99,16,100],[16,101,16,102],[16,103,16,104],[16,105,16,106],[16,89,16,90],[16,91,16,92],[16,93,16,94],[16,95,16,96],[16,97,16,98],[17,111,17,112],[17,113,17,114],[19,63,19,64],[19,65,19,66],[19,67,19,68],[19,69,19,70],[19,71,19,72],[19,73,19,74],[19,75,19,76],[19,77,19,78],[19,79,19,80],[19,81,19,82],[19,83,19,84],[19,85,19,86],[19,87,19,88],[17,99,17,100],[17,101,17,102],[17,103,17,104],[17,105,17,106],[17,107,17,108],[17,89,17,90],[17,91,17,92],[17,93,17,94],[17,95,17,96],[17,97,17,98],[19,109,19,110],[19,111,19,112],[19,113,19,114],[19,107,19,108],[17,63,17,64],[17,65,17,66],[17,67,17,68],[20,77,20,78],[20,79,20,80],[20,81,20,82],[20,83,20,84],[20,85,20,86],[20,87,20,88],[19,99,19,100],[19,101,19,102],[19,103,19,104],[19,105,19,106],[19,89,19,90],[19,91,19,92],[19,93,19,94],[19,95,19,96],[19,97,19,98],[17,109,17,110],[20,109,20,110],[20,111,20,112],[20,113,20,114],[24,63,24,66],[24,67,24,70],[24,71,24,74],[24,75,24,78],[24,79,24,82],[24,83,24,86],[24,87,24,90],[24,91,24,94],[24,95,24,98],[24,99,24,102],[24,103,24,106],[24,107,24,110],[24,111,24,114],[20,99,20,100],[20,101,20,102],[20,103,20,104],[20,105,20,106],[20,107,20,108],[20,89,20,90],[20,91,20,92],[20,93,20,94],[20,95,20,96],[20,97,20,98],[20,63,20,64],[20,65,20,66],[20,67,20,68],[20,69,20,70],[20,71,20,72],[20,73,20,74],[20,75,20,76],[25,104,25,106],[25,108,25,110],[25,112,25,114],[26,64,26,66],[26,68,26,70],[26,72,26,74],[26,76,26,78],[26,80,26,82],[26,84,26,86],[26,88,26,90],[26,92,26,94],[26,96,26,98],[26,100,26,102],[26,104,26,106],[26,108,26,110],[26,112,26,114],[25,84,25,86],[25,88,25,90],[25,92,25,94],[25,96,25,98],[25,100,25,102],[25,64,25,66],[25,68,25,70],[25,72,25,74],[25,76,25,78],[25,80,25,82],[7,155,7,158],[7,159,7,162],[7,163,7,166],[8,115,8,118],[8,119,8,122],[8,123,8,126],[8,127,8,130],[8,131,8,134],[8,135,8,138],[8,139,8,142],[8,143,8,146],[8,147,8,150],[8,151,8,154],[8,155,8,158],[8,159,8,162],[8,163,8,166],[7,135,7,138],[7,139,7,142],[7,143,7,146],[7,147,7,150],[7,151,7,154],[7,115,7,118],[7,119,7,122],[7,123,7,126],[7,127,7,130],[7,131,7,134],[9,155,9,158],[9,159,9,162],[9,163,9,166],[10,115,10,118],[10,119,10,122],[10,123,10,126],[10,127,10,130],[10,131,10,134],[10,135,10,138],[10,139,10,142],[10,143,10,146],[10,147,10,150],[10,151,10,154],[10,155,10,158],[10,159,10,162],[10,163,10,166],[9,135,9,138],[9,139,9,142],[9,143,9,146],[9,147,9,150],[9,151,9,154],[9,115,9,118],[9,119,9,122],[9,123,9,126],[9,127,9,130],[9,131,9,134],[11,155,11,158],[11,159,11,162],[11,163,11,166],[12,115,12,118],[12,119,12,122],[12,123,12,126],[12,127,12,130],[12,131,12,134],[12,135,12,138],[12,139,12,142],[12,143,12,146],[12,147,12,150],[12,151,12,154],[12,155,12,158],[12,159,12,162],[12,163,12,166],[11,135,11,138],[11,139,11,142],[11,143,11,146],[11,147,11,150],[11,151,11,154],[11,115,11,118],[11,119,11,122],[11,123,11,126],[11,127,11,130],[11,131,11,134],[13,155,13,158],[13,159,13,162],[13,163,13,166],[14,115,14,116],[14,117,14,118],[14,119,14,120],[14,121,14,122],[14,123,14,124],[14,125,14,126],[14,127,14,128],[14,129,14,130],[14,131,14,132],[14,133,14,134],[14,135,14,136],[14,137,14,138],[14,139,14,140],[13,135,13,138],[13,139,13,142],[13,143,13,146],[13,147,13,150],[13,151,13,154],[13,115,13,118],[13,119,13,122],[13,123,13,126],[13,127,13,130],[13,131,13,134],[14,161,14,162],[14,163,14,164],[14,165,14,166],[14,159,14,160],[15,119,15,120],[15,121,15,122],[15,123,15,124],[15,125,15,126],[15,127,15,128],[15,129,15,130],[15,131,15,132],[15,133,15,134],[15,135,15,136],[15,137,15,138],[15,139,15,140],[14,151,14,152],[14,153,14,154],[14,155,14,156],[14,157,14,158],[14,141,14,142],[14,143,14,144],[14,145,14,146],[14,147,14,148],[14,149,14,150],[15,161,15,162],[15,163,15,164],[15,165,15,166],[16,115,16,116],[16,117,16,118],[16,119,16,120],[16,121,16,122],[16,123,16,124],[16,125,16,126],[16,127,16,128],[16,129,16,130],[16,131,16,132],[16,133,16,134],[16,135,16,136],[16,137,16,138],[16,139,16,140],[15,151,15,152],[15,153,15,154],[15,155,15,156],[15,157,15,158],[15,159,15,160],[15,141,15,142],[15,143,15,144],[15,145,15,146],[15,147,15,148],[15,149,15,150],[16,161,16,162],[16,163,16,164],[16,165,16,166],[16,159,16,160],[15,115,15,116],[15,117,15,118],[17,121,17,122],[17,123,17,124],[17,125,17,126],[17,127,17,128],[17,129,17,130],[17,131,17,132],[17,133,17,134],[17,135,17,136],[17,137,17,138],[17,139,17,140],[16,151,16,152],[16,153,16,154],[16,155,16,156],[16,157,16,158],[16,141,16,142],[16,143,16,144],[16,145,16,146],[16,147,16,148],[16,149,16,150],[17,163,17,164],[17,165,17,166],[19,115,19,116],[19,117,19,118],[19,119,19,120],[19,121,19,122],[19,123,19,124],[19,125,19,126],[19,127,19,128],[19,129,19,130],[19,131,19,132],[19,133,19,134],[19,135,19,136],[19,137,19,138],[19,139,19,140],[17,151,17,152],[17,153,17,154],[17,155,17,156],[17,157,17,158],[17,159,17,160],[17,141,17,142],[17,143,17,144],[17,145,17,146],[17,147,17,148],[17,149,17,150],[19,161,19,162],[19,163,19,164],[19,165,19,166],[19,159,19,160],[17,115,17,116],[17,117,17,118],[17,119,17,120],[20,129,20,130],[20,131,20,132],[20,133,20,134],[20,135,20,136],[20,137,20,138],[20,139,20,140],[19,151,19,152],[19,153,19,154],[19,155,19,156],[19,157,19,158],[19,141,19,142],[19,143,19,144],[19,145,19,146],[19,147,19,148],[19,149,19,150],[17,161,17,162],[20,161,20,162],[20,163,20,164],[20,165,20,166],[24,115,24,118],[24,119,24,122],[24,123,24,126],[24,127,24,130],[24,131,24,134],[24,135,24,138],[24,139,24,142],[24,143,24,146],[24,147,24,150],[24,151,24,154],[24,155,24,158],[24,159,24,162],[24,163,24,166],[20,151,20,152],[20,153,20,154],[20,155,20,156],[20,157,20,158],[20,159,20,160],[20,141,20,142],[20,143,20,144],[20,145,20,146],[20,147,20,148],[20,149,20,150],[20,115,20,116],[20,117,20,118],[20,119,20,120],[20,121,20,122],[20,123,20,124],[20,125,20,126],[20,127,20,128],[25,156,25,158],[25,160,25,162],[25,164,25,166],[26,116,26,118],[26,120,26,122],[26,124,26,126],[26,128,26,130],[26,132,26,134],[26,136,26,138],[26,140,26,142],[26,144,26,146],[26,148,26,150],[26,152,26,154],[26,156,26,158],[26,160,26,162],[26,164,26,166],[25,136,25,138],[25,140,25,142]],"merged_total":1458,"flags":["merged_cut"]}
["（別添４）エネルギー消費効率の根拠（要件ア）"]
[]
["（別添４)"]
["エネルギー消費効率の根拠（要件ア）",null,null,null,"年間見込み省エネルギー率[%]",null,{"$f":"IF(SUM(D27:II27)=0,\"\",AVERAGEIFS(D27:II27,D9:II9,\"<>\"&\"\"))","v":""}]
[null,null,null,null,"年間見込み省エネルギー量[kl]",null,{"$f":"SUMIFS(D26:II26,D9:II9,\"<>\"&\"\")","v":0}]
[]
[null,null,null,{"$f":"IF(COUNTIFS(D9,\"\",D26,\">=\"&0.000000001)=0,\"\",\"※不要なデータが入っています。\")","v":""},null,null,null,{"$f":"IF(COUNTIFS(H9,\"\",H26,\">=\"&0.000000001)=0,\"\",\"※不要なデータが入っています。\")","v":""},null,null,null,{"$f":"IF(COUNTIFS(L9,\"\",L26,\">=\"&0.000000001)=0,\"\",\"※不要なデータが入っています。\")","v":""},null,null,null,{"$f":"IF(COUNTIFS(P9,\"\",P26,\">=\"&0.000000001)=0,\"\",\"※不要なデータが入っています。\")","v":""},null,null,null,{"$f":"IF(COUNTIFS(T9,\"\",T26,\">=\"&0.000000001)=0,\"\",\"※不要なデータが入っています。\")","v":""},null,null,null,{"$f":"IF(COUNTIFS(X9,\"\",X26,\">=\"&0.000000001)=0,\"\",\"※不要なデータが入っています。\")","v":""},null,null,null,{"$f":"IF(COUNTIFS(AB9,\"\",AB26,\">=\"&0.000000001)=0,\"\",\"※不要なデータが入っています。\")","v":""},null,null,null,{"$f":"IF(COUNTIFS(AF9,\"\",AF26,\">=\"&0.000000001)=0,\"\",\"※不要なデータが入っています。\")","v":""},null,null,null,{"$f":"IF(COUNTIFS(AJ9,\"\",AJ26,\">=\"&0.000000001)=0,\"\",\"※不要なデータが入っています。\")","v":""},null,null,null,{"$f":"IF(COUNTIFS(AN9,\"\",AN26,\">=\"&0.000000001)=0,\"\",\"※不要なデータが入っています。\")","v":""},null,null,null,{"$f":"IF(COUNTIFS(AR9,\"\",AR26,\">=\"&0.000000001)=0,\"\",\"※不要なデータが入っています。\")","v":""},null,null,null,{"$f":"IF(COUNTIFS(AV9,\"\",AV26,\">=\"&0.000000001)=0,\"\",\"※不要なデータが入っています。\")","v":""},null,null,null,{"$f":"IF(COUNTIFS(AZ9,\"\",AZ26,\">=\"&0.000000001)=0,\"\",\"※不要なデータが入っています。\")","v":""},null,null,null,{"$f":"IF(COUNTIFS(BD9,\"\",BD26,\">=\"&0.000000001)=0,\"\",\"※不要なデータが入っています。\")","v":""},null,null,null,{"$f":"IF(COUNTIFS(BH9,\"\",BH26,\">=\"&0.000000001)=0,\"\",\"※不要なデータが入っています。\")","v":""},null,null,null,{"$f":"IF(COUNTIFS(BL9,\"\",BL26,\">=\"&0.000000001)=0,\"\",\"※不要なデータが入っています。\")","v":""},null,null,null,{"$f":"IF(COUNTIFS(BP9,\"\",BP26,\">=\"&0.000000001)=0,\"\",\"※不要なデータが入っています。\")","v":""},null,null,null,{"$f":"IF(COUNTIFS(BT9,\"\",BT26,\">=\"&0.000000001)=0,\"\",\"※不要なデータが入っています。\")","v":""},null,null,null,{"$f":"IF(COUNTIFS(BX9,\"\",BX26,\">=\"&0.000000001)=0,\"\",\"※不要なデータが入っています。\")","v":""},null,null,null,{"$f":"IF(COUNTIFS(CB9,\"\",CB26,\">=\"&0.000000001)=0,\"\",\"※不要なデータが入っています。\")","v":""},null,null,null,{"$f":"IF(COUNTIFS(CF9,\"\",CF26,\">=\"&0.000000001)=0,\"\",\"※不要なデータが入っています。\")","v":""},null,null,null,{"$f":"IF(COUNTIFS(CJ9,\"\",CJ26,\">=\"&0.000000001)=0,\"\",\"※不要なデータが入っています。\")","v":""},null,null,null,{"$f":"IF(COUNTIFS(CN9,\"\",CN26,\">=\"&0.000000001)=0,\"\",\"※不要なデータが入っています。\")","v":""},null,null,null,{"$f":"IF(COUNTIFS(CR9,\"\",CR26,\">=\"&0.000000001)=0,\"\",\"※不要なデータが入っています。\")","v":""},null,null,null,{"$f":"IF(COUNTIFS(CV9,\"\",CV26,\">=\"&0.000000001)=0,\"\",\"※不要なデータが入っています。\")","v":""},null,null,null,{"$f":"IF(COUNTIFS(CZ9,\"\",CZ26,\">=\"&0.000000001)=0,\"\",\"※不要なデータが入っています。\")","v":""},null,null,null,{"$f":"IF(COUNTIFS(DD9,\"\",DD26,\">=\"&0.000000001)=0,\"\",\"※不要なデータが入っています。\")","v":""},null,null,null,{"$f":"IF(COUNTIFS(DH9,\"\",DH26,\">=\"&0.000000001)=0,\"\",\"※不要なデータが入っています。\")","v":""},null,null,null,{"$f":"IF(COUNTIFS(DL9,\"\",DL26,\">=\"&0.000000001)=0,\"\",\"※不要なデータが入っています。\")","v":""},null,null,null,{"$f":"IF(COUNTIFS(DP9,\"\",DP26,\">=\"&0.000000001)=0,\"\",\"※不要なデータが入っています。\")","v":""},null,null,null,{"$f":"IF(COUNTIFS(DT9,\"\",DT26,\">=\"&0.000000001)=0,\"\",\"※不要なデータが入っています。\")","v":""},null,null,null,{"$f":"IF(COUNTIFS(DX9,\"\",DX26,\">=\"&0.000000001)=0,\"\",\"※不要なデータが入っています。\")","v":""},null,null,null,{"$f":"IF(COUNTIFS(EB9,\"\",EB26,\">=\"&0.000000001)=0,\"\",\"※不要なデータが入っています。\")","v":""},null,null,null,{"$f":"IF(COUNTIFS(EF9,\"\",EF26,\">=\"&0.000000001)=0,\"\",\"※不要なデータが入っています。\")","v":""},null,null,null,{"$f":"IF(COUNTIFS(EJ9,\"\",EJ26,\">=\"&0.000000001)=0,\"\",\"※不要なデータが入っています。\")","v":""},null,null,null,{"$f":"IF(COUNTIFS(EN9,\"\",EN26,\">=\"&0.000000001)=0,\"\",\"※不要なデータが入っています。\")","v":""},null,null,null,{"$f":"IF(COUNTIFS(ER9,\"\",ER26,\">=\"&0.000000001)=0,\"\",\"※不要なデータが入っています。\")","v":""},null,null,null,{"$f":"IF(COUNTIFS(EV9,\"\",EV26,\">=\"&0.000000001)=0,\"\",\"※不要なデータが入っています。\")","v":""},null,null,null,{"$f":"IF(COUNTIFS(EZ9,\"\",EZ26,\">=\"&0.000000001)=0,\"\",\"※不要なデータが入っています。\")","v":""},null,null,null,{"$f":"IF(COUNTIFS(FD9,\"\",FD26,\">=\"&0.000000001)=0,\"\",\"※不要なデータが入っています。\")","v":""},null,null,null,{"$f":"IF(COUNTIFS(FH9,\"\",FH26,\">=\"&0.000000001)=0,\"\",\"※不要なデータが入っています。\")","v":""},null,null,null,{"$f":"IF(COUNTIFS(FL9,\"\",FL26,\">=\"&0.000000001)=0,\"\",\"※不要なデータが入っています。\")","v":""},null,null,null,{"$f":"IF(COUNTIFS(FP9,\"\",FP26,\">=\"&0.000000001)=0,\"\",\"※不要なデータが入っています。\")","v":""},null,null,null,{"$f":"IF(COUNTIFS(FT9,\"\",FT26,\">=\"&0.000000001)=0,\"\",\"※不要なデータが入っています。\")","v":""},null,null,null,{"$f":"IF(COUNTIFS(FX9,\"\",FX26,\">=\"&0.000000001)=0,\"\",\"※不要なデータが入っています。\")","v":""},null,null,null,{"$f":"IF(COUNTIFS(GB9,\"\",GB26,\">=\"&0.000000001)=0,\"\",\"※不要なデータが入っています。\")","v":""},null,null,null,{"$f":"IF(COUNTIFS(GF9,\"\",GF26,\">=\"&0.000000001)=0,\"\",\"※不要なデータが入っています。\")","v":""},null,null,null,{"$f":"IF(COUNTIFS(GJ9,\"\",GJ26,\">=\"&0.000000001)=0,\"\",\"※不要なデータが入っています。\")","v":""},null,null,null,{"$f":"IF(COUNTIFS(GN9,\"\",GN26,\">=\"&0.000000001)=0,\"\",\"※不要なデータが入っています。\")","v":""},null,null,null,{"$f":"IF(COUNTIFS(GR9,\"\",GR26,\">=\"&0.000000001)=0,\"\",\"※不要なデータが入っています。\")","v":""},null,null,null,{"$f":"IF(COUNTIFS(GV9,\"\",GV26,\">=\"&0.000000001)=0,\"\",\"※不要なデータが入っています。\")","v":""},null,null,null,{"$f":"IF(COUNTIFS(GZ9,\"\",GZ26,\">=\"&0.000000001)=0,\"\",\"※不要なデータが入っています。\")","v":""},null,null,null,{"$f":"IF(COUNTIFS(HD9,\"\",HD26,\">=\"&0.000000001)=0,\"\",\"※不要なデータが入っています。\")","v":""},null,null,null,{"$f":"IF(COUNTIFS(HH9,\"\",HH26,\">=\"&0.000000001)=0,\"\",\"※不要なデータが入っています。\")","v":""},null,null,null,{"$f":"IF(COUNTIFS(HL9,\"\",HL26,\">=\"&0.000000001)=0,\"\",\"※不要なデータが入っています。\")","v":""},null,null,null,{"$f":"IF(COUNTIFS(HP9,\"\",HP26,\">=\"&0.000000001)=0,\"\",\"※不要なデータが入っています。\")","v":""},null,null,null,{"$f":"IF(COUNTIFS(HT9,\"\",HT26,\">=\"&0.000000001)=0,\"\",\"※不要なデータが入っています。\")","v":""},null,null,null,{"$f":"IF(COUNTIFS(HX9,\"\",HX26,\">=\"&0.000000001)=0,\"\",\"※不要なデータが入っています。\")","v":""},null,null,null,{"$f":"IF(COUNTIFS(IB9,\"\",IB26,\">=\"&0.000000001)=0,\"\",\"※不要なデータが入っています。\")","v":""},null,null,null,{"$f":"IF(COUNTIFS(IF9,\"\",IF26,\">=\"&0.000000001)=0,\"\",\"※不要なデータが入っています。\")","v":""}]
["No",null,null,1,null,null,null,2,null,null,null,3,null,null,null,4,null,null,null,5,null,null,null,6,null,null,null,7,null,null,null,8,null,null,null,9,null,null,null,10,null,null,null,11,null,null,null,12,null,null,null,13,null,null,null,14,null,null,null,15,null,null,null,16,null,null,null,17,null,null,null,18,null,null,null,19,null,null,null,20,null,null,null,21,null,null,null,22,null,null,null,23,null,null,null,24,null,null,null,25,null,null,null,26,null,null,null,27,null,null,null,28,null,null,null,29,null,null,null,30,null,null,null,31,null,null,null,32,null,null,null,33,null,null,null,34,null,null,null,35,null,null,null,36,null,null,null,37,null,null,null,38,null,null,null,39,null,null,null,40,null,null,null,41,null,null,null,42,null,null,null,43,null,null,null,44,null,null,null,45,null,null,null,46,null,null,null,47,null,null,null,48,null,null,null,49,null,null,null,50,null,null,null,51,null,null,null,52,null,null,null,53,null,null,null,54,null,null,null,55,null,null,null,56,null,null,null,57,null,null,null,58,null,null,null,59,null,null,null,60]
["エ\nネ\nル\nギ\n|\n消\n費\n効\n率\nの\n改\n善\nに\nつ\nい\nて\nの\n根\n拠","トップランナー基準"]
[null,"トップランナー基準の区分名又は数値"]
[null,"トップランナー基準の数値（導入設備）"]
[null,"比較指標/トップランナー基準\n（基準エネルギー消費効率又はその算定式）"]
[null,"省エネ計算の裏付け資料\n（根拠情報記載箇所）"]
[null,"省エネ要因"]
[null,"年間\nエネルギー使用量",null,"導入設備",null,"一代前モデル",null,"導入設備",null,"一代前モデル",null,"導入設備",null,"一代前モデル",null,"導入設備",null,"一代前モデル",null,"導入設備",null,"一代前モデル",null,"導入設備",null,"一代前モデル",null,"導入設備",null,"一代前モデル",null,"導入設備",null,"一代前モデル",null,"導入設備",null,"一代前モデル",null,"導入設備",null,"一代前モデル",null,"導入設備",null,"一代前モデル",null,"導入設備",null,"一代前モデル",null,"導入設備",null,"一代前モデル",null,"導入設備",null,"一代前モデル",null,"導入設備",null,"一代前モデル",null,"導入設備",null,"一代前モデル",null,"導入設備",null,"一代前モデル",null,"導入設備",null,"一代前モデル",null,"導入設備",null,"一代前モデル",null,"導入設備",null,"一代前モデル",null,"導入設備",null,"一代前モデル",null,"導入設備",null,"一代前モデル",null,"導入設備",null,"一代前モデル",null,"導入設備",null,"一代前モデル",null,"導入設備",null,"一代前モデル",null,"導入設備",null,"一代前モデル",null,"導入設備",null,"一代前モデル",null,"導入設備",null,"一代前モデル",null,"導入設備",null,"一代前モデル",null,"導入設備",null,"一代前モデル",null,"導入設備",null,"一代前モデル",null,"導入設備",null,"一代前モデル",null,"導入設備",null,"一代前モデル",null,"導入設備",null,"一代前モデル",null,"導入設備",null,"一代前モデル",null,"導入設備",null,"一代前モデル",null,"導入設備",null,"一代前モデル",null,"導入設備",null,"一代前モデル",null,"導入設備",null,"一代前モデル",null,"導入設備",null,"一代前モデル",null,"導入設備",null,"一代前モデル",null,"導入設備",null,"一代前モデル",null,"導入設備",null,"一代前モデル",null,"導入設備",null,"一代前モデル",null,"導入設備",null,"一代前モデル",null,"導入設備",null,"一代前モデル",null,"導入設備",null,"一代前モデル",null,"導入設備",null,"一代前モデル",null,"導入設備",null,"一代前モデル",null,"導入設備",null,"一代前モデル",null,"導入設備",null,"一代前モデル",null,"導入設備",null,"一代前モデル",null,"導入設備",null,"一代前モデル",null,"導入設備",null,"一代前モデル",null,"導入設備",null,"一代前モデル",null,"導入設備",null,"一代前モデル",null,"導入設備",null,"一代前モデル",null,"導入設備",null,"一代前モデル",null,"導入設備",null,"一代前モデル",null,"導入設備",null,"一代前モデル"]
[null,null,"製品名"]
[null,null,"製造メーカー"]
[null,null,"型番"]
[null,null,"導入台数",null,"台",null,"台",null,"台",null,"台",null,"台",null,"台",null,"台",null,"台",null,"台",null,"台",null,"台",null,"台",null,"台",null,"台",null,"台",null,"台",null,"台",null,"台",null,"台",null,"台",null,"台",null,"台",null,"台",null,"台",null,"台",null,"台",null,"台",null,"台",null,"台",null,"台",null,"台",null,"台",null,"台",null,"台",null,"台",null,"台",null,"台",null,"台",null,"台",null,"台",null,"台",null,"台",null,"台",null,"台",null,"台",null,"台",null,"台",null,"台",null,"台",null,"台",null,"台",null,"台",null,"台",null,"台",null,"台",null,"台",null,"台",null,"台",null,"台",null,"台",null,"台",null,"台",null,"台",null,"台",null,"台",null,"台",null,"台",null,"台",null,"台",null,"台",null,"台",null,"台",null,"台",null,"台",null,"台",null,"台",null,"台",null,"台",null,"台",null,"台",null,"台",null,"台",null,"台",null,"台",null,"台",null,"台",null,"台",null,"台",null,"台",null,"台",null,"台",null,"台",null,"台",null,"台",null,"台",null,"台",null,"台",null,"台",null,"台",null,"台",null,"台",null,"台",null,"台",null,"台",null,"台",null,"台",null,"台",null,"台",null,"台",null,"台",null,"台",null,"台",null,"台",null,"台",null,"台",null,"台",null,"台",null,"台",null,"台",null,"台"]
[null,null,"1台あたりの\n使用エネルギー"]
[null,null,"年間\nエネルギー使用量\n計算式"]
[null,null,"計算結果",null,"単位を選択してください",null,{"$f":"E22","v":"単位を選択してください"},null,"単位を選択してください",null,{"$f":"I22","v":"単位を選択してください"},null,"単位を選択してください",null,{"$f":"M22","v":"単位を選択してください"},null,"単位を選択してください",null,{"$f":"Q22","v":"単位を選択してください"},null,"単位を選択してください",null,{"$f":"U22","v":"単位を選択してください"},null,"単位を選択してください",null,{"$f":"Y22","v":"単位を選択してください"},null,"単位を選択してください",null,{"$f":"AC22","v":"単位を選択してください"},null,"単位を選択してください",null,{"$f":"AG22","v":"単位を選択してください"},null,"単位を選択してください",null,{"$f":"AK22","v":"単位を選択してください"},null,"単位を選択してください",null,{"$f":"AO22","v":"単位を選択してください"},null,"単位を選択してください",null,{"$f":"AS22","v":"単位を選択してください"},null,"単位を選択してください",null,{"$f":"AW22","v":"単位を選択してください"},null,"単位を選択してください",null,{"$f":"BA22","v":"単位を選択してください"},null,"単位を選択してください",null,{"$f":"BE22","v":"単位を選択してください"},null,"単位を選択してください",null,{"$f":"BI22","v":"単位を選択してください"},null,"単位を選択してください",null,{"$f":"BM22","v":"単位を選択してください"},null,"単位を選択してください",null,{"$f":"BQ22","v":"単位を選択してください"},null,"単位を選択してください",null,{"$f":"BU22","v":"単位を選択してください"},null,"単位を選択してください",null,{"$f":"BY22","v":"単位を選択してください"},null,"単位を選択してください",null,{"$f":"CC22","v":"単位を選択してください"},null,"単位を選択してください",null,{"$f":"CG22","v":"単位を選択してください"},null,"単位を選択してください",null,{"$f":"CK22","v":"単位を選択してください"},null,"単位を選択してください",null,{"$f":"CO22","v":"単位を選択してください"},null,"単位を選択してください",null,{"$f":"CS22","v":"単位を選択してください"},null,"単位を選択してください",null,{"$f":"CW22","v":"単位を選択してください"},null,"単位を選択してください",null,{"$f":"DA22","v":"単位を選択してください"},null,"単位を選択してください",null,{"$f":"DE22","v":"単位を選択してください"},null,"単位を選択してください",null,{"$f":"DI22","v":"単位を選択してください"},null,"単位を選択してください",null,{"$f":"DM22","v":"単位を選択してください"},null,"単位を選択してください",null,{"$f":"DQ22","v":"単位を選択してください"},null,"単位を選択してください",null,{"$f":"DU22","v":"単位を選択してください"},null,"単位を選択してください",null,{"$f":"DY22","v":"単位を選択してください"},null,"単位を選択してください",null,{"$f":"EC22","v":"単位を選択してください"},null,"単位を選択してください",null,{"$f":"EG22","v":"単位を選択してください"},null,"単位を選択してください",null,{"$f":"EK22","v":"単位を選択してください"},null,"単位を選択してください",null,{"$f":"EO22","v":"単位を選択してください"},null,"単位を選択してください",null,{"$f":"ES22","v":"単位を選択してください"},null,"単位を選択してください",null,{"$f":"EW22","v":"単位を選択してください"},null,"単位を選択してください",null,{"$f":"FA22","v":"単位を選択してください"},null,"単位を選択してください",null,{"$f":"FE22","v":"単位を選択してください"},null,"単位を選択してください",null,{"$f":"FI22","v":"単位を選択してください"},null,"単位を選択してください",null,{"$f":"FM22","v":"単位を選択してください"},null,"単位を選択してください",null,{"$f":"FQ22","v":"単位を選択してください"},null,"単位を選択してください",null,{"$f":"FU22","v":"単位を選択してください"},null,"単位を選択してください",null,{"$f":"FY22","v":"単位を選択してください"},null,"単位を選択してください",null,{"$f":"GC22","v":"単位を選択してください"},null,"単位を選択してください",null,{"$f":"GG22","v":"単位を選択してください"},null,"単位を選択してください",null,{"$f":"GK22","v":"単位を選択してください"},null,"単位を選択してください",null,{"$f":"GO22","v":"単位を選択してください"},null,"単位を選択してください",null,{"$f":"GS22","v":"単位を選択してください"},null,"単位を選択してください",null,{"$f":"GW22","v":"単位を選択してください"},null,"単位を選択してください",null,{"$f":"HA22","v":"単位を選択してください"},null,"単位を選択してください",null,{"$f":"HE22","v":"単位を選択してください"},null,"単位を選択してください",null,{"$f":"HI22","v":"単位を選択してください"},null,"単位を選択してください",null,{"$f":"HM22","v":"単位を選択してください"},null,"単位を選択してください",null,{"$f":"HQ22","v":"単位を選択してください"},null,"単位を選択してください",null,{"$f":"HU22","v":"単位を選択してください"},null,"単位を選択してください",null,{"$f":"HY22","v":"単位を選択してください"},null,"単位を選択してください",null,{"$f":"IC22","v":"単位を選択してください"},null,"単位を選択してください",null,{"$f":"IG22","v":"単位を選択してください"}]
[null,"年間見込み\n省エネルギー量\n[kl/年]","年間見込み\n省エネルギー量",{"$f":"F22-D22","v":0},{"$f":"E22","v":"単位を選択してください"},null,null,{"$f":"J22-H22","v":0},{"$f":"I22","v":"単位を選択してください"},null,null,{"$f":"N22-L22","v":0},{"$f":"M22","v":"単位を選択してください"},null,null,{"$f":"R22-P22","v":0},{"$f":"Q22","v":"単位を選択してください"},null,null,{"$f":"V22-T22","v":0},{"$f":"U22","v":"単位を選択してください"},null,null,{"$f":"Z22-X22","v":0},{"$f":"Y22","v":"単位を選択してください"},null,null,{"$f":"AD22-AB22","v":0},{"$f":"AC22","v":"単位を選択してください"},null,null,{"$f":"AH22-AF22","v":0},{"$f":"AG22","v":"単位を選択してください"},null,null,{"$f":"AL22-AJ22","v":0},{"$f":"AK22","v":"単位を選択してください"},null,null,{"$f":"AP22-AN22","v":0},{"$f":"AO22","v":"単位を選択してください"},null,null,{"$f":"AT22-AR22","v":0},{"$f":"AS22","v":"単位を選択してください"},null,null,{"$f":"AX22-AV22","v":0},{"$f":"AW22","v":"単位を選択してください"},null,null,{"$f":"BB22-AZ22","v":0},{"$f":"BA22","v":"単位を選択してください"},null,null,{"$f":"BF22-BD22","v":0},{"$f":"BE22","v":"単位を選択してください"},null,null,{"$f":"BJ22-BH22","v":0},{"$f":"BI22","v":"単位を選択してください"},null,null,{"$f":"BN22-BL22","v":0},{"$f":"BM22","v":"単位を選択してください"},null,null,{"$f":"BR22-BP22","v":0},{"$f":"BQ22","v":"単位を選択してください"},null,null,{"$f":"BV22-BT22","v":0},{"$f":"BU22","v":"単位を選択してください"},null,null,{"$f":"BZ22-BX22","v":0},{"$f":"BY22","v":"単位を選択してください"},null,null,{"$f":"CD22-CB22","v":0},{"$f":"CC22","v":"単位を選択してください"},null,null,{"$f":"CH22-CF22","v":0},{"$f":"CG22","v":"単位を選択してください"},null,null,{"$f":"CL22-CJ22","v":0},{"$f":"CK22","v":"単位を選択してください"},null,null,{"$f":"CP22-CN22","v":0},{"$f":"CO22","v":"単位を選択してください"},null,null,{"$f":"CT22-CR22","v":0},{"$f":"CS22","v":"単位を選択してください"},null,null,{"$f":"CX22-CV22","v":0},{"$f":"CW22","v":"単位を選択してください"},null,null,{"$f":"DB22-CZ22","v":0},{"$f":"DA22","v":"単位を選択してください"},null,null,{"$f":"DF22-DD22","v":0},{"$f":"DE22","v":"単位を選択してください"},null,null,{"$f":"DJ22-DH22","v":0},{"$f":"DI22","v":"単位を選択してください"},null,null,{"$f":"DN22-DL22","v":0},{"$f":"DM22","v":"単位を選択してください"},null,null,{"$f":"DR22-DP22","v":0},{"$f":"DQ22","v":"単位を選択してください"},null,null,{"$f":"DV22-DT22","v":0},{"$f":"DU22","v":"単位を選択してください"},null,null,{"$f":"DZ22-DX22","v":0},{"$f":"DY22","v":"単位を選択してください"},null,null,{"$f":"ED22-EB22","v":0},{"$f":"EC22","v":"単位を選択してください"},null,null,{"$f":"EH22-EF22","v":0},{"$f":"EG22","v":"単位を選択してください"},null,null,{"$f":"EL22-EJ22","v":0},{"$f":"EK22","v":"単位を選択してください"},null,null,{"$f":"EP22-EN22","v":0},{"$f":"EO22","v":"単位を選択してください"},null,null,{"$f":"ET22-ER22","v":0},{"$f":"ES22","v":"単位を選択してください"},null,null,{"$f":"EX22-EV22","v":0},{"$f":"EW22","v":"単位を選択してください"},null,null,{"$f":"FB22-EZ22","v":0},{"$f":"FA22","v":"単位を選択してください"},null,null,{"$f":"FF22-FD22","v":0},{"$f":"FE22","v":"単位を選択してください"},null,null,{"$f":"FJ22-FH22","v":0},{"$f":"FI22","v":"単位を選択してください"},null,null,{"$f":"FN22-FL22","v":0},{"$f":"FM22","v":"単位を選択してください"},null,null,{"$f":"FR22-FP22","v":0},{"$f":"FQ22","v":"単位を選択してください"},null,null,{"$f":"FV22-FT22","v":0},{"$f":"FU22","v":"単位を選択してください"},null,null,{"$f":"FZ22-FX22","v":0},{"$f":"FY22","v":"単位を選択してください"},null,null,{"$f":"GD22-GB22","v":0},{"$f":"GC22","v":"単位を選択してください"},null,null,{"$f":"GH22-GF22","v":0},{"$f":"GG22","v":"単位を選択してください"},null,null,{"$f":"GL22-GJ22","v":0},{"$f":"GK22","v":"単位を選択してください"},null,null,{"$f":"GP22-GN22","v":0},{"$f":"GO22","v":"単位を選択してください"},null,null,{"$f":"GT22-GR22","v":0},{"$f":"GS22","v":"単位を選択してください"},null,null,{"$f":"GX22-GV22","v":0},{"$f":"GW22","v":"単位を選択してください"},null,null,{"$f":"HB22-GZ22","v":0},{"$f":"HA22","v":"単位を選択してください"},null,null,{"$f":"HF22-HD22","v":0},{"$f":"HE22","v":"単位を選択してください"},null,null,{"$f":"HJ22-HH22","v":0},{"$f":"HI22","v":"単位を選択してください"},null,null,{"$f":"HN22-HL22","v":0},{"$f":"HM22","v":"単位を選択してください"},null,null,{"$f":"HR22-HP22","v":0},{"$f":"HQ22","v":"単位を選択してください"},null,null,{"$f":"HV22-HT22","v":0},{"$f":"HU22","v":"単位を選択してください"},null,null,{"$f":"HZ22-HX22","v":0},{"$f":"HY22","v":"単位を選択してください"},null,null,{"$f":"ID22-IB22","v":0},{"$f":"IC22","v":"単位を選択してください"},null,null,{"$f":"IH22-IF22","v":0},{"$f":"IG22","v":"単位を選択してください"}]
[]
[null,null,"原油換算\n計算式"]
[null,null,"計算結果",null,"kl/年 ※小数点第4位までご入力ください。",null,null,null,"kl/年",null,null,null,"kl/年",null,null,null,"kl/年",null,null,null,"kl/年",null,null,null,"kl/年",null,null,null,"kl/年",null,null,null,"kl/年",null,null,null,"kl/年",null,null,null,"kl/年",null,null,null,"kl/年",null,null,null,"kl/年",null,null,null,"kl/年",null,null,null,"kl/年",null,null,null,"kl/年",null,null,null,"kl/年",null,null,null,"kl/年",null,null,null,"kl/年",null,null,null,"kl/年",null,null,null,"kl/年",null,null,null,"kl/年",null,null,null,"kl/年",null,null,null,"kl/年",null,null,null,"kl/年",null,null,null,"kl/年",null,null,null,"kl/年",null,null,null,"kl/年",null,null,null,"kl/年",null,null,null,"kl/年",null,null,null,"kl/年",null,null,null,"kl/年",null,null,null,"kl/年",null,null,null,"kl/年",null,null,null,"kl/年",null,null,null,"kl/年",null,null,null,"kl/年",null,null,null,"kl/年",null,null,null,"kl/年",null,null,null,"kl/年",null,null,null,"kl/年",null,null,null,"kl/年",null,null,null,"kl/年",null,null,null,"kl/年",null,null,null,"kl/年",null,null,null,"kl/年",null,null,null,"kl/年",null,null,null,"kl/年",null,null,null,"kl/年",null,null,null,"kl/年",null,null,null,"kl/年",null,null,null,"kl/年",null,null,null,"kl/年",null,null,null,"kl/年",null,null,null,"kl/年",null,null,null,"kl/年",null,null,null,"kl/年",null,null,null,"kl/年",null,null,null,"kl/年",null,null,null,"kl/年",null,null,null,"kl/年"]
[null,"年間見込み\n省エネルギー率\n[%/年]","自動計算",{"$f":"IFERROR(ROUND((1-(D22/F22)),5)*100,\"\")","v":""},"％",null,null,{"$f":"IFERROR(ROUND((1-(H22/J22)),5)*100,\"\")","v":""},"％",null,null,{"$f":"IFERROR(ROUND((1-(L22/N22)),5)*100,\"\")","v":""},"％",null,null,{"$f":"IFERROR(ROUND((1-(P22/R22)),5)*100,\"\")","v":""},"％",null,null,{"$f":"IFERROR(ROUND((1-(T22/V22)),5)*100,\"\")","v":""},"％",null,null,{"$f":"IFERROR(ROUND((1-(X22/Z22)),5)*100,\"\")","v":""},"％",null,null,{"$f":"IFERROR(ROUND((1-(AB22/AD22)),5)*100,\"\")","v":""},"％",null,null,{"$f":"IFERROR(ROUND((1-(AF22/AH22)),5)*100,\"\")","v":""},"％",null,null,{"$f":"IFERROR(ROUND((1-(AJ22/AL22)),5)*100,\"\")","v":""},"％",null,null,{"$f":"IFERROR(ROUND((1-(AN22/AP22)),5)*100,\"\")","v":""},"％",null,null,{"$f":"IFERROR(ROUND((1-(AR22/AT22)),5)*100,\"\")","v":""},"％",null,null,{"$f":"IFERROR(ROUND((1-(AV22/AX22)),5)*100,\"\")","v":""},"％",null,null,{"$f":"IFERROR(ROUND((1-(AZ22/BB22)),5)*100,\"\")","v":""},"％",null,null,{"$f":"IFERROR(ROUND((1-(BD22/BF22)),5)*100,\"\")","v":""},"％",null,null,{"$f":"IFERROR(ROUND((1-(BH22/BJ22)),5)*100,\"\")","v":""},"％",null,null,{"$f":"IFERROR(ROUND((1-(BL22/BN22)),5)*100,\"\")","v":""},"％",null,null,{"$f":"IFERROR(ROUND((1-(BP22/BR22)),5)*100,\"\")","v":""},"％",null,null,{"$f":"IFERROR(ROUND((1-(BT22/BV22)),5)*100,\"\")","v":""},"％",null,null,{"$f":"IFERROR(ROUND((1-(BX22/BZ22)),5)*100,\"\")","v":""},"％",null,null,{"$f":"IFERROR(ROUND((1-(CB22/CD22)),5)*100,\"\")","v":""},"％",null,null,{"$f":"IFERROR(ROUND((1-(CF22/CH22)),5)*100,\"\")","v":""},"％",null,null,{"$f":"IFERROR(ROUND((1-(CJ22/CL22)),5)*100,\"\")","v":""},"％",null,null,{"$f":"IFERROR(ROUND((1-(CN22/CP22)),5)*100,\"\")","v":""},"％",null,null,{"$f":"IFERROR(ROUND((1-(CR22/CT22)),5)*100,\"\")","v":""},"％",null,null,{"$f":"IFERROR(ROUND((1-(CV22/CX22)),5)*100,\"\")","v":""},"％",null,null,{"$f":"IFERROR(ROUND((1-(CZ22/DB22)),5)*100,\"\")","v":""},"％",null,null,{"$f":"IFERROR(ROUND((1-(DD22/DF22)),5)*100,\"\")","v":""},"％",null,null,{"$f":"IFERROR(ROUND((1-(DH22/DJ22)),5)*100,\"\")","v":""},"％",null,null,{"$f":"IFERROR(ROUND((1-(DL22/DN22)),5)*100,\"\")","v":""},"％",null,null,{"$f":"IFERROR(ROUND((1-(DP22/DR22)),5)*100,\"\")","v":""},"％",null,null,{"$f":"IFERROR(ROUND((1-(DT22/DV22)),5)*100,\"\")","v":""},"％",null,null,{"$f":"IFERROR(ROUND((1-(DX22/DZ22)),5)*100,\"\")","v":""},"％",null,null,{"$f":"IFERROR(ROUND((1-(EB22/ED22)),5)*100,\"\")","v":""},"％",null,null,{"$f":"IFERROR(ROUND((1-(EF22/EH22)),5)*100,\"\")","v":""},"％",null,null,{"$f":"IFERROR(ROUND((1-(EJ22/EL22)),5)*100,\"\")","v":""},"％",null,null,{"$f":"IFERROR(ROUND((1-(EN22/EP22)),5)*100,\"\")","v":""},"％",null,null,{"$f":"IFERROR(ROUND((1-(ER22/ET22)),5)*100,\"\")","v":""},"％",null,null,{"$f":"IFERROR(ROUND((1-(EV22/EX22)),5)*100,\"\")","v":""},"％",null,null,{"$f":"IFERROR(ROUND((1-(EZ22/FB22)),5)*100,\"\")","v":""},"％",null,null,{"$f":"IFERROR(ROUND((1-(FD22/FF22)),5)*100,\"\")","v":""},"％",null,null,{"$f":"IFERROR(ROUND((1-(FH22/FJ22)),5)*100,\"\")","v":""},"％",null,null,{"$f":"IFERROR(ROUND((1-(FL22/FN22)),5)*100,\"\")","v":""},"％",null,null,{"$f":"IFERROR(ROUND((1-(FP22/FR22)),5)*100,\"\")","v":""},"％",null,null,{"$f":"IFERROR(ROUND((1-(FT22/FV22)),5)*100,\"\")","v":""},"％",null,null,{"$f":"IFERROR(ROUND((1-(FX22/FZ22)),5)*100,\"\")","v":""},"％",null,null,{"$f":"IFERROR(ROUND((1-(GB22/GD22)),5)*100,\"\")","v":""},"％",null,null,{"$f":"IFERROR(ROUND((1-(GF22/GH22)),5)*100,\"\")","v":""},"％",null,null,{"$f":"IFERROR(ROUND((1-(GJ22/GL22)),5)*100,\"\")","v":""},"％",null,null,{"$f":"IFERROR(ROUND((1-(GN22/GP22)),5)*100,\"\")","v":""},"％",null,null,{"$f":"IFERROR(ROUND((1-(GR22/GT22)),5)*100,\"\")","v":""},"％",null,null,{"$f":"IFERROR(ROUND((1-(GV22/GX22)),5)*100,\"\")","v":""},"％",null,null,{"$f":"IFERROR(ROUND((1-(GZ22/HB22)),5)*100,\"\")","v":""},"％",null,null,{"$f":"IFERROR(ROUND((1-(HD22/HF22)),5)*100,\"\")","v":""},"％",null,null,{"$f":"IFERROR(ROUND((1-(HH22/HJ22)),5)*100,\"\")","v":""},"％",null,null,{"$f":"IFERROR(ROUND((1-(HL22/HN22)),5)*100,\"\")","v":""},"％",null,null,{"$f":"IFERROR(ROUND((1-(HP22/HR22)),5)*100,\"\")","v":""},"％",null,null,{"$f":"IFERROR(ROUND((1-(HT22/HV22)),5)*100,\"\")","v":""},"％",null,null,{"$f":"IFERROR(ROUND((1-(HX22/HZ22)),5)*100,\"\")","v":""},"％",null,null,{"$f":"IFERROR(ROUND((1-(IB22/ID22)),5)*100,\"\")","v":""},"％",null,null,{"$f":"IFERROR(ROUND((1-(IF22/IH22)),5)*100,\"\")","v":""},"％"]
["（注）\nトップランナー基準とは、現在商品化されている製品のうち、エネルギー消費効率が最も優れているもの（トップランナー）の性能に加え、\n技術開発の将来の見通し等を勘案して定めているものです。トップランナー制度に関する詳細については、資源エネルギー庁のホームページ（下記URL）をご参照ください。"]
[]
[]
[]
[]
["https://www.enecho.meti.go.jp/category/saving_and_new/saving/enterprise/equipment/#t01"]
["（注）\n導入設備と一代前モデルの設備を比較し、エネルギー消費効率が改善されていることを明示すること。\n導入設備と同一製造メーカー同等製品にて、機能や構造などエネルギー使用量に係る変更があった場合をモデル変更とみなし、導入設備に対して最も近いモデル変更を一代前とし、その変更前の設備を原則として一代前モデルとする。\nどのような技術を用いてそのエネルギー消費効率の改善を実現しているかを説明すること。カタログや仕様書又は実測データ、図面等の省エネ計算の裏付け資料を添付すること。"]
[]
[]
[]
[]
[]
[]
["非表示",null,null,"別添4_1_1_D9","トップランナー基準",{"$f":"D9","v":0},null,"別添4_2_1_H9","トップランナー基準",{"$f":"H9","v":0},null,"別添4_3_1_L9","トップランナー基準",{"$f":"L9","v":0},null,"別添4_4_1_P9","トップランナー基準",{"$f":"P9","v":0},null,"別添4_5_1_T9","トップランナー基準",{"$f":"T9","v":0},null,"別添4_6_1_X9","トップランナー基準",{"$f":"X9","v":0},null,"別添4_7_1_AB9","トップランナー基準",{"$f":"AB9","v":0},null,"別添4_8_1_AF9","トップランナー基準",{"$f":"AF9","v":0},null,"別添4_9_1_AJ9","トップランナー基準",{"$f":"AJ9","v":0},null,"別添4_10_1_AN9","トップランナー基準",{"$f":"AN9","v":0},null,"別添4_11_1_AR9","トップランナー基準",{"$f":"AR9","v":0},null,"別添4_12_1_AV9","トップランナー基準",{"$f":"AV9","v":0},null,"別添4_13_1_AZ9","トップランナー基準",{"$f":"AZ9","v":0},null,"別添4_14_1_BD9","トップランナー基準",{"$f":"BD9","v":0},null,"別添4_15_1_BH9","トップランナー基準",{"$f":"BH9","v":0},null,"別添4_16_1_BL9","トップランナー基準",{"$f":"BL9","v":0},null,"別添4_17_1_BP9","トップランナー基準",{"$f":"BP9","v":0},null,"別添4_18_1_BT9","トップランナー基準",{"$f":"BT9","v":0},null,"別添4_19_1_BX9","トップランナー基準",{"$f":"BX9","v":0},null,"別添4_20_1_CB9","トップランナー基準",{"$f":"CB9","v":0},null,"別添4_21_1_CF9","トップランナー基準",{"$f":"CF9","v":0},null,"別添4_22_1_CJ9","トップランナー基準",{"$f":"CJ9","v":0},null,"別添4_23_1_CN9","トップランナー基準",{"$f":"CN9","v":0},null,"別添4_24_1_CR9","トップランナー基準",{"$f":"CR9","v":0},null,"別添4_25_1_CV9","トップランナー基準",{"$f":"CV9","v":0},null,"別添4_26_1_CZ9","トップランナー基準",{"$f":"CZ9","v":0},null,"別添4_27_1_DD9","トップランナー基準",{"$f":"DD9","v":0},null,"別添4_28_1_DH9","トップランナー基準",{"$f":"DH9","v":0},null,"別添4_29_1_DL9","トップランナー基準",{"$f":"DL9","v":0},null,"別添4_30_1_DP9","トップランナー基準",{"$f":"DP9","v":0},null,"別添4_31_1_DT9","トップランナー基準",{"$f":"DT9","v":0},null,"別添4_32_1_DX9","トップランナー基準",{"$f":"DX9","v":0},null,"別添4_33_1_EB9","トップランナー基準",{"$f":"EB9","v":0},null,"別添4_34_1_EF9","トップランナー基準",{"$f":"EF9","v":0},null,"別添4_35_1_EJ9","トップランナー基準",{"$f":"EJ9","v":0},null,"別添4_36_1_EN9","トップランナー基準",{"$f":"EN9","v":0},null,"別添4_37_1_ER9","トップランナー基準",{"$f":"ER9","v":0},null,"別添4_38_1_EV9","トップランナー基準",{"$f":"EV9","v":0},null,"別添4_39_1_EZ9","トップランナー基準",{"$f":"EZ9","v":0},null,"別添4_40_1_FD9","トップランナー基準",{"$f":"FD9","v":0},null,"別添4_41_1_FH9","トップランナー基準",{"$f":"FH9","v":0},null,"別添4_42_1_FL9","トップランナー基準",{"$f":"FL9","v":0},null,"別添4_43_1_FP9","トップランナー基準",{"$f":"FP9","v":0},null,"別添4_44_1_FT9","トップランナー基準",{"$f":"FT9","v":0},null,"別添4_45_1_FX9","トップランナー基準",{"$f":"FX9","v":0},null,"別添4_46_1_GB9","トップランナー基準",{"$f":"GB9","v":0},null,"別添4_47_1_GF9","トップランナー基準",{"$f":"GF9","v":0},null,"別添4_48_1_GJ9","トップランナー基準",{"$f":"GJ9","v":0},null,"別添4_49_1_GN9","トップランナー基準",{"$f":"GN9","v":0},null,"別添4_50_1_GR9","トップランナー基準",{"$f":"GR9","v":0},null,"別添4_51_1_GV9","トップランナー基準",{"$f":"GV9","v":0},null,"別添4_52_1_GZ9","トップランナー基準",{"$f":"GZ9","v":0},null,"別添4_53_1_HD9","トップランナー基準",{"$f":"HD9","v":0},null,"別添4_54_1_HH9","トップランナー基準",{"$f":"HH9","v":0},null,"別添4_54_1_HH9","トップランナー基準",{"$f":"HL9","v":0},null,"別添4_56_1_HP9","トップランナー基準",{"$f":"HP9","v":0},null,"別添4_57_1_HT9","トップランナー基準",{"$f":"HT9","v":0},null,"別添4_58_1_HX9","トップランナー基準",{"$f":"HX9","v":0},null,"別添4_59_1_IB9","トップランナー基準",{"$f":"IB9","v":0},null,"別添4_60_1_IF9","トップランナー基準",{"$f":"IF9","v":0}]
["非表示",null,null,"別添4_1_2_D10","トップランナー基準の区分名又は数値",0,null,"別添4_2_2_H10","トップランナー基準の区分名又は数値",0,null,"別添4_3_2_L10","トップランナー基準の区分名又は数値",0,null,"別添4_4_2_P10","トップランナー基準の区分名又は数値",0,null,"別添4_5_2_T10","トップランナー基準の区分名又は数値",0,null,"別添4_6_2_X10","トップランナー基準の区分名又は数値",0,null,"別添4_7_2_AB10","トップランナー基準の区分名又は数値",0,null,"別添4_8_2_AF10","トップランナー基準の区分名又は数値",0,null,"別添4_9_2_AJ10","トップランナー基準の区分名又は数値",0,null,"別添4_10_2_AN10","トップランナー基準の区分名又は数値",0,null,"別添4_11_2_AR10","トップランナー基準の区分名又は数値",0,null,"別添4_12_2_AV10","トップランナー基準の区分名又は数値",0,null,"別添4_13_2_AZ10","トップランナー基準の区分名又は数値",0,null,"別添4_14_2_BD10","トップランナー基準の区分名又は数値",0,null,"別添4_15_2_BH10","トップランナー基準の区分名又は数値",0,null,"別添4_16_2_BL10","トップランナー基準の区分名又は数値",0,null,"別添4_17_2_BP10","トップランナー基準の区分名又は数値",0,null,"別添4_18_2_BT10","トップランナー基準の区分名又は数値",0,null,"別添4_19_2_BX10","トップランナー基準の区分名又は数値",0,null,"別添4_20_2_CB10","トップランナー基準の区分名又は数値",0,null,"別添4_21_2_CF10","トップランナー基準の区分名又は数値",0,null,"別添4_22_2_CJ10","トップランナー基準の区分名又は数値",0,null,"別添4_23_2_CN10","トップランナー基準の区分名又は数値",0,null,"別添4_24_2_CR10","トップランナー基準の区分名又は数値",0,null,"別添4_25_2_CV10","トップランナー基準の区分名又は数値",0,null,"別添4_26_2_CZ10","トップランナー基準の区分名又は数値",0,null,"別添4_27_2_DD10","トップランナー基準の区分名又は数値",0,null,"別添4_28_2_DH10","トップランナー基準の区分名又は数値",0,null,"別添4_29_2_DL10","トップランナー基準の区分名又は数値",0,null,"別添4_30_2_DP10","トップランナー基準の区分名又は数値",0,null,"別添4_31_2_DT10","トップランナー基準の区分名又は数値",0,null,"別添4_32_2_DX10","トップランナー基準の区分名又は数値",0,null,"別添4_33_2_EB10","トップランナー基準の区分名又は数値",0,null,"別添4_34_2_EF10","トップランナー基準の区分名又は数値",0,null,"別添4_35_2_EJ10","トップランナー基準の区分名又は数値",0,null,"別添4_36_2_EN10","トップランナー基準の区分名又は数値",0,null,"別添4_37_2_ER10","トップランナー基準の区分名又は数値",0,null,"別添4_38_2_EV10","トップランナー基準の区分名又は数値",0,null,"別添4_39_2_EZ10","トップランナー基準の区分名又は数値",0,null,"別添4_40_2_FD10","トップランナー基準の区分名又は数値",0,null,"別添4_41_2_FH10","トップランナー基準の区分名又は数値",0,null,"別添4_42_2_FL10","トップランナー基準の区分名又は数値",0,null,"別添4_43_2_FP10","トップランナー基準の区分名又は数値",0,null,"別添4_44_2_FT10","トップランナー基準の区分名又は数値",0,null,"別添4_45_2_FX10","トップランナー基準の区分名又は数値",0,null,"別添4_46_2_GB10","トップランナー基準の区分名又は数値",0,null,"別添4_47_2_GF10","トップランナー基準の区分名又は数値",0,null,"別添4_48_2_GJ10","トップランナー基準の区分名又は数値",0,null,"別添4_49_2_GN10","トップランナー基準の区分名又は数値",0,null,"別添4_50_2_GR10","トップランナー基準の区分名又は数値",0,null,"別添4_51_2_GV10","トップランナー基準の区分名又は数値",0,null,"別添4_52_2_GZ10","トップランナー基準の区分名又は数値",0,null,"別添4_53_2_HD10","トップランナー基準の区分名又は数値",0,null,"別添4_54_2_HH10","トップランナー基準の区分名又は数値",0,null,"別添4_54_2_HH10","トップランナー基準の区分名又は数値",0,null,"別添4_56_2_HP10","トップランナー基準の区分名又は数値",0,null,"別添4_57_2_HT10","トップランナー基準の区分名又は数値",0,null,"別添4_58_2_HX10","トップランナー基準の区分名又は数値",0,null,"別添4_59_2_IB10","トップランナー基準の区分名又は数値",0,null,"別添4_60_2_IF10","トップランナー基準の区分名又は数値",0]
["非表示",null,null,"別添4_1_3_D11","トップランナー基準の数値（導入設備）",0,null,"別添4_2_3_H11","トップランナー基準の数値（導入設備）",0,null,"別添4_3_3_L11","トップランナー基準の数値（導入設備）",0,null,"別添4_4_3_P11","トップランナー基準の数値（導入設備）",0,null,"別添4_5_3_T11","トップランナー基準の数値（導入設備）",0,null,"別添4_6_3_X11","トップランナー基準の数値（導入設備）",0,null,"別添4_7_3_AB11","トップランナー基準の数値（導入設備）",0,null,"別添4_8_3_AF11","トップランナー基準の数値（導入設備）",0,null,"別添4_9_3_AJ11","トップランナー基準の数値（導入設備）",0,null,"別添4_10_3_AN11","トップランナー基準の数値（導入設備）",0,null,"別添4_11_3_AR11","トップランナー基準の数値（導入設備）",0,null,"別添4_12_3_AV11","トップランナー基準の数値（導入設備）",0,null,"別添4_13_3_AZ11","トップランナー基準の数値（導入設備）",0,null,"別添4_14_3_BD11","トップランナー基準の数値（導入設備）",0,null,"別添4_15_3_BH11","トップランナー基準の数値（導入設備）",0,null,"別添4_16_3_BL11","トップランナー基準の数値（導入設備）",0,null,"別添4_17_3_BP11","トップランナー基準の数値（導入設備）",0,null,"別添4_18_3_BT11","トップランナー基準の数値（導入設備）",0,null,"別添4_19_3_BX11","トップランナー基準の数値（導入設備）",0,null,"別添4_20_3_CB11","トップランナー基準の数値（導入設備）",0,null,"別添4_21_3_CF11","トップランナー基準の数値（導入設備）",0,null,"別添4_22_3_CJ11","トップランナー基準の数値（導入設備）",0,null,"別添4_23_3_CN11","トップランナー基準の数値（導入設備）",0,null,"別添4_24_3_CR11","トップランナー基準の数値（導入設備）",0,null,"別添4_25_3_CV11","トップランナー基準の数値（導入設備）",0,null,"別添4_26_3_CZ11","トップランナー基準の数値（導入設備）",0,null,"別添4_27_3_DD11","トップランナー基準の数値（導入設備）",0,null,"別添4_28_3_DH11","トップランナー基準の数値（導入設備）",0,null,"別添4_29_3_DL11","トップランナー基準の数値（導入設備）",0,null,"別添4_30_3_DP11","トップランナー基準の数値（導入設備）",0,null,"別添4_31_3_DT11","トップランナー基準の数値（導入設備）",0,null,"別添4_32_3_DX11","トップランナー基準の数値（導入設備）",0,null,"別添4_33_3_EB11","トップランナー基準の数値（導入設備）",0,null,"別添4_34_3_EF11","トップランナー基準の数値（導入設備）",0,null,"別添4_35_3_EJ11","トップランナー基準の数値（導入設備）",0,null,"別添4_36_3_EN11","トップランナー基準の数値（導入設備）",0,null,"別添4_37_3_ER11","トップランナー基準の数値（導入設備）",0,null,"別添4_38_3_EV11","トップランナー基準の数値（導入設備）",0,null,"別添4_39_3_EZ11","トップランナー基準の数値（導入設備）",0,null,"別添4_40_3_FD11","トップランナー基準の数値（導入設備）",0,null,"別添4_41_3_FH11","トップランナー基準の数値（導入設備）",0,null,"別添4_42_3_FL11","トップランナー基準の数値（導入設備）",0,null,"別添4_43_3_FP11","トップランナー基準の数値（導入設備）",0,null,"別添4_44_3_FT11","トップランナー基準の数値（導入設備）",0,null,"別添4_45_3_FX11","トップランナー基準の数値（導入設備）",0,null,"別添4_46_3_GB11","トップランナー基準の数値（導入設備）",0,null,"別添4_47_3_GF11","トップランナー基準の数値（導入設備）",0,null,"別添4_48_3_GJ11","トップランナー基準の数値（導入設備）",0,null,"別添4_49_3_GN11","トップランナー基準の数値（導入設備）",0,null,"別添4_50_3_GR11","トップランナー基準の数値（導入設備）",0,null,"別添4_51_3_GV11","トップランナー基準の数値（導入設備）",0,null,"別添4_52_3_GZ11","トップランナー基準の数値（導入設備）",0,null,"別添4_53_3_HD11","トップランナー基準の数値（導入設備）",0,null,"別添4_54_3_HH11","トップランナー基準の数値（導入設備）",0,null,"別添4_54_3_HH11","トップランナー基準の数値（導入設備）",0,null,"別添4_56_3_HP11","トップランナー基準の数値（導入設備）",0,null,"別添4_57_3_HT11","トップランナー基準の数値（導入設備）",0,null,"別添4_58_3_HX11","トップランナー基準の数値（導入設備）",0,null,"別添4_59_3_IB11","トップランナー基準の数値（導入設備）",0,null,"別添4_60_3_IF11","トップランナー基準の数値（導入設備）",0]
["非表示",null,null,"別添4_1_4_D12","比較指標/トップランナー基準",0,null,"別添4_2_4_H12","比較指標/トップランナー基準",0,null,"別添4_3_4_L12","比較指標/トップランナー基準",0,null,"別添4_4_4_P12","比較指標/トップランナー基準",0,null,"別添4_5_4_T12","比較指標/トップランナー基準",0,null,"別添4_6_4_X12","比較指標/トップランナー基準",0,null,"別添4_7_4_AB12","比較指標/トップランナー基準",0,null,"別添4_8_4_AF12","比較指標/トップランナー基準",0,null,"別添4_9_4_AJ12","比較指標/トップランナー基準",0,null,"別添4_10_4_AN12","比較指標/トップランナー基準",0,null,"別添4_11_4_AR12","比較指標/トップランナー基準",0,null,"別添4_12_4_AV12","比較指標/トップランナー基準",0,null,"別添4_13_4_AZ12","比較指標/トップランナー基準",0,null,"別添4_14_4_BD12","比較指標/トップランナー基準",0,null,"別添4_15_4_BH12","比較指標/トップランナー基準",0,null,"別添4_16_4_BL12","比較指標/トップランナー基準",0,null,"別添4_17_4_BP12","比較指標/トップランナー基準",0,null,"別添4_18_4_BT12","比較指標/トップランナー基準",0,null,"別添4_19_4_BX12","比較指標/トップランナー基準",0,null,"別添4_20_4_CB12","比較指標/トップランナー基準",0,null,"別添4_21_4_CF12","比較指標/トップランナー基準",0,null,"別添4_22_4_CJ12","比較指標/トップランナー基準",0,null,"別添4_23_4_CN12","比較指標/トップランナー基準",0,null,"別添4_24_4_CR12","比較指標/トップランナー基準",0,null,"別添4_25_4_CV12","比較指標/トップランナー基準",0,null,"別添4_26_4_CZ12","比較指標/トップランナー基準",0,null,"別添4_27_4_DD12","比較指標/トップランナー基準",0,null,"別添4_28_4_DH12","比較指標/トップランナー基準",0,null,"別添4_29_4_DL12","比較指標/トップランナー基準",0,null,"別添4_30_4_DP12","比較指標/トップランナー基準",0,null,"別添4_31_4_DT12","比較指標/トップランナー基準",0,null,"別添4_32_4_DX12","比較指標/トップランナー基準",0,null,"別添4_33_4_EB12","比較指標/トップランナー基準",0,null,"別添4_34_4_EF12","比較指標/トップランナー基準",0,null,"別添4_35_4_EJ12","比較指標/トップランナー基準",0,null,"別添4_36_4_EN12","比較指標/トップランナー基準",0,null,"別添4_37_4_ER12","比較指標/トップランナー基準",0,null,"別添4_38_4_EV12","比較指標/トップランナー基準",0,null,"別添4_39_4_EZ12","比較指標/トップランナー基準",0,null,"別添4_40_4_FD12","比較指標/トップランナー基準",0,null,"別添4_41_4_FH12","比較指標/トップランナー基準",0,null,"別添4_42_4_FL12","比較指標/トップランナー基準",0,null,"別添4_43_4_FP12","比較指標/トップランナー基準",0,null,"別添4_44_4_FT12","比較指標/トップランナー基準",0,null,"別添4_45_4_FX12","比較指標/トップランナー基準",0,null,"別添4_46_4_GB12","比較指標/トップランナー基準",0,null,"別添4_47_4_GF12","比較指標/トップランナー基準",0,null,"別添4_48_4_GJ12","比較指標/トップランナー基準",0,null,"別添4_49_4_GN12","比較指標/トップランナー基準",0,null,"別添4_50_4_GR12","比較指標/トップランナー基準",0,null,"別添4_51_4_GV12","比較指標/トップランナー基準",0,null,"別添4_52_4_GZ12","比較指標/トップランナー基準",0,null,"別添4_53_4_HD12","比較指標/トップランナー基準",0,null,"別添4_54_4_HH12","比較指標/トップランナー基準",0,null,"別添4_54_4_HH12","比較指標/トップランナー基準",0,null,"別添4_56_4_HP12","比較指標/トップランナー基準",0,null,"別添4_57_4_HT12","比較指標/トップランナー基準",0,null,"別添4_58_4_HX12","比較指標/トップランナー基準",0,null,"別添4_59_4_IB12","比較指標/トップランナー基準",0,null,"別添4_60_4_IF12","比較指標/トップランナー基準",0]
["非表示",null,null,"別添4_1_5_D13","添付資料の根拠記載箇所",0,null,"別添4_2_5_H13","添付資料の根拠記載箇所",0,null,"別添4_3_5_L13","添付資料の根拠記載箇所",0,null,"別添4_4_5_P13","添付資料の根拠記載箇所",0,null,"別添4_5_5_T13","添付資料の根拠記載箇所",0,null,"別添4_6_5_X13","添付資料の根拠記載箇所",0,null,"別添4_7_5_AB13","添付資料の根拠記載箇所",0,null,"別添4_8_5_AF13","添付資料の根拠記載箇所",0,null,"別添4_9_5_AJ13","添付資料の根拠記載箇所",0,null,"別添4_10_5_AN13","添付資料の根拠記載箇所",0,null,"別添4_11_5_AR13","添付資料の根拠記載箇所",0,null,"別添4_12_5_AV13","添付資料の根拠記載箇所",0,null,"別添4_13_5_AZ13","添付資料の根拠記載箇所",0,null,"別添4_14_5_BD13","添付資料の根拠記載箇所",0,null,"別添4_15_5_BH13","添付資料の根拠記載箇所",0,null,"別添4_16_5_BL13","添付資料の根拠記載箇所",0,null,"別添4_17_5_BP13","添付資料の根拠記載箇所",0,null,"別添4_18_5_BT13","添付資料の根拠記載箇所",0,null,"別添4_19_5_BX13","添付資料の根拠記載箇所",0,null,"別添4_20_5_CB13","添付資料の根拠記載箇所",0,null,"別添4_21_5_CF13","添付資料の根拠記載箇所",0,null,"別添4_22_5_CJ13","添付資料の根拠記載箇所",0,null,"別添4_23_5_CN13","添付資料の根拠記載箇所",0,null,"別添4_24_5_CR13","添付資料の根拠記載箇所",0,null,"別添4_25_5_CV13","添付資料の根拠記載箇所",0,null,"別添4_26_5_CZ13","添付資料の根拠記載箇所",0,null,"別添4_27_5_DD13","添付資料の根拠記載箇所",0,null,"別添4_28_5_DH13","添付資料の根拠記載箇所",0,null,"別添4_29_5_DL13","添付資料の根拠記載箇所",0,null,"別添4_30_5_DP13","添付資料の根拠記載箇所",0,null,"別添4_31_5_DT13","添付資料の根拠記載箇所",0,null,"別添4_32_5_DX13","添付資料の根拠記載箇所",0,null,"別添4_33_5_EB13","添付資料の根拠記載箇所",0,null,"別添4_34_5_EF13","添付資料の根拠記載箇所",0,null,"別添4_35_5_EJ13","添付資料の根拠記載箇所",0,null,"別添4_36_5_EN13","添付資料の根拠記載箇所",0,null,"別添4_37_5_ER13","添付資料の根拠記載箇所",0,null,"別添4_38_5_EV13","添付資料の根拠記載箇所",0,null,"別添4_39_5_EZ13","添付資料の根拠記載箇所",0,null,"別添4_40_5_FD13","添付資料の根拠記載箇所",0,null,"別添4_41_5_FH13","添付資料の根拠記載箇所",0,null,"別添4_42_5_FL13","添付資料の根拠記載箇所",0,null,"別添4_43_5_FP13","添付資料の根拠記載箇所",0,null,"別添4_44_5_FT13","添付資料の根拠記載箇所",0,null,"別添4_45_5_FX13","添付資料の根拠記載箇所",0,null,"別添4_46_5_GB13","添付資料の根拠記載箇所",0,null,"別添4_47_5_GF13","添付資料の根拠記載箇所",0,null,"別添4_48_5_GJ13","添付資料の根拠記載箇所",0,null,"別添4_49_5_GN13","添付資料の根拠記載箇所",0,null,"別添4_50_5_GR13","添付資料の根拠記載箇所",0,null,"別添4_51_5_GV13","添付資料の根拠記載箇所",0,null,"別添4_52_5_GZ13","添付資料の根拠記載箇所",0,null,"別添4_53_5_HD13","添付資料の根拠記載箇所",0,null,"別添4_54_5_HH13","添付資料の根拠記載箇所",0,null,"別添4_54_5_HH13","添付資料の根拠記載箇所",0,null,"別添4_56_5_HP13","添付資料の根拠記載箇所",0,null,"別添4_57_5_HT13","添付資料の根拠記載箇所",0,null,"別添4_58_5_HX13","添付資料の根拠記載箇所",0,null,"別添4_59_5_IB13","添付資料の根拠記載箇所",0,null,"別添4_60_5_IF13","添付資料の根拠記載箇所",0]
["非表示",null,null,"別添4_1_6_D14","省エネ要因",0,null,"別添4_2_6_H14","省エネ要因",0,null,"別添4_3_6_L14","省エネ要因",0,null,"別添4_4_6_P14","省エネ要因",0,null,"別添4_5_6_T14","省エネ要因",0,null,"別添4_6_6_X14","省エネ要因",0,null,"別添4_7_6_AB14","省エネ要因",0,null,"別添4_8_6_AF14","省エネ要因",0,null,"別添4_9_6_AJ14","省エネ要因",0,null,"別添4_10_6_AN14","省エネ要因",0,null,"別添4_11_6_AR14","省エネ要因",0,null,"別添4_12_6_AV14","省エネ要因",0,null,"別添4_13_6_AZ14","省エネ要因",0,null,"別添4_14_6_BD14","省エネ要因",0,null,"別添4_15_6_BH14","省エネ要因",0,null,"別添4_16_6_BL14","省エネ要因",0,null,"別添4_17_6_BP14","省エネ要因",0,null,"別添4_18_6_BT14","省エネ要因",0,null,"別添4_19_6_BX14","省エネ要因",0,null,"別添4_20_6_CB14","省エネ要因",0,null,"別添4_21_6_CF14","省エネ要因",0,null,"別添4_22_6_CJ14","省エネ要因",0,null,"別添4_23_6_CN14","省エネ要因",0,null,"別添4_24_6_CR14","省エネ要因",0,null,"別添4_25_6_CV14","省エネ要因",0,null,"別添4_26_6_CZ14","省エネ要因",0,null,"別添4_27_6_DD14","省エネ要因",0,null,"別添4_28_6_DH14","省エネ要因",0,null,"別添4_29_6_DL14","省エネ要因",0,null,"別添4_30_6_DP14","省エネ要因",0,null,"別添4_31_6_DT14","省エネ要因",0,null,"別添4_32_6_DX14","省エネ要因",0,null,"別添4_33_6_EB14","省エネ要因",0,null,"別添4_34_6_EF14","省エネ要因",0,null,"別添4_35_6_EJ14","省エネ要因",0,null,"別添4_36_6_EN14","省エネ要因",0,null,"別添4_37_6_ER14","省エネ要因",0,null,"別添4_38_6_EV14","省エネ要因",0,null,"別添4_39_6_EZ14","省エネ要因",0,null,"別添4_40_6_FD14","省エネ要因",0,null,"別添4_41_6_FH14","省エネ要因",0,null,"別添4_42_6_FL14","省エネ要因",0,null,"別添4_43_6_FP14","省エネ要因",0,null,"別添4_44_6_FT14","省エネ要因",0,null,"別添4_45_6_FX14","省エネ要因",0,null,"別添4_46_6_GB14","省エネ要因",0,null,"別添4_47_6_GF14","省エネ要因",0,null,"別添4_48_6_GJ14","省エネ要因",0,null,"別添4_49_6_GN14","省エネ要因",0,null,"別添4_50_6_GR14","省エネ要因",0,null,"別添4_51_6_GV14","省エネ要因",0,null,"別添4_52_6_GZ14","省エネ要因",0,null,"別添4_53_6_HD14","省エネ要因",0,null,"別添4_54_6_HH14","省エネ要因",0,null,"別添4_54_6_HH14","省エネ要因",0,null,"別添4_56_6_HP14","省エネ要因",0,null,"別添4_57_6_HT14","省エネ要因",0,null,"別添4_58_6_HX14","省エネ要因",0,null,"別添4_59_6_IB14","省エネ要因",0,null,"別添4_60_6_IF14","省エネ要因",0]
["非表示",null,null,"別添4_1_7_D16","導入設備_製品名",{"$f":"D16","v":0},null,"別添4_2_7_H16","導入設備_製品名",{"$f":"H16","v":0},null,"別添4_3_7_L16","導入設備_製品名",{"$f":"L16","v":0},null,"別添4_4_7_P16","導入設備_製品名",{"$f":"P16","v":0},null,"別添4_5_7_T16","導入設備_製品名",{"$f":"T16","v":0},null,"別添4_6_7_X16","導入設備_製品名",{"$f":"X16","v":0},null,"別添4_7_7_AB16","導入設備_製品名",{"$f":"AB16","v":0},null,"別添4_8_7_AF16","導入設備_製品名",{"$f":"AF16","v":0},null,"別添4_9_7_AJ16","導入設備_製品名",{"$f":"AJ16","v":0},null,"別添4_10_7_AN16","導入設備_製品名",{"$f":"AN16","v":0},null,"別添4_11_7_AR16","導入設備_製品名",{"$f":"AR16","v":0},null,"別添4_12_7_AV16","導入設備_製品名",{"$f":"AV16","v":0},null,"別添4_13_7_AZ16","導入設備_製品名",{"$f":"AZ16","v":0},null,"別添4_14_7_BD16","導入設備_製品名",{"$f":"BD16","v":0},null,"別添4_15_7_BH16","導入設備_製品名",{"$f":"BH16","v":0},null,"別添4_16_7_BL16","導入設備_製品名",{"$f":"BL16","v":0},null,"別添4_17_7_BP16","導入設備_製品名",{"$f":"BP16","v":0},null,"別添4_18_7_BT16","導入設備_製品名",{"$f":"BT16","v":0},null,"別添4_19_7_BX16","導入設備_製品名",{"$f":"BX16","v":0},null,"別添4_20_7_CB16","導入設備_製品名",{"$f":"CB16","v":0},null,"別添4_21_7_CF16","導入設備_製品名",{"$f":"CF16","v":0},null,"別添4_22_7_CJ16","導入設備_製品名",{"$f":"CJ16","v":0},null,"別添4_23_7_CN16","導入設備_製品名",{"$f":"CN16","v":0},null,"別添4_24_7_CR16","導入設備_製品名",{"$f":"CR16","v":0},null,"別添4_25_7_CV16","導入設備_製品名",{"$f":"CV16","v":0},null,"別添4_26_7_CZ16","導入設備_製品名",{"$f":"CZ16","v":0},null,"別添4_27_7_DD16","導入設備_製品名",{"$f":"DD16","v":0},null,"別添4_28_7_DH16","導入設備_製品名",{"$f":"DH16","v":0},null,"別添4_29_7_DL16","導入設備_製品名",{"$f":"DL16","v":0},null,"別添4_30_7_DP16","導入設備_製品名",{"$f":"DP16","v":0},null,"別添4_31_7_DT16","導入設備_製品名",{"$f":"DT16","v":0},null,"別添4_32_7_DX16","導入設備_製品名",{"$f":"DX16","v":0},null,"別添4_33_7_EB16","導入設備_製品名",{"$f":"EB16","v":0},null,"別添4_34_7_EF16","導入設備_製品名",{"$f":"EF16","v":0},null,"別添4_35_7_EJ16","導入設備_製品名",{"$f":"EJ16","v":0},null,"別添4_36_7_EN16","導入設備_製品名",{"$f":"EN16","v":0},null,"別添4_37_7_ER16","導入設備_製品名",{"$f":"ER16","v":0},null,"別添4_38_7_EV16","導入設備_製品名",{"$f":"EV16","v":0},null,"別添4_39_7_EZ16","導入設備_製品名",{"$f":"EZ16","v":0},null,"別添4_40_7_FD16","導入設備_製品名",{"$f":"FD16","v":0},null,"別添4_41_7_FH16","導入設備_製品名",{"$f":"FH16","v":0},null,"別添4_42_7_FL16","導入設備_製品名",{"$f":"FL16","v":0},null,"別添4_43_7_FP16","導入設備_製品名",{"$f":"FP16","v":0},null,"別添4_44_7_FT16","導入設備_製品名",{"$f":"FT16","v":0},null,"別添4_45_7_FX16","導入設備_製品名",{"$f":"FX16","v":0},null,"別添4_46_7_GB16","導入設備_製品名",{"$f":"GB16","v":0},null,"別添4_47_7_GF16","導入設備_製品名",{"$f":"GF16","v":0},null,"別添4_48_7_GJ16","導入設備_製品名",{"$f":"GJ16","v":0},null,"別添4_49_7_GN16","導入設備_製品名",{"$f":"GN16","v":0},null,"別添4_50_7_GR16","導入設備_製品名",{"$f":"GR16","v":0},null,"別添4_51_7_GV16","導入設備_製品名",{"$f":"GV16","v":0},null,"別添4_52_7_GZ16","導入設備_製品名",{"$f":"GZ16","v":0},null,"別添4_53_7_HD16","導入設備_製品名",{"$f":"HD16","v":0},null,"別添4_54_7_HH16","導入設備_製品名",{"$f":"HH16","v":0},null,"別添4_54_7_HH16","導入設備_製品名",{"$f":"HL16","v":0},null,"別添4_56_7_HP16","導入設備_製品名",{"$f":"HP16","v":0},null,"別添4_57_7_HT16","導入設備_製品名",{"$f":"HT16","v":0},null,"別添4_58_7_HX16","導入設備_製品名",{"$f":"HX16","v":0},null,"別添4_59_7_IB16","導入設備_製品名",{"$f":"IB16","v":0},null,"別添4_60_7_IF16","導入設備_製品名",{"$f":"IF16","v":0}]
["非表示",null,null,"別添4_1_8_D17","導入設備_製造メーカー",{"$f":"D17","v":0},null,"別添4_2_8_H17","導入設備_製造メーカー",{"$f":"H17","v":0},null,"別添4_3_8_L17","導入設備_製造メーカー",{"$f":"L17","v":0},null,"別添4_4_8_P17","導入設備_製造メーカー",{"$f":"P17","v":0},null,"別添4_5_8_T17","導入設備_製造メーカー",{"$f":"T17","v":0},null,"別添4_6_8_X17","導入設備_製造メーカー",{"$f":"X17","v":0},null,"別添4_7_8_AB17","導入設備_製造メーカー",{"$f":"AB17","v":0},null,"別添4_8_8_AF17","導入設備_製造メーカー",{"$f":"AF17","v":0},null,"別添4_9_8_AJ17","導入設備_製造メーカー",{"$f":"AJ17","v":0},null,"別添4_10_8_AN17","導入設備_製造メーカー",{"$f":"AN17","v":0},null,"別添4_11_8_AR17","導入設備_製造メーカー",{"$f":"AR17","v":0},null,"別添4_12_8_AV17","導入設備_製造メーカー",{"$f":"AV17","v":0},null,"別添4_13_8_AZ17","導入設備_製造メーカー",{"$f":"AZ17","v":0},null,"別添4_14_8_BD17","導入設備_製造メーカー",{"$f":"BD17","v":0},null,"別添4_15_8_BH17","導入設備_製造メーカー",{"$f":"BH17","v":0},null,"別添4_16_8_BL17","導入設備_製造メーカー",{"$f":"BL17","v":0},null,"別添4_17_8_BP17","導入設備_製造メーカー",{"$f":"BP17","v":0},null,"別添4_18_8_BT17","導入設備_製造メーカー",{"$f":"BT17","v":0},null,"別添4_19_8_BX17","導入設備_製造メーカー",{"$f":"BX17","v":0},null,"別添4_20_8_CB17","導入設備_製造メーカー",{"$f":"CB17","v":0},null,"別添4_21_8_CF17","導入設備_製造メーカー",{"$f":"CF17","v":0},null,"別添4_22_8_CJ17","導入設備_製造メーカー",{"$f":"CJ17","v":0},null,"別添4_23_8_CN17","導入設備_製造メーカー",{"$f":"CN17","v":0},null,"別添4_24_8_CR17","導入設備_製造メーカー",{"$f":"CR17","v":0},null,"別添4_25_8_CV17","導入設備_製造メーカー",{"$f":"CV17","v":0},null,"別添4_26_8_CZ17","導入設備_製造メーカー",{"$f":"CZ17","v":0},null,"別添4_27_8_DD17","導入設備_製造メーカー",{"$f":"DD17","v":0},null,"別添4_28_8_DH17","導入設備_製造メーカー",{"$f":"DH17","v":0},null,"別添4_29_8_DL17","導入設備_製造メーカー",{"$f":"DL17","v":0},null,"別添4_30_8_DP17","導入設備_製造メーカー",{"$f":"DP17","v":0},null,"別添4_31_8_DT17","導入設備_製造メーカー",{"$f":"DT17","v":0},null,"別添4_32_8_DX17","導入設備_製造メーカー",{"$f":"DX17","v":0},null,"別添4_33_8_EB17","導入設備_製造メーカー",{"$f":"EB17","v":0},null,"別添4_34_8_EF17","導入設備_製造メーカー",{"$f":"EF17","v":0},null,"別添4_35_8_EJ17","導入設備_製造メーカー",{"$f":"EJ17","v":0},null,"別添4_36_8_EN17","導入設備_製造メーカー",{"$f":"EN17","v":0},null,"別添4_37_8_ER17","導入設備_製造メーカー",{"$f":"ER17","v":0},null,"別添4_38_8_EV17","導入設備_製造メーカー",{"$f":"EV17","v":0},null,"別添4_39_8_EZ17","導入設備_製造メーカー",{"$f":"EZ17","v":0},null,"別添4_40_8_FD17","導入設備_製造メーカー",{"$f":"FD17","v":0},null,"別添4_41_8_FH17","導入設備_製造メーカー",{"$f":"FH17","v":0},null,"別添4_42_8_FL17","導入設備_製造メーカー",{"$f":"FL17","v":0},null,"別添4_43_8_FP17","導入設備_製造メーカー",{"$f":"FP17","v":0},null,"別添4_44_8_FT17","導入設備_製造メーカー",{"$f":"FT17","v":0},null,"別添4_45_8_FX17","導入設備_製造メーカー",{"$f":"FX17","v":0},null,"別添4_46_8_GB17","導入設備_製造メーカー",{"$f":"GB17","v":0},null,"別添4_47_8_GF17","導入設備_製造メーカー",{"$f":"GF17","v":0},null,"別添4_48_8_GJ17","導入設備_製造メーカー",{"$f":"GJ17","v":0},null,"別添4_49_8_GN17","導入設備_製造メーカー",{"$f":"GN17","v":0},null,"別添4_50_8_GR17","導入設備_製造メーカー",{"$f":"GR17","v":0},null,"別添4_51_8_GV17","導入設備_製造メーカー",{"$f":"GV17","v":0},null,"別添4_52_8_GZ17","導入設備_製造メーカー",{"$f":"GZ17","v":0},null,"別添4_53_8_HD17","導入設備_製造メーカー",{"$f":"HD17","v":0},null,"別添4_54_8_HH17","導入設備_製造メーカー",{"$f":"HH17","v":0},null,"別添4_54_8_HH17","導入設備_製造メーカー",{"$f":"HL17","v":0},null,"別添4_56_8_HP17","導入設備_製造メーカー",{"$f":"HP17","v":0},null,"別添4_57_8_HT17","導入設備_製造メーカー",{"$f":"HT17","v":0},null,"別添4_58_8_HX17","導入設備_製造メーカー",{"$f":"HX17","v":0},null,"別添4_59_8_IB17","導入設備_製造メーカー",{"$f":"IB17","v":0},null,"別添4_60_8_IF17","導入設備_製造メーカー",{"$f":"IF17","v":0}]
["非表示",null,null,"別添4_1_9_D18","導入設備_型番",{"$f":"D18","v":0},null,"別添4_2_9_H18","導入設備_型番",{"$f":"H18","v":0},null,"別添4_3_9_L18","導入設備_型番",{"$f":"L18","v":0},null,"別添4_4_9_P18","導入設備_型番",{"$f":"P18","v":0},null,"別添4_5_9_T18","導入設備_型番",{"$f":"T18","v":0},null,"別添4_6_9_X18","導入設備_型番",{"$f":"X18","v":0},null,"別添4_7_9_AB18","導入設備_型番",{"$f":"AB18","v":0},null,"別添4_8_9_AF18","導入設備_型番",{"$f":"AF18","v":0},null,"別添4_9_9_AJ18","導入設備_型番",{"$f":"AJ18","v":0},null,"別添4_10_9_AN18","導入設備_型番",{"$f":"AN18","v":0},null,"別添4_11_9_AR18","導入設備_型番",{"$f":"AR18","v":0},null,"別添4_12_9_AV18","導入設備_型番",{"$f":"AV18","v":0},null,"別添4_13_9_AZ18","導入設備_型番",{"$f":"AZ18","v":0},null,"別添4_14_9_BD18","導入設備_型番",{"$f":"BD18","v":0},null,"別添4_15_9_BH18","導入設備_型番",{"$f":"BH18","v":0},null,"別添4_16_9_BL18","導入設備_型番",{"$f":"BL18","v":0},null,"別添4_17_9_BP18","導入設備_型番",{"$f":"BP18","v":0},null,"別添4_18_9_BT18","導入設備_型番",{"$f":"BT18","v":0},null,"別添4_19_9_BX18","導入設備_型番",{"$f":"BX18","v":0},null,"別添4_20_9_CB18","導入設備_型番",{"$f":"CB18","v":0},null,"別添4_21_9_CF18","導入設備_型番",{"$f":"CF18","v":0},null,"別添4_22_9_CJ18","導入設備_型番",{"$f":"CJ18","v":0},null,"別添4_23_9_CN18","導入設備_型番",{"$f":"CN18","v":0},null,"別添4_24_9_CR18","導入設備_型番",{"$f":"CR18","v":0},null,"別添4_25_9_CV18","導入設備_型番",{"$f":"CV18","v":0},null,"別添4_26_9_CZ18","導入設備_型番",{"$f":"CZ18","v":0},null,"別添4_27_9_DD18","導入設備_型番",{"$f":"DD18","v":0},null,"別添4_28_9_DH18","導入設備_型番",{"$f":"DH18","v":0},null,"別添4_29_9_DL18","導入設備_型番",{"$f":"DL18","v":0},null,"別添4_30_9_DP18","導入設備_型番",{"$f":"DP18","v":0},null,"別添4_31_9_DT18","導入設備_型番",{"$f":"DT18","v":0},null,"別添4_32_9_DX18","導入設備_型番",{"$f":"DX18","v":0},null,"別添4_33_9_EB18","導入設備_型番",{"$f":"EB18","v":0},null,"別添4_34_9_EF18","導入設備_型番",{"$f":"EF18","v":0},null,"別添4_35_9_EJ18","導入設備_型番",{"$f":"EJ18","v":0},null,"別添4_36_9_EN18","導入設備_型番",{"$f":"EN18","v":0},null,"別添4_37_9_ER18","導入設備_型番",{"$f":"ER18","v":0},null,"別添4_38_9_EV18","導入設備_型番",{"$f":"EV18","v":0},null,"別添4_39_9_EZ18","導入設備_型番",{"$f":"EZ18","v":0},null,"別添4_40_9_FD18","導入設備_型番",{"$f":"FD18","v":0},null,"別添4_41_9_FH18","導入設備_型番",{"$f":"FH18","v":0},null,"別添4_42_9_FL18","導入設備_型番",{"$f":"FL18","v":0},null,"別添4_43_9_FP18","導入設備_型番",{"$f":"FP18","v":0},null,"別添4_44_9_FT18","導入設備_型番",{"$f":"FT18","v":0},null,"別添4_45_9_FX18","導入設備_型番",{"$f":"FX18","v":0},null,"別添4_46_9_GB18","導入設備_型番",{"$f":"GB18","v":0},null,"別添4_47_9_GF18","導入設備_型番",{"$f":"GF18","v":0},null,"別添4_48_9_GJ18","導入設備_型番",{"$f":"GJ18","v":0},null,"別添4_49_9_GN18","導入設備_型番",{"$f":"GN18","v":0},null,"別添4_50_9_GR18","導入設備_型番",{"$f":"GR18","v":0},null,"別添4_51_9_GV18","導入設備_型番",{"$f":"GV18","v":0},null,"別添4_52_9_GZ18","導入設備_型番",{"$f":"GZ18","v":0},null,"別添4_53_9_HD18","導入設備_型番",{"$f":"HD18","v":0},null,"別添4_54_9_HH18","導入設備_型番",{"$f":"HH18","v":0},null,"別添4_54_9_HH18","導入設備_型番",{"$f":"HL18","v":0},null,"別添4_56_9_HP18","導入設備_型番",{"$f":"HP18","v":0},null,"別添4_57_9_HT18","導入設備_型番",{"$f":"HT18","v":0},null,"別添4_58_9_HX18","導入設備_型番",{"$f":"HX18","v":0},null,"別添4_59_9_IB18","導入設備_型番",{"$f":"IB18","v":0},null,"別添4_60_9_IF18","導入設備_型番",{"$f":"IF18","v":0}]
["非表示",null,null,"別添4_1_10_D19&E19","導入設備_導入台数",{"$f":"D19&E19","v":"台"},null,"別添4_2_10_H19&I19","導入設備_導入台数",{"$f":"H19&I19","v":"台"},null,"別添4_3_10_L19&M19","導入設備_導入台数",{"$f":"L19&M19","v":"台"},null,"別添4_4_10_P19&Q19","導入設備_導入台数",{"$f":"P19&Q19","v":"台"},null,"別添4_5_10_T19&U19","導入設備_導入台数",{"$f":"T19&U19","v":"台"},null,"別添4_6_10_X19&Y19","導入設備_導入台数",{"$f":"X19&Y19","v":"台"},null,"別添4_7_10_AB19&AC19","導入設備_導入台数",{"$f":"AB19&AC19","v":"台"},null,"別添4_8_10_AF19&AG19","導入設備_導入台数",{"$f":"AF19&AG19","v":"台"},null,"別添4_9_10_AJ19&AK19","導入設備_導入台数",{"$f":"AJ19&AK19","v":"台"},null,"別添4_10_10_AN19&AO19","導入設備_導入台数",{"$f":"AN19&AO19","v":"台"},null,"別添4_11_10_AR19&AS19","導入設備_導入台数",{"$f":"AR19&AS19","v":"台"},null,"別添4_12_10_AV19&AW19","導入設備_導入台数",{"$f":"AV19&AW19","v":"台"},null,"別添4_13_10_AZ19&BA19","導入設備_導入台数",{"$f":"AZ19&BA19","v":"台"},null,"別添4_14_10_BD19&BE19","導入設備_導入台数",{"$f":"BD19&BE19","v":"台"},null,"別添4_15_10_BH19&BI19","導入設備_導入台数",{"$f":"BH19&BI19","v":"台"},null,"別添4_16_10_BL19&BM19","導入設備_導入台数",{"$f":"BL19&BM19","v":"台"},null,"別添4_17_10_BP19&BQ19","導入設備_導入台数",{"$f":"BP19&BQ19","v":"台"},null,"別添4_18_10_BT19&BU19","導入設備_導入台数",{"$f":"BT19&BU19","v":"台"},null,"別添4_19_10_BX19&BY19","導入設備_導入台数",{"$f":"BX19&BY19","v":"台"},null,"別添4_20_10_CB19&CC19","導入設備_導入台数",{"$f":"CB19&CC19","v":"台"},null,"別添4_21_10_CF19&CG19","導入設備_導入台数",{"$f":"CF19&CG19","v":"台"},null,"別添4_22_10_CJ19&CK19","導入設備_導入台数",{"$f":"CJ19&CK19","v":"台"},null,"別添4_23_10_CN19&CO19","導入設備_導入台数",{"$f":"CN19&CO19","v":"台"},null,"別添4_24_10_CR19&CS19","導入設備_導入台数",{"$f":"CR19&CS19","v":"台"},null,"別添4_25_10_CV19&CW19","導入設備_導入台数",{"$f":"CV19&CW19","v":"台"},null,"別添4_26_10_CZ19&DA19","導入設備_導入台数",{"$f":"CZ19&DA19","v":"台"},null,"別添4_27_10_DD19&DE19","導入設備_導入台数",{"$f":"DD19&DE19","v":"台"},null,"別添4_28_10_DH19&DI19","導入設備_導入台数",{"$f":"DH19&DI19","v":"台"},null,"別添4_29_10_DL19&DM19","導入設備_導入台数",{"$f":"DL19&DM19","v":"台"},null,"別添4_30_10_DP19&DQ19","導入設備_導入台数",{"$f":"DP19&DQ19","v":"台"},null,"別添4_31_10_DT19&DU19","導入設備_導入台数",{"$f":"DT19&DU19","v":"台"},null,"別添4_32_10_DX19&DY19","導入設備_導入台数",{"$f":"DX19&DY19","v":"台"},null,"別添4_33_10_EB19&EC19","導入設備_導入台数",{"$f":"EB19&EC19","v":"台"},null,"別添4_34_10_EF19&EG19","導入設備_導入台数",{"$f":"EF19&EG19","v":"台"},null,"別添4_35_10_EJ19&EK19","導入設備_導入台数",{"$f":"EJ19&EK19","v":"台"},null,"別添4_36_10_EN19&EO19","導入設備_導入台数",{"$f":"EN19&EO19","v":"台"},null,"別添4_37_10_ER19&ES19","導入設備_導入台数",{"$f":"ER19&ES19","v":"台"},null,"別添4_38_10_EV19&EW19","導入設備_導入台数",{"$f":"EV19&EW19","v":"台"},null,"別添4_39_10_EZ19&FA19","導入設備_導入台数",{"$f":"EZ19&FA19","v":"台"},null,"別添4_40_10_FD19&FE19","導入設備_導入台数",{"$f":"FD19&FE19","v":"台"},null,"別添4_41_10_FH19&FI19","導入設備_導入台数",{"$f":"FH19&FI19","v":"台"},null,"別添4_42_10_FL19&FM19","導入設備_導入台数",{"$f":"FL19&FM19","v":"台"},null,"別添4_43_10_FP19&FQ19","導入設備_導入台数",{"$f":"FP19&FQ19","v":"台"},null,"別添4_44_10_FT19&FU19","導入設備_導入台数",{"$f":"FT19&FU19","v":"台"},null,"別添4_45_10_FX19&FY19","導入設備_導入台数",{"$f":"FX19&FY19","v":"台"},null,"別添4_46_10_GB19&GC19","導入設備_導入台数",{"$f":"GB19&GC19","v":"台"},null,"別添4_47_10_GF19&GG19","導入設備_導入台数",{"$f":"GF19&GG19","v":"台"},null,"別添4_48_10_GJ19&GK19","導入設備_導入台数",{"$f":"GJ19&GK19","v":"台"},null,"別添4_49_10_GN19&GO19","導入設備_導入台数",{"$f":"GN19&GO19","v":"台"},null,"別添4_50_10_GR19&GS19","導入設備_導入台数",{"$f":"GR19&GS19","v":"台"},null,"別添4_51_10_GV19&GW19","導入設備_導入台数",{"$f":"GV19&GW19","v":"台"},null,"別添4_52_10_GZ19&HA19","導入設備_導入台数",{"$f":"GZ19&HA19","v":"台"},null,"別添4_53_10_HD19&HE19","導入設備_導入台数",{"$f":"HD19&HE19","v":"台"},null,"別添4_54_10_HH19&HI19","導入設備_導入台数",{"$f":"HH19&HI19","v":"台"},null,"別添4_54_10_HH19&HI19","導入設備_導入台数",{"$f":"HL19&HM19","v":"台"},null,"別添4_56_10_HP19&HQ19","導入設備_導入台数",{"$f":"HP19&HQ19","v":"台"},null,"別添4_57_10_HT19&HU19","導入設備_導入台数",{"$f":"HT19&HU19","v":"台"},null,"別添4_58_10_HX19&HY19","導入設備_導入台数",{"$f":"HX19&HY19","v":"台"},null,"別添4_59_10_IB19&IC19","導入設備_導入台数",{"$f":"IB19&IC19","v":"台"},null,"別添4_60_10_IF19&IG19","導入設備_導入台数",{"$f":"IF19&IG19","v":"台"}]
["非表示",null,null,"別添4_1_11_D20","導入設備_1台あたりの使用エネルギー",{"$f":"D20","v":0},null,"別添4_2_11_H20","導入設備_1台あたりの使用エネルギー",{"$f":"H20","v":0},null,"別添4_3_11_L20","導入設備_1台あたりの使用エネルギー",{"$f":"L20","v":0},null,"別添4_4_11_P20","導入設備_1台あたりの使用エネルギー",{"$f":"P20","v":0},null,"別添4_5_11_T20","導入設備_1台あたりの使用エネルギー",{"$f":"T20","v":0},null,"別添4_6_11_X20","導入設備_1台あたりの使用エネルギー",{"$f":"X20","v":0},null,"別添4_7_11_AB20","導入設備_1台あたりの使用エネルギー",{"$f":"AB20","v":0},null,"別添4_8_11_AF20","導入設備_1台あたりの使用エネルギー",{"$f":"AF20","v":0},null,"別添4_9_11_AJ20","導入設備_1台あたりの使用エネルギー",{"$f":"AJ20","v":0},null,"別添4_10_11_AN20","導入設備_1台あたりの使用エネルギー",{"$f":"AN20","v":0},null,"別添4_11_11_AR20","導入設備_1台あたりの使用エネルギー",{"$f":"AR20","v":0},null,"別添4_12_11_AV20","導入設備_1台あたりの使用エネルギー",{"$f":"AV20","v":0},null,"別添4_13_11_AZ20","導入設備_1台あたりの使用エネルギー",{"$f":"AZ20","v":0},null,"別添4_14_11_BD20","導入設備_1台あたりの使用エネルギー",{"$f":"BD20","v":0},null,"別添4_15_11_BH20","導入設備_1台あたりの使用エネルギー",{"$f":"BH20","v":0},null,"別添4_16_11_BL20","導入設備_1台あたりの使用エネルギー",{"$f":"BL20","v":0},null,"別添4_17_11_BP20","導入設備_1台あたりの使用エネルギー",{"$f":"BP20","v":0},null,"別添4_18_11_BT20","導入設備_1台あたりの使用エネルギー",{"$f":"BT20","v":0},null,"別添4_19_11_BX20","導入設備_1台あたりの使用エネルギー",{"$f":"BX20","v":0},null,"別添4_20_11_CB20","導入設備_1台あたりの使用エネルギー",{"$f":"CB20","v":0},null,"別添4_21_11_CF20","導入設備_1台あたりの使用エネルギー",{"$f":"CF20","v":0},null,"別添4_22_11_CJ20","導入設備_1台あたりの使用エネルギー",{"$f":"CJ20","v":0},null,"別添4_23_11_CN20","導入設備_1台あたりの使用エネルギー",{"$f":"CN20","v":0},null,"別添4_24_11_CR20","導入設備_1台あたりの使用エネルギー",{"$f":"CR20","v":0},null,"別添4_25_11_CV20","導入設備_1台あたりの使用エネルギー",{"$f":"CV20","v":0},null,"別添4_26_11_CZ20","導入設備_1台あたりの使用エネルギー",{"$f":"CZ20","v":0},null,"別添4_27_11_DD20","導入設備_1台あたりの使用エネルギー",{"$f":"DD20","v":0},null,"別添4_28_11_DH20","導入設備_1台あたりの使用エネルギー",{"$f":"DH20","v":0},null,"別添4_29_11_DL20","導入設備_1台あたりの使用エネルギー",{"$f":"DL20","v":0},null,"別添4_30_11_DP20","導入設備_1台あたりの使用エネルギー",{"$f":"DP20","v":0},null,"別添4_31_11_DT20","導入設備_1台あたりの使用エネルギー",{"$f":"DT20","v":0},null,"別添4_32_11_DX20","導入設備_1台あたりの使用エネルギー",{"$f":"DX20","v":0},null,"別添4_33_11_EB20","導入設備_1台あたりの使用エネルギー",{"$f":"EB20","v":0},null,"別添4_34_11_EF20","導入設備_1台あたりの使用エネルギー",{"$f":"EF20","v":0},null,"別添4_35_11_EJ20","導入設備_1台あたりの使用エネルギー",{"$f":"EJ20","v":0},null,"別添4_36_11_EN20","導入設備_1台あたりの使用エネルギー",{"$f":"EN20","v":0},null,"別添4_37_11_ER20","導入設備_1台あたりの使用エネルギー",{"$f":"ER20","v":0},null,"別添4_38_11_EV20","導入設備_1台あたりの使用エネルギー",{"$f":"EV20","v":0},null,"別添4_39_11_EZ20","導入設備_1台あたりの使用エネルギー",{"$f":"EZ20","v":0},null,"別添4_40_11_FD20","導入設備_1台あたりの使用エネルギー",{"$f":"FD20","v":0},null,"別添4_41_11_FH20","導入設備_1台あたりの使用エネルギー",{"$f":"FH20","v":0},null,"別添4_42_11_FL20","導入設備_1台あたりの使用エネルギー",{"$f":"FL20","v":0},null,"別添4_43_11_FP20","導入設備_1台あたりの使用エネルギー",{"$f":"FP20","v":0},null,"別添4_44_11_FT20","導入設備_1台あたりの使用エネルギー",{"$f":"FT20","v":0},null,"別添4_45_11_FX20","導入設備_1台あたりの使用エネルギー",{"$f":"FX20","v":0},null,"別添4_46_11_GB20","導入設備_1台あたりの使用エネルギー",{"$f":"GB20","v":0},null,"別添4_47_11_GF20","導入設備_1台あたりの使用エネルギー",{"$f":"GF20","v":0},null,"別添4_48_11_GJ20","導入設備_1台あたりの使用エネルギー",{"$f":"GJ20","v":0},null,"別添4_49_11_GN20","導入設備_1台あたりの使用エネルギー",{"$f":"GN20","v":0},null,"別添4_50_11_GR20","導入設備_1台あたりの使用エネルギー",{"$f":"GR20","v":0},null,"別添4_51_11_GV20","導入設備_1台あたりの使用エネルギー",{"$f":"GV20","v":0},null,"別添4_52_11_GZ20","導入設備_1台あたりの使用エネルギー",{"$f":"GZ20","v":0},null,"別添4_53_11_HD20","導入設備_1台あたりの使用エネルギー",{"$f":"HD20","v":0},null,"別添4_54_11_HH20","導入設備_1台あたりの使用エネルギー",{"$f":"HH20","v":0},null,"別添4_54_11_HH20","導入設備_1台あたりの使用エネルギー",{"$f":"HL20","v":0},null,"別添4_56_11_HP20","導入設備_1台あたりの使用エネルギー",{"$f":"HP20","v":0},null,"別添4_57_11_HT20","導入設備_1台あたりの使用エネルギー",{"$f":"HT20","v":0},null,"別添4_58_11_HX20","導入設備_1台あたりの使用エネルギー",{"$f":"HX20","v":0},null,"別添4_59_11_IB20","導入設備_1台あたりの使用エネルギー",{"$f":"IB20","v":0},null,"別添4_60_11_IF20","導入設備_1台あたりの使用エネルギー",{"$f":"IF20","v":0}]
["非表示",null,null,"別添4_1_12_D21","導入設備_年間エネルギー使用量計算式",{"$f":"D21","v":0},null,"別添4_2_12_H21","導入設備_年間エネルギー使用量計算式",{"$f":"H21","v":0},null,"別添4_3_12_L21","導入設備_年間エネルギー使用量計算式",{"$f":"L21","v":0},null,"別添4_4_12_P21","導入設備_年間エネルギー使用量計算式",{"$f":"P21","v":0},null,"別添4_5_12_T21","導入設備_年間エネルギー使用量計算式",{"$f":"T21","v":0},null,"別添4_6_12_X21","導入設備_年間エネルギー使用量計算式",{"$f":"X21","v":0},null,"別添4_7_12_AB21","導入設備_年間エネルギー使用量計算式",{"$f":"AB21","v":0},null,"別添4_8_12_AF21","導入設備_年間エネルギー使用量計算式",{"$f":"AF21","v":0},null,"別添4_9_12_AJ21","導入設備_年間エネルギー使用量計算式",{"$f":"AJ21","v":0},null,"別添4_10_12_AN21","導入設備_年間エネルギー使用量計算式",{"$f":"AN21","v":0},null,"別添4_11_12_AR21","導入設備_年間エネルギー使用量計算式",{"$f":"AR21","v":0},null,"別添4_12_12_AV21","導入設備_年間エネルギー使用量計算式",{"$f":"AV21","v":0},null,"別添4_13_12_AZ21","導入設備_年間エネルギー使用量計算式",{"$f":"AZ21","v":0},null,"別添4_14_12_BD21","導入設備_年間エネルギー使用量計算式",{"$f":"BD21","v":0},null,"別添4_15_12_BH21","導入設備_年間エネルギー使用量計算式",{"$f":"BH21","v":0},null,"別添4_16_12_BL21","導入設備_年間エネルギー使用量計算式",{"$f":"BL21","v":0},null,"別添4_17_12_BP21","導入設備_年間エネルギー使用量計算式",{"$f":"BP21","v":0},null,"別添4_18_12_BT21","導入設備_年間エネルギー使用量計算式",{"$f":"BT21","v":0},null,"別添4_19_12_BX21","導入設備_年間エネルギー使用量計算式",{"$f":"BX21","v":0},null,"別添4_20_12_CB21","導入設備_年間エネルギー使用量計算式",{"$f":"CB21","v":0},null,"別添4_21_12_CF21","導入設備_年間エネルギー使用量計算式",{"$f":"CF21","v":0},null,"別添4_22_12_CJ21","導入設備_年間エネルギー使用量計算式",{"$f":"CJ21","v":0},null,"別添4_23_12_CN21","導入設備_年間エネルギー使用量計算式",{"$f":"CN21","v":0},null,"別添4_24_12_CR21","導入設備_年間エネルギー使用量計算式",{"$f":"CR21","v":0},null,"別添4_25_12_CV21","導入設備_年間エネルギー使用量計算式",{"$f":"CV21","v":0},null,"別添4_26_12_CZ21","導入設備_年間エネルギー使用量計算式",{"$f":"CZ21","v":0},null,"別添4_27_12_DD21","導入設備_年間エネルギー使用量計算式",{"$f":"DD21","v":0},null,"別添4_28_12_DH21","導入設備_年間エネルギー使用量計算式",{"$f":"DH21","v":0},null,"別添4_29_12_DL21","導入設備_年間エネルギー使用量計算式",{"$f":"DL21","v":0},null,"別添4_30_12_DP21","導入設備_年間エネルギー使用量計算式",{"$f":"DP21","v":0},null,"別添4_31_12_DT21","導入設備_年間エネルギー使用量計算式",{"$f":"DT21","v":0},null,"別添4_32_12_DX21","導入設備_年間エネルギー使用量計算式",{"$f":"DX21","v":0},null,"別添4_33_12_EB21","導入設備_年間エネルギー使用量計算式",{"$f":"EB21","v":0},null,"別添4_34_12_EF21","導入設備_年間エネルギー使用量計算式",{"$f":"EF21","v":0},null,"別添4_35_12_EJ21","導入設備_年間エネルギー使用量計算式",{"$f":"EJ21","v":0},null,"別添4_36_12_EN21","導入設備_年間エネルギー使用量計算式",{"$f":"EN21","v":0},null,"別添4_37_12_ER21","導入設備_年間エネルギー使用量計算式",{"$f":"ER21","v":0},null,"別添4_38_12_EV21","導入設備_年間エネルギー使用量計算式",{"$f":"EV21","v":0},null,"別添4_39_12_EZ21","導入設備_年間エネルギー使用量計算式",{"$f":"EZ21","v":0},null,"別添4_40_12_FD21","導入設備_年間エネルギー使用量計算式",{"$f":"FD21","v":0},null,"別添4_41_12_FH21","導入設備_年間エネルギー使用量計算式",{"$f":"FH21","v":0},null,"別添4_42_12_FL21","導入設備_年間エネルギー使用量計算式",{"$f":"FL21","v":0},null,"別添4_43_12_FP21","導入設備_年間エネルギー使用量計算式",{"$f":"FP21","v":0},null,"別添4_44_12_FT21","導入設備_年間エネルギー使用量計算式",{"$f":"FT21","v":0},null,"別添4_45_12_FX21","導入設備_年間エネルギー使用量計算式",{"$f":"FX21","v":0},null,"別添4_46_12_GB21","導入設備_年間エネルギー使用量計算式",{"$f":"GB21","v":0},null,"別添4_47_12_GF21","導入設備_年間エネルギー使用量計算式",{"$f":"GF21","v":0},null,"別添4_48_12_GJ21","導入設備_年間エネルギー使用量計算式",{"$f":"GJ21","v":0},null,"別添4_49_12_GN21","導入設備_年間エネルギー使用量計算式",{"$f":"GN21","v":0},null,"別添4_50_12_GR21","導入設備_年間エネルギー使用量計算式",{"$f":"GR21","v":0},null,"別添4_51_12_GV21","導入設備_年間エネルギー使用量計算式",{"$f":"GV21","v":0},null,"別添4_52_12_GZ21","導入設備_年間エネルギー使用量計算式",{"$f":"GZ21","v":0},null,"別添4_53_12_HD21","導入設備_年間エネルギー使用量計算式",{"$f":"HD21","v":0},null,"別添4_54_12_HH21","導入設備_年間エネルギー使用量計算式",{"$f":"HH21","v":0},null,"別添4_54_12_HH21","導入設備_年間エネルギー使用量計算式",{"$f":"HL21","v":0},null,"別添4_56_12_HP21","導入設備_年間エネルギー使用量計算式",{"$f":"HP21","v":0},null,"別添4_57_12_HT21","導入設備_年間エネルギー使用量計算式",{"$f":"HT21","v":0},null,"別添4_58_12_HX21","導入設備_年間エネルギー使用量計算式",{"$f":"HX21","v":0},null,"別添4_59_12_IB21","導入設備_年間エネルギー使用量計算式",{"$f":"IB21","v":0},null,"別添4_60_12_IF21","導入設備_年間エネルギー使用量計算式",{"$f":"IF21","v":0}]
["非表示",null,null,"別添4_1_13_D22&E22","導入設備_計算結果",{"$f":"D22&E22","v":"単位を選択してください"},null,"別添4_2_13_H22&I22","導入設備_計算結果",{"$f":"H22&I22","v":"単位を選択してください"},null,"別添4_3_13_L22&M22","導入設備_計算結果",{"$f":"L22&M22","v":"単位を選択してください"},null,"別添4_4_13_P22&Q22","導入設備_計算結果",{"$f":"P22&Q22","v":"単位を選択してください"},null,"別添4_5_13_T22&U22","導入設備_計算結果",{"$f":"T22&U22","v":"単位を選択してください"},null,"別添4_6_13_X22&Y22","導入設備_計算結果",{"$f":"X22&Y22","v":"単位を選択してください"},null,"別添4_7_13_AB22&AC22","導入設備_計算結果",{"$f":"AB22&AC22","v":"単位を選択してください"},null,"別添4_8_13_AF22&AG22","導入設備_計算結果",{"$f":"AF22&AG22","v":"単位を選択してください"},null,"別添4_9_13_AJ22&AK22","導入設備_計算結果",{"$f":"AJ22&AK22","v":"単位を選択してください"},null,"別添4_10_13_AN22&AO22","導入設備_計算結果",{"$f":"AN22&AO22","v":"単位を選択してください"},null,"別添4_11_13_AR22&AS22","導入設備_計算結果",{"$f":"AR22&AS22","v":"単位を選択してください"},null,"別添4_12_13_AV22&AW22","導入設備_計算結果",{"$f":"AV22&AW22","v":"単位を選択してください"},null,"別添4_13_13_AZ22&BA22","導入設備_計算結果",{"$f":"AZ22&BA22","v":"単位を選択してください"},null,"別添4_14_13_BD22&BE22","導入設備_計算結果",{"$f":"BD22&BE22","v":"単位を選択してください"},null,"別添4_15_13_BH22&BI22","導入設備_計算結果",{"$f":"BH22&BI22","v":"単位を選択してください"},null,"別添4_16_13_BL22&BM22","導入設備_計算結果",{"$f":"BL22&BM22","v":"単位を選択してください"},null,"別添4_17_13_BP22&BQ22","導入設備_計算結果",{"$f":"BP22&BQ22","v":"単位を選択してください"},null,"別添4_18_13_BT22&BU22","導入設備_計算結果",{"$f":"BT22&BU22","v":"単位を選択してください"},null,"別添4_19_13_BX22&BY22","導入設備_計算結果",{"$f":"BX22&BY22","v":"単位を選択してください"},null,"別添4_20_13_CB22&CC22","導入設備_計算結果",{"$f":"CB22&CC22","v":"単位を選択してください"},null,"別添4_21_13_CF22&CG22","導入設備_計算結果",{"$f":"CF22&CG22","v":"単位を選択してください"},null,"別添4_22_13_CJ22&CK22","導入設備_計算結果",{"$f":"CJ22&CK22","v":"単位を選択してください"},null,"別添4_23_13_CN22&CO22","導入設備_計算結果",{"$f":"CN22&CO22","v":"単位を選択してください"},null,"別添4_24_13_CR22&CS22","導入設備_計算結果",{"$f":"CR22&CS22","v":"単位を選択してください"},null,"別添4_25_13_CV22&CW22","導入設備_計算結果",{"$f":"CV22&CW22","v":"単位を選択してください"},null,"別添4_26_13_CZ22&DA22","導入設備_計算結果",{"$f":"CZ22&DA22","v":"単位を選択してください"},null,"別添4_27_13_DD22&DE22","導入設備_計算結果",{"$f":"DD22&DE22","v":"単位を選択してください"},null,"別添4_28_13_DH22&DI22","導入設備_計算結果",{"$f":"DH22&DI22","v":"単位を選択してください"},null,"別添4_29_13_DL22&DM22","導入設備_計算結果",{"$f":"DL22&DM22","v":"単位を選択してください"},null,"別添4_30_13_DP22&DQ22","導入設備_計算結果",{"$f":"DP22&DQ22","v":"単位を選択してください"},null,"別添4_31_13_DT22&DU22","導入設備_計算結果",{"$f":"DT22&DU22","v":"単位を選択してください"},null,"別添4_32_13_DX22&DY22","導入設備_計算結果",{"$f":"DX22&DY22","v":"単位を選択してください"},null,"別添4_33_13_EB22&EC22","導入設備_計算結果",{"$f":"EB22&EC22","v":"単位を選択してください"},null,"別添4_34_13_EF22&EG22","導入設備_計算結果",{"$f":"EF22&EG22","v":"単位を選択してください"},null,"別添4_35_13_EJ22&EK22","導入設備_計算結果",{"$f":"EJ22&EK22","v":"単位を選択してください"},null,"別添4_36_13_EN22&EO22","導入設備_計算結果",{"$f":"EN22&EO22","v":"単位を選択してください"},null,"別添4_37_13_ER22&ES22","導入設備_計算結果",{"$f":"ER22&ES22","v":"単位を選択してください"},null,"別添4_38_13_EV22&EW22","導入設備_計算結果",{"$f":"EV22&EW22","v":"単位を選択してください"},null,"別添4_39_13_EZ22&FA22","導入設備_計算結果",{"$f":"EZ22&FA22","v":"単位を選択してください"},null,"別添4_40_13_FD22&FE22","導入設備_計算結果",{"$f":"FD22&FE22","v":"単位を選択してください"},null,"別添4_41_13_FH22&FI22","導入設備_計算結果",{"$f":"FH22&FI22","v":"単位を選択してください"},null,"別添4_42_13_FL22&FM22","導入設備_計算結果",{"$f":"FL22&FM22","v":"単位を選択してください"},null,"別添4_43_13_FP22&FQ22","導入設備_計算結果",{"$f":"FP22&FQ22","v":"単位を選択してください"},null,"別添4_44_13_FT22&FU22","導入設備_計算結果",{"$f":"FT22&FU22","v":"単位を選択してください"},null,"別添4_45_13_FX22&FY22","導入設備_計算結果",{"$f":"FX22&FY22","v":"単位を選択してください"},null,"別添4_46_13_GB22&GC22","導入設備_計算結果",{"$f":"GB22&GC22","v":"単位を選択してください"},null,"別添4_47_13_GF22&GG22","導入設備_計算結果",{"$f":"GF22&GG22","v":"単位を選択してください"},null,"別添4_48_13_GJ22&GK22","導入設備_計算結果",{"$f":"GJ22&GK22","v":"単位を選択してください"},null,"別添4_49_13_GN22&GO22","導入設備_計算結果",{"$f":"GN22&GO22","v":"単位を選択してください"},null,"別添4_50_13_GR22&GS22","導入設備_計算結果",{"$f":"GR22&GS22","v":"単位を選択してください"},null,"別添4_51_13_GV22&GW22","導入設備_計算結果",{"$f":"GV22&GW22","v":"単位を選択してください"},null,"別添4_52_13_GZ22&HA22","導入設備_計算結果",{"$f":"GZ22&HA22","v":"単位を選択してください"},null,"別添4_53_13_HD22&HE22","導入設備_計算結果",{"$f":"HD22&HE22","v":"単位を選択してください"},null,"別添4_54_13_HH22&HI22","導入設備_計算結果",{"$f":"HH22&HI22","v":"単位を選択してください"},null,"別添4_54_13_HH22&HI22","導入設備_計算結果",{"$f":"HL22&HM22","v":"単位を選択してください"},null,"別添4_56_13_HP22&HQ22","導入設備_計算結果",{"$f":"HP22&HQ22","v":"単位を選択してください"},null,"別添4_57_13_HT22&HU22","導入設備_計算結果",{"$f":"HT22&HU22","v":"単位を選択してください"},null,"別添4_58_13_HX22&HY22","導入設備_計算結果",{"$f":"HX22&HY22","v":"単位を選択してください"},null,"別添4_59_13_IB22&IC22","導入設備_計算結果",{"$f":"IB22&IC22","v":"単位を選択してください"},null,"別添4_60_13_IF22&IG22","導入設備_計算結果",{"$f":"IF22&IG22","v":"単位を選択してください"}]
["非表示",null,null,"別添4_1_14_F16","一代前モデル_製品名",{"$f":"F16","v":0},null,"別添4_2_14_J16","一代前モデル_製品名",{"$f":"J16","v":0},null,"別添4_3_14_N16","一代前モデル_製品名",{"$f":"N16","v":0},null,"別添4_4_14_R16","一代前モデル_製品名",{"$f":"R16","v":0},null,"別添4_5_14_V16","一代前モデル_製品名",{"$f":"V16","v":0},null,"別添4_6_14_Z16","一代前モデル_製品名",{"$f":"Z16","v":0},null,"別添4_7_14_AD16","一代前モデル_製品名",{"$f":"AD16","v":0},null,"別添4_8_14_AH16","一代前モデル_製品名",{"$f":"AH16","v":0},null,"別添4_9_14_AL16","一代前モデル_製品名",{"$f":"AL16","v":0},null,"別添4_10_14_AP16","一代前モデル_製品名",{"$f":"AP16","v":0},null,"別添4_11_14_AT16","一代前モデル_製品名",{"$f":"AT16","v":0},null,"別添4_12_14_AX16","一代前モデル_製品名",{"$f":"AX16","v":0},null,"別添4_13_14_BB16","一代前モデル_製品名",{"$f":"BB16","v":0},null,"別添4_14_14_BF16","一代前モデル_製品名",{"$f":"BF16","v":0},null,"別添4_15_14_BJ16","一代前モデル_製品名",{"$f":"BJ16","v":0},null,"別添4_16_14_BN16","一代前モデル_製品名",{"$f":"BN16","v":0},null,"別添4_17_14_BR16","一代前モデル_製品名",{"$f":"BR16","v":0},null,"別添4_18_14_BV16","一代前モデル_製品名",{"$f":"BV16","v":0},null,"別添4_19_14_BZ16","一代前モデル_製品名",{"$f":"BZ16","v":0},null,"別添4_20_14_CD16","一代前モデル_製品名",{"$f":"CD16","v":0},null,"別添4_21_14_CH16","一代前モデル_製品名",{"$f":"CH16","v":0},null,"別添4_22_14_CL16","一代前モデル_製品名",{"$f":"CL16","v":0},null,"別添4_23_14_CP16","一代前モデル_製品名",{"$f":"CP16","v":0},null,"別添4_24_14_CT16","一代前モデル_製品名",{"$f":"CT16","v":0},null,"別添4_25_14_CX16","一代前モデル_製品名",{"$f":"CX16","v":0},null,"別添4_26_14_DB16","一代前モデル_製品名",{"$f":"DB16","v":0},null,"別添4_27_14_DF16","一代前モデル_製品名",{"$f":"DF16","v":0},null,"別添4_28_14_DJ16","一代前モデル_製品名",{"$f":"DJ16","v":0},null,"別添4_29_14_DN16","一代前モデル_製品名",{"$f":"DN16","v":0},null,"別添4_30_14_DR16","一代前モデル_製品名",{"$f":"DR16","v":0},null,"別添4_31_14_DV16","一代前モデル_製品名",{"$f":"DV16","v":0},null,"別添4_32_14_DZ16","一代前モデル_製品名",{"$f":"DZ16","v":0},null,"別添4_33_14_ED16","一代前モデル_製品名",{"$f":"ED16","v":0},null,"別添4_34_14_EH16","一代前モデル_製品名",{"$f":"EH16","v":0},null,"別添4_35_14_EL16","一代前モデル_製品名",{"$f":"EL16","v":0},null,"別添4_36_14_EP16","一代前モデル_製品名",{"$f":"EP16","v":0},null,"別添4_37_14_ET16","一代前モデル_製品名",{"$f":"ET16","v":0},null,"別添4_38_14_EX16","一代前モデル_製品名",{"$f":"EX16","v":0},null,"別添4_39_14_FB16","一代前モデル_製品名",{"$f":"FB16","v":0},null,"別添4_40_14_FF16","一代前モデル_製品名",{"$f":"FF16","v":0},null,"別添4_41_14_FJ16","一代前モデル_製品名",{"$f":"FJ16","v":0},null,"別添4_42_14_FN16","一代前モデル_製品名",{"$f":"FN16","v":0},null,"別添4_43_14_FR16","一代前モデル_製品名",{"$f":"FR16","v":0},null,"別添4_44_14_FV16","一代前モデル_製品名",{"$f":"FV16","v":0},null,"別添4_45_14_FZ16","一代前モデル_製品名",{"$f":"FZ16","v":0},null,"別添4_46_14_GD16","一代前モデル_製品名",{"$f":"GD16","v":0},null,"別添4_47_14_GH16","一代前モデル_製品名",{"$f":"GH16","v":0},null,"別添4_48_14_GL16","一代前モデル_製品名",{"$f":"GL16","v":0},null,"別添4_49_14_GP16","一代前モデル_製品名",{"$f":"GP16","v":0},null,"別添4_50_14_GT16","一代前モデル_製品名",{"$f":"GT16","v":0},null,"別添4_51_14_GX16","一代前モデル_製品名",{"$f":"GX16","v":0},null,"別添4_52_14_HB16","一代前モデル_製品名",{"$f":"HB16","v":0},null,"別添4_53_14_HF16","一代前モデル_製品名",{"$f":"HF16","v":0},null,"別添4_54_14_HJ16","一代前モデル_製品名",{"$f":"HJ16","v":0},null,"別添4_54_14_HJ16","一代前モデル_製品名",{"$f":"HN16","v":0},null,"別添4_56_14_HR16","一代前モデル_製品名",{"$f":"HR16","v":0},null,"別添4_57_14_HV16","一代前モデル_製品名",{"$f":"HV16","v":0},null,"別添4_58_14_HZ16","一代前モデル_製品名",{"$f":"HZ16","v":0},null,"別添4_59_14_ID16","一代前モデル_製品名",{"$f":"ID16","v":0},null,"別添4_60_14_IH16","一代前モデル_製品名",{"$f":"IH16","v":0}]
["非表示",null,null,"別添4_1_15_F17","一代前モデル_製造メーカー",{"$f":"F17","v":0},null,"別添4_2_15_J17","一代前モデル_製造メーカー",{"$f":"J17","v":0},null,"別添4_3_15_N17","一代前モデル_製造メーカー",{"$f":"N17","v":0},null,"別添4_4_15_R17","一代前モデル_製造メーカー",{"$f":"R17","v":0},null,"別添4_5_15_V17","一代前モデル_製造メーカー",{"$f":"V17","v":0},null,"別添4_6_15_Z17","一代前モデル_製造メーカー",{"$f":"Z17","v":0},null,"別添4_7_15_AD17","一代前モデル_製造メーカー",{"$f":"AD17","v":0},null,"別添4_8_15_AH17","一代前モデル_製造メーカー",{"$f":"AH17","v":0},null,"別添4_9_15_AL17","一代前モデル_製造メーカー",{"$f":"AL17","v":0},null,"別添4_10_15_AP17","一代前モデル_製造メーカー",{"$f":"AP17","v":0},null,"別添4_11_15_AT17","一代前モデル_製造メーカー",{"$f":"AT17","v":0},null,"別添4_12_15_AX17","一代前モデル_製造メーカー",{"$f":"AX17","v":0},null,"別添4_13_15_BB17","一代前モデル_製造メーカー",{"$f":"BB17","v":0},null,"別添4_14_15_BF17","一代前モデル_製造メーカー",{"$f":"BF17","v":0},null,"別添4_15_15_BJ17","一代前モデル_製造メーカー",{"$f":"BJ17","v":0},null,"別添4_16_15_BN17","一代前モデル_製造メーカー",{"$f":"BN17","v":0},null,"別添4_17_15_BR17","一代前モデル_製造メーカー",{"$f":"BR17","v":0},null,"別添4_18_15_BV17","一代前モデル_製造メーカー",{"$f":"BV17","v":0},null,"別添4_19_15_BZ17","一代前モデル_製造メーカー",{"$f":"BZ17","v":0},null,"別添4_20_15_CD17","一代前モデル_製造メーカー",{"$f":"CD17","v":0},null,"別添4_21_15_CH17","一代前モデル_製造メーカー",{"$f":"CH17","v":0},null,"別添4_22_15_CL17","一代前モデル_製造メーカー",{"$f":"CL17","v":0},null,"別添4_23_15_CP17","一代前モデル_製造メーカー",{"$f":"CP17","v":0},null,"別添4_24_15_CT17","一代前モデル_製造メーカー",{"$f":"CT17","v":0},null,"別添4_25_15_CX17","一代前モデル_製造メーカー",{"$f":"CX17","v":0},null,"別添4_26_15_DB17","一代前モデル_製造メーカー",{"$f":"DB17","v":0},null,"別添4_27_15_DF17","一代前モデル_製造メーカー",{"$f":"DF17","v":0},null,"別添4_28_15_DJ17","一代前モデル_製造メーカー",{"$f":"DJ17","v":0},null,"別添4_29_15_DN17","一代前モデル_製造メーカー",{"$f":"DN17","v":0},null,"別添4_30_15_DR17","一代前モデル_製造メーカー",{"$f":"DR17","v":0},null,"別添4_31_15_DV17","一代前モデル_製造メーカー",{"$f":"DV17","v":0},null,"別添4_32_15_DZ17","一代前モデル_製造メーカー",{"$f":"DZ17","v":0},null,"別添4_33_15_ED17","一代前モデル_製造メーカー",{"$f":"ED17","v":0},null,"別添4_34_15_EH17","一代前モデル_製造メーカー",{"$f":"EH17","v":0},null,"別添4_35_15_EL17","一代前モデル_製造メーカー",{"$f":"EL17","v":0},null,"別添4_36_15_EP17","一代前モデル_製造メーカー",{"$f":"EP17","v":0},null,"別添4_37_15_ET17","一代前モデル_製造メーカー",{"$f":"ET17","v":0},null,"別添4_38_15_EX17","一代前モデル_製造メーカー",{"$f":"EX17","v":0},null,"別添4_39_15_FB17","一代前モデル_製造メーカー",{"$f":"FB17","v":0},null,"別添4_40_15_FF17","一代前モデル_製造メーカー",{"$f":"FF17","v":0},null,"別添4_41_15_FJ17","一代前モデル_製造メーカー",{"$f":"FJ17","v":0},null,"別添4_42_15_FN17","一代前モデル_製造メーカー",{"$f":"FN17","v":0},null,"別添4_43_15_FR17","一代前モデル_製造メーカー",{"$f":"FR17","v":0},null,"別添4_44_15_FV17","一代前モデル_製造メーカー",{"$f":"FV17","v":0},null,"別添4_45_15_FZ17","一代前モデル_製造メーカー",{"$f":"FZ17","v":0},null,"別添4_46_15_GD17","一代前モデル_製造メーカー",{"$f":"GD17","v":0},null,"別添4_47_15_GH17","一代前モデル_製造メーカー",{"$f":"GH17","v":0},null,"別添4_48_15_GL17","一代前モデル_製造メーカー",{"$f":"GL17","v":0},null,"別添4_49_15_GP17","一代前モデル_製造メーカー",{"$f":"GP17","v":0},null,"別添4_50_15_GT17","一代前モデル_製造メーカー",{"$f":"GT17","v":0},null,"別添4_51_15_GX17","一代前モデル_製造メーカー",{"$f":"GX17","v":0},null,"別添4_52_15_HB17","一代前モデル_製造メーカー",{"$f":"HB17","v":0},null,"別添4_53_15_HF17","一代前モデル_製造メーカー",{"$f":"HF17","v":0},null,"別添4_54_15_HJ17","一代前モデル_製造メーカー",{"$f":"HJ17","v":0},null,"別添4_54_15_HJ17","一代前モデル_製造メーカー",{"$f":"HN17","v":0},null,"別添4_56_15_HR17","一代前モデル_製造メーカー",{"$f":"HR17","v":0},null,"別添4_57_15_HV17","一代前モデル_製造メーカー",{"$f":"HV17","v":0},null,"別添4_58_15_HZ17","一代前モデル_製造メーカー",{"$f":"HZ17","v":0},null,"別添4_59_15_ID17","一代前モデル_製造メーカー",{"$f":"ID17","v":0},null,"別添4_60_15_IH17","一代前モデル_製造メーカー",{"$f":"IH17","v":0}]
["非表示",null,null,"別添4_1_16_F18","一代前モデル_型番",{"$f":"F18","v":0},null,"別添4_2_16_J18","一代前モデル_型番",{"$f":"J18","v":0},null,"別添4_3_16_N18","一代前モデル_型番",{"$f":"N18","v":0},null,"別添4_4_16_R18","一代前モデル_型番",{"$f":"R18","v":0},null,"別添4_5_16_V18","一代前モデル_型番",{"$f":"V18","v":0},null,"別添4_6_16_Z18","一代前モデル_型番",{"$f":"Z18","v":0},null,"別添4_7_16_AD18","一代前モデル_型番",{"$f":"AD18","v":0},null,"別添4_8_16_AH18","一代前モデル_型番",{"$f":"AH18","v":0},null,"別添4_9_16_AL18","一代前モデル_型番",{"$f":"AL18","v":0},null,"別添4_10_16_AP18","一代前モデル_型番",{"$f":"AP18","v":0},null,"別添4_11_16_AT18","一代前モデル_型番",{"$f":"AT18","v":0},null,"別添4_12_16_AX18","一代前モデル_型番",{"$f":"AX18","v":0},null,"別添4_13_16_BB18","一代前モデル_型番",{"$f":"BB18","v":0},null,"別添4_14_16_BF18","一代前モデル_型番",{"$f":"BF18","v":0},null,"別添4_15_16_BJ18","一代前モデル_型番",{"$f":"BJ18","v":0},null,"別添4_16_16_BN18","一代前モデル_型番",{"$f":"BN18","v":0},null,"別添4_17_16_BR18","一代前モデル_型番",{"$f":"BR18","v":0},null,"別添4_18_16_BV18","一代前モデル_型番",{"$f":"BV18","v":0},null,"別添4_19_16_BZ18","一代前モデル_型番",{"$f":"BZ18","v":0},null,"別添4_20_16_CD18","一代前モデル_型番",{"$f":"CD18","v":0},null,"別添4_21_16_CH18","一代前モデル_型番",{"$f":"CH18","v":0},null,"別添4_22_16_CL18","一代前モデル_型番",{"$f":"CL18","v":0},null,"別添4_23_16_CP18","一代前モデル_型番",{"$f":"CP18","v":0},null,"別添4_24_16_CT18","一代前モデル_型番",{"$f":"CT18","v":0},null,"別添4_25_16_CX18","一代前モデル_型番",{"$f":"CX18","v":0},null,"別添4_26_16_DB18","一代前モデル_型番",{"$f":"DB18","v":0},null,"別添4_27_16_DF18","一代前モデル_型番",{"$f":"DF18","v":0},null,"別添4_28_16_DJ18","一代前モデル_型番",{"$f":"DJ18","v":0},null,"別添4_29_16_DN18","一代前モデル_型番",{"$f":"DN18","v":0},null,"別添4_30_16_DR18","一代前モデル_型番",{"$f":"DR18","v":0},null,"別添4_31_16_DV18","一代前モデル_型番",{"$f":"DV18","v":0},null,"別添4_32_16_DZ18","一代前モデル_型番",{"$f":"DZ18","v":0},null,"別添4_33_16_ED18","一代前モデル_型番",{"$f":"ED18","v":0},null,"別添4_34_16_EH18","一代前モデル_型番",{"$f":"EH18","v":0},null,"別添4_35_16_EL18","一代前モデル_型番",{"$f":"EL18","v":0},null,"別添4_36_16_EP18","一代前モデル_型番",{"$f":"EP18","v":0},null,"別添4_37_16_ET18","一代前モデル_型番",{"$f":"ET18","v":0},null,"別添4_38_16_EX18","一代前モデル_型番",{"$f":"EX18","v":0},null,"別添4_39_16_FB18","一代前モデル_型番",{"$f":"FB18","v":0},null,"別添4_40_16_FF18","一代前モデル_型番",{"$f":"FF18","v":0},null,"別添4_41_16_FJ18","一代前モデル_型番",{"$f":"FJ18","v":0},null,"別添4_42_16_FN18","一代前モデル_型番",{"$f":"FN18","v":0},null,"別添4_43_16_FR18","一代前モデル_型番",{"$f":"FR18","v":0},null,"別添4_44_16_FV18","一代前モデル_型番",{"$f":"FV18","v":0},null,"別添4_45_16_FZ18","一代前モデル_型番",{"$f":"FZ18","v":0},null,"別添4_46_16_GD18","一代前モデル_型番",{"$f":"GD18","v":0},null,"別添4_47_16_GH18","一代前モデル_型番",{"$f":"GH18","v":0},null,"別添4_48_16_GL18","一代前モデル_型番",{"$f":"GL18","v":0},null,"別添4_49_16_GP18","一代前モデル_型番",{"$f":"GP18","v":0},null,"別添4_50_16_GT18","一代前モデル_型番",{"$f":"GT18","v":0},null,"別添4_51_16_GX18","一代前モデル_型番",{"$f":"GX18","v":0},null,"別添4_52_16_HB18","一代前モデル_型番",{"$f":"HB18","v":0},null,"別添4_53_16_HF18","一代前モデル_型番",{"$f":"HF18","v":0},null,"別添4_54_16_HJ18","一代前モデル_型番",{"$f":"HJ18","v":0},null,"別添4_54_16_HJ18","一代前モデル_型番",{"$f":"HN18","v":0},null,"別添4_56_16_HR18","一代前モデル_型番",{"$f":"HR18","v":0},null,"別添4_57_16_HV18","一代前モデル_型番",{"$f":"HV18","v":0},null,"別添4_58_16_HZ18","一代前モデル_型番",{"$f":"HZ18","v":0},null,"別添4_59_16_ID18","一代前モデル_型番",{"$f":"ID18","v":0},null,"別添4_60_16_IH18","一代前モデル_型番",{"$f":"IH18","v":0}]
["非表示",null,null,"別添4_1_17_F19&G19","一代前モデル_導入台数",{"$f":"F19&G19","v":"台"},null,"別添4_2_17_J19&K19","一代前モデル_導入台数",{"$f":"J19&K19","v":"台"},null,"別添4_3_17_N19&O19","一代前モデル_導入台数",{"$f":"N19&O19","v":"台"},null,"別添4_4_17_R19&S19","一代前モデル_導入台数",{"$f":"R19&S19","v":"台"},null,"別添4_5_17_V19&W19","一代前モデル_導入台数",{"$f":"V19&W19","v":"台"},null,"別添4_6_17_Z19&AA19","一代前モデル_導入台数",{"$f":"Z19&AA19","v":"台"},null,"別添4_7_17_AD19&AE19","一代前モデル_導入台数",{"$f":"AD19&AE19","v":"台"},null,"別添4_8_17_AH19&AI19","一代前モデル_導入台数",{"$f":"AH19&AI19","v":"台"},null,"別添4_9_17_AL19&AM19","一代前モデル_導入台数",{"$f":"AL19&AM19","v":"台"},null,"別添4_10_17_AP19&AQ19","一代前モデル_導入台数",{"$f":"AP19&AQ19","v":"台"},null,"別添4_11_17_AT19&AU19","一代前モデル_導入台数",{"$f":"AT19&AU19","v":"台"},null,"別添4_12_17_AX19&AY19","一代前モデル_導入台数",{"$f":"AX19&AY19","v":"台"},null,"別添4_13_17_BB19&BC19","一代前モデル_導入台数",{"$f":"BB19&BC19","v":"台"},null,"別添4_14_17_BF19&BG19","一代前モデル_導入台数",{"$f":"BF19&BG19","v":"台"},null,"別添4_15_17_BJ19&BK19","一代前モデル_導入台数",{"$f":"BJ19&BK19","v":"台"},null,"別添4_16_17_BN19&BO19","一代前モデル_導入台数",{"$f":"BN19&BO19","v":"台"},null,"別添4_17_17_BR19&BS19","一代前モデル_導入台数",{"$f":"BR19&BS19","v":"台"},null,"別添4_18_17_BV19&BW19","一代前モデル_導入台数",{"$f":"BV19&BW19","v":"台"},null,"別添4_19_17_BZ19&CA19","一代前モデル_導入台数",{"$f":"BZ19&CA19","v":"台"},null,"別添4_20_17_CD19&CE19","一代前モデル_導入台数",{"$f":"CD19&CE19","v":"台"},null,"別添4_21_17_CH19&CI19","一代前モデル_導入台数",{"$f":"CH19&CI19","v":"台"},null,"別添4_22_17_CL19&CM19","一代前モデル_導入台数",{"$f":"CL19&CM19","v":"台"},null,"別添4_23_17_CP19&CQ19","一代前モデル_導入台数",{"$f":"CP19&CQ19","v":"台"},null,"別添4_24_17_CT19&CU19","一代前モデル_導入台数",{"$f":"CT19&CU19","v":"台"},null,"別添4_25_17_CX19&CY19","一代前モデル_導入台数",{"$f":"CX19&CY19","v":"台"},null,"別添4_26_17_DB19&DC19","一代前モデル_導入台数",{"$f":"DB19&DC19","v":"台"},null,"別添4_27_17_DF19&DG19","一代前モデル_導入台数",{"$f":"DF19&DG19","v":"台"},null,"別添4_28_17_DJ19&DK19","一代前モデル_導入台数",{"$f":"DJ19&DK19","v":"台"},null,"別添4_29_17_DN19&DO19","一代前モデル_導入台数",{"$f":"DN19&DO19","v":"台"},null,"別添4_30_17_DR19&DS19","一代前モデル_導入台数",{"$f":"DR19&DS19","v":"台"},null,"別添4_31_17_DV19&DW19","一代前モデル_導入台数",{"$f":"DV19&DW19","v":"台"},null,"別添4_32_17_DZ19&EA19","一代前モデル_導入台数",{"$f":"DZ19&EA19","v":"台"},null,"別添4_33_17_ED19&EE19","一代前モデル_導入台数",{"$f":"ED19&EE19","v":"台"},null,"別添4_34_17_EH19&EI19","一代前モデル_導入台数",{"$f":"EH19&EI19","v":"台"},null,"別添4_35_17_EL19&EM19","一代前モデル_導入台数",{"$f":"EL19&EM19","v":"台"},null,"別添4_36_17_EP19&EQ19","一代前モデル_導入台数",{"$f":"EP19&EQ19","v":"台"},null,"別添4_37_17_ET19&EU19","一代前モデル_導入台数",{"$f":"ET19&EU19","v":"台"},null,"別添4_38_17_EX19&EY19","一代前モデル_導入台数",{"$f":"EX19&EY19","v":"台"},null,"別添4_39_17_FB19&FC19","一代前モデル_導入台数",{"$f":"FB19&FC19","v":"台"},null,"別添4_40_17_FF19&FG19","一代前モデル_導入台数",{"$f":"FF19&FG19","v":"台"},null,"別添4_41_17_FJ19&FK19","一代前モデル_導入台数",{"$f":"FJ19&FK19","v":"台"},null,"別添4_42_17_FN19&FO19","一代前モデル_導入台数",{"$f":"FN19&FO19","v":"台"},null,"別添4_43_17_FR19&FS19","一代前モデル_導入台数",{"$f":"FR19&FS19","v":"台"},null,"別添4_44_17_FV19&FW19","一代前モデル_導入台数",{"$f":"FV19&FW19","v":"台"},null,"別添4_45_17_FZ19&GA19","一代前モデル_導入台数",{"$f":"FZ19&GA19","v":"台"},null,"別添4_46_17_GD19&GE19","一代前モデル_導入台数",{"$f":"GD19&GE19","v":"台"},null,"別添4_47_17_GH19&GI19","一代前モデル_導入台数",{"$f":"GH19&GI19","v":"台"},null,"別添4_48_17_GL19&GM19","一代前モデル_導入台数",{"$f":"GL19&GM19","v":"台"},null,"別添4_49_17_GP19&GQ19","一代前モデル_導入台数",{"$f":"GP19&GQ19","v":"台"},null,"別添4_50_17_GT19&GU19","一代前モデル_導入台数",{"$f":"GT19&GU19","v":"台"},null,"別添4_51_17_GX19&GY19","一代前モデル_導入台数",{"$f":"GX19&GY19","v":"台"},null,"別添4_52_17_HB19&HC19","一代前モデル_導入台数",{"$f":"HB19&HC19","v":"台"},null,"別添4_53_17_HF19&HG19","一代前モデル_導入台数",{"$f":"HF19&HG19","v":"台"},null,"別添4_54_17_HJ19&HK19","一代前モデル_導入台数",{"$f":"HJ19&HK19","v":"台"},null,"別添4_54_17_HJ19&HK19","一代前モデル_導入台数",{"$f":"HN19&HO19","v":"台"},null,"別添4_56_17_HR19&HS19","一代前モデル_導入台数",{"$f":"HR19&HS19","v":"台"},null,"別添4_57_17_HV19&HW19","一代前モデル_導入台数",{"$f":"HV19&HW19","v":"台"},null,"別添4_58_17_HZ19&IA19","一代前モデル_導入台数",{"$f":"HZ19&IA19","v":"台"},null,"別添4_59_17_ID19&IE19","一代前モデル_導入台数",{"$f":"ID19&IE19","v":"台"},null,"別添4_60_17_IH19&II19","一代前モデル_導入台数",{"$f":"IH19&II19","v":"台"}]
["非表示",null,null,"別添4_1_18_F20","一代前モデル_1台あたりの使用エネルギー",{"$f":"F20","v":0},null,"別添4_2_18_J20","一代前モデル_1台あたりの使用エネルギー",{"$f":"J20","v":0},null,"別添4_3_18_N20","一代前モデル_1台あたりの使用エネルギー",{"$f":"N20","v":0},null,"別添4_4_18_R20","一代前モデル_1台あたりの使用エネルギー",{"$f":"R20","v":0},null,"別添4_5_18_V20","一代前モデル_1台あたりの使用エネルギー",{"$f":"V20","v":0},null,"別添4_6_18_Z20","一代前モデル_1台あたりの使用エネルギー",{"$f":"Z20","v":0},null,"別添4_7_18_AD20","一代前モデル_1台あたりの使用エネルギー",{"$f":"AD20","v":0},null,"別添4_8_18_AH20","一代前モデル_1台あたりの使用エネルギー",{"$f":"AH20","v":0},null,"別添4_9_18_AL20","一代前モデル_1台あたりの使用エネルギー",{"$f":"AL20","v":0},null,"別添4_10_18_AP20","一代前モデル_1台あたりの使用エネルギー",{"$f":"AP20","v":0},null,"別添4_11_18_AT20","一代前モデル_1台あたりの使用エネルギー",{"$f":"AT20","v":0},null,"別添4_12_18_AX20","一代前モデル_1台あたりの使用エネルギー",{"$f":"AX20","v":0},null,"別添4_13_18_BB20","一代前モデル_1台あたりの使用エネルギー",{"$f":"BB20","v":0},null,"別添4_14_18_BF20","一代前モデル_1台あたりの使用エネルギー",{"$f":"BF20","v":0},null,"別添4_15_18_BJ20","一代前モデル_1台あたりの使用エネルギー",{"$f":"BJ20","v":0},null,"別添4_16_18_BN20","一代前モデル_1台あたりの使用エネルギー",{"$f":"BN20","v":0},null,"別添4_17_18_BR20","一代前モデル_1台あたりの使用エネルギー",{"$f":"BR20","v":0},null,"別添4_18_18_BV20","一代前モデル_1台あたりの使用エネルギー",{"$f":"BV20","v":0},null,"別添4_19_18_BZ20","一代前モデル_1台あたりの使用エネルギー",{"$f":"BZ20","v":0},null,"別添4_20_18_CD20","一代前モデル_1台あたりの使用エネルギー",{"$f":"CD20","v":0},null,"別添4_21_18_CH20","一代前モデル_1台あたりの使用エネルギー",{"$f":"CH20","v":0},null,"別添4_22_18_CL20","一代前モデル_1台あたりの使用エネルギー",{"$f":"CL20","v":0},null,"別添4_23_18_CP20","一代前モデル_1台あたりの使用エネルギー",{"$f":"CP20","v":0},null,"別添4_24_18_CT20","一代前モデル_1台あたりの使用エネルギー",{"$f":"CT20","v":0},null,"別添4_25_18_CX20","一代前モデル_1台あたりの使用エネルギー",{"$f":"CX20","v":0},null,"別添4_26_18_DB20","一代前モデル_1台あたりの使用エネルギー",{"$f":"DB20","v":0},null,"別添4_27_18_DF20","一代前モデル_1台あたりの使用エネルギー",{"$f":"DF20","v":0},null,"別添4_28_18_DJ20","一代前モデル_1台あたりの使用エネルギー",{"$f":"DJ20","v":0},null,"別添4_29_18_DN20","一代前モデル_1台あたりの使用エネルギー",{"$f":"DN20","v":0},null,"別添4_30_18_DR20","一代前モデル_1台あたりの使用エネルギー",{"$f":"DR20","v":0},null,"別添4_31_18_DV20","一代前モデル_1台あたりの使用エネルギー",{"$f":"DV20","v":0},null,"別添4_32_18_DZ20","一代前モデル_1台あたりの使用エネルギー",{"$f":"DZ20","v":0},null,"別添4_33_18_ED20","一代前モデル_1台あたりの使用エネルギー",{"$f":"ED20","v":0},null,"別添4_34_18_EH20","一代前モデル_1台あたりの使用エネルギー",{"$f":"EH20","v":0},null,"別添4_35_18_EL20","一代前モデル_1台あたりの使用エネルギー",{"$f":"EL20","v":0},null,"別添4_36_18_EP20","一代前モデル_1台あたりの使用エネルギー",{"$f":"EP20","v":0},null,"別添4_37_18_ET20","一代前モデル_1台あたりの使用エネルギー",{"$f":"ET20","v":0},null,"別添4_38_18_EX20","一代前モデル_1台あたりの使用エネルギー",{"$f":"EX20","v":0},null,"別添4_39_18_FB20","一代前モデル_1台あたりの使用エネルギー",{"$f":"FB20","v":0},null,"別添4_40_18_FF20","一代前モデル_1台あたりの使用エネルギー",{"$f":"FF20","v":0},null,"別添4_41_18_FJ20","一代前モデル_1台あたりの使用エネルギー",{"$f":"FJ20","v":0},null,"別添4_42_18_FN20","一代前モデル_1台あたりの使用エネルギー",{"$f":"FN20","v":0},null,"別添4_43_18_FR20","一代前モデル_1台あたりの使用エネルギー",{"$f":"FR20","v":0},null,"別添4_44_18_FV20","一代前モデル_1台あたりの使用エネルギー",{"$f":"FV20","v":0},null,"別添4_45_18_FZ20","一代前モデル_1台あたりの使用エネルギー",{"$f":"FZ20","v":0},null,"別添4_46_18_GD20","一代前モデル_1台あたりの使用エネルギー",{"$f":"GD20","v":0},null,"別添4_47_18_GH20","一代前モデル_1台あたりの使用エネルギー",{"$f":"GH20","v":0},null,"別添4_48_18_GL20","一代前モデル_1台あたりの使用エネルギー",{"$f":"GL20","v":0},null,"別添4_49_18_GP20","一代前モデル_1台あたりの使用エネルギー",{"$f":"GP20","v":0},null,"別添4_50_18_GT20","一代前モデル_1台あたりの使用エネルギー",{"$f":"GT20","v":0},null,"別添4_51_18_GX20","一代前モデル_1台あたりの使用エネルギー",{"$f":"GX20","v":0},null,"別添4_52_18_HB20","一代前モデル_1台あたりの使用エネルギー",{"$f":"HB20","v":0},null,"別添4_53_18_HF20","一代前モデル_1台あたりの使用エネルギー",{"$f":"HF20","v":0},null,"別添4_54_18_HJ20","一代前モデル_1台あたりの使用エネルギー",{"$f":"HJ20","v":0},null,"別添4_54_18_HJ20","一代前モデル_1台あたりの使用エネルギー",{"$f":"HN20","v":0},null,"別添4_56_18_HR20","一代前モデル_1台あたりの使用エネルギー",{"$f":"HR20","v":0},null,"別添4_57_18_HV20","一代前モデル_1台あたりの使用エネルギー",{"$f":"HV20","v":0},null,"別添4_58_18_HZ20","一代前モデル_1台あたりの使用エネルギー",{"$f":"HZ20","v":0},null,"別添4_59_18_ID20","一代前モデル_1台あたりの使用エネルギー",{"$f":"ID20","v":0},null,"別添4_60_18_IH20","一代前モデル_1台あたりの使用エネルギー",{"$f":"IH20","v":0}]
["非表示",null,null,"別添4_1_19_F21","一代前モデル_年間エネルギー使用量計算式",{"$f":"F21","v":0},null,"別添4_2_19_J21","一代前モデル_年間エネルギー使用量計算式",{"$f":"J21","v":0},null,"別添4_3_19_N21","一代前モデル_年間エネルギー使用量計算式",{"$f":"N21","v":0},null,"別添4_4_19_R21","一代前モデル_年間エネルギー使用量計算式",{"$f":"R21","v":0},null,"別添4_5_19_V21","一代前モデル_年間エネルギー使用量計算式",{"$f":"V21","v":0},null,"別添4_6_19_Z21","一代前モデル_年間エネルギー使用量計算式",{"$f":"Z21","v":0},null,"別添4_7_19_AD21","一代前モデル_年間エネルギー使用量計算式",{"$f":"AD21","v":0},null,"別添4_8_19_AH21","一代前モデル_年間エネルギー使用量計算式",{"$f":"AH21","v":0},null,"別添4_9_19_AL21","一代前モデル_年間エネルギー使用量計算式",{"$f":"AL21","v":0},null,"別添4_10_19_AP21","一代前モデル_年間エネルギー使用量計算式",{"$f":"AP21","v":0},null,"別添4_11_19_AT21","一代前モデル_年間エネルギー使用量計算式",{"$f":"AT21","v":0},null,"別添4_12_19_AX21","一代前モデル_年間エネルギー使用量計算式",{"$f":"AX21","v":0},null,"別添4_13_19_BB21","一代前モデル_年間エネルギー使用量計算式",{"$f":"BB21","v":0},null,"別添4_14_19_BF21","一代前モデル_年間エネルギー使用量計算式",{"$f":"BF21","v":0},null,"別添4_15_19_BJ21","一代前モデル_年間エネルギー使用量計算式",{"$f":"BJ21","v":0},null,"別添4_16_19_BN21","一代前モデル_年間エネルギー使用量計算式",{"$f":"BN21","v":0},null,"別添4_17_19_BR21","一代前モデル_年間エネルギー使用量計算式",{"$f":"BR21","v":0},null,"別添4_18_19_BV21","一代前モデル_年間エネルギー使用量計算式",{"$f":"BV21","v":0},null,"別添4_19_19_BZ21","一代前モデル_年間エネルギー使用量計算式",{"$f":"BZ21","v":0},null,"別添4_20_19_CD21","一代前モデル_年間エネルギー使用量計算式",{"$f":"CD21","v":0},null,"別添4_21_19_CH21","一代前モデル_年間エネルギー使用量計算式",{"$f":"CH21","v":0},null,"別添4_22_19_CL21","一代前モデル_年間エネルギー使用量計算式",{"$f":"CL21","v":0},null,"別添4_23_19_CP21","一代前モデル_年間エネルギー使用量計算式",{"$f":"CP21","v":0},null,"別添4_24_19_CT21","一代前モデル_年間エネルギー使用量計算式",{"$f":"CT21","v":0},null,"別添4_25_19_CX21","一代前モデル_年間エネルギー使用量計算式",{"$f":"CX21","v":0},null,"別添4_26_19_DB21","一代前モデル_年間エネルギー使用量計算式",{"$f":"DB21","v":0},null,"別添4_27_19_DF21","一代前モデル_年間エネルギー使用量計算式",{"$f":"DF21","v":0},null,"別添4_28_19_DJ21","一代前モデル_年間エネルギー使用量計算式",{"$f":"DJ21","v":0},null,"別添4_29_19_DN21","一代前モデル_年間エネルギー使用量計算式",{"$f":"DN21","v":0},null,"別添4_30_19_DR21","一代前モデル_年間エネルギー使用量計算式",{"$f":"DR21","v":0},null,"別添4_31_19_DV21","一代前モデル_年間エネルギー使用量計算式",{"$f":"DV21","v":0},null,"別添4_32_19_DZ21","一代前モデル_年間エネルギー使用量計算式",{"$f":"DZ21","v":0},null,"別添4_33_19_ED21","一代前モデル_年間エネルギー使用量計算式",{"$f":"ED21","v":0},null,"別添4_34_19_EH21","一代前モデル_年間エネルギー使用量計算式",{"$f":"EH21","v":0},null,"別添4_35_19_EL21","一代前モデル_年間エネルギー使用量計算式",{"$f":"EL21","v":0},null,"別添4_36_19_EP21","一代前モデル_年間エネルギー使用量計算式",{"$f":"EP21","v":0},null,"別添4_37_19_ET21","一代前モデル_年間エネルギー使用量計算式",{"$f":"ET21","v":0},null,"別添4_38_19_EX21","一代前モデル_年間エネルギー使用量計算式",{"$f":"EX21","v":0},null,"別添4_39_19_FB21","一代前モデル_年間エネルギー使用量計算式",{"$f":"FB21","v":0},null,"別添4_40_19_FF21","一代前モデル_年間エネルギー使用量計算式",{"$f":"FF21","v":0},null,"別添4_41_19_FJ21","一代前モデル_年間エネルギー使用量計算式",{"$f":"FJ21","v":0},null,"別添4_42_19_FN21","一代前モデル_年間エネルギー使用量計算式",{"$f":"FN21","v":0},null,"別添4_43_19_FR21","一代前モデル_年間エネルギー使用量計算式",{"$f":"FR21","v":0},null,"別添4_44_19_FV21","一代前モデル_年間エネルギー使用量計算式",{"$f":"FV21","v":0},null,"別添4_45_19_FZ21","一代前モデル_年間エネルギー使用量計算式",{"$f":"FZ21","v":0},null,"別添4_46_19_GD21","一代前モデル_年間エネルギー使用量計算式",{"$f":"GD21","v":0},null,"別添4_47_19_GH21","一代前モデル_年間エネルギー使用量計算式",{"$f":"GH21","v":0},null,"別添4_48_19_GL21","一代前モデル_年間エネルギー使用量計算式",{"$f":"GL21","v":0},null,"別添4_49_19_GP21","一代前モデル_年間エネルギー使用量計算式",{"$f":"GP21","v":0},null,"別添4_50_19_GT21","一代前モデル_年間エネルギー使用量計算式",{"$f":"GT21","v":0},null,"別添4_51_19_GX21","一代前モデル_年間エネルギー使用量計算式",{"$f":"GX21","v":0},null,"別添4_52_19_HB21","一代前モデル_年間エネルギー使用量計算式",{"$f":"HB21","v":0},null,"別添4_53_19_HF21","一代前モデル_年間エネルギー使用量計算式",{"$f":"HF21","v":0},null,"別添4_54_19_HJ21","一代前モデル_年間エネルギー使用量計算式",{"$f":"HJ21","v":0},null,"別添4_54_19_HJ21","一代前モデル_年間エネルギー使用量計算式",{"$f":"HN21","v":0},null,"別添4_56_19_HR21","一代前モデル_年間エネルギー使用量計算式",{"$f":"HR21","v":0},null,"別添4_57_19_HV21","一代前モデル_年間エネルギー使用量計算式",{"$f":"HV21","v":0},null,"別添4_58_19_HZ21","一代前モデル_年間エネルギー使用量計算式",{"$f":"HZ21","v":0},null,"別添4_59_19_ID21","一代前モデル_年間エネルギー使用量計算式",{"$f":"ID21","v":0},null,"別添4_60_19_IH21","一代前モデル_年間エネルギー使用量計算式",{"$f":"IH21","v":0}]
["非表示",null,null,"別添4_1_20_F22&G22","一代前モデル_計算結果",{"$f":"F22&G22","v":"単位を選択してください"},null,"別添4_2_20_J22&K22","一代前モデル_計算結果",{"$f":"J22&K22","v":"単位を選択してください"},null,"別添4_3_20_N22&O22","一代前モデル_計算結果",{"$f":"N22&O22","v":"単位を選択してください"},null,"別添4_4_20_R22&S22","一代前モデル_計算結果",{"$f":"R22&S22","v":"単位を選択してください"},null,"別添4_5_20_V22&W22","一代前モデル_計算結果",{"$f":"V22&W22","v":"単位を選択してください"},null,"別添4_6_20_Z22&AA22","一代前モデル_計算結果",{"$f":"Z22&AA22","v":"単位を選択してください"},null,"別添4_7_20_AD22&AE22","一代前モデル_計算結果",{"$f":"AD22&AE22","v":"単位を選択してください"},null,"別添4_8_20_AH22&AI22","一代前モデル_計算結果",{"$f":"AH22&AI22","v":"単位を選択してください"},null,"別添4_9_20_AL22&AM22","一代前モデル_計算結果",{"$f":"AL22&AM22","v":"単位を選択してください"},null,"別添4_10_20_AP22&AQ22","一代前モデル_計算結果",{"$f":"AP22&AQ22","v":"単位を選択してください"},null,"別添4_11_20_AT22&AU22","一代前モデル_計算結果",{"$f":"AT22&AU22","v":"単位を選択してください"},null,"別添4_12_20_AX22&AY22","一代前モデル_計算結果",{"$f":"AX22&AY22","v":"単位を選択してください"},null,"別添4_13_20_BB22&BC22","一代前モデル_計算結果",{"$f":"BB22&BC22","v":"単位を選択してください"},null,"別添4_14_20_BF22&BG22","一代前モデル_計算結果",{"$f":"BF22&BG22","v":"単位を選択してください"},null,"別添4_15_20_BJ22&BK22","一代前モデル_計算結果",{"$f":"BJ22&BK22","v":"単位を選択してください"},null,"別添4_16_20_BN22&BO22","一代前モデル_計算結果",{"$f":"BN22&BO22","v":"単位を選択してください"},null,"別添4_17_20_BR22&BS22","一代前モデル_計算結果",{"$f":"BR22&BS22","v":"単位を選択してください"},null,"別添4_18_20_BV22&BW22","一代前モデル_計算結果",{"$f":"BV22&BW22","v":"単位を選択してください"},null,"別添4_19_20_BZ22&CA22","一代前モデル_計算結果",{"$f":"BZ22&CA22","v":"単位を選択してください"},null,"別添4_20_20_CD22&CE22","一代前モデル_計算結果",{"$f":"CD22&CE22","v":"単位を選択してください"},null,"別添4_21_20_CH22&CI22","一代前モデル_計算結果",{"$f":"CH22&CI22","v":"単位を選択してください"},null,"別添4_22_20_CL22&CM22","一代前モデル_計算結果",{"$f":"CL22&CM22","v":"単位を選択してください"},null,"別添4_23_20_CP22&CQ22","一代前モデル_計算結果",{"$f":"CP22&CQ22","v":"単位を選択してください"},null,"別添4_24_20_CT22&CU22","一代前モデル_計算結果",{"$f":"CT22&CU22","v":"単位を選択してください"},null,"別添4_25_20_CX22&CY22","一代前モデル_計算結果",{"$f":"CX22&CY22","v":"単位を選択してください"},null,"別添4_26_20_DB22&DC22","一代前モデル_計算結果",{"$f":"DB22&DC22","v":"単位を選択してください"},null,"別添4_27_20_DF22&DG22","一代前モデル_計算結果",{"$f":"DF22&DG22","v":"単位を選択してください"},null,"別添4_28_20_DJ22&DK22","一代前モデル_計算結果",{"$f":"DJ22&DK22","v":"単位を選択してください"},null,"別添4_29_20_DN22&DO22","一代前モデル_計算結果",{"$f":"DN22&DO22","v":"単位を選択してください"},null,"別添4_30_20_DR22&DS22","一代前モデル_計算結果",{"$f":"DR22&DS22","v":"単位を選択してください"},null,"別添4_31_20_DV22&DW22","一代前モデル_計算結果",{"$f":"DV22&DW22","v":"単位を選択してください"},null,"別添4_32_20_DZ22&EA22","一代前モデル_計算結果",{"$f":"DZ22&EA22","v":"単位を選択してください"},null,"別添4_33_20_ED22&EE22","一代前モデル_計算結果",{"$f":"ED22&EE22","v":"単位を選択してください"},null,"別添4_34_20_EH22&EI22","一代前モデル_計算結果",{"$f":"EH22&EI22","v":"単位を選択してください"},null,"別添4_35_20_EL22&EM22","一代前モデル_計算結果",{"$f":"EL22&EM22","v":"単位を選択してください"},null,"別添4_36_20_EP22&EQ22","一代前モデル_計算結果",{"$f":"EP22&EQ22","v":"単位を選択してください"},null,"別添4_37_20_ET22&EU22","一代前モデル_計算結果",{"$f":"ET22&EU22","v":"単位を選択してください"},null,"別添4_38_20_EX22&EY22","一代前モデル_計算結果",{"$f":"EX22&EY22","v":"単位を選択してください"},null,"別添4_39_20_FB22&FC22","一代前モデル_計算結果",{"$f":"FB22&FC22","v":"単位を選択してください"},null,"別添4_40_20_FF22&FG22","一代前モデル_計算結果",{"$f":"FF22&FG22","v":"単位を選択してください"},null,"別添4_41_20_FJ22&FK22","一代前モデル_計算結果",{"$f":"FJ22&FK22","v":"単位を選択してください"},null,"別添4_42_20_FN22&FO22","一代前モデル_計算結果",{"$f":"FN22&FO22","v":"単位を選択してください"},null,"別添4_43_20_FR22&FS22","一代前モデル_計算結果",{"$f":"FR22&FS22","v":"単位を選択してください"},null,"別添4_44_20_FV22&FW22","一代前モデル_計算結果",{"$f":"FV22&FW22","v":"単位を選択してください"},null,"別添4_45_20_FZ22&GA22","一代前モデル_計算結果",{"$f":"FZ22&GA22","v":"単位を選択してください"},null,"別添4_46_20_GD22&GE22","一代前モデル_計算結果",{"$f":"GD22&GE22","v":"単位を選択してください"},null,"別添4_47_20_GH22&GI22","一代前モデル_計算結果",{"$f":"GH22&GI22","v":"単位を選択してください"},null,"別添4_48_20_GL22&GM22","一代前モデル_計算結果",{"$f":"GL22&GM22","v":"単位を選択してください"},null,"別添4_49_20_GP22&GQ22","一代前モデル_計算結果",{"$f":"GP22&GQ22","v":"単位を選択してください"},null,"別添4_50_20_GT22&GU22","一代前モデル_計算結果",{"$f":"GT22&GU22","v":"単位を選択してください"},null,"別添4_51_20_GX22&GY22","一代前モデル_計算結果",{"$f":"GX22&GY22","v":"単位を選択してください"},null,"別添4_52_20_HB22&HC22","一代前モデル_計算結果",{"$f":"HB22&HC22","v":"単位を選択してください"},null,"別添4_53_20_HF22&HG22","一代前モデル_計算結果",{"$f":"HF22&HG22","v":"単位を選択してください"},null,"別添4_54_20_HJ22&HK22","一代前モデル_計算結果",{"$f":"HJ22&HK22","v":"単位を選択してください"},null,"別添4_54_20_HJ22&HK22","一代前モデル_計算結果",{"$f":"HN22&HO22","v":"単位を選択してください"},null,"別添4_56_20_HR22&HS22","一代前モデル_計算結果",{"$f":"HR22&HS22","v":"単位を選択してください"},null,"別添4_57_20_HV22&HW22","一代前モデル_計算結果",{"$f":"HV22&HW22","v":"単位を選択してください"},null,"別添4_58_20_HZ22&IA22","一代前モデル_計算結果",{"$f":"HZ22&IA22","v":"単位を選択してください"},null,"別添4_59_20_ID22&IE22","一代前モデル_計算結果",{"$f":"ID22&IE22","v":"単位を選択してください"},null,"別添4_60_20_IH22&II22","一代前モデル_計算結果",{"$f":"IH22&II22","v":"単位を選択してください"}]
["非表示",null,null,"別添4_1_21_D23&E23","年間見込み省エネルギー量__計算結果",{"$f":"D23&E23","v":"0単位を選択してください"},null,"別添4_2_21_H23&I23","年間見込み省エネルギー量__計算結果",{"$f":"H23&I23","v":"0単位を選択してください"},null,"別添4_3_21_L23&M23","年間見込み省エネルギー量__計算結果",{"$f":"L23&M23","v":"0単位を選択してください"},null,"別添4_4_21_P23&Q23","年間見込み省エネルギー量__計算結果",{"$f":"P23&Q23","v":"0単位を選択してください"},null,"別添4_5_21_T23&U23","年間見込み省エネルギー量__計算結果",{"$f":"T23&U23","v":"0単位を選択してください"},null,"別添4_6_21_X23&Y23","年間見込み省エネルギー量__計算結果",{"$f":"X23&Y23","v":"0単位を選択してください"},null,"別添4_7_21_AB23&AC23","年間見込み省エネルギー量__計算結果",{"$f":"AB23&AC23","v":"0単位を選択してください"},null,"別添4_8_21_AF23&AG23","年間見込み省エネルギー量__計算結果",{"$f":"AF23&AG23","v":"0単位を選択してください"},null,"別添4_9_21_AJ23&AK23","年間見込み省エネルギー量__計算結果",{"$f":"AJ23&AK23","v":"0単位を選択してください"},null,"別添4_10_21_AN23&AO23","年間見込み省エネルギー量__計算結果",{"$f":"AN23&AO23","v":"0単位を選択してください"},null,"別添4_11_21_AR23&AS23","年間見込み省エネルギー量__計算結果",{"$f":"AR23&AS23","v":"0単位を選択してください"},null,"別添4_12_21_AV23&AW23","年間見込み省エネルギー量__計算結果",{"$f":"AV23&AW23","v":"0単位を選択してください"},null,"別添4_13_21_AZ23&BA23","年間見込み省エネルギー量__計算結果",{"$f":"AZ23&BA23","v":"0単位を選択してください"},null,"別添4_14_21_BD23&BE23","年間見込み省エネルギー量__計算結果",{"$f":"BD23&BE23","v":"0単位を選択してください"},null,"別添4_15_21_BH23&BI23","年間見込み省エネルギー量__計算結果",{"$f":"BH23&BI23","v":"0単位を選択してください"},null,"別添4_16_21_BL23&BM23","年間見込み省エネルギー量__計算結果",{"$f":"BL23&BM23","v":"0単位を選択してください"},null,"別添4_17_21_BP23&BQ23","年間見込み省エネルギー量__計算結果",{"$f":"BP23&BQ23","v":"0単位を選択してください"},null,"別添4_18_21_BT23&BU23","年間見込み省エネルギー量__計算結果",{"$f":"BT23&BU23","v":"0単位を選択してください"},null,"別添4_19_21_BX23&BY23","年間見込み省エネルギー量__計算結果",{"$f":"BX23&BY23","v":"0単位を選択してください"},null,"別添4_20_21_CB23&CC23","年間見込み省エネルギー量__計算結果",{"$f":"CB23&CC23","v":"0単位を選択してください"},null,"別添4_21_21_CF23&CG23","年間見込み省エネルギー量__計算結果",{"$f":"CF23&CG23","v":"0単位を選択してください"},null,"別添4_22_21_CJ23&CK23","年間見込み省エネルギー量__計算結果",{"$f":"CJ23&CK23","v":"0単位を選択してください"},null,"別添4_23_21_CN23&CO23","年間見込み省エネルギー量__計算結果",{"$f":"CN23&CO23","v":"0単位を選択してください"},null,"別添4_24_21_CR23&CS23","年間見込み省エネルギー量__計算結果",{"$f":"CR23&CS23","v":"0単位を選択してください"},null,"別添4_25_21_CV23&CW23","年間見込み省エネルギー量__計算結果",{"$f":"CV23&CW23","v":"0単位を選択してください"},null,"別添4_26_21_CZ23&DA23","年間見込み省エネルギー量__計算結果",{"$f":"CZ23&DA23","v":"0単位を選択してください"},null,"別添4_27_21_DD23&DE23","年間見込み省エネルギー量__計算結果",{"$f":"DD23&DE23","v":"0単位を選択してください"},null,"別添4_28_21_DH23&DI23","年間見込み省エネルギー量__計算結果",{"$f":"DH23&DI23","v":"0単位を選択してください"},null,"別添4_29_21_DL23&DM23","年間見込み省エネルギー量__計算結果",{"$f":"DL23&DM23","v":"0単位を選択してください"},null,"別添4_30_21_DP23&DQ23","年間見込み省エネルギー量__計算結果",{"$f":"DP23&DQ23","v":"0単位を選択してください"},null,"別添4_31_21_DT23&DU23","年間見込み省エネルギー量__計算結果",{"$f":"DT23&DU23","v":"0単位を選択してください"},null,"別添4_32_21_DX23&DY23","年間見込み省エネルギー量__計算結果",{"$f":"DX23&DY23","v":"0単位を選択してください"},null,"別添4_33_21_EB23&EC23","年間見込み省エネルギー量__計算結果",{"$f":"EB23&EC23","v":"0単位を選択してください"},null,"別添4_34_21_EF23&EG23","年間見込み省エネルギー量__計算結果",{"$f":"EF23&EG23","v":"0単位を選択してください"},null,"別添4_35_21_EJ23&EK23","年間見込み省エネルギー量__計算結果",{"$f":"EJ23&EK23","v":"0単位を選択してください"},null,"別添4_36_21_EN23&EO23","年間見込み省エネルギー量__計算結果",{"$f":"EN23&EO23","v":"0単位を選択してください"},null,"別添4_37_21_ER23&ES23","年間見込み省エネルギー量__計算結果",{"$f":"ER23&ES23","v":"0単位を選択してください"},null,"別添4_38_21_EV23&EW23","年間見込み省エネルギー量__計算結果",{"$f":"EV23&EW23","v":"0単位を選択してください"},null,"別添4_39_21_EZ23&FA23","年間見込み省エネルギー量__計算結果",{"$f":"EZ23&FA23","v":"0単位を選択してください"},null,"別添4_40_21_FD23&FE23","年間見込み省エネルギー量__計算結果",{"$f":"FD23&FE23","v":"0単位を選択してください"},null,"別添4_41_21_FH23&FI23","年間見込み省エネルギー量__計算結果",{"$f":"FH23&FI23","v":"0単位を選択してください"},null,"別添4_42_21_FL23&FM23","年間見込み省エネルギー量__計算結果",{"$f":"FL23&FM23","v":"0単位を選択してください"},null,"別添4_43_21_FP23&FQ23","年間見込み省エネルギー量__計算結果",{"$f":"FP23&FQ23","v":"0単位を選択してください"},null,"別添4_44_21_FT23&FU23","年間見込み省エネルギー量__計算結果",{"$f":"FT23&FU23","v":"0単位を選択してください"},null,"別添4_45_21_FX23&FY23","年間見込み省エネルギー量__計算結果",{"$f":"FX23&FY23","v":"0単位を選択してください"},null,"別添4_46_21_GB23&GC23","年間見込み省エネルギー量__計算結果",{"$f":"GB23&GC23","v":"0単位を選択してください"},null,"別添4_47_21_GF23&GG23","年間見込み省エネルギー量__計算結果",{"$f":"GF23&GG23","v":"0単位を選択してください"},null,"別添4_48_21_GJ23&GK23","年間見込み省エネルギー量__計算結果",{"$f":"GJ23&GK23","v":"0単位を選択してください"},null,"別添4_49_21_GN23&GO23","年間見込み省エネルギー量__計算結果",{"$f":"GN23&GO23","v":"0単位を選択してください"},null,"別添4_50_21_GR23&GS23","年間見込み省エネルギー量__計算結果",{"$f":"GR23&GS23","v":"0単位を選択してください"},null,"別添4_51_21_GV23&GW23","年間見込み省エネルギー量__計算結果",{"$f":"GV23&GW23","v":"0単位を選択してください"},null,"別添4_52_21_GZ23&HA23","年間見込み省エネルギー量__計算結果",{"$f":"GZ23&HA23","v":"0単位を選択してください"},null,"別添4_53_21_HD23&HE23","年間見込み省エネルギー量__計算結果",{"$f":"HD23&HE23","v":"0単位を選択してください"},null,"別添4_54_21_HH23&HI23","年間見込み省エネルギー量__計算結果",{"$f":"HH23&HI23","v":"0単位を選択してください"},null,"別添4_54_21_HH23&HI23","年間見込み省エネルギー量__計算結果",{"$f":"HL23&HM23","v":"0単位を選択してください"},null,"別添4_56_21_HP23&HQ23","年間見込み省エネルギー量__計算結果",{"$f":"HP23&HQ23","v":"0単位を選択してください"},null,"別添4_57_21_HT23&HU23","年間見込み省エネルギー量__計算結果",{"$f":"HT23&HU23","v":"0単位を選択してください"},null,"別添4_58_21_HX23&HY23","年間見込み省エネルギー量__計算結果",{"$f":"HX23&HY23","v":"0単位を選択してください"},null,"別添4_59_21_IB23&IC23","年間見込み省エネルギー量__計算結果",{"$f":"IB23&IC23","v":"0単位を選択してください"},null,"別添4_60_21_IF23&IG23","年間見込み省エネルギー量__計算結果",{"$f":"IF23&IG23","v":"0単位を選択してください"}]
["非表示",null,null,"別添4_1_22_D25","年間見込み省エネルギー量_原油換算計算式",{"$f":"D25","v":0},null,"別添4_2_22_H25","年間見込み省エネルギー量_原油換算計算式",{"$f":"H25","v":0},null,"別添4_3_22_L25","年間見込み省エネルギー量_原油換算計算式",{"$f":"L25","v":0},null,"別添4_4_22_P25","年間見込み省エネルギー量_原油換算計算式",{"$f":"P25","v":0},null,"別添4_5_22_T25","年間見込み省エネルギー量_原油換算計算式",{"$f":"T25","v":0},null,"別添4_6_22_X25","年間見込み省エネルギー量_原油換算計算式",{"$f":"X25","v":0},null,"別添4_7_22_AB25","年間見込み省エネルギー量_原油換算計算式",{"$f":"AB25","v":0},null,"別添4_8_22_AF25","年間見込み省エネルギー量_原油換算計算式",{"$f":"AF25","v":0},null,"別添4_9_22_AJ25","年間見込み省エネルギー量_原油換算計算式",{"$f":"AJ25","v":0},null,"別添4_10_22_AN25","年間見込み省エネルギー量_原油換算計算式",{"$f":"AN25","v":0},null,"別添4_11_22_AR25","年間見込み省エネルギー量_原油換算計算式",{"$f":"AR25","v":0},null,"別添4_12_22_AV25","年間見込み省エネルギー量_原油換算計算式",{"$f":"AV25","v":0},null,"別添4_13_22_AZ25","年間見込み省エネルギー量_原油換算計算式",{"$f":"AZ25","v":0},null,"別添4_14_22_BD25","年間見込み省エネルギー量_原油換算計算式",{"$f":"BD25","v":0},null,"別添4_15_22_BH25","年間見込み省エネルギー量_原油換算計算式",{"$f":"BH25","v":0},null,"別添4_16_22_BL25","年間見込み省エネルギー量_原油換算計算式",{"$f":"BL25","v":0},null,"別添4_17_22_BP25","年間見込み省エネルギー量_原油換算計算式",{"$f":"BP25","v":0},null,"別添4_18_22_BT25","年間見込み省エネルギー量_原油換算計算式",{"$f":"BT25","v":0},null,"別添4_19_22_BX25","年間見込み省エネルギー量_原油換算計算式",{"$f":"BX25","v":0},null,"別添4_20_22_CB25","年間見込み省エネルギー量_原油換算計算式",{"$f":"CB25","v":0},null,"別添4_21_22_CF25","年間見込み省エネルギー量_原油換算計算式",{"$f":"CF25","v":0},null,"別添4_22_22_CJ25","年間見込み省エネルギー量_原油換算計算式",{"$f":"CJ25","v":0},null,"別添4_23_22_CN25","年間見込み省エネルギー量_原油換算計算式",{"$f":"CN25","v":0},null,"別添4_24_22_CR25","年間見込み省エネルギー量_原油換算計算式",{"$f":"CR25","v":0},null,"別添4_25_22_CV25","年間見込み省エネルギー量_原油換算計算式",{"$f":"CV25","v":0},null,"別添4_26_22_CZ25","年間見込み省エネルギー量_原油換算計算式",{"$f":"CZ25","v":0},null,"別添4_27_22_DD25","年間見込み省エネルギー量_原油換算計算式",{"$f":"DD25","v":0},null,"別添4_28_22_DH25","年間見込み省エネルギー量_原油換算計算式",{"$f":"DH25","v":0},null,"別添4_29_22_DL25","年間見込み省エネルギー量_原油換算計算式",{"$f":"DL25","v":0},null,"別添4_30_22_DP25","年間見込み省エネルギー量_原油換算計算式",{"$f":"DP25","v":0},null,"別添4_31_22_DT25","年間見込み省エネルギー量_原油換算計算式",{"$f":"DT25","v":0},null,"別添4_32_22_DX25","年間見込み省エネルギー量_原油換算計算式",{"$f":"DX25","v":0},null,"別添4_33_22_EB25","年間見込み省エネルギー量_原油換算計算式",{"$f":"EB25","v":0},null,"別添4_34_22_EF25","年間見込み省エネルギー量_原油換算計算式",{"$f":"EF25","v":0},null,"別添4_35_22_EJ25","年間見込み省エネルギー量_原油換算計算式",{"$f":"EJ25","v":0},null,"別添4_36_22_EN25","年間見込み省エネルギー量_原油換算計算式",{"$f":"EN25","v":0},null,"別添4_37_22_ER25","年間見込み省エネルギー量_原油換算計算式",{"$f":"ER25","v":0},null,"別添4_38_22_EV25","年間見込み省エネルギー量_原油換算計算式",{"$f":"EV25","v":0},null,"別添4_39_22_EZ25","年間見込み省エネルギー量_原油換算計算式",{"$f":"EZ25","v":0},null,"別添4_40_22_FD25","年間見込み省エネルギー量_原油換算計算式",{"$f":"FD25","v":0},null,"別添4_41_22_FH25","年間見込み省エネルギー量_原油換算計算式",{"$f":"FH25","v":0},null,"別添4_42_22_FL25","年間見込み省エネルギー量_原油換算計算式",{"$f":"FL25","v":0},null,"別添4_43_22_FP25","年間見込み省エネルギー量_原油換算計算式",{"$f":"FP25","v":0},null,"別添4_44_22_FT25","年間見込み省エネルギー量_原油換算計算式",{"$f":"FT25","v":0},null,"別添4_45_22_FX25","年間見込み省エネルギー量_原油換算計算式",{"$f":"FX25","v":0},null,"別添4_46_22_GB25","年間見込み省エネルギー量_原油換算計算式",{"$f":"GB25","v":0},null,"別添4_47_22_GF25","年間見込み省エネルギー量_原油換算計算式",{"$f":"GF25","v":0},null,"別添4_48_22_GJ25","年間見込み省エネルギー量_原油換算計算式",{"$f":"GJ25","v":0},null,"別添4_49_22_GN25","年間見込み省エネルギー量_原油換算計算式",{"$f":"GN25","v":0},null,"別添4_50_22_GR25","年間見込み省エネルギー量_原油換算計算式",{"$f":"GR25","v":0},null,"別添4_51_22_GV25","年間見込み省エネルギー量_原油換算計算式",{"$f":"GV25","v":0},null,"別添4_52_22_GZ25","年間見込み省エネルギー量_原油換算計算式",{"$f":"GZ25","v":0},null,"別添4_53_22_HD25","年間見込み省エネルギー量_原油換算計算式",{"$f":"HD25","v":0},null,"別添4_54_22_HH25","年間見込み省エネルギー量_原油換算計算式",{"$f":"HH25","v":0},null,"別添4_54_22_HH25","年間見込み省エネルギー量_原油換算計算式",{"$f":"HL25","v":0},null,"別添4_56_22_HP25","年間見込み省エネルギー量_原油換算計算式",{"$f":"HP25","v":0},null,"別添4_57_22_HT25","年間見込み省エネルギー量_原油換算計算式",{"$f":"HT25","v":0},null,"別添4_58_22_HX25","年間見込み省エネルギー量_原油換算計算式",{"$f":"HX25","v":0},null,"別添4_59_22_IB25","年間見込み省エネルギー量_原油換算計算式",{"$f":"IB25","v":0},null,"別添4_60_22_IF25","年間見込み省エネルギー量_原油換算計算式",{"$f":"IF25","v":0}]
["非表示",null,null,"別添4_1_23_D26","年間見込み省エネルギー量原油換算計算結果",{"$f":"D26","v":0},null,"別添4_2_23_H26","年間見込み省エネルギー量原油換算計算結果",{"$f":"H26","v":0},null,"別添4_3_23_L26","年間見込み省エネルギー量原油換算計算結果",{"$f":"L26","v":0},null,"別添4_4_23_P26","年間見込み省エネルギー量原油換算計算結果",{"$f":"P26","v":0},null,"別添4_5_23_T26","年間見込み省エネルギー量原油換算計算結果",{"$f":"T26","v":0},null,"別添4_6_23_X26","年間見込み省エネルギー量原油換算計算結果",{"$f":"X26","v":0},null,"別添4_7_23_AB26","年間見込み省エネルギー量原油換算計算結果",{"$f":"AB26","v":0},null,"別添4_8_23_AF26","年間見込み省エネルギー量原油換算計算結果",{"$f":"AF26","v":0},null,"別添4_9_23_AJ26","年間見込み省エネルギー量原油換算計算結果",{"$f":"AJ26","v":0},null,"別添4_10_23_AN26","年間見込み省エネルギー量原油換算計算結果",{"$f":"AN26","v":0},null,"別添4_11_23_AR26","年間見込み省エネルギー量原油換算計算結果",{"$f":"AR26","v":0},null,"別添4_12_23_AV26","年間見込み省エネルギー量原油換算計算結果",{"$f":"AV26","v":0},null,"別添4_13_23_AZ26","年間見込み省エネルギー量原油換算計算結果",{"$f":"AZ26","v":0},null,"別添4_14_23_BD26","年間見込み省エネルギー量原油換算計算結果",{"$f":"BD26","v":0},null,"別添4_15_23_BH26","年間見込み省エネルギー量原油換算計算結果",{"$f":"BH26","v":0},null,"別添4_16_23_BL26","年間見込み省エネルギー量原油換算計算結果",{"$f":"BL26","v":0},null,"別添4_17_23_BP26","年間見込み省エネルギー量原油換算計算結果",{"$f":"BP26","v":0},null,"別添4_18_23_BT26","年間見込み省エネルギー量原油換算計算結果",{"$f":"BT26","v":0},null,"別添4_19_23_BX26","年間見込み省エネルギー量原油換算計算結果",{"$f":"BX26","v":0},null,"別添4_20_23_CB26","年間見込み省エネルギー量原油換算計算結果",{"$f":"CB26","v":0},null,"別添4_21_23_CF26","年間見込み省エネルギー量原油換算計算結果",{"$f":"CF26","v":0},null,"別添4_22_23_CJ26","年間見込み省エネルギー量原油換算計算結果",{"$f":"CJ26","v":0},null,"別添4_23_23_CN26","年間見込み省エネルギー量原油換算計算結果",{"$f":"CN26","v":0},null,"別添4_24_23_CR26","年間見込み省エネルギー量原油換算計算結果",{"$f":"CR26","v":0},null,"別添4_25_23_CV26","年間見込み省エネルギー量原油換算計算結果",{"$f":"CV26","v":0},null,"別添4_26_23_CZ26","年間見込み省エネルギー量原油換算計算結果",{"$f":"CZ26","v":0},null,"別添4_27_23_DD26","年間見込み省エネルギー量原油換算計算結果",{"$f":"DD26","v":0},null,"別添4_28_23_DH26","年間見込み省エネルギー量原油換算計算結果",{"$f":"DH26","v":0},null,"別添4_29_23_DL26","年間見込み省エネルギー量原油換算計算結果",{"$f":"DL26","v":0},null,"別添4_30_23_DP26","年間見込み省エネルギー量原油換算計算結果",{"$f":"DP26","v":0},null,"別添4_31_23_DT26","年間見込み省エネルギー量原油換算計算結果",{"$f":"DT26","v":0},null,"別添4_32_23_DX26","年間見込み省エネルギー量原油換算計算結果",{"$f":"DX26","v":0},null,"別添4_33_23_EB26","年間見込み省エネルギー量原油換算計算結果",{"$f":"EB26","v":0},null,"別添4_34_23_EF26","年間見込み省エネルギー量原油換算計算結果",{"$f":"EF26","v":0},null,"別添4_35_23_EJ26","年間見込み省エネルギー量原油換算計算結果",{"$f":"EJ26","v":0},null,"別添4_36_23_EN26","年間見込み省エネルギー量原油換算計算結果",{"$f":"EN26","v":0},null,"別添4_37_23_ER26","年間見込み省エネルギー量原油換算計算結果",{"$f":"ER26","v":0},null,"別添4_38_23_EV26","年間見込み省エネルギー量原油換算計算結果",{"$f":"EV26","v":0},null,"別添4_39_23_EZ26","年間見込み省エネルギー量原油換算計算結果",{"$f":"EZ26","v":0},null,"別添4_40_23_FD26","年間見込み省エネルギー量原油換算計算結果",{"$f":"FD26","v":0},null,"別添4_41_23_FH26","年間見込み省エネルギー量原油換算計算結果",{"$f":"FH26","v":0},null,"別添4_42_23_FL26","年間見込み省エネルギー量原油換算計算結果",{"$f":"FL26","v":0},null,"別添4_43_23_FP26","年間見込み省エネルギー量原油換算計算結果",{"$f":"FP26","v":0},null,"別添4_44_23_FT26","年間見込み省エネルギー量原油換算計算結果",{"$f":"FT26","v":0},null,"別添4_45_23_FX26","年間見込み省エネルギー量原油換算計算結果",{"$f":"FX26","v":0},null,"別添4_46_23_GB26","年間見込み省エネルギー量原油換算計算結果",{"$f":"GB26","v":0},null,"別添4_47_23_GF26","年間見込み省エネルギー量原油換算計算結果",{"$f":"GF26","v":0},null,"別添4_48_23_GJ26","年間見込み省エネルギー量原油換算計算結果",{"$f":"GJ26","v":0},null,"別添4_49_23_GN26","年間見込み省エネルギー量原油換算計算結果",{"$f":"GN26","v":0},null,"別添4_50_23_GR26","年間見込み省エネルギー量原油換算計算結果",{"$f":"GR26","v":0},null,"別添4_51_23_GV26","年間見込み省エネルギー量原油換算計算結果",{"$f":"GV26","v":0},null,"別添4_52_23_GZ26","年間見込み省エネルギー量原油換算計算結果",{"$f":"GZ26","v":0},null,"別添4_53_23_HD26","年間見込み省エネルギー量原油換算計算結果",{"$f":"HD26","v":0},null,"別添4_54_23_HH26","年間見込み省エネルギー量原油換算計算結果",{"$f":"HH26","v":0},null,"別添4_54_23_HH26","年間見込み省エネルギー量原油換算計算結果",{"$f":"HL26","v":0},null,"別添4_56_23_HP26","年間見込み省エネルギー量原油換算計算結果",{"$f":"HP26","v":0},null,"別添4_57_23_HT26","年間見込み省エネルギー量原油換算計算結果",{"$f":"HT26","v":0},null,"別添4_58_23_HX26","年間見込み省エネルギー量原油換算計算結果",{"$f":"HX26","v":0},null,"別添4_59_23_IB26","年間見込み省エネルギー量原油換算計算結果",{"$f":"IB26","v":0},null,"別添4_60_23_IF26","年間見込み省エネルギー量原油換算計算結果",{"$f":"IF26","v":0}]
["非表示",null,null,"別添4_1_24_D27","年間見込み省エネルギー率_自動計算",{"$f":"D27","v":""},null,"別添4_2_24_H27","年間見込み省エネルギー率_自動計算",{"$f":"H27","v":""},null,"別添4_3_24_L27","年間見込み省エネルギー率_自動計算",{"$f":"L27","v":""},null,"別添4_4_24_P27","年間見込み省エネルギー率_自動計算",{"$f":"P27","v":""},null,"別添4_5_24_T27","年間見込み省エネルギー率_自動計算",{"$f":"T27","v":""},null,"別添4_6_24_X27","年間見込み省エネルギー率_自動計算",{"$f":"X27","v":""},null,"別添4_7_24_AB27","年間見込み省エネルギー率_自動計算",{"$f":"AB27","v":""},null,"別添4_8_24_AF27","年間見込み省エネルギー率_自動計算",{"$f":"AF27","v":""},null,"別添4_9_24_AJ27","年間見込み省エネルギー率_自動計算",{"$f":"AJ27","v":""},null,"別添4_10_24_AN27","年間見込み省エネルギー率_自動計算",{"$f":"AN27","v":""},null,"別添4_11_24_AR27","年間見込み省エネルギー率_自動計算",{"$f":"AR27","v":""},null,"別添4_12_24_AV27","年間見込み省エネルギー率_自動計算",{"$f":"AV27","v":""},null,"別添4_13_24_AZ27","年間見込み省エネルギー率_自動計算",{"$f":"AZ27","v":""},null,"別添4_14_24_BD27","年間見込み省エネルギー率_自動計算",{"$f":"BD27","v":""},null,"別添4_15_24_BH27","年間見込み省エネルギー率_自動計算",{"$f":"BH27","v":""},null,"別添4_16_24_BL27","年間見込み省エネルギー率_自動計算",{"$f":"BL27","v":""},null,"別添4_17_24_BP27","年間見込み省エネルギー率_自動計算",{"$f":"BP27","v":""},null,"別添4_18_24_BT27","年間見込み省エネルギー率_自動計算",{"$f":"BT27","v":""},null,"別添4_19_24_BX27","年間見込み省エネルギー率_自動計算",{"$f":"BX27","v":""},null,"別添4_20_24_CB27","年間見込み省エネルギー率_自動計算",{"$f":"CB27","v":""},null,"別添4_21_24_CF27","年間見込み省エネルギー率_自動計算",{"$f":"CF27","v":""},null,"別添4_22_24_CJ27","年間見込み省エネルギー率_自動計算",{"$f":"CJ27","v":""},null,"別添4_23_24_CN27","年間見込み省エネルギー率_自動計算",{"$f":"CN27","v":""},null,"別添4_24_24_CR27","年間見込み省エネルギー率_自動計算",{"$f":"CR27","v":""},null,"別添4_25_24_CV27","年間見込み省エネルギー率_自動計算",{"$f":"CV27","v":""},null,"別添4_26_24_CZ27","年間見込み省エネルギー率_自動計算",{"$f":"CZ27","v":""},null,"別添4_27_24_DD27","年間見込み省エネルギー率_自動計算",{"$f":"DD27","v":""},null,"別添4_28_24_DH27","年間見込み省エネルギー率_自動計算",{"$f":"DH27","v":""},null,"別添4_29_24_DL27","年間見込み省エネルギー率_自動計算",{"$f":"DL27","v":""},null,"別添4_30_24_DP27","年間見込み省エネルギー率_自動計算",{"$f":"DP27","v":""},null,"別添4_31_24_DT27","年間見込み省エネルギー率_自動計算",{"$f":"DT27","v":""},null,"別添4_32_24_DX27","年間見込み省エネルギー率_自動計算",{"$f":"DX27","v":""},null,"別添4_33_24_EB27","年間見込み省エネルギー率_自動計算",{"$f":"EB27","v":""},null,"別添4_34_24_EF27","年間見込み省エネルギー率_自動計算",{"$f":"EF27","v":""},null,"別添4_35_24_EJ27","年間見込み省エネルギー率_自動計算",{"$f":"EJ27","v":""},null,"別添4_36_24_EN27","年間見込み省エネルギー率_自動計算",{"$f":"EN27","v":""},null,"別添4_37_24_ER27","年間見込み省エネルギー率_自動計算",{"$f":"ER27","v":""},null,"別添4_38_24_EV27","年間見込み省エネルギー率_自動計算",{"$f":"EV27","v":""},null,"別添4_39_24_EZ27","年間見込み省エネルギー率_自動計算",{"$f":"EZ27","v":""},null,"別添4_40_24_FD27","年間見込み省エネルギー率_自動計算",{"$f":"FD27","v":""},null,"別添4_41_24_FH27","年間見込み省エネルギー率_自動計算",{"$f":"FH27","v":""},null,"別添4_42_24_FL27","年間見込み省エネルギー率_自動計算",{"$f":"FL27","v":""},null,"別添4_43_24_FP27","年間見込み省エネルギー率_自動計算",{"$f":"FP27","v":""},null,"別添4_44_24_FT27","年間見込み省エネルギー率_自動計算",{"$f":"FT27","v":""},null,"別添4_45_24_FX27","年間見込み省エネルギー率_自動計算",{"$f":"FX27","v":""},null,"別添4_46_24_GB27","年間見込み省エネルギー率_自動計算",{"$f":"GB27","v":""},null,"別添4_47_24_GF27","年間見込み省エネルギー率_自動計算",{"$f":"GF27","v":""},null,"別添4_48_24_GJ27","年間見込み省エネルギー率_自動計算",{"$f":"GJ27","v":""},null,"別添4_49_24_GN27","年間見込み省エネルギー率_自動計算",{"$f":"GN27","v":""},null,"別添4_50_24_GR27","年間見込み省エネルギー率_自動計算",{"$f":"GR27","v":""},null,"別添4_51_24_GV27","年間見込み省エネルギー率_自動計算",{"$f":"GV27","v":""},null,"別添4_52_24_GZ27","年間見込み省エネルギー率_自動計算",{"$f":"GZ27","v":""},null,"別添4_53_24_HD27","年間見込み省エネルギー率_自動計算",{"$f":"HD27","v":""},null,"別添4_54_24_HH27","年間見込み省エネルギー率_自動計算",{"$f":"HH27","v":""},null,"別添4_54_24_HH27","年間見込み省エネルギー率_自動計算",{"$f":"HL27","v":""},null,"別添4_56_24_HP27","年間見込み省エネルギー率_自動計算",{"$f":"HP27","v":""},null,"別添4_57_24_HT27","年間見込み省エネルギー率_自動計算",{"$f":"HT27","v":""},null,"別添4_58_24_HX27","年間見込み省エネルギー率_自動計算",{"$f":"HX27","v":""},null,"別添4_59_24_IB27","年間見込み省エネルギー率_自動計算",{"$f":"IB27","v":""},null,"別添4_60_24_IF27","年間見込み省エネルギー率_自動計算",{"$f":"IF27","v":""}]
["非表示",null,null,"別添4_1_13_D22","導入設備_計算結果",{"$f":"D22","v":0},null,"別添4_1_13_D22","導入設備_計算結果",{"$f":"H22","v":0},null,"別添4_1_13_D22","導入設備_計算結果",{"$f":"L22","v":0},null,"別添4_1_13_D22","導入設備_計算結果",{"$f":"P22","v":0},null,"別添4_1_13_D22","導入設備_計算結果",{"$f":"T22","v":0},null,"別添4_1_13_D22","導入設備_計算結果",{"$f":"X22","v":0},null,"別添4_1_13_D22","導入設備_計算結果",{"$f":"AB22","v":0},null,"別添4_1_13_D22","導入設備_計算結果",{"$f":"AF22","v":0},null,"別添4_1_13_D22","導入設備_計算結果",{"$f":"AJ22","v":0},null,"別添4_1_13_D22","導入設備_計算結果",{"$f":"AN22","v":0},null,"別添4_1_13_D22","導入設備_計算結果",{"$f":"AR22","v":0},null,"別添4_1_13_D22","導入設備_計算結果",{"$f":"AV22","v":0},null,"別添4_1_13_D22","導入設備_計算結果",{"$f":"AZ22","v":0},null,"別添4_1_13_D22","導入設備_計算結果",{"$f":"BD22","v":0},null,"別添4_1_13_D22","導入設備_計算結果",{"$f":"BH22","v":0},null,"別添4_1_13_D22","導入設備_計算結果",{"$f":"BL22","v":0},null,"別添4_1_13_D22","導入設備_計算結果",{"$f":"BP22","v":0},null,"別添4_1_13_D22","導入設備_計算結果",{"$f":"BT22","v":0},null,"別添4_1_13_D22","導入設備_計算結果",{"$f":"BX22","v":0},null,"別添4_1_13_D22","導入設備_計算結果",{"$f":"CB22","v":0},null,"別添4_1_13_D22","導入設備_計算結果",{"$f":"CF22","v":0},null,"別添4_1_13_D22","導入設備_計算結果",{"$f":"CJ22","v":0},null,"別添4_1_13_D22","導入設備_計算結果",{"$f":"CN22","v":0},null,"別添4_1_13_D22","導入設備_計算結果",{"$f":"CR22","v":0},null,"別添4_1_13_D22","導入設備_計算結果",{"$f":"CV22","v":0},null,"別添4_1_13_D22","導入設備_計算結果",{"$f":"CZ22","v":0},null,"別添4_1_13_D22","導入設備_計算結果",{"$f":"DD22","v":0},null,"別添4_1_13_D22","導入設備_計算結果",{"$f":"DH22","v":0},null,"別添4_1_13_D22","導入設備_計算結果",{"$f":"DL22","v":0},null,"別添4_1_13_D22","導入設備_計算結果",{"$f":"DP22","v":0},null,"別添4_1_13_D22","導入設備_計算結果",{"$f":"DT22","v":0},null,"別添4_1_13_D22","導入設備_計算結果",{"$f":"DX22","v":0},null,"別添4_1_13_D22","導入設備_計算結果",{"$f":"EB22","v":0},null,"別添4_1_13_D22","導入設備_計算結果",{"$f":"EF22","v":0},null,"別添4_1_13_D22","導入設備_計算結果",{"$f":"EJ22","v":0},null,"別添4_1_13_D22","導入設備_計算結果",{"$f":"EN22","v":0},null,"別添4_1_13_D22","導入設備_計算結果",{"$f":"ER22","v":0},null,"別添4_1_13_D22","導入設備_計算結果",{"$f":"EV22","v":0},null,"別添4_1_13_D22","導入設備_計算結果",{"$f":"EZ22","v":0},null,"別添4_1_13_D22","導入設備_計算結果",{"$f":"FD22","v":0},null,"別添4_1_13_D22","導入設備_計算結果",{"$f":"FH22","v":0},null,"別添4_1_13_D22","導入設備_計算結果",{"$f":"FL22","v":0},null,"別添4_1_13_D22","導入設備_計算結果",{"$f":"FP22","v":0},null,"別添4_1_13_D22","導入設備_計算結果",{"$f":"FT22","v":0},null,"別添4_1_13_D22","導入設備_計算結果",{"$f":"FX22","v":0},null,"別添4_1_13_D22","導入設備_計算結果",{"$f":"GB22","v":0},null,"別添4_1_13_D22","導入設備_計算結果",{"$f":"GF22","v":0},null,"別添4_1_13_D22","導入設備_計算結果",{"$f":"GJ22","v":0},null,"別添4_1_13_D22","導入設備_計算結果",{"$f":"GN22","v":0},null,"別添4_1_13_D22","導入設備_計算結果",{"$f":"GR22","v":0},null,"別添4_1_13_D22","導入設備_計算結果",{"$f":"GV22","v":0},null,"別添4_1_13_D22","導入設備_計算結果",{"$f":"GZ22","v":0},null,"別添4_1_13_D22","導入設備_計算結果",{"$f":"HD22","v":0},null,"別添4_1_13_D22","導入設備_計算結果",{"$f":"HH22","v":0},null,"別添4_1_13_D22","導入設備_計算結果",{"$f":"HL22","v":0},null,"別添4_1_13_D22","導入設備_計算結果",{"$f":"HP22","v":0},null,"別添4_1_13_D22","導入設備_計算結果",{"$f":"HT22","v":0},null,"別添4_1_13_D22","導入設備_計算結果",{"$f":"HX22","v":0},null,"別添4_1_13_D22","導入設備_計算結果",{"$f":"IB22","v":0},null,"別添4_1_13_D22","導入設備_計算結果",{"$f":"IF22","v":0}]
["非表示",null,null,"別添4_1_20_F22","一代前モデル_計算結果",{"$f":"F22","v":0},null,"別添4_1_20_F22","一代前モデル_計算結果",{"$f":"J22","v":0},null,"別添4_1_20_F22","一代前モデル_計算結果",{"$f":"N22","v":0},null,"別添4_1_20_F22","一代前モデル_計算結果",{"$f":"R22","v":0},null,"別添4_1_20_F22","一代前モデル_計算結果",{"$f":"V22","v":0},null,"別添4_1_20_F22","一代前モデル_計算結果",{"$f":"Z22","v":0},null,"別添4_1_20_F22","一代前モデル_計算結果",{"$f":"AD22","v":0},null,"別添4_1_20_F22","一代前モデル_計算結果",{"$f":"AH22","v":0},null,"別添4_1_20_F22","一代前モデル_計算結果",{"$f":"AL22","v":0},null,"別添4_1_20_F22","一代前モデル_計算結果",{"$f":"AP22","v":0},null,"別添4_1_20_F22","一代前モデル_計算結果",{"$f":"AT22","v":0},null,"別添4_1_20_F22","一代前モデル_計算結果",{"$f":"AX22","v":0},null,"別添4_1_20_F22","一代前モデル_計算結果",{"$f":"BB22","v":0},null,"別添4_1_20_F22","一代前モデル_計算結果",{"$f":"BF22","v":0},null,"別添4_1_20_F22","一代前モデル_計算結果",{"$f":"BJ22","v":0},null,"別添4_1_20_F22","一代前モデル_計算結果",{"$f":"BN22","v":0},null,"別添4_1_20_F22","一代前モデル_計算結果",{"$f":"BR22","v":0},null,"別添4_1_20_F22","一代前モデル_計算結果",{"$f":"BV22","v":0},null,"別添4_1_20_F22","一代前モデル_計算結果",{"$f":"BZ22","v":0},null,"別添4_1_20_F22","一代前モデル_計算結果",{"$f":"CD22","v":0},null,"別添4_1_20_F22","一代前モデル_計算結果",{"$f":"CH22","v":0},null,"別添4_1_20_F22","一代前モデル_計算結果",{"$f":"CL22","v":0},null,"別添4_1_20_F22","一代前モデル_計算結果",{"$f":"CP22","v":0},null,"別添4_1_20_F22","一代前モデル_計算結果",{"$f":"CT22","v":0},null,"別添4_1_20_F22","一代前モデル_計算結果",{"$f":"CX22","v":0},null,"別添4_1_20_F22","一代前モデル_計算結果",{"$f":"DB22","v":0},null,"別添4_1_20_F22","一代前モデル_計算結果",{"$f":"DF22","v":0},null,"別添4_1_20_F22","一代前モデル_計算結果",{"$f":"DJ22","v":0},null,"別添4_1_20_F22","一代前モデル_計算結果",{"$f":"DN22","v":0},null,"別添4_1_20_F22","一代前モデル_計算結果",{"$f":"DR22","v":0},null,"別添4_1_20_F22","一代前モデル_計算結果",{"$f":"DV22","v":0},null,"別添4_1_20_F22","一代前モデル_計算結果",{"$f":"DZ22","v":0},null,"別添4_1_20_F22","一代前モデル_計算結果",{"$f":"ED22","v":0},null,"別添4_1_20_F22","一代前モデル_計算結果",{"$f":"EH22","v":0},null,"別添4_1_20_F22","一代前モデル_計算結果",{"$f":"EL22","v":0},null,"別添4_1_20_F22","一代前モデル_計算結果",{"$f":"EP22","v":0},null,"別添4_1_20_F22","一代前モデル_計算結果",{"$f":"ET22","v":0},null,"別添4_1_20_F22","一代前モデル_計算結果",{"$f":"EX22","v":0},null,"別添4_1_20_F22","一代前モデル_計算結果",{"$f":"FB22","v":0},null,"別添4_1_20_F22","一代前モデル_計算結果",{"$f":"FF22","v":0},null,"別添4_1_20_F22","一代前モデル_計算結果",{"$f":"FJ22","v":0},null,"別添4_1_20_F22","一代前モデル_計算結果",{"$f":"FN22","v":0},null,"別添4_1_20_F22","一代前モデル_計算結果",{"$f":"FR22","v":0},null,"別添4_1_20_F22","一代前モデル_計算結果",{"$f":"FV22","v":0},null,"別添4_1_20_F22","一代前モデル_計算結果",{"$f":"FZ22","v":0},null,"別添4_1_20_F22","一代前モデル_計算結果",{"$f":"GD22","v":0},null,"別添4_1_20_F22","一代前モデル_計算結果",{"$f":"GH22","v":0},null,"別添4_1_20_F22","一代前モデル_計算結果",{"$f":"GL22","v":0},null,"別添4_1_20_F22","一代前モデル_計算結果",{"$f":"GP22","v":0},null,"別添4_1_20_F22","一代前モデル_計算結果",{"$f":"GT22","v":0},null,"別添4_1_20_F22","一代前モデル_計算結果",{"$f":"GX22","v":0},null,"別添4_1_20_F22","一代前モデル_計算結果",{"$f":"HB22","v":0},null,"別添4_1_20_F22","一代前モデル_計算結果",{"$f":"HF22","v":0},null,"別添4_1_20_F22","一代前モデル_計算結果",{"$f":"HJ22","v":0},null,"別添4_1_20_F22","一代前モデル_計算結果",{"$f":"HN22","v":0},null,"別添4_1_20_F22","一代前モデル_計算結果",{"$f":"HR22","v":0},null,"別添4_1_20_F22","一代前モデル_計算結果",{"$f":"HV22","v":0},null,"別添4_1_20_F22","一代前モデル_計算結果",{"$f":"HZ22","v":0},null,"別添4_1_20_F22","一代前モデル_計算結果",{"$f":"ID22","v":0},null,"別添4_1_20_F22","一代前モデル_計算結果",{"$f":"IH22","v":0}]
["非表示",null,null,"別添4_1_21_D23","年間見込み省エネルギー量__計算結果",{"$f":"D23","v":0},null,"別添4_1_21_D23","年間見込み省エネルギー量__計算結果",{"$f":"H23","v":0},null,"別添4_1_21_D23","年間見込み省エネルギー量__計算結果",{"$f":"L23","v":0},null,"別添4_1_21_D23","年間見込み省エネルギー量__計算結果",{"$f":"P23","v":0},null,"別添4_1_21_D23","年間見込み省エネルギー量__計算結果",{"$f":"T23","v":0},null,"別添4_1_21_D23","年間見込み省エネルギー量__計算結果",{"$f":"X23","v":0},null,"別添4_1_21_D23","年間見込み省エネルギー量__計算結果",{"$f":"AB23","v":0},null,"別添4_1_21_D23","年間見込み省エネルギー量__計算結果",{"$f":"AF23","v":0},null,"別添4_1_21_D23","年間見込み省エネルギー量__計算結果",{"$f":"AJ23","v":0},null,"別添4_1_21_D23","年間見込み省エネルギー量__計算結果",{"$f":"AN23","v":0},null,"別添4_1_21_D23","年間見込み省エネルギー量__計算結果",{"$f":"AR23","v":0},null,"別添4_1_21_D23","年間見込み省エネルギー量__計算結果",{"$f":"AV23","v":0},null,"別添4_1_21_D23","年間見込み省エネルギー量__計算結果",{"$f":"AZ23","v":0},null,"別添4_1_21_D23","年間見込み省エネルギー量__計算結果",{"$f":"BD23","v":0},null,"別添4_1_21_D23","年間見込み省エネルギー量__計算結果",{"$f":"BH23","v":0},null,"別添4_1_21_D23","年間見込み省エネルギー量__計算結果",{"$f":"BL23","v":0},null,"別添4_1_21_D23","年間見込み省エネルギー量__計算結果",{"$f":"BP23","v":0},null,"別添4_1_21_D23","年間見込み省エネルギー量__計算結果",{"$f":"BT23","v":0},null,"別添4_1_21_D23","年間見込み省エネルギー量__計算結果",{"$f":"BX23","v":0},null,"別添4_1_21_D23","年間見込み省エネルギー量__計算結果",{"$f":"CB23","v":0},null,"別添4_1_21_D23","年間見込み省エネルギー量__計算結果",{"$f":"CF23","v":0},null,"別添4_1_21_D23","年間見込み省エネルギー量__計算結果",{"$f":"CJ23","v":0},null,"別添4_1_21_D23","年間見込み省エネルギー量__計算結果",{"$f":"CN23","v":0},null,"別添4_1_21_D23","年間見込み省エネルギー量__計算結果",{"$f":"CR23","v":0},null,"別添4_1_21_D23","年間見込み省エネルギー量__計算結果",{"$f":"CV23","v":0},null,"別添4_1_21_D23","年間見込み省エネルギー量__計算結果",{"$f":"CZ23","v":0},null,"別添4_1_21_D23","年間見込み省エネルギー量__計算結果",{"$f":"DD23","v":0},null,"別添4_1_21_D23","年間見込み省エネルギー量__計算結果",{"$f":"DH23","v":0},null,"別添4_1_21_D23","年間見込み省エネルギー量__計算結果",{"$f":"DL23","v":0},null,"別添4_1_21_D23","年間見込み省エネルギー量__計算結果",{"$f":"DP23","v":0},null,"別添4_1_21_D23","年間見込み省エネルギー量__計算結果",{"$f":"DT23","v":0},null,"別添4_1_21_D23","年間見込み省エネルギー量__計算結果",{"$f":"DX23","v":0},null,"別添4_1_21_D23","年間見込み省エネルギー量__計算結果",{"$f":"EB23","v":0},null,"別添4_1_21_D23","年間見込み省エネルギー量__計算結果",{"$f":"EF23","v":0},null,"別添4_1_21_D23","年間見込み省エネルギー量__計算結果",{"$f":"EJ23","v":0},null,"別添4_1_21_D23","年間見込み省エネルギー量__計算結果",{"$f":"EN23","v":0},null,"別添4_1_21_D23","年間見込み省エネルギー量__計算結果",{"$f":"ER23","v":0},null,"別添4_1_21_D23","年間見込み省エネルギー量__計算結果",{"$f":"EV23","v":0},null,"別添4_1_21_D23","年間見込み省エネルギー量__計算結果",{"$f":"EZ23","v":0},null,"別添4_1_21_D23","年間見込み省エネルギー量__計算結果",{"$f":"FD23","v":0},null,"別添4_1_21_D23","年間見込み省エネルギー量__計算結果",{"$f":"FH23","v":0},null,"別添4_1_21_D23","年間見込み省エネルギー量__計算結果",{"$f":"FL23","v":0},null,"別添4_1_21_D23","年間見込み省エネルギー量__計算結果",{"$f":"FP23","v":0},null,"別添4_1_21_D23","年間見込み省エネルギー量__計算結果",{"$f":"FT23","v":0},null,"別添4_1_21_D23","年間見込み省エネルギー量__計算結果",{"$f":"FX23","v":0},null,"別添4_1_21_D23","年間見込み省エネルギー量__計算結果",{"$f":"GB23","v":0},null,"別添4_1_21_D23","年間見込み省エネルギー量__計算結果",{"$f":"GF23","v":0},null,"別添4_1_21_D23","年間見込み省エネルギー量__計算結果",{"$f":"GJ23","v":0},null,"別添4_1_21_D23","年間見込み省エネルギー量__計算結果",{"$f":"GN23","v":0},null,"別添4_1_21_D23","年間見込み省エネルギー量__計算結果",{"$f":"GR23","v":0},null,"別添4_1_21_D23","年間見込み省エネルギー量__計算結果",{"$f":"GV23","v":0},null,"別添4_1_21_D23","年間見込み省エネルギー量__計算結果",{"$f":"GZ23","v":0},null,"別添4_1_21_D23","年間見込み省エネルギー量__計算結果",{"$f":"HD23","v":0},null,"別添4_1_21_D23","年間見込み省エネルギー量__計算結果",{"$f":"HH23","v":0},null,"別添4_1_21_D23","年間見込み省エネルギー量__計算結果",{"$f":"HL23","v":0},null,"別添4_1_21_D23","年間見込み省エネルギー量__計算結果",{"$f":"HP23","v":0},null,"別添4_1_21_D23","年間見込み省エネルギー量__計算結果",{"$f":"HT23","v":0},null,"別添4_1_21_D23","年間見込み省エネルギー量__計算結果",{"$f":"HX23","v":0},null,"別添4_1_21_D23","年間見込み省エネルギー量__計算結果",{"$f":"IB23","v":0},null,"別添4_1_21_D23","年間見込み省エネルギー量__計算結果",{"$f":"IF23","v":0}]

{"sheet":"（別添４）リスト（要件ア）","index":17,"n_rows":65,"n_cols":27,"rows_kept":65,"cut":false,"hidden":true,"merged":[[3,26,4,26],[3,7,4,7],[3,8,4,8],[3,23,4,23],[3,25,4,25],[3,6,4,6],[3,9,3,15],[3,16,3,22],[3,1,4,1],[3,2,4,2],[3,4,4,4],[3,5,4,5],[3,3,4,3]]}
[null,"別添4"]
[null,"リスト（要件ア）"]
[]
[null,"設備リスト\nNo","トップランナー制度","トップランナー制度","トップランナー基準の\n区分名又は数値","トップランナー基準の数値（導入設備）","比較指標/\nトップランナー基準","省エネ計算の裏付け資料","省エネ要因","導入設備",null,null,null,null,null,null,"一代前モデル",null,null,null,null,null,null,"年間見込み省エネルギー量\n（kWh/年)",null,"年間見込み省エネルギー量\n（kl/年)","年間見込み省エネルギー率\n（％）"]
[null,null,null,null,null,null,null,null,null,"製品名","製造メーカー","型番","導入台数","導入設備_1台あたりの使用エネルギー","導入設備_年間エネルギー使用量計算式","年間エネルギー使用量(kWh)","製品名","製造メーカー","型番","導入台数","導入設備_1台あたりの使用エネルギー","導入設備_年間エネルギー使用量計算式","年間エネルギー使用量(kWh)",null,"年間見込み省エネルギー量_原油換算計算式"]
[null,1,{"$f":"'（別添４）エネルギー消費効率の根拠（要件ア）'!$F41","v":0},{"$f":"IF(C6=\"トップランナー基準を満たす設備の導入\",\"TR\",IF(C6=\"トップランナー対象範囲外でエネルギー消費効率が高い設備の導入\",\"TR以外\",IF(C6=\"別紙参照\",\"別紙\",\"\")))","v":""},{"$f":"'（別添４）エネルギー消費効率の根拠（要件ア）'!$F42","v":0},{"$f":"'（別添４）エネルギー消費効率の根拠（要件ア）'!$F43","v":0},{"$f":"'（別添４）エネルギー消費効率の根拠（要件ア）'!$F44","v":0},{"$f":"'（別添４）エネルギー消費効率の根拠（要件ア）'!$F45","v":0},{"$f":"'（別添４）エネルギー消費効率の根拠（要件ア）'!$F46","v":0},{"$f":"'（別添４）エネルギー消費効率の根拠（要件ア）'!$F47","v":0},{"$f":"'（別添４）エネルギー消費効率の根拠（要件ア）'!$F48","v":0},{"$f":"'（別添４）エネルギー消費効率の根拠（要件ア）'!$F49","v":0},{"$f":"'（別添４）エネルギー消費効率の根拠（要件ア）'!$F50","v":"台"},{"$f":"'（別添４）エネルギー消費効率の根拠（要件ア）'!$F51","v":0},{"$f":"'（別添４）エネルギー消費効率の根拠（要件ア）'!$F52","v":0},{"$f":"'（別添４）エネルギー消費効率の根拠（要件ア）'!$F65","v":0},{"$f":"'（別添４）エネルギー消費効率の根拠（要件ア）'!$F54","v":0},{"$f":"'（別添４）エネルギー消費効率の根拠（要件ア）'!$F55","v":0},{"$f":"'（別添４）エネルギー消費効率の根拠（要件ア）'!$F56","v":0},{"$f":"'（別添４）エネルギー消費効率の根拠（要件ア）'!$F57","v":"台"},{"$f":"'（別添４）エネルギー消費効率の根拠（要件ア）'!$F58","v":0},{"$f":"'（別添４）エネルギー消費効率の根拠（要件ア）'!$F59","v":0},{"$f":"'（別添４）エネルギー消費効率の根拠（要件ア）'!$F66","v":0},{"$f":"'（別添４）エネルギー消費効率の根拠（要件ア）'!$F67","v":0},{"$f":"'（別添４）エネルギー消費効率の根拠（要件ア）'!$F62","v":0},{"$f":"'（別添４）エネルギー消費効率の根拠（要件ア）'!$F63","v":0},{"$f":"'（別添４）エネルギー消費効率の根拠（要件ア）'!$F64","v":""}]
[null,2,{"$f":"'（別添４）エネルギー消費効率の根拠（要件ア）'!$J41","v":0},"",{"$f":"'（別添４）エネルギー消費効率の根拠（要件ア）'!$J42","v":0},{"$f":"'（別添４）エネルギー消費効率の根拠（要件ア）'!$J43","v":0},{"$f":"'（別添４）エネルギー消費効率の根拠（要件ア）'!$J44","v":0},{"$f":"'（別添４）エネルギー消費効率の根拠（要件ア）'!$J45","v":0},{"$f":"'（別添４）エネルギー消費効率の根拠（要件ア）'!$J46","v":0},{"$f":"'（別添４）エネルギー消費効率の根拠（要件ア）'!$J47","v":0},{"$f":"'（別添４）エネルギー消費効率の根拠（要件ア）'!$J48","v":0},{"$f":"'（別添４）エネルギー消費効率の根拠（要件ア）'!$J49","v":0},{"$f":"'（別添４）エネルギー消費効率の根拠（要件ア）'!$J50","v":"台"},{"$f":"'（別添４）エネルギー消費効率の根拠（要件ア）'!$J51","v":0},{"$f":"'（別添４）エネルギー消費効率の根拠（要件ア）'!$J52","v":0},{"$f":"'（別添４）エネルギー消費効率の根拠（要件ア）'!$J65","v":0},{"$f":"'（別添４）エネルギー消費効率の根拠（要件ア）'!$J54","v":0},{"$f":"'（別添４）エネルギー消費効率の根拠（要件ア）'!$J55","v":0},{"$f":"'（別添４）エネルギー消費効率の根拠（要件ア）'!$J56","v":0},{"$f":"'（別添４）エネルギー消費効率の根拠（要件ア）'!$J57","v":"台"},{"$f":"'（別添４）エネルギー消費効率の根拠（要件ア）'!$J58","v":0},{"$f":"'（別添４）エネルギー消費効率の根拠（要件ア）'!$J59","v":0},{"$f":"'（別添４）エネルギー消費効率の根拠（要件ア）'!$J66","v":0},{"$f":"'（別添４）エネルギー消費効率の根拠（要件ア）'!$J67","v":0},{"$f":"'（別添４）エネルギー消費効率の根拠（要件ア）'!$J62","v":0},{"$f":"'（別添４）エネルギー消費効率の根拠（要件ア）'!$J63","v":0},{"$f":"'（別添４）エネルギー消費効率の根拠（要件ア）'!$J64","v":""}]
[null,3,{"$f":"'（別添４）エネルギー消費効率の根拠（要件ア）'!$N41","v":0},"",{"$f":"'（別添４）エネルギー消費効率の根拠（要件ア）'!$N42","v":0},{"$f":"'（別添４）エネルギー消費効率の根拠（要件ア）'!$N43","v":0},{"$f":"'（別添４）エネルギー消費効率の根拠（要件ア）'!$N44","v":0},{"$f":"'（別添４）エネルギー消費効率の根拠（要件ア）'!$N45","v":0},{"$f":"'（別添４）エネルギー消費効率の根拠（要件ア）'!$N46","v":0},{"$f":"'（別添４）エネルギー消費効率の根拠（要件ア）'!$N47","v":0},{"$f":"'（別添４）エネルギー消費効率の根拠（要件ア）'!$N48","v":0},{"$f":"'（別添４）エネルギー消費効率の根拠（要件ア）'!$N49","v":0},{"$f":"'（別添４）エネルギー消費効率の根拠（要件ア）'!$N50","v":"台"},{"$f":"'（別添４）エネルギー消費効率の根拠（要件ア）'!$N51","v":0},{"$f":"'（別添４）エネルギー消費効率の根拠（要件ア）'!$N52","v":0},{"$f":"'（別添４）エネルギー消費効率の根拠（要件ア）'!$N65","v":0},{"$f":"'（別添４）エネルギー消費効率の根拠（要件ア）'!$N54","v":0},{"$f":"'（別添４）エネルギー消費効率の根拠（要件ア）'!$N55","v":0},{"$f":"'（別添４）エネルギー消費効率の根拠（要件ア）'!$N56","v":0},{"$f":"'（別添４）エネルギー消費効率の根拠（要件ア）'!$N57","v":"台"},{"$f":"'（別添４）エネルギー消費効率の根拠（要件ア）'!$N58","v":0},{"$f":"'（別添４）エネルギー消費効率の根拠（要件ア）'!$N59","v":0},{"$f":"'（別添４）エネルギー消費効率の根拠（要件ア）'!$N66","v":0},{"$f":"'（別添４）エネルギー消費効率の根拠（要件ア）'!$N67","v":0},{"$f":"'（別添４）エネルギー消費効率の根拠（要件ア）'!$N62","v":0},{"$f":"'（別添４）エネルギー消費効率の根拠（要件ア）'!$N63","v":0},{"$f":"'（別添４）エネルギー消費効率の根拠（要件ア）'!$N64","v":""}]
[null,4,{"$f":"'（別添４）エネルギー消費効率の根拠（要件ア）'!$R41","v":0},"",{"$f":"'（別添４）エネルギー消費効率の根拠（要件ア）'!$R42","v":0},{"$f":"'（別添４）エネルギー消費効率の根拠（要件ア）'!$R43","v":0},{"$f":"'（別添４）エネルギー消費効率の根拠（要件ア）'!$R44","v":0},{"$f":"'（別添４）エネルギー消費効率の根拠（要件ア）'!$R45","v":0},{"$f":"'（別添４）エネルギー消費効率の根拠（要件ア）'!$R46","v":0},{"$f":"'（別添４）エネルギー消費効率の根拠（要件ア）'!$R47","v":0},{"$f":"'（別添４）エネルギー消費効率の根拠（要件ア）'!$R48","v":0},{"$f":"'（別添４）エネルギー消費効率の根拠（要件ア）'!$R49","v":0},{"$f":"'（別添４）エネルギー消費効率の根拠（要件ア）'!$R50","v":"台"},{"$f":"'（別添４）エネルギー消費効率の根拠（要件ア）'!$R51","v":0},{"$f":"'（別添４）エネルギー消費効率の根拠（要件ア）'!$R52","v":0},{"$f":"'（別添４）エネルギー消費効率の根拠（要件ア）'!$R65","v":0},{"$f":"'（別添４）エネルギー消費効率の根拠（要件ア）'!$R54","v":0},{"$f":"'（別添４）エネルギー消費効率の根拠（要件ア）'!$R55","v":0},{"$f":"'（別添４）エネルギー消費効率の根拠（要件ア）'!$R56","v":0},{"$f":"'（別添４）エネルギー消費効率の根拠（要件ア）'!$R57","v":"台"},{"$f":"'（別添４）エネルギー消費効率の根拠（要件ア）'!$R58","v":0},{"$f":"'（別添４）エネルギー消費効率の根拠（要件ア）'!$R59","v":0},{"$f":"'（別添４）エネルギー消費効率の根拠（要件ア）'!$R66","v":0},{"$f":"'（別添４）エネルギー消費効率の根拠（要件ア）'!$R67","v":0},{"$f":"'（別添４）エネルギー消費効率の根拠（要件ア）'!$R62","v":0},{"$f":"'（別添４）エネルギー消費効率の根拠（要件ア）'!$R63","v":0},{"$f":"'（別添４）エネルギー消費効率の根拠（要件ア）'!$R64","v":""}]
[null,5,{"$f":"'（別添４）エネルギー消費効率の根拠（要件ア）'!$V41","v":0},"",{"$f":"'（別添４）エネルギー消費効率の根拠（要件ア）'!$V42","v":0},{"$f":"'（別添４）エネルギー消費効率の根拠（要件ア）'!$V43","v":0},{"$f":"'（別添４）エネルギー消費効率の根拠（要件ア）'!$V44","v":0},{"$f":"'（別添４）エネルギー消費効率の根拠（要件ア）'!$V45","v":0},{"$f":"'（別添４）エネルギー消費効率の根拠（要件ア）'!$V46","v":0},{"$f":"'（別添４）エネルギー消費効率の根拠（要件ア）'!$V47","v":0},{"$f":"'（別添４）エネルギー消費効率の根拠（要件ア）'!$V48","v":0},{"$f":"'（別添４）エネルギー消費効率の根拠（要件ア）'!$V49","v":0},{"$f":"'（別添４）エネルギー消費効率の根拠（要件ア）'!$V50","v":"台"},{"$f":"'（別添４）エネルギー消費効率の根拠（要件ア）'!$V51","v":0},{"$f":"'（別添４）エネルギー消費効率の根拠（要件ア）'!$V52","v":0},{"$f":"'（別添４）エネルギー消費効率の根拠（要件ア）'!$V65","v":0},{"$f":"'（別添４）エネルギー消費効率の根拠（要件ア）'!$V54","v":0},{"$f":"'（別添４）エネルギー消費効率の根拠（要件ア）'!$V55","v":0},{"$f":"'（別添４）エネルギー消費効率の根拠（要件ア）'!$V56","v":0},{"$f":"'（別添４）エネルギー消費効率の根拠（要件ア）'!$V57","v":"台"},{"$f":"'（別添４）エネルギー消費効率の根拠（要件ア）'!$V58","v":0},{"$f":"'（別添４）エネルギー消費効率の根拠（要件ア）'!$V59","v":0},{"$f":"'（別添４）エネルギー消費効率の根拠（要件ア）'!$V66","v":0},{"$f":"'（別添４）エネルギー消費効率の根拠（要件ア）'!$V67","v":0},{"$f":"'（別添４）エネルギー消費効率の根拠（要件ア）'!$V62","v":0},{"$f":"'（別添４）エネルギー消費効率の根拠（要件ア）'!$V63","v":0},{"$f":"'（別添４）エネルギー消費効率の根拠（要件ア）'!$V64","v":""}]
[null,6,{"$f":"'（別添４）エネルギー消費効率の根拠（要件ア）'!$Z41","v":0},"",{"$f":"'（別添４）エネルギー消費効率の根拠（要件ア）'!$Z42","v":0},{"$f":"'（別添４）エネルギー消費効率の根拠（要件ア）'!$Z43","v":0},{"$f":"'（別添４）エネルギー消費効率の根拠（要件ア）'!$Z44","v":0},{"$f":"'（別添４）エネルギー消費効率の根拠（要件ア）'!$Z45","v":0},{"$f":"'（別添４）エネルギー消費効率の根拠（要件ア）'!$Z46","v":0},{"$f":"'（別添４）エネルギー消費効率の根拠（要件ア）'!$Z47","v":0},{"$f":"'（別添４）エネルギー消費効率の根拠（要件ア）'!$Z48","v":0},{"$f":"'（別添４）エネルギー消費効率の根拠（要件ア）'!$Z49","v":0},{"$f":"'（別添４）エネルギー消費効率の根拠（要件ア）'!$Z50","v":"台"},{"$f":"'（別添４）エネルギー消費効率の根拠（要件ア）'!$Z51","v":0},{"$f":"'（別添４）エネルギー消費効率の根拠（要件ア）'!$Z52","v":0},{"$f":"'（別添４）エネルギー消費効率の根拠（要件ア）'!$Z65","v":0},{"$f":"'（別添４）エネルギー消費効率の根拠（要件ア）'!$Z54","v":0},{"$f":"'（別添４）エネルギー消費効率の根拠（要件ア）'!$Z55","v":0},{"$f":"'（別添４）エネルギー消費効率の根拠（要件ア）'!$Z56","v":0},{"$f":"'（別添４）エネルギー消費効率の根拠（要件ア）'!$Z57","v":"台"},{"$f":"'（別添４）エネルギー消費効率の根拠（要件ア）'!$Z58","v":0},{"$f":"'（別添４）エネルギー消費効率の根拠（要件ア）'!$Z59","v":0},{"$f":"'（別添４）エネルギー消費効率の根拠（要件ア）'!$Z66","v":0},{"$f":"'（別添４）エネルギー消費効率の根拠（要件ア）'!$Z67","v":0},{"$f":"'（別添４）エネルギー消費効率の根拠（要件ア）'!$Z62","v":0},{"$f":"'（別添４）エネルギー消費効率の根拠（要件ア）'!$Z63","v":0},{"$f":"'（別添４）エネルギー消費効率の根拠（要件ア）'!$Z64","v":""}]
[null,7,{"$f":"'（別添４）エネルギー消費効率の根拠（要件ア）'!$AD41","v":0},"",{"$f":"'（別添４）エネルギー消費効率の根拠（要件ア）'!$AD42","v":0},{"$f":"'（別添４）エネルギー消費効率の根拠（要件ア）'!$AD43","v":0},{"$f":"'（別添４）エネルギー消費効率の根拠（要件ア）'!$AD44","v":0},{"$f":"'（別添４）エネルギー消費効率の根拠（要件ア）'!$AD45","v":0},{"$f":"'（別添４）エネルギー消費効率の根拠（要件ア）'!$AD46","v":0},{"$f":"'（別添４）エネルギー消費効率の根拠（要件ア）'!$AD47","v":0},{"$f":"'（別添４）エネルギー消費効率の根拠（要件ア）'!$AD48","v":0},{"$f":"'（別添４）エネルギー消費効率の根拠（要件ア）'!$AD49","v":0},{"$f":"'（別添４）エネルギー消費効率の根拠（要件ア）'!$AD50","v":"台"},{"$f":"'（別添４）エネルギー消費効率の根拠（要件ア）'!$AD51","v":0},{"$f":"'（別添４）エネルギー消費効率の根拠（要件ア）'!$AD52","v":0},{"$f":"'（別添４）エネルギー消費効率の根拠（要件ア）'!$AD65","v":0},{"$f":"'（別添４）エネルギー消費効率の根拠（要件ア）'!$AD54","v":0},{"$f":"'（別添４）エネルギー消費効率の根拠（要件ア）'!$AD55","v":0},{"$f":"'（別添４）エネルギー消費効率の根拠（要件ア）'!$AD56","v":0},{"$f":"'（別添４）エネルギー消費効率の根拠（要件ア）'!$AD57","v":"台"},{"$f":"'（別添４）エネルギー消費効率の根拠（要件ア）'!$AD58","v":0},{"$f":"'（別添４）エネルギー消費効率の根拠（要件ア）'!$AD59","v":0},{"$f":"'（別添４）エネルギー消費効率の根拠（要件ア）'!$AD66","v":0},{"$f":"'（別添４）エネルギー消費効率の根拠（要件ア）'!$AD67","v":0},{"$f":"'（別添４）エネルギー消費効率の根拠（要件ア）'!$AD62","v":0},{"$f":"'（別添４）エネルギー消費効率の根拠（要件ア）'!$AD63","v":0},{"$f":"'（別添４）エネルギー消費効率の根拠（要件ア）'!$AD64","v":""}]
[null,8,{"$f":"'（別添４）エネルギー消費効率の根拠（要件ア）'!$AH41","v":0},"",{"$f":"'（別添４）エネルギー消費効率の根拠（要件ア）'!$AH42","v":0},{"$f":"'（別添４）エネルギー消費効率の根拠（要件ア）'!$AH43","v":0},{"$f":"'（別添４）エネルギー消費効率の根拠（要件ア）'!$AH44","v":0},{"$f":"'（別添４）エネルギー消費効率の根拠（要件ア）'!$AH45","v":0},{"$f":"'（別添４）エネルギー消費効率の根拠（要件ア）'!$AH46","v":0},{"$f":"'（別添４）エネルギー消費効率の根拠（要件ア）'!$AH47","v":0},{"$f":"'（別添４）エネルギー消費効率の根拠（要件ア）'!$AH48","v":0},{"$f":"'（別添４）エネルギー消費効率の根拠（要件ア）'!$AH49","v":0},{"$f":"'（別添４）エネルギー消費効率の根拠（要件ア）'!$AH50","v":"台"},{"$f":"'（別添４）エネルギー消費効率の根拠（要件ア）'!$AH51","v":0},{"$f":"'（別添４）エネルギー消費効率の根拠（要件ア）'!$AH52","v":0},{"$f":"'（別添４）エネルギー消費効率の根拠（要件ア）'!$AH65","v":0},{"$f":"'（別添４）エネルギー消費効率の根拠（要件ア）'!$AH54","v":0},{"$f":"'（別添４）エネルギー消費効率の根拠（要件ア）'!$AH55","v":0},{"$f":"'（別添４）エネルギー消費効率の根拠（要件ア）'!$AH56","v":0},{"$f":"'（別添４）エネルギー消費効率の根拠（要件ア）'!$AH57","v":"台"},{"$f":"'（別添４）エネルギー消費効率の根拠（要件ア）'!$AH58","v":0},{"$f":"'（別添４）エネルギー消費効率の根拠（要件ア）'!$AH59","v":0},{"$f":"'（別添４）エネルギー消費効率の根拠（要件ア）'!$AH66","v":0},{"$f":"'（別添４）エネルギー消費効率の根拠（要件ア）'!$AH67","v":0},{"$f":"'（別添４）エネルギー消費効率の根拠（要件ア）'!$AH62","v":0},{"$f":"'（別添４）エネルギー消費効率の根拠（要件ア）'!$AH63","v":0},{"$f":"'（別添４）エネルギー消費効率の根拠（要件ア）'!$AH64","v":""}]
[null,9,{"$f":"'（別添４）エネルギー消費効率の根拠（要件ア）'!$AL41","v":0},"",{"$f":"'（別添４）エネルギー消費効率の根拠（要件ア）'!$AL42","v":0},{"$f":"'（別添４）エネルギー消費効率の根拠（要件ア）'!$AL43","v":0},{"$f":"'（別添４）エネルギー消費効率の根拠（要件ア）'!$AL44","v":0},{"$f":"'（別添４）エネルギー消費効率の根拠（要件ア）'!$AL45","v":0},{"$f":"'（別添４）エネルギー消費効率の根拠（要件ア）'!$AL46","v":0},{"$f":"'（別添４）エネルギー消費効率の根拠（要件ア）'!$AL47","v":0},{"$f":"'（別添４）エネルギー消費効率の根拠（要件ア）'!$AL48","v":0},{"$f":"'（別添４）エネルギー消費効率の根拠（要件ア）'!$AL49","v":0},{"$f":"'（別添４）エネルギー消費効率の根拠（要件ア）'!$AL50","v":"台"},{"$f":"'（別添４）エネルギー消費効率の根拠（要件ア）'!$AL51","v":0},{"$f":"'（別添４）エネルギー消費効率の根拠（要件ア）'!$AL52","v":0},{"$f":"'（別添４）エネルギー消費効率の根拠（要件ア）'!$AL65","v":0},{"$f":"'（別添４）エネルギー消費効率の根拠（要件ア）'!$AL54","v":0},{"$f":"'（別添４）エネルギー消費効率の根拠（要件ア）'!$AL55","v":0},{"$f":"'（別添４）エネルギー消費効率の根拠（要件ア）'!$AL56","v":0},{"$f":"'（別添４）エネルギー消費効率の根拠（要件ア）'!$AL57","v":"台"},{"$f":"'（別添４）エネルギー消費効率の根拠（要件ア）'!$AL58","v":0},{"$f":"'（別添４）エネルギー消費効率の根拠（要件ア）'!$AL59","v":0},{"$f":"'（別添４）エネルギー消費効率の根拠（要件ア）'!$AL66","v":0},{"$f":"'（別添４）エネルギー消費効率の根拠（要件ア）'!$AL67","v":0},{"$f":"'（別添４）エネルギー消費効率の根拠（要件ア）'!$AL62","v":0},{"$f":"'（別添４）エネルギー消費効率の根拠（要件ア）'!$AL63","v":0},{"$f":"'（別添４）エネルギー消費効率の根拠（要件ア）'!$AL64","v":""}]
[null,10,{"$f":"'（別添４）エネルギー消費効率の根拠（要件ア）'!$AP41","v":0},"",{"$f":"'（別添４）エネルギー消費効率の根拠（要件ア）'!$AP42","v":0},{"$f":"'（別添４）エネルギー消費効率の根拠（要件ア）'!$AP43","v":0},{"$f":"'（別添４）エネルギー消費効率の根拠（要件ア）'!$AP44","v":0},{"$f":"'（別添４）エネルギー消費効率の根拠（要件ア）'!$AP45","v":0},{"$f":"'（別添４）エネルギー消費効率の根拠（要件ア）'!$AP46","v":0},{"$f":"'（別添４）エネルギー消費効率の根拠（要件ア）'!$AP47","v":0},{"$f":"'（別添４）エネルギー消費効率の根拠（要件ア）'!$AP48","v":0},{"$f":"'（別添４）エネルギー消費効率の根拠（要件ア）'!$AP49","v":0},{"$f":"'（別添４）エネルギー消費効率の根拠（要件ア）'!$AP50","v":"台"},{"$f":"'（別添４）エネルギー消費効率の根拠（要件ア）'!$AP51","v":0},{"$f":"'（別添４）エネルギー消費効率の根拠（要件ア）'!$AP52","v":0},{"$f":"'（別添４）エネルギー消費効率の根拠（要件ア）'!$AP65","v":0},{"$f":"'（別添４）エネルギー消費効率の根拠（要件ア）'!$AP54","v":0},{"$f":"'（別添４）エネルギー消費効率の根拠（要件ア）'!$AP55","v":0},{"$f":"'（別添４）エネルギー消費効率の根拠（要件ア）'!$AP56","v":0},{"$f":"'（別添４）エネルギー消費効率の根拠（要件ア）'!$AP57","v":"台"},{"$f":"'（別添４）エネルギー消費効率の根拠（要件ア）'!$AP58","v":0},{"$f":"'（別添４）エネルギー消費効率の根拠（要件ア）'!$AP59","v":0},{"$f":"'（別添４）エネルギー消費効率の根拠（要件ア）'!$AP66","v":0},{"$f":"'（別添４）エネルギー消費効率の根拠（要件ア）'!$AP67","v":0},{"$f":"'（別添４）エネルギー消費効率の根拠（要件ア）'!$AP62","v":0},{"$f":"'（別添４）エネルギー消費効率の根拠（要件ア）'!$AP63","v":0},{"$f":"'（別添４）エネルギー消費効率の根拠（要件ア）'!$AP64","v":""}]
[null,11,{"$f":"'（別添４）エネルギー消費効率の根拠（要件ア）'!$AT41","v":0},"",{"$f":"'（別添４）エネルギー消費効率の根拠（要件ア）'!$AT42","v":0},{"$f":"'（別添４）エネルギー消費効率の根拠（要件ア）'!$AT43","v":0},{"$f":"'（別添４）エネルギー消費効率の根拠（要件ア）'!$AT44","v":0},{"$f":"'（別添４）エネルギー消費効率の根拠（要件ア）'!$AT45","v":0},{"$f":"'（別添４）エネルギー消費効率の根拠（要件ア）'!$AT46","v":0},{"$f":"'（別添４）エネルギー消費効率の根拠（要件ア）'!$AT47","v":0},{"$f":"'（別添４）エネルギー消費効率の根拠（要件ア）'!$AT48","v":0},{"$f":"'（別添４）エネルギー消費効率の根拠（要件ア）'!$AT49","v":0},{"$f":"'（別添４）エネルギー消費効率の根拠（要件ア）'!$AT50","v":"台"},{"$f":"'（別添４）エネルギー消費効率の根拠（要件ア）'!$AT51","v":0},{"$f":"'（別添４）エネルギー消費効率の根拠（要件ア）'!$AT52","v":0},{"$f":"'（別添４）エネルギー消費効率の根拠（要件ア）'!$AT65","v":0},{"$f":"'（別添４）エネルギー消費効率の根拠（要件ア）'!$AT54","v":0},{"$f":"'（別添４）エネルギー消費効率の根拠（要件ア）'!$AT55","v":0},{"$f":"'（別添４）エネルギー消費効率の根拠（要件ア）'!$AT56","v":0},{"$f":"'（別添４）エネルギー消費効率の根拠（要件ア）'!$AT57","v":"台"},{"$f":"'（別添４）エネルギー消費効率の根拠（要件ア）'!$AT58","v":0},{"$f":"'（別添４）エネルギー消費効率の根拠（要件ア）'!$AT59","v":0},{"$f":"'（別添４）エネルギー消費効率の根拠（要件ア）'!$AT66","v":0},{"$f":"'（別添４）エネルギー消費効率の根拠（要件ア）'!$AT67","v":0},{"$f":"'（別添４）エネルギー消費効率の根拠（要件ア）'!$AT62","v":0},{"$f":"'（別添４）エネルギー消費効率の根拠（要件ア）'!$AT63","v":0},{"$f":"'（別添４）エネルギー消費効率の根拠（要件ア）'!$AT64","v":""}]
[null,12,{"$f":"'（別添４）エネルギー消費効率の根拠（要件ア）'!$AX41","v":0},"",{"$f":"'（別添４）エネルギー消費効率の根拠（要件ア）'!$AX42","v":0},{"$f":"'（別添４）エネルギー消費効率の根拠（要件ア）'!$AX43","v":0},{"$f":"'（別添４）エネルギー消費効率の根拠（要件ア）'!$AX44","v":0},{"$f":"'（別添４）エネルギー消費効率の根拠（要件ア）'!$AX45","v":0},{"$f":"'（別添４）エネルギー消費効率の根拠（要件ア）'!$AX46","v":0},{"$f":"'（別添４）エネルギー消費効率の根拠（要件ア）'!$AX47","v":0},{"$f":"'（別添４）エネルギー消費効率の根拠（要件ア）'!$AX48","v":0},{"$f":"'（別添４）エネルギー消費効率の根拠（要件ア）'!$AX49","v":0},{"$f":"'（別添４）エネルギー消費効率の根拠（要件ア）'!$AX50","v":"台"},{"$f":"'（別添４）エネルギー消費効率の根拠（要件ア）'!$AX51","v":0},{"$f":"'（別添４）エネルギー消費効率の根拠（要件ア）'!$AX52","v":0},{"$f":"'（別添４）エネルギー消費効率の根拠（要件ア）'!$AX65","v":0},{"$f":"'（別添４）エネルギー消費効率の根拠（要件ア）'!$AX54","v":0},{"$f":"'（別添４）エネルギー消費効率の根拠（要件ア）'!$AX55","v":0},{"$f":"'（別添４）エネルギー消費効率の根拠（要件ア）'!$AX56","v":0},{"$f":"'（別添４）エネルギー消費効率の根拠（要件ア）'!$AX57","v":"台"},{"$f":"'（別添４）エネルギー消費効率の根拠（要件ア）'!$AX58","v":0},{"$f":"'（別添４）エネルギー消費効率の根拠（要件ア）'!$AX59","v":0},{"$f":"'（別添４）エネルギー消費効率の根拠（要件ア）'!$AX66","v":0},{"$f":"'（別添４）エネルギー消費効率の根拠（要件ア）'!$AX67","v":0},{"$f":"'（別添４）エネルギー消費効率の根拠（要件ア）'!$AX62","v":0},{"$f":"'（別添４）エネルギー消費効率の根拠（要件ア）'!$AX63","v":0},{"$f":"'（別添４）エネルギー消費効率の根拠（要件ア）'!$AX64","v":""}]
[null,13,{"$f":"'（別添４）エネルギー消費効率の根拠（要件ア）'!$BB41","v":0},"",{"$f":"'（別添４）エネルギー消費効率の根拠（要件ア）'!$BB42","v":0},{"$f":"'（別添４）エネルギー消費効率の根拠（要件ア）'!$BB43","v":0},{"$f":"'（別添４）エネルギー消費効率の根拠（要件ア）'!$BB44","v":0},{"$f":"'（別添４）エネルギー消費効率の根拠（要件ア）'!$BB45","v":0},{"$f":"'（別添４）エネルギー消費効率の根拠（要件ア）'!$BB46","v":0},{"$f":"'（別添４）エネルギー消費効率の根拠（要件ア）'!$BB47","v":0},{"$f":"'（別添４）エネルギー消費効率の根拠（要件ア）'!$BB48","v":0},{"$f":"'（別添４）エネルギー消費効率の根拠（要件ア）'!$BB49","v":0},{"$f":"'（別添４）エネルギー消費効率の根拠（要件ア）'!$BB50","v":"台"},{"$f":"'（別添４）エネルギー消費効率の根拠（要件ア）'!$BB51","v":0},{"$f":"'（別添４）エネルギー消費効率の根拠（要件ア）'!$BB52","v":0},{"$f":"'（別添４）エネルギー消費効率の根拠（要件ア）'!$BB65","v":0},{"$f":"'（別添４）エネルギー消費効率の根拠（要件ア）'!$BB54","v":0},{"$f":"'（別添４）エネルギー消費効率の根拠（要件ア）'!$BB55","v":0},{"$f":"'（別添４）エネルギー消費効率の根拠（要件ア）'!$BB56","v":0},{"$f":"'（別添４）エネルギー消費効率の根拠（要件ア）'!$BB57","v":"台"},{"$f":"'（別添４）エネルギー消費効率の根拠（要件ア）'!$BB58","v":0},{"$f":"'（別添４）エネルギー消費効率の根拠（要件ア）'!$BB59","v":0},{"$f":"'（別添４）エネルギー消費効率の根拠（要件ア）'!$BB66","v":0},{"$f":"'（別添４）エネルギー消費効率の根拠（要件ア）'!$BB67","v":0},{"$f":"'（別添４）エネルギー消費効率の根拠（要件ア）'!$BB62","v":0},{"$f":"'（別添４）エネルギー消費効率の根拠（要件ア）'!$BB63","v":0},{"$f":"'（別添４）エネルギー消費効率の根拠（要件ア）'!$BB64","v":""}]
[null,14,{"$f":"'（別添４）エネルギー消費効率の根拠（要件ア）'!$BF41","v":0},"",{"$f":"'（別添４）エネルギー消費効率の根拠（要件ア）'!$BF42","v":0},{"$f":"'（別添４）エネルギー消費効率の根拠（要件ア）'!$BF43","v":0},{"$f":"'（別添４）エネルギー消費効率の根拠（要件ア）'!$BF44","v":0},{"$f":"'（別添４）エネルギー消費効率の根拠（要件ア）'!$BF45","v":0},{"$f":"'（別添４）エネルギー消費効率の根拠（要件ア）'!$BF46","v":0},{"$f":"'（別添４）エネルギー消費効率の根拠（要件ア）'!$BF47","v":0},{"$f":"'（別添４）エネルギー消費効率の根拠（要件ア）'!$BF48","v":0},{"$f":"'（別添４）エネルギー消費効率の根拠（要件ア）'!$BF49","v":0},{"$f":"'（別添４）エネルギー消費効率の根拠（要件ア）'!$BF50","v":"台"},{"$f":"'（別添４）エネルギー消費効率の根拠（要件ア）'!$BF51","v":0},{"$f":"'（別添４）エネルギー消費効率の根拠（要件ア）'!$BF52","v":0},{"$f":"'（別添４）エネルギー消費効率の根拠（要件ア）'!$BF65","v":0},{"$f":"'（別添４）エネルギー消費効率の根拠（要件ア）'!$BF54","v":0},{"$f":"'（別添４）エネルギー消費効率の根拠（要件ア）'!$BF55","v":0},{"$f":"'（別添４）エネルギー消費効率の根拠（要件ア）'!$BF56","v":0},{"$f":"'（別添４）エネルギー消費効率の根拠（要件ア）'!$BF57","v":"台"},{"$f":"'（別添４）エネルギー消費効率の根拠（要件ア）'!$BF58","v":0},{"$f":"'（別添４）エネルギー消費効率の根拠（要件ア）'!$BF59","v":0},{"$f":"'（別添４）エネルギー消費効率の根拠（要件ア）'!$BF66","v":0},{"$f":"'（別添４）エネルギー消費効率の根拠（要件ア）'!$BF67","v":0},{"$f":"'（別添４）エネルギー消費効率の根拠（要件ア）'!$BF62","v":0},{"$f":"'（別添４）エネルギー消費効率の根拠（要件ア）'!$BF63","v":0},{"$f":"'（別添４）エネルギー消費効率の根拠（要件ア）'!$BF64","v":""}]
[null,15,{"$f":"'（別添４）エネルギー消費効率の根拠（要件ア）'!$BJ41","v":0},"",{"$f":"'（別添４）エネルギー消費効率の根拠（要件ア）'!$BJ42","v":0},{"$f":"'（別添４）エネルギー消費効率の根拠（要件ア）'!$BJ43","v":0},{"$f":"'（別添４）エネルギー消費効率の根拠（要件ア）'!$BJ44","v":0},{"$f":"'（別添４）エネルギー消費効率の根拠（要件ア）'!$BJ45","v":0},{"$f":"'（別添４）エネルギー消費効率の根拠（要件ア）'!$BJ46","v":0},{"$f":"'（別添４）エネルギー消費効率の根拠（要件ア）'!$BJ47","v":0},{"$f":"'（別添４）エネルギー消費効率の根拠（要件ア）'!$BJ48","v":0},{"$f":"'（別添４）エネルギー消費効率の根拠（要件ア）'!$BJ49","v":0},{"$f":"'（別添４）エネルギー消費効率の根拠（要件ア）'!$BJ50","v":"台"},{"$f":"'（別添４）エネルギー消費効率の根拠（要件ア）'!$BJ51","v":0},{"$f":"'（別添４）エネルギー消費効率の根拠（要件ア）'!$BJ52","v":0},{"$f":"'（別添４）エネルギー消費効率の根拠（要件ア）'!$BJ65","v":0},{"$f":"'（別添４）エネルギー消費効率の根拠（要件ア）'!$BJ54","v":0},{"$f":"'（別添４）エネルギー消費効率の根拠（要件ア）'!$BJ55","v":0},{"$f":"'（別添４）エネルギー消費効率の根拠（要件ア）'!$BJ56","v":0},{"$f":"'（別添４）エネルギー消費効率の根拠（要件ア）'!$BJ57","v":"台"},{"$f":"'（別添４）エネルギー消費効率の根拠（要件ア）'!$BJ58","v":0},{"$f":"'（別添４）エネルギー消費効率の根拠（要件ア）'!$BJ59","v":0},{"$f":"'（別添４）エネルギー消費効率の根拠（要件ア）'!$BJ66","v":0},{"$f":"'（別添４）エネルギー消費効率の根拠（要件ア）'!$BJ67","v":0},{"$f":"'（別添４）エネルギー消費効率の根拠（要件ア）'!$BJ62","v":0},{"$f":"'（別添４）エネルギー消費効率の根拠（要件ア）'!$BJ63","v":0},{"$f":"'（別添４）エネルギー消費効率の根拠（要件ア）'!$BJ64","v":""}]
[null,16,{"$f":"'（別添４）エネルギー消費効率の根拠（要件ア）'!$BN41","v":0},"",{"$f":"'（別添４）エネルギー消費効率の根拠（要件ア）'!$BN42","v":0},{"$f":"'（別添４）エネルギー消費効率の根拠（要件ア）'!$BN43","v":0},{"$f":"'（別添４）エネルギー消費効率の根拠（要件ア）'!$BN44","v":0},{"$f":"'（別添４）エネルギー消費効率の根拠（要件ア）'!$BN45","v":0},{"$f":"'（別添４）エネルギー消費効率の根拠（要件ア）'!$BN46","v":0},{"$f":"'（別添４）エネルギー消費効率の根拠（要件ア）'!$BN47","v":0},{"$f":"'（別添４）エネルギー消費効率の根拠（要件ア）'!$BN48","v":0},{"$f":"'（別添４）エネルギー消費効率の根拠（要件ア）'!$BN49","v":0},{"$f":"'（別添４）エネルギー消費効率の根拠（要件ア）'!$BN50","v":"台"},{"$f":"'（別添４）エネルギー消費効率の根拠（要件ア）'!$BN51","v":0},{"$f":"'（別添４）エネルギー消費効率の根拠（要件ア）'!$BN52","v":0},{"$f":"'（別添４）エネルギー消費効率の根拠（要件ア）'!$BN65","v":0},{"$f":"'（別添４）エネルギー消費効率の根拠（要件ア）'!$BN54","v":0},{"$f":"'（別添４）エネルギー消費効率の根拠（要件ア）'!$BN55","v":0},{"$f":"'（別添４）エネルギー消費効率の根拠（要件ア）'!$BN56","v":0},{"$f":"'（別添４）エネルギー消費効率の根拠（要件ア）'!$BN57","v":"台"},{"$f":"'（別添４）エネルギー消費効率の根拠（要件ア）'!$BN58","v":0},{"$f":"'（別添４）エネルギー消費効率の根拠（要件ア）'!$BN59","v":0},{"$f":"'（別添４）エネルギー消費効率の根拠（要件ア）'!$BN66","v":0},{"$f":"'（別添４）エネルギー消費効率の根拠（要件ア）'!$BN67","v":0},{"$f":"'（別添４）エネルギー消費効率の根拠（要件ア）'!$BN62","v":0},{"$f":"'（別添４）エネルギー消費効率の根拠（要件ア）'!$BN63","v":0},{"$f":"'（別添４）エネルギー消費効率の根拠（要件ア）'!$BN64","v":""}]
[null,17,{"$f":"'（別添４）エネルギー消費効率の根拠（要件ア）'!$BR41","v":0},"",{"$f":"'（別添４）エネルギー消費効率の根拠（要件ア）'!$BR42","v":0},{"$f":"'（別添４）エネルギー消費効率の根拠（要件ア）'!$BR43","v":0},{"$f":"'（別添４）エネルギー消費効率の根拠（要件ア）'!$BR44","v":0},{"$f":"'（別添４）エネルギー消費効率の根拠（要件ア）'!$BR45","v":0},{"$f":"'（別添４）エネルギー消費効率の根拠（要件ア）'!$BR46","v":0},{"$f":"'（別添４）エネルギー消費効率の根拠（要件ア）'!$BR47","v":0},{"$f":"'（別添４）エネルギー消費効率の根拠（要件ア）'!$BR48","v":0},{"$f":"'（別添４）エネルギー消費効率の根拠（要件ア）'!$BR49","v":0},{"$f":"'（別添４）エネルギー消費効率の根拠（要件ア）'!$BR50","v":"台"},{"$f":"'（別添４）エネルギー消費効率の根拠（要件ア）'!$BR51","v":0},{"$f":"'（別添４）エネルギー消費効率の根拠（要件ア）'!$BR52","v":0},{"$f":"'（別添４）エネルギー消費効率の根拠（要件ア）'!$BR65","v":0},{"$f":"'（別添４）エネルギー消費効率の根拠（要件ア）'!$BR54","v":0},{"$f":"'（別添４）エネルギー消費効率の根拠（要件ア）'!$BR55","v":0},{"$f":"'（別添４）エネルギー消費効率の根拠（要件ア）'!$BR56","v":0},{"$f":"'（別添４）エネルギー消費効率の根拠（要件ア）'!$BR57","v":"台"},{"$f":"'（別添４）エネルギー消費効率の根拠（要件ア）'!$BR58","v":0},{"$f":"'（別添４）エネルギー消費効率の根拠（要件ア）'!$BR59","v":0},{"$f":"'（別添４）エネルギー消費効率の根拠（要件ア）'!$BR66","v":0},{"$f":"'（別添４）エネルギー消費効率の根拠（要件ア）'!$BR67","v":0},{"$f":"'（別添４）エネルギー消費効率の根拠（要件ア）'!$BR62","v":0},{"$f":"'（別添４）エネルギー消費効率の根拠（要件ア）'!$BR63","v":0},{"$f":"'（別添４）エネルギー消費効率の根拠（要件ア）'!$BR64","v":""}]
[null,18,{"$f":"'（別添４）エネルギー消費効率の根拠（要件ア）'!$BV41","v":0},"",{"$f":"'（別添４）エネルギー消費効率の根拠（要件ア）'!$BV42","v":0},{"$f":"'（別添４）エネルギー消費効率の根拠（要件ア）'!$BV43","v":0},{"$f":"'（別添４）エネルギー消費効率の根拠（要件ア）'!$BV44","v":0},{"$f":"'（別添４）エネルギー消費効率の根拠（要件ア）'!$BV45","v":0},{"$f":"'（別添４）エネルギー消費効率の根拠（要件ア）'!$BV46","v":0},{"$f":"'（別添４）エネルギー消費効率の根拠（要件ア）'!$BV47","v":0},{"$f":"'（別添４）エネルギー消費効率の根拠（要件ア）'!$BV48","v":0},{"$f":"'（別添４）エネルギー消費効率の根拠（要件ア）'!$BV49","v":0},{"$f":"'（別添４）エネルギー消費効率の根拠（要件ア）'!$BV50","v":"台"},{"$f":"'（別添４）エネルギー消費効率の根拠（要件ア）'!$BV51","v":0},{"$f":"'（別添４）エネルギー消費効率の根拠（要件ア）'!$BV52","v":0},{"$f":"'（別添４）エネルギー消費効率の根拠（要件ア）'!$BV65","v":0},{"$f":"'（別添４）エネルギー消費効率の根拠（要件ア）'!$BV54","v":0},{"$f":"'（別添４）エネルギー消費効率の根拠（要件ア）'!$BV55","v":0},{"$f":"'（別添４）エネルギー消費効率の根拠（要件ア）'!$BV56","v":0},{"$f":"'（別添４）エネルギー消費効率の根拠（要件ア）'!$BV57","v":"台"},{"$f":"'（別添４）エネルギー消費効率の根拠（要件ア）'!$BV58","v":0},{"$f":"'（別添４）エネルギー消費効率の根拠（要件ア）'!$BV59","v":0},{"$f":"'（別添４）エネルギー消費効率の根拠（要件ア）'!$BV66","v":0},{"$f":"'（別添４）エネルギー消費効率の根拠（要件ア）'!$BV67","v":0},{"$f":"'（別添４）エネルギー消費効率の根拠（要件ア）'!$BV62","v":0},{"$f":"'（別添４）エネルギー消費効率の根拠（要件ア）'!$BV63","v":0},{"$f":"'（別添４）エネルギー消費効率の根拠（要件ア）'!$BV64","v":""}]
[null,19,{"$f":"'（別添４）エネルギー消費効率の根拠（要件ア）'!$BZ41","v":0},"",{"$f":"'（別添４）エネルギー消費効率の根拠（要件ア）'!$BZ42","v":0},{"$f":"'（別添４）エネルギー消費効率の根拠（要件ア）'!$BZ43","v":0},{"$f":"'（別添４）エネルギー消費効率の根拠（要件ア）'!$BZ44","v":0},{"$f":"'（別添４）エネルギー消費効率の根拠（要件ア）'!$BZ45","v":0},{"$f":"'（別添４）エネルギー消費効率の根拠（要件ア）'!$BZ46","v":0},{"$f":"'（別添４）エネルギー消費効率の根拠（要件ア）'!$BZ47","v":0},{"$f":"'（別添４）エネルギー消費効率の根拠（要件ア）'!$BZ48","v":0},{"$f":"'（別添４）エネルギー消費効率の根拠（要件ア）'!$BZ49","v":0},{"$f":"'（別添４）エネルギー消費効率の根拠（要件ア）'!$BZ50","v":"台"},{"$f":"'（別添４）エネルギー消費効率の根拠（要件ア）'!$BZ51","v":0},{"$f":"'（別添４）エネルギー消費効率の根拠（要件ア）'!$BZ52","v":0},{"$f":"'（別添４）エネルギー消費効率の根拠（要件ア）'!$BZ65","v":0},{"$f":"'（別添４）エネルギー消費効率の根拠（要件ア）'!$BZ54","v":0},{"$f":"'（別添４）エネルギー消費効率の根拠（要件ア）'!$BZ55","v":0},{"$f":"'（別添４）エネルギー消費効率の根拠（要件ア）'!$BZ56","v":0},{"$f":"'（別添４）エネルギー消費効率の根拠（要件ア）'!$BZ57","v":"台"},{"$f":"'（別添４）エネルギー消費効率の根拠（要件ア）'!$BZ58","v":0},{"$f":"'（別添４）エネルギー消費効率の根拠（要件ア）'!$BZ59","v":0},{"$f":"'（別添４）エネルギー消費効率の根拠（要件ア）'!$BZ66","v":0},{"$f":"'（別添４）エネルギー消費効率の根拠（要件ア）'!$BZ67","v":0},{"$f":"'（別添４）エネルギー消費効率の根拠（要件ア）'!$BZ62","v":0},{"$f":"'（別添４）エネルギー消費効率の根拠（要件ア）'!$BZ63","v":0},{"$f":"'（別添４）エネルギー消費効率の根拠（要件ア）'!$BZ64","v":""}]
[null,20,{"$f":"'（別添４）エネルギー消費効率の根拠（要件ア）'!$CD41","v":0},"",{"$f":"'（別添４）エネルギー消費効率の根拠（要件ア）'!$CD42","v":0},{"$f":"'（別添４）エネルギー消費効率の根拠（要件ア）'!$CD43","v":0},{"$f":"'（別添４）エネルギー消費効率の根拠（要件ア）'!$CD44","v":0},{"$f":"'（別添４）エネルギー消費効率の根拠（要件ア）'!$CD45","v":0},{"$f":"'（別添４）エネルギー消費効率の根拠（要件ア）'!$CD46","v":0},{"$f":"'（別添４）エネルギー消費効率の根拠（要件ア）'!$CD47","v":0},{"$f":"'（別添４）エネルギー消費効率の根拠（要件ア）'!$CD48","v":0},{"$f":"'（別添４）エネルギー消費効率の根拠（要件ア）'!$CD49","v":0},{"$f":"'（別添４）エネルギー消費効率の根拠（要件ア）'!$CD50","v":"台"},{"$f":"'（別添４）エネルギー消費効率の根拠（要件ア）'!$CD51","v":0},{"$f":"'（別添４）エネルギー消費効率の根拠（要件ア）'!$CD52","v":0},{"$f":"'（別添４）エネルギー消費効率の根拠（要件ア）'!$CD65","v":0},{"$f":"'（別添４）エネルギー消費効率の根拠（要件ア）'!$CD54","v":0},{"$f":"'（別添４）エネルギー消費効率の根拠（要件ア）'!$CD55","v":0},{"$f":"'（別添４）エネルギー消費効率の根拠（要件ア）'!$CD56","v":0},{"$f":"'（別添４）エネルギー消費効率の根拠（要件ア）'!$CD57","v":"台"},{"$f":"'（別添４）エネルギー消費効率の根拠（要件ア）'!$CD58","v":0},{"$f":"'（別添４）エネルギー消費効率の根拠（要件ア）'!$CD59","v":0},{"$f":"'（別添４）エネルギー消費効率の根拠（要件ア）'!$CD66","v":0},{"$f":"'（別添４）エネルギー消費効率の根拠（要件ア）'!$CD67","v":0},{"$f":"'（別添４）エネルギー消費効率の根拠（要件ア）'!$CD62","v":0},{"$f":"'（別添４）エネルギー消費効率の根拠（要件ア）'!$CD63","v":0},{"$f":"'（別添４）エネルギー消費効率の根拠（要件ア）'!$CD64","v":""}]
[null,21,{"$f":"'（別添４）エネルギー消費効率の根拠（要件ア）'!$CH41","v":0},"",{"$f":"'（別添４）エネルギー消費効率の根拠（要件ア）'!$CH42","v":0},{"$f":"'（別添４）エネルギー消費効率の根拠（要件ア）'!$CH43","v":0},{"$f":"'（別添４）エネルギー消費効率の根拠（要件ア）'!$CH44","v":0},{"$f":"'（別添４）エネルギー消費効率の根拠（要件ア）'!$CH45","v":0},{"$f":"'（別添４）エネルギー消費効率の根拠（要件ア）'!$CH46","v":0},{"$f":"'（別添４）エネルギー消費効率の根拠（要件ア）'!$CH47","v":0},{"$f":"'（別添４）エネルギー消費効率の根拠（要件ア）'!$CH48","v":0},{"$f":"'（別添４）エネルギー消費効率の根拠（要件ア）'!$CH49","v":0},{"$f":"'（別添４）エネルギー消費効率の根拠（要件ア）'!$CH50","v":"台"},{"$f":"'（別添４）エネルギー消費効率の根拠（要件ア）'!$CH51","v":0},{"$f":"'（別添４）エネルギー消費効率の根拠（要件ア）'!$CH52","v":0},{"$f":"'（別添４）エネルギー消費効率の根拠（要件ア）'!$CH65","v":0},{"$f":"'（別添４）エネルギー消費効率の根拠（要件ア）'!$CH54","v":0},{"$f":"'（別添４）エネルギー消費効率の根拠（要件ア）'!$CH55","v":0},{"$f":"'（別添４）エネルギー消費効率の根拠（要件ア）'!$CH56","v":0},{"$f":"'（別添４）エネルギー消費効率の根拠（要件ア）'!$CH57","v":"台"},{"$f":"'（別添４）エネルギー消費効率の根拠（要件ア）'!$CH58","v":0},{"$f":"'（別添４）エネルギー消費効率の根拠（要件ア）'!$CH59","v":0},{"$f":"'（別添４）エネルギー消費効率の根拠（要件ア）'!$CH66","v":0},{"$f":"'（別添４）エネルギー消費効率の根拠（要件ア）'!$CH67","v":0},{"$f":"'（別添４）エネルギー消費効率の根拠（要件ア）'!$CH62","v":0},{"$f":"'（別添４）エネルギー消費効率の根拠（要件ア）'!$CH63","v":0},{"$f":"'（別添４）エネルギー消費効率の根拠（要件ア）'!$CH64","v":""}]
[null,22,{"$f":"'（別添４）エネルギー消費効率の根拠（要件ア）'!$CL41","v":0},"",{"$f":"'（別添４）エネルギー消費効率の根拠（要件ア）'!$CL42","v":0},{"$f":"'（別添４）エネルギー消費効率の根拠（要件ア）'!$CL43","v":0},{"$f":"'（別添４）エネルギー消費効率の根拠（要件ア）'!$CL44","v":0},{"$f":"'（別添４）エネルギー消費効率の根拠（要件ア）'!$CL45","v":0},{"$f":"'（別添４）エネルギー消費効率の根拠（要件ア）'!$CL46","v":0},{"$f":"'（別添４）エネルギー消費効率の根拠（要件ア）'!$CL47","v":0},{"$f":"'（別添４）エネルギー消費効率の根拠（要件ア）'!$CL48","v":0},{"$f":"'（別添４）エネルギー消費効率の根拠（要件ア）'!$CL49","v":0},{"$f":"'（別添４）エネルギー消費効率の根拠（要件ア）'!$CL50","v":"台"},{"$f":"'（別添４）エネルギー消費効率の根拠（要件ア）'!$CL51","v":0},{"$f":"'（別添４）エネルギー消費効率の根拠（要件ア）'!$CL52","v":0},{"$f":"'（別添４）エネルギー消費効率の根拠（要件ア）'!$CL65","v":0},{"$f":"'（別添４）エネルギー消費効率の根拠（要件ア）'!$CL54","v":0},{"$f":"'（別添４）エネルギー消費効率の根拠（要件ア）'!$CL55","v":0},{"$f":"'（別添４）エネルギー消費効率の根拠（要件ア）'!$CL56","v":0},{"$f":"'（別添４）エネルギー消費効率の根拠（要件ア）'!$CL57","v":"台"},{"$f":"'（別添４）エネルギー消費効率の根拠（要件ア）'!$CL58","v":0},{"$f":"'（別添４）エネルギー消費効率の根拠（要件ア）'!$CL59","v":0},{"$f":"'（別添４）エネルギー消費効率の根拠（要件ア）'!$CL66","v":0},{"$f":"'（別添４）エネルギー消費効率の根拠（要件ア）'!$CL67","v":0},{"$f":"'（別添４）エネルギー消費効率の根拠（要件ア）'!$CL62","v":0},{"$f":"'（別添４）エネルギー消費効率の根拠（要件ア）'!$CL63","v":0},{"$f":"'（別添４）エネルギー消費効率の根拠（要件ア）'!$CL64","v":""}]
[null,23,{"$f":"'（別添４）エネルギー消費効率の根拠（要件ア）'!$CP41","v":0},"",{"$f":"'（別添４）エネルギー消費効率の根拠（要件ア）'!$CP42","v":0},{"$f":"'（別添４）エネルギー消費効率の根拠（要件ア）'!$CP43","v":0},{"$f":"'（別添４）エネルギー消費効率の根拠（要件ア）'!$CP44","v":0},{"$f":"'（別添４）エネルギー消費効率の根拠（要件ア）'!$CP45","v":0},{"$f":"'（別添４）エネルギー消費効率の根拠（要件ア）'!$CP46","v":0},{"$f":"'（別添４）エネルギー消費効率の根拠（要件ア）'!$CP47","v":0},{"$f":"'（別添４）エネルギー消費効率の根拠（要件ア）'!$CP48","v":0},{"$f":"'（別添４）エネルギー消費効率の根拠（要件ア）'!$CP49","v":0},{"$f":"'（別添４）エネルギー消費効率の根拠（要件ア）'!$CP50","v":"台"},{"$f":"'（別添４）エネルギー消費効率の根拠（要件ア）'!$CP51","v":0},{"$f":"'（別添４）エネルギー消費効率の根拠（要件ア）'!$CP52","v":0},{"$f":"'（別添４）エネルギー消費効率の根拠（要件ア）'!$CP65","v":0},{"$f":"'（別添４）エネルギー消費効率の根拠（要件ア）'!$CP54","v":0},{"$f":"'（別添４）エネルギー消費効率の根拠（要件ア）'!$CP55","v":0},{"$f":"'（別添４）エネルギー消費効率の根拠（要件ア）'!$CP56","v":0},{"$f":"'（別添４）エネルギー消費効率の根拠（要件ア）'!$CP57","v":"台"},{"$f":"'（別添４）エネルギー消費効率の根拠（要件ア）'!$CP58","v":0},{"$f":"'（別添４）エネルギー消費効率の根拠（要件ア）'!$CP59","v":0},{"$f":"'（別添４）エネルギー消費効率の根拠（要件ア）'!$CP66","v":0},{"$f":"'（別添４）エネルギー消費効率の根拠（要件ア）'!$CP67","v":0},{"$f":"'（別添４）エネルギー消費効率の根拠（要件ア）'!$CP62","v":0},{"$f":"'（別添４）エネルギー消費効率の根拠（要件ア）'!$CP63","v":0},{"$f":"'（別添４）エネルギー消費効率の根拠（要件ア）'!$CP64","v":""}]
[null,24,{"$f":"'（別添４）エネルギー消費効率の根拠（要件ア）'!$CT41","v":0},"",{"$f":"'（別添４）エネルギー消費効率の根拠（要件ア）'!$CT42","v":0},{"$f":"'（別添４）エネルギー消費効率の根拠（要件ア）'!$CT43","v":0},{"$f":"'（別添４）エネルギー消費効率の根拠（要件ア）'!$CT44","v":0},{"$f":"'（別添４）エネルギー消費効率の根拠（要件ア）'!$CT45","v":0},{"$f":"'（別添４）エネルギー消費効率の根拠（要件ア）'!$CT46","v":0},{"$f":"'（別添４）エネルギー消費効率の根拠（要件ア）'!$CT47","v":0},{"$f":"'（別添４）エネルギー消費効率の根拠（要件ア）'!$CT48","v":0},{"$f":"'（別添４）エネルギー消費効率の根拠（要件ア）'!$CT49","v":0},{"$f":"'（別添４）エネルギー消費効率の根拠（要件ア）'!$CT50","v":"台"},{"$f":"'（別添４）エネルギー消費効率の根拠（要件ア）'!$CT51","v":0},{"$f":"'（別添４）エネルギー消費効率の根拠（要件ア）'!$CT52","v":0},{"$f":"'（別添４）エネルギー消費効率の根拠（要件ア）'!$CT65","v":0},{"$f":"'（別添４）エネルギー消費効率の根拠（要件ア）'!$CT54","v":0},{"$f":"'（別添４）エネルギー消費効率の根拠（要件ア）'!$CT55","v":0},{"$f":"'（別添４）エネルギー消費効率の根拠（要件ア）'!$CT56","v":0},{"$f":"'（別添４）エネルギー消費効率の根拠（要件ア）'!$CT57","v":"台"},{"$f":"'（別添４）エネルギー消費効率の根拠（要件ア）'!$CT58","v":0},{"$f":"'（別添４）エネルギー消費効率の根拠（要件ア）'!$CT59","v":0},{"$f":"'（別添４）エネルギー消費効率の根拠（要件ア）'!$CT66","v":0},{"$f":"'（別添４）エネルギー消費効率の根拠（要件ア）'!$CT67","v":0},{"$f":"'（別添４）エネルギー消費効率の根拠（要件ア）'!$CT62","v":0},{"$f":"'（別添４）エネルギー消費効率の根拠（要件ア）'!$CT63","v":0},{"$f":"'（別添４）エネルギー消費効率の根拠（要件ア）'!$CT64","v":""}]
[null,25,{"$f":"'（別添４）エネルギー消費効率の根拠（要件ア）'!$CX41","v":0},"",{"$f":"'（別添４）エネルギー消費効率の根拠（要件ア）'!$CX42","v":0},{"$f":"'（別添４）エネルギー消費効率の根拠（要件ア）'!$CX43","v":0},{"$f":"'（別添４）エネルギー消費効率の根拠（要件ア）'!$CX44","v":0},{"$f":"'（別添４）エネルギー消費効率の根拠（要件ア）'!$CX45","v":0},{"$f":"'（別添４）エネルギー消費効率の根拠（要件ア）'!$CX46","v":0},{"$f":"'（別添４）エネルギー消費効率の根拠（要件ア）'!$CX47","v":0},{"$f":"'（別添４）エネルギー消費効率の根拠（要件ア）'!$CX48","v":0},{"$f":"'（別添４）エネルギー消費効率の根拠（要件ア）'!$CX49","v":0},{"$f":"'（別添４）エネルギー消費効率の根拠（要件ア）'!$CX50","v":"台"},{"$f":"'（別添４）エネルギー消費効率の根拠（要件ア）'!$CX51","v":0},{"$f":"'（別添４）エネルギー消費効率の根拠（要件ア）'!$CX52","v":0},{"$f":"'（別添４）エネルギー消費効率の根拠（要件ア）'!$CX65","v":0},{"$f":"'（別添４）エネルギー消費効率の根拠（要件ア）'!$CX54","v":0},{"$f":"'（別添４）エネルギー消費効率の根拠（要件ア）'!$CX55","v":0},{"$f":"'（別添４）エネルギー消費効率の根拠（要件ア）'!$CX56","v":0},{"$f":"'（別添４）エネルギー消費効率の根拠（要件ア）'!$CX57","v":"台"},{"$f":"'（別添４）エネルギー消費効率の根拠（要件ア）'!$CX58","v":0},{"$f":"'（別添４）エネルギー消費効率の根拠（要件ア）'!$CX59","v":0},{"$f":"'（別添４）エネルギー消費効率の根拠（要件ア）'!$CX66","v":0},{"$f":"'（別添４）エネルギー消費効率の根拠（要件ア）'!$CX67","v":0},{"$f":"'（別添４）エネルギー消費効率の根拠（要件ア）'!$CX62","v":0},{"$f":"'（別添４）エネルギー消費効率の根拠（要件ア）'!$CX63","v":0},{"$f":"'（別添４）エネルギー消費効率の根拠（要件ア）'!$CX64","v":""}]
[null,26,{"$f":"'（別添４）エネルギー消費効率の根拠（要件ア）'!$DB41","v":0},"",{"$f":"'（別添４）エネルギー消費効率の根拠（要件ア）'!$DB42","v":0},{"$f":"'（別添４）エネルギー消費効率の根拠（要件ア）'!$DB43","v":0},{"$f":"'（別添４）エネルギー消費効率の根拠（要件ア）'!$DB44","v":0},{"$f":"'（別添４）エネルギー消費効率の根拠（要件ア）'!$DB45","v":0},{"$f":"'（別添４）エネルギー消費効率の根拠（要件ア）'!$DB46","v":0},{"$f":"'（別添４）エネルギー消費効率の根拠（要件ア）'!$DB47","v":0},{"$f":"'（別添４）エネルギー消費効率の根拠（要件ア）'!$DB48","v":0},{"$f":"'（別添４）エネルギー消費効率の根拠（要件ア）'!$DB49","v":0},{"$f":"'（別添４）エネルギー消費効率の根拠（要件ア）'!$DB50","v":"台"},{"$f":"'（別添４）エネルギー消費効率の根拠（要件ア）'!$DB51","v":0},{"$f":"'（別添４）エネルギー消費効率の根拠（要件ア）'!$DB52","v":0},{"$f":"'（別添４）エネルギー消費効率の根拠（要件ア）'!$DB65","v":0},{"$f":"'（別添４）エネルギー消費効率の根拠（要件ア）'!$DB54","v":0},{"$f":"'（別添４）エネルギー消費効率の根拠（要件ア）'!$DB55","v":0},{"$f":"'（別添４）エネルギー消費効率の根拠（要件ア）'!$DB56","v":0},{"$f":"'（別添４）エネルギー消費効率の根拠（要件ア）'!$DB57","v":"台"},{"$f":"'（別添４）エネルギー消費効率の根拠（要件ア）'!$DB58","v":0},{"$f":"'（別添４）エネルギー消費効率の根拠（要件ア）'!$DB59","v":0},{"$f":"'（別添４）エネルギー消費効率の根拠（要件ア）'!$DB66","v":0},{"$f":"'（別添４）エネルギー消費効率の根拠（要件ア）'!$DB67","v":0},{"$f":"'（別添４）エネルギー消費効率の根拠（要件ア）'!$DB62","v":0},{"$f":"'（別添４）エネルギー消費効率の根拠（要件ア）'!$DB63","v":0},{"$f":"'（別添４）エネルギー消費効率の根拠（要件ア）'!$DB64","v":""}]
[null,27,{"$f":"'（別添４）エネルギー消費効率の根拠（要件ア）'!$DF41","v":0},"",{"$f":"'（別添４）エネルギー消費効率の根拠（要件ア）'!$DF42","v":0},{"$f":"'（別添４）エネルギー消費効率の根拠（要件ア）'!$DF43","v":0},{"$f":"'（別添４）エネルギー消費効率の根拠（要件ア）'!$DF44","v":0},{"$f":"'（別添４）エネルギー消費効率の根拠（要件ア）'!$DF45","v":0},{"$f":"'（別添４）エネルギー消費効率の根拠（要件ア）'!$DF46","v":0},{"$f":"'（別添４）エネルギー消費効率の根拠（要件ア）'!$DF47","v":0},{"$f":"'（別添４）エネルギー消費効率の根拠（要件ア）'!$DF48","v":0},{"$f":"'（別添４）エネルギー消費効率の根拠（要件ア）'!$DF49","v":0},{"$f":"'（別添４）エネルギー消費効率の根拠（要件ア）'!$DF50","v":"台"},{"$f":"'（別添４）エネルギー消費効率の根拠（要件ア）'!$DF51","v":0},{"$f":"'（別添４）エネルギー消費効率の根拠（要件ア）'!$DF52","v":0},{"$f":"'（別添４）エネルギー消費効率の根拠（要件ア）'!$DF65","v":0},{"$f":"'（別添４）エネルギー消費効率の根拠（要件ア）'!$DF54","v":0},{"$f":"'（別添４）エネルギー消費効率の根拠（要件ア）'!$DF55","v":0},{"$f":"'（別添４）エネルギー消費効率の根拠（要件ア）'!$DF56","v":0},{"$f":"'（別添４）エネルギー消費効率の根拠（要件ア）'!$DF57","v":"台"},{"$f":"'（別添４）エネルギー消費効率の根拠（要件ア）'!$DF58","v":0},{"$f":"'（別添４）エネルギー消費効率の根拠（要件ア）'!$DF59","v":0},{"$f":"'（別添４）エネルギー消費効率の根拠（要件ア）'!$DF66","v":0},{"$f":"'（別添４）エネルギー消費効率の根拠（要件ア）'!$DF67","v":0},{"$f":"'（別添４）エネルギー消費効率の根拠（要件ア）'!$DF62","v":0},{"$f":"'（別添４）エネルギー消費効率の根拠（要件ア）'!$DF63","v":0},{"$f":"'（別添４）エネルギー消費効率の根拠（要件ア）'!$DF64","v":""}]
[null,28,{"$f":"'（別添４）エネルギー消費効率の根拠（要件ア）'!$DJ41","v":0},"",{"$f":"'（別添４）エネルギー消費効率の根拠（要件ア）'!$DJ42","v":0},{"$f":"'（別添４）エネルギー消費効率の根拠（要件ア）'!$DJ43","v":0},{"$f":"'（別添４）エネルギー消費効率の根拠（要件ア）'!$DJ44","v":0},{"$f":"'（別添４）エネルギー消費効率の根拠（要件ア）'!$DJ45","v":0},{"$f":"'（別添４）エネルギー消費効率の根拠（要件ア）'!$DJ46","v":0},{"$f":"'（別添４）エネルギー消費効率の根拠（要件ア）'!$DJ47","v":0},{"$f":"'（別添４）エネルギー消費効率の根拠（要件ア）'!$DJ48","v":0},{"$f":"'（別添４）エネルギー消費効率の根拠（要件ア）'!$DJ49","v":0},{"$f":"'（別添４）エネルギー消費効率の根拠（要件ア）'!$DJ50","v":"台"},{"$f":"'（別添４）エネルギー消費効率の根拠（要件ア）'!$DJ51","v":0},{"$f":"'（別添４）エネルギー消費効率の根拠（要件ア）'!$DJ52","v":0},{"$f":"'（別添４）エネルギー消費効率の根拠（要件ア）'!$DJ65","v":0},{"$f":"'（別添４）エネルギー消費効率の根拠（要件ア）'!$DJ54","v":0},{"$f":"'（別添４）エネルギー消費効率の根拠（要件ア）'!$DJ55","v":0},{"$f":"'（別添４）エネルギー消費効率の根拠（要件ア）'!$DJ56","v":0},{"$f":"'（別添４）エネルギー消費効率の根拠（要件ア）'!$DJ57","v":"台"},{"$f":"'（別添４）エネルギー消費効率の根拠（要件ア）'!$DJ58","v":0},{"$f":"'（別添４）エネルギー消費効率の根拠（要件ア）'!$DJ59","v":0},{"$f":"'（別添４）エネルギー消費効率の根拠（要件ア）'!$DJ66","v":0},{"$f":"'（別添４）エネルギー消費効率の根拠（要件ア）'!$DJ67","v":0},{"$f":"'（別添４）エネルギー消費効率の根拠（要件ア）'!$DJ62","v":0},{"$f":"'（別添４）エネルギー消費効率の根拠（要件ア）'!$DJ63","v":0},{"$f":"'（別添４）エネルギー消費効率の根拠（要件ア）'!$DJ64","v":""}]
[null,29,{"$f":"'（別添４）エネルギー消費効率の根拠（要件ア）'!$DN41","v":0},"",{"$f":"'（別添４）エネルギー消費効率の根拠（要件ア）'!$DN42","v":0},{"$f":"'（別添４）エネルギー消費効率の根拠（要件ア）'!$DN43","v":0},{"$f":"'（別添４）エネルギー消費効率の根拠（要件ア）'!$DN44","v":0},{"$f":"'（別添４）エネルギー消費効率の根拠（要件ア）'!$DN45","v":0},{"$f":"'（別添４）エネルギー消費効率の根拠（要件ア）'!$DN46","v":0},{"$f":"'（別添４）エネルギー消費効率の根拠（要件ア）'!$DN47","v":0},{"$f":"'（別添４）エネルギー消費効率の根拠（要件ア）'!$DN48","v":0},{"$f":"'（別添４）エネルギー消費効率の根拠（要件ア）'!$DN49","v":0},{"$f":"'（別添４）エネルギー消費効率の根拠（要件ア）'!$DN50","v":"台"},{"$f":"'（別添４）エネルギー消費効率の根拠（要件ア）'!$DN51","v":0},{"$f":"'（別添４）エネルギー消費効率の根拠（要件ア）'!$DN52","v":0},{"$f":"'（別添４）エネルギー消費効率の根拠（要件ア）'!$DN65","v":0},{"$f":"'（別添４）エネルギー消費効率の根拠（要件ア）'!$DN54","v":0},{"$f":"'（別添４）エネルギー消費効率の根拠（要件ア）'!$DN55","v":0},{"$f":"'（別添４）エネルギー消費効率の根拠（要件ア）'!$DN56","v":0},{"$f":"'（別添４）エネルギー消費効率の根拠（要件ア）'!$DN57","v":"台"},{"$f":"'（別添４）エネルギー消費効率の根拠（要件ア）'!$DN58","v":0},{"$f":"'（別添４）エネルギー消費効率の根拠（要件ア）'!$DN59","v":0},{"$f":"'（別添４）エネルギー消費効率の根拠（要件ア）'!$DN66","v":0},{"$f":"'（別添４）エネルギー消費効率の根拠（要件ア）'!$DN67","v":0},{"$f":"'（別添４）エネルギー消費効率の根拠（要件ア）'!$DN62","v":0},{"$f":"'（別添４）エネルギー消費効率の根拠（要件ア）'!$DN63","v":0},{"$f":"'（別添４）エネルギー消費効率の根拠（要件ア）'!$DN64","v":""}]
[null,30,{"$f":"'（別添４）エネルギー消費効率の根拠（要件ア）'!$DR41","v":0},"",{"$f":"'（別添４）エネルギー消費効率の根拠（要件ア）'!$DR42","v":0},{"$f":"'（別添４）エネルギー消費効率の根拠（要件ア）'!$DR43","v":0},{"$f":"'（別添４）エネルギー消費効率の根拠（要件ア）'!$DR44","v":0},{"$f":"'（別添４）エネルギー消費効率の根拠（要件ア）'!$DR45","v":0},{"$f":"'（別添４）エネルギー消費効率の根拠（要件ア）'!$DR46","v":0},{"$f":"'（別添４）エネルギー消費効率の根拠（要件ア）'!$DR47","v":0},{"$f":"'（別添４）エネルギー消費効率の根拠（要件ア）'!$DR48","v":0},{"$f":"'（別添４）エネルギー消費効率の根拠（要件ア）'!$DR49","v":0},{"$f":"'（別添４）エネルギー消費効率の根拠（要件ア）'!$DR50","v":"台"},{"$f":"'（別添４）エネルギー消費効率の根拠（要件ア）'!$DR51","v":0},{"$f":"'（別添４）エネルギー消費効率の根拠（要件ア）'!$DR52","v":0},{"$f":"'（別添４）エネルギー消費効率の根拠（要件ア）'!$DR65","v":0},{"$f":"'（別添４）エネルギー消費効率の根拠（要件ア）'!$DR54","v":0},{"$f":"'（別添４）エネルギー消費効率の根拠（要件ア）'!$DR55","v":0},{"$f":"'（別添４）エネルギー消費効率の根拠（要件ア）'!$DR56","v":0},{"$f":"'（別添４）エネルギー消費効率の根拠（要件ア）'!$DR57","v":"台"},{"$f":"'（別添４）エネルギー消費効率の根拠（要件ア）'!$DR58","v":0},{"$f":"'（別添４）エネルギー消費効率の根拠（要件ア）'!$DR59","v":0},{"$f":"'（別添４）エネルギー消費効率の根拠（要件ア）'!$DR66","v":0},{"$f":"'（別添４）エネルギー消費効率の根拠（要件ア）'!$DR67","v":0},{"$f":"'（別添４）エネルギー消費効率の根拠（要件ア）'!$DR62","v":0},{"$f":"'（別添４）エネルギー消費効率の根拠（要件ア）'!$DR63","v":0},{"$f":"'（別添４）エネルギー消費効率の根拠（要件ア）'!$DR64","v":""}]
[null,31,{"$f":"'（別添４）エネルギー消費効率の根拠（要件ア）'!$DV41","v":0},"",{"$f":"'（別添４）エネルギー消費効率の根拠（要件ア）'!$DV42","v":0},{"$f":"'（別添４）エネルギー消費効率の根拠（要件ア）'!$DV43","v":0},{"$f":"'（別添４）エネルギー消費効率の根拠（要件ア）'!$DV44","v":0},{"$f":"'（別添４）エネルギー消費効率の根拠（要件ア）'!$DV45","v":0},{"$f":"'（別添４）エネルギー消費効率の根拠（要件ア）'!$DV46","v":0},{"$f":"'（別添４）エネルギー消費効率の根拠（要件ア）'!$DV47","v":0},{"$f":"'（別添４）エネルギー消費効率の根拠（要件ア）'!$DV48","v":0},{"$f":"'（別添４）エネルギー消費効率の根拠（要件ア）'!$DV49","v":0},{"$f":"'（別添４）エネルギー消費効率の根拠（要件ア）'!$DV50","v":"台"},{"$f":"'（別添４）エネルギー消費効率の根拠（要件ア）'!$DV51","v":0},{"$f":"'（別添４）エネルギー消費効率の根拠（要件ア）'!$DV52","v":0},{"$f":"'（別添４）エネルギー消費効率の根拠（要件ア）'!$DV65","v":0},{"$f":"'（別添４）エネルギー消費効率の根拠（要件ア）'!$DV54","v":0},{"$f":"'（別添４）エネルギー消費効率の根拠（要件ア）'!$DV55","v":0},{"$f":"'（別添４）エネルギー消費効率の根拠（要件ア）'!$DV56","v":0},{"$f":"'（別添４）エネルギー消費効率の根拠（要件ア）'!$DV57","v":"台"},{"$f":"'（別添４）エネルギー消費効率の根拠（要件ア）'!$DV58","v":0},{"$f":"'（別添４）エネルギー消費効率の根拠（要件ア）'!$DV59","v":0},{"$f":"'（別添４）エネルギー消費効率の根拠（要件ア）'!$DV66","v":0},{"$f":"'（別添４）エネルギー消費効率の根拠（要件ア）'!$DV67","v":0},{"$f":"'（別添４）エネルギー消費効率の根拠（要件ア）'!$DV62","v":0},{"$f":"'（別添４）エネルギー消費効率の根拠（要件ア）'!$DV63","v":0},{"$f":"'（別添４）エネルギー消費効率の根拠（要件ア）'!$DV64","v":""}]
[null,32,{"$f":"'（別添４）エネルギー消費効率の根拠（要件ア）'!$DZ41","v":0},"",{"$f":"'（別添４）エネルギー消費効率の根拠（要件ア）'!$DZ42","v":0},{"$f":"'（別添４）エネルギー消費効率の根拠（要件ア）'!$DZ43","v":0},{"$f":"'（別添４）エネルギー消費効率の根拠（要件ア）'!$DZ44","v":0},{"$f":"'（別添４）エネルギー消費効率の根拠（要件ア）'!$DZ45","v":0},{"$f":"'（別添４）エネルギー消費効率の根拠（要件ア）'!$DZ46","v":0},{"$f":"'（別添４）エネルギー消費効率の根拠（要件ア）'!$DZ47","v":0},{"$f":"'（別添４）エネルギー消費効率の根拠（要件ア）'!$DZ48","v":0},{"$f":"'（別添４）エネルギー消費効率の根拠（要件ア）'!$DZ49","v":0},{"$f":"'（別添４）エネルギー消費効率の根拠（要件ア）'!$DZ50","v":"台"},{"$f":"'（別添４）エネルギー消費効率の根拠（要件ア）'!$DZ51","v":0},{"$f":"'（別添４）エネルギー消費効率の根拠（要件ア）'!$DZ52","v":0},{"$f":"'（別添４）エネルギー消費効率の根拠（要件ア）'!$DZ65","v":0},{"$f":"'（別添４）エネルギー消費効率の根拠（要件ア）'!$DZ54","v":0},{"$f":"'（別添４）エネルギー消費効率の根拠（要件ア）'!$DZ55","v":0},{"$f":"'（別添４）エネルギー消費効率の根拠（要件ア）'!$DZ56","v":0},{"$f":"'（別添４）エネルギー消費効率の根拠（要件ア）'!$DZ57","v":"台"},{"$f":"'（別添４）エネルギー消費効率の根拠（要件ア）'!$DZ58","v":0},{"$f":"'（別添４）エネルギー消費効率の根拠（要件ア）'!$DZ59","v":0},{"$f":"'（別添４）エネルギー消費効率の根拠（要件ア）'!$DZ66","v":0},{"$f":"'（別添４）エネルギー消費効率の根拠（要件ア）'!$DZ67","v":0},{"$f":"'（別添４）エネルギー消費効率の根拠（要件ア）'!$DZ62","v":0},{"$f":"'（別添４）エネルギー消費効率の根拠（要件ア）'!$DZ63","v":0},{"$f":"'（別添４）エネルギー消費効率の根拠（要件ア）'!$DZ64","v":""}]
[null,33,{"$f":"'（別添４）エネルギー消費効率の根拠（要件ア）'!$ED41","v":0},{"$f":"IF(C38=\"トップランナー基準を満たす設備の導入\",\"TR\",IF(C38=\"トップランナー対象範囲外でエネルギー消費効率が高い設備の導入\",\"TR以外\",IF(C38=\"別紙参照\",\"別紙\",\"\")))","v":""},{"$f":"'（別添４）エネルギー消費効率の根拠（要件ア）'!$ED42","v":0},{"$f":"'（別添４）エネルギー消費効率の根拠（要件ア）'!$ED43","v":0},{"$f":"'（別添４）エネルギー消費効率の根拠（要件ア）'!$ED44","v":0},{"$f":"'（別添４）エネルギー消費効率の根拠（要件ア）'!$ED45","v":0},{"$f":"'（別添４）エネルギー消費効率の根拠（要件ア）'!$ED46","v":0},{"$f":"'（別添４）エネルギー消費効率の根拠（要件ア）'!$ED47","v":0},{"$f":"'（別添４）エネルギー消費効率の根拠（要件ア）'!$ED48","v":0},{"$f":"'（別添４）エネルギー消費効率の根拠（要件ア）'!$ED49","v":0},{"$f":"'（別添４）エネルギー消費効率の根拠（要件ア）'!$ED50","v":"台"},{"$f":"'（別添４）エネルギー消費効率の根拠（要件ア）'!$ED51","v":0},{"$f":"'（別添４）エネルギー消費効率の根拠（要件ア）'!$ED52","v":0},{"$f":"'（別添４）エネルギー消費効率の根拠（要件ア）'!$ED65","v":0},{"$f":"'（別添４）エネルギー消費効率の根拠（要件ア）'!$ED54","v":0},{"$f":"'（別添４）エネルギー消費効率の根拠（要件ア）'!$ED55","v":0},{"$f":"'（別添４）エネルギー消費効率の根拠（要件ア）'!$ED56","v":0},{"$f":"'（別添４）エネルギー消費効率の根拠（要件ア）'!$ED57","v":"台"},{"$f":"'（別添４）エネルギー消費効率の根拠（要件ア）'!$ED58","v":0},{"$f":"'（別添４）エネルギー消費効率の根拠（要件ア）'!$ED59","v":0},{"$f":"'（別添４）エネルギー消費効率の根拠（要件ア）'!$ED66","v":0},{"$f":"'（別添４）エネルギー消費効率の根拠（要件ア）'!$ED67","v":0},{"$f":"'（別添４）エネルギー消費効率の根拠（要件ア）'!$ED62","v":0},{"$f":"'（別添４）エネルギー消費効率の根拠（要件ア）'!$ED63","v":0},{"$f":"'（別添４）エネルギー消費効率の根拠（要件ア）'!$ED64","v":""}]
[null,34,{"$f":"'（別添４）エネルギー消費効率の根拠（要件ア）'!$EH41","v":0},"",{"$f":"'（別添４）エネルギー消費効率の根拠（要件ア）'!$EH42","v":0},{"$f":"'（別添４）エネルギー消費効率の根拠（要件ア）'!$EH43","v":0},{"$f":"'（別添４）エネルギー消費効率の根拠（要件ア）'!$EH44","v":0},{"$f":"'（別添４）エネルギー消費効率の根拠（要件ア）'!$EH45","v":0},{"$f":"'（別添４）エネルギー消費効率の根拠（要件ア）'!$EH46","v":0},{"$f":"'（別添４）エネルギー消費効率の根拠（要件ア）'!$EH47","v":0},{"$f":"'（別添４）エネルギー消費効率の根拠（要件ア）'!$EH48","v":0},{"$f":"'（別添４）エネルギー消費効率の根拠（要件ア）'!$EH49","v":0},{"$f":"'（別添４）エネルギー消費効率の根拠（要件ア）'!$EH50","v":"台"},{"$f":"'（別添４）エネルギー消費効率の根拠（要件ア）'!$EH51","v":0},{"$f":"'（別添４）エネルギー消費効率の根拠（要件ア）'!$EH52","v":0},{"$f":"'（別添４）エネルギー消費効率の根拠（要件ア）'!$EH65","v":0},{"$f":"'（別添４）エネルギー消費効率の根拠（要件ア）'!$EH54","v":0},{"$f":"'（別添４）エネルギー消費効率の根拠（要件ア）'!$EH55","v":0},{"$f":"'（別添４）エネルギー消費効率の根拠（要件ア）'!$EH56","v":0},{"$f":"'（別添４）エネルギー消費効率の根拠（要件ア）'!$EH57","v":"台"},{"$f":"'（別添４）エネルギー消費効率の根拠（要件ア）'!$EH58","v":0},{"$f":"'（別添４）エネルギー消費効率の根拠（要件ア）'!$EH59","v":0},{"$f":"'（別添４）エネルギー消費効率の根拠（要件ア）'!$EH66","v":0},{"$f":"'（別添４）エネルギー消費効率の根拠（要件ア）'!$EH67","v":0},{"$f":"'（別添４）エネルギー消費効率の根拠（要件ア）'!$EH62","v":0},{"$f":"'（別添４）エネルギー消費効率の根拠（要件ア）'!$EH63","v":0},{"$f":"'（別添４）エネルギー消費効率の根拠（要件ア）'!$EH64","v":""}]
[null,35,{"$f":"'（別添４）エネルギー消費効率の根拠（要件ア）'!$EL41","v":0},"",{"$f":"'（別添４）エネルギー消費効率の根拠（要件ア）'!$EL42","v":0},{"$f":"'（別添４）エネルギー消費効率の根拠（要件ア）'!$EL43","v":0},{"$f":"'（別添４）エネルギー消費効率の根拠（要件ア）'!$EL44","v":0},{"$f":"'（別添４）エネルギー消費効率の根拠（要件ア）'!$EL45","v":0},{"$f":"'（別添４）エネルギー消費効率の根拠（要件ア）'!$EL46","v":0},{"$f":"'（別添４）エネルギー消費効率の根拠（要件ア）'!$EL47","v":0},{"$f":"'（別添４）エネルギー消費効率の根拠（要件ア）'!$EL48","v":0},{"$f":"'（別添４）エネルギー消費効率の根拠（要件ア）'!$EL49","v":0},{"$f":"'（別添４）エネルギー消費効率の根拠（要件ア）'!$EL50","v":"台"},{"$f":"'（別添４）エネルギー消費効率の根拠（要件ア）'!$EL51","v":0},{"$f":"'（別添４）エネルギー消費効率の根拠（要件ア）'!$EL52","v":0},{"$f":"'（別添４）エネルギー消費効率の根拠（要件ア）'!$EL65","v":0},{"$f":"'（別添４）エネルギー消費効率の根拠（要件ア）'!$EL54","v":0},{"$f":"'（別添４）エネルギー消費効率の根拠（要件ア）'!$EL55","v":0},{"$f":"'（別添４）エネルギー消費効率の根拠（要件ア）'!$EL56","v":0},{"$f":"'（別添４）エネルギー消費効率の根拠（要件ア）'!$EL57","v":"台"},{"$f":"'（別添４）エネルギー消費効率の根拠（要件ア）'!$EL58","v":0},{"$f":"'（別添４）エネルギー消費効率の根拠（要件ア）'!$EL59","v":0},{"$f":"'（別添４）エネルギー消費効率の根拠（要件ア）'!$EL66","v":0},{"$f":"'（別添４）エネルギー消費効率の根拠（要件ア）'!$EL67","v":0},{"$f":"'（別添４）エネルギー消費効率の根拠（要件ア）'!$EL62","v":0},{"$f":"'（別添４）エネルギー消費効率の根拠（要件ア）'!$EL63","v":0},{"$f":"'（別添４）エネルギー消費効率の根拠（要件ア）'!$EL64","v":""}]
[null,36,{"$f":"'（別添４）エネルギー消費効率の根拠（要件ア）'!$EP41","v":0},"",{"$f":"'（別添４）エネルギー消費効率の根拠（要件ア）'!$EP42","v":0},{"$f":"'（別添４）エネルギー消費効率の根拠（要件ア）'!$EP43","v":0},{"$f":"'（別添４）エネルギー消費効率の根拠（要件ア）'!$EP44","v":0},{"$f":"'（別添４）エネルギー消費効率の根拠（要件ア）'!$EP45","v":0},{"$f":"'（別添４）エネルギー消費効率の根拠（要件ア）'!$EP46","v":0},{"$f":"'（別添４）エネルギー消費効率の根拠（要件ア）'!$EP47","v":0},{"$f":"'（別添４）エネルギー消費効率の根拠（要件ア）'!$EP48","v":0},{"$f":"'（別添４）エネルギー消費効率の根拠（要件ア）'!$EP49","v":0},{"$f":"'（別添４）エネルギー消費効率の根拠（要件ア）'!$EP50","v":"台"},{"$f":"'（別添４）エネルギー消費効率の根拠（要件ア）'!$EP51","v":0},{"$f":"'（別添４）エネルギー消費効率の根拠（要件ア）'!$EP52","v":0},{"$f":"'（別添４）エネルギー消費効率の根拠（要件ア）'!$EP65","v":0},{"$f":"'（別添４）エネルギー消費効率の根拠（要件ア）'!$EP54","v":0},{"$f":"'（別添４）エネルギー消費効率の根拠（要件ア）'!$EP55","v":0},{"$f":"'（別添４）エネルギー消費効率の根拠（要件ア）'!$EP56","v":0},{"$f":"'（別添４）エネルギー消費効率の根拠（要件ア）'!$EP57","v":"台"},{"$f":"'（別添４）エネルギー消費効率の根拠（要件ア）'!$EP58","v":0},{"$f":"'（別添４）エネルギー消費効率の根拠（要件ア）'!$EP59","v":0},{"$f":"'（別添４）エネルギー消費効率の根拠（要件ア）'!$EP66","v":0},{"$f":"'（別添４）エネルギー消費効率の根拠（要件ア）'!$EP67","v":0},{"$f":"'（別添４）エネルギー消費効率の根拠（要件ア）'!$EP62","v":0},{"$f":"'（別添４）エネルギー消費効率の根拠（要件ア）'!$EP63","v":0},{"$f":"'（別添４）エネルギー消費効率の根拠（要件ア）'!$EP64","v":""}]
[null,37,{"$f":"'（別添４）エネルギー消費効率の根拠（要件ア）'!$ET41","v":0},"",{"$f":"'（別添４）エネルギー消費効率の根拠（要件ア）'!$ET42","v":0},{"$f":"'（別添４）エネルギー消費効率の根拠（要件ア）'!$ET43","v":0},{"$f":"'（別添４）エネルギー消費効率の根拠（要件ア）'!$ET44","v":0},{"$f":"'（別添４）エネルギー消費効率の根拠（要件ア）'!$ET45","v":0},{"$f":"'（別添４）エネルギー消費効率の根拠（要件ア）'!$ET46","v":0},{"$f":"'（別添４）エネルギー消費効率の根拠（要件ア）'!$ET47","v":0},{"$f":"'（別添４）エネルギー消費効率の根拠（要件ア）'!$ET48","v":0},{"$f":"'（別添４）エネルギー消費効率の根拠（要件ア）'!$ET49","v":0},{"$f":"'（別添４）エネルギー消費効率の根拠（要件ア）'!$ET50","v":"台"},{"$f":"'（別添４）エネルギー消費効率の根拠（要件ア）'!$ET51","v":0},{"$f":"'（別添４）エネルギー消費効率の根拠（要件ア）'!$ET52","v":0},{"$f":"'（別添４）エネルギー消費効率の根拠（要件ア）'!$ET65","v":0},{"$f":"'（別添４）エネルギー消費効率の根拠（要件ア）'!$ET54","v":0},{"$f":"'（別添４）エネルギー消費効率の根拠（要件ア）'!$ET55","v":0},{"$f":"'（別添４）エネルギー消費効率の根拠（要件ア）'!$ET56","v":0},{"$f":"'（別添４）エネルギー消費効率の根拠（要件ア）'!$ET57","v":"台"},{"$f":"'（別添４）エネルギー消費効率の根拠（要件ア）'!$ET58","v":0},{"$f":"'（別添４）エネルギー消費効率の根拠（要件ア）'!$ET59","v":0},{"$f":"'（別添４）エネルギー消費効率の根拠（要件ア）'!$ET66","v":0},{"$f":"'（別添４）エネルギー消費効率の根拠（要件ア）'!$ET67","v":0},{"$f":"'（別添４）エネルギー消費効率の根拠（要件ア）'!$ET62","v":0},{"$f":"'（別添４）エネルギー消費効率の根拠（要件ア）'!$ET63","v":0},{"$f":"'（別添４）エネルギー消費効率の根拠（要件ア）'!$ET64","v":""}]
[null,38,{"$f":"'（別添４）エネルギー消費効率の根拠（要件ア）'!$EX41","v":0},"",{"$f":"'（別添４）エネルギー消費効率の根拠（要件ア）'!$EX42","v":0},{"$f":"'（別添４）エネルギー消費効率の根拠（要件ア）'!$EX43","v":0},{"$f":"'（別添４）エネルギー消費効率の根拠（要件ア）'!$EX44","v":0},{"$f":"'（別添４）エネルギー消費効率の根拠（要件ア）'!$EX45","v":0},{"$f":"'（別添４）エネルギー消費効率の根拠（要件ア）'!$EX46","v":0},{"$f":"'（別添４）エネルギー消費効率の根拠（要件ア）'!$EX47","v":0},{"$f":"'（別添４）エネルギー消費効率の根拠（要件ア）'!$EX48","v":0},{"$f":"'（別添４）エネルギー消費効率の根拠（要件ア）'!$EX49","v":0},{"$f":"'（別添４）エネルギー消費効率の根拠（要件ア）'!$EX50","v":"台"},{"$f":"'（別添４）エネルギー消費効率の根拠（要件ア）'!$EX51","v":0},{"$f":"'（別添４）エネルギー消費効率の根拠（要件ア）'!$EX52","v":0},{"$f":"'（別添４）エネルギー消費効率の根拠（要件ア）'!$EX65","v":0},{"$f":"'（別添４）エネルギー消費効率の根拠（要件ア）'!$EX54","v":0},{"$f":"'（別添４）エネルギー消費効率の根拠（要件ア）'!$EX55","v":0},{"$f":"'（別添４）エネルギー消費効率の根拠（要件ア）'!$EX56","v":0},{"$f":"'（別添４）エネルギー消費効率の根拠（要件ア）'!$EX57","v":"台"},{"$f":"'（別添４）エネルギー消費効率の根拠（要件ア）'!$EX58","v":0},{"$f":"'（別添４）エネルギー消費効率の根拠（要件ア）'!$EX59","v":0},{"$f":"'（別添４）エネルギー消費効率の根拠（要件ア）'!$EX66","v":0},{"$f":"'（別添４）エネルギー消費効率の根拠（要件ア）'!$EX67","v":0},{"$f":"'（別添４）エネルギー消費効率の根拠（要件ア）'!$EX62","v":0},{"$f":"'（別添４）エネルギー消費効率の根拠（要件ア）'!$EX63","v":0},{"$f":"'（別添４）エネルギー消費効率の根拠（要件ア）'!$EX64","v":""}]
[null,39,{"$f":"'（別添４）エネルギー消費効率の根拠（要件ア）'!$FB41","v":0},"",{"$f":"'（別添４）エネルギー消費効率の根拠（要件ア）'!$FB42","v":0},{"$f":"'（別添４）エネルギー消費効率の根拠（要件ア）'!$FB43","v":0},{"$f":"'（別添４）エネルギー消費効率の根拠（要件ア）'!$FB44","v":0},{"$f":"'（別添４）エネルギー消費効率の根拠（要件ア）'!$FB45","v":0},{"$f":"'（別添４）エネルギー消費効率の根拠（要件ア）'!$FB46","v":0},{"$f":"'（別添４）エネルギー消費効率の根拠（要件ア）'!$FB47","v":0},{"$f":"'（別添４）エネルギー消費効率の根拠（要件ア）'!$FB48","v":0},{"$f":"'（別添４）エネルギー消費効率の根拠（要件ア）'!$FB49","v":0},{"$f":"'（別添４）エネルギー消費効率の根拠（要件ア）'!$FB50","v":"台"},{"$f":"'（別添４）エネルギー消費効率の根拠（要件ア）'!$FB51","v":0},{"$f":"'（別添４）エネルギー消費効率の根拠（要件ア）'!$FB52","v":0},{"$f":"'（別添４）エネルギー消費効率の根拠（要件ア）'!$FB65","v":0},{"$f":"'（別添４）エネルギー消費効率の根拠（要件ア）'!$FB54","v":0},{"$f":"'（別添４）エネルギー消費効率の根拠（要件ア）'!$FB55","v":0},{"$f":"'（別添４）エネルギー消費効率の根拠（要件ア）'!$FB56","v":0},{"$f":"'（別添４）エネルギー消費効率の根拠（要件ア）'!$FB57","v":"台"},{"$f":"'（別添４）エネルギー消費効率の根拠（要件ア）'!$FB58","v":0},{"$f":"'（別添４）エネルギー消費効率の根拠（要件ア）'!$FB59","v":0},{"$f":"'（別添４）エネルギー消費効率の根拠（要件ア）'!$FB66","v":0},{"$f":"'（別添４）エネルギー消費効率の根拠（要件ア）'!$FB67","v":0},{"$f":"'（別添４）エネルギー消費効率の根拠（要件ア）'!$FB62","v":0},{"$f":"'（別添４）エネルギー消費効率の根拠（要件ア）'!$FB63","v":0},{"$f":"'（別添４）エネルギー消費効率の根拠（要件ア）'!$FB64","v":""}]
[null,40,{"$f":"'（別添４）エネルギー消費効率の根拠（要件ア）'!$FF41","v":0},"",{"$f":"'（別添４）エネルギー消費効率の根拠（要件ア）'!$FF42","v":0},{"$f":"'（別添４）エネルギー消費効率の根拠（要件ア）'!$FF43","v":0},{"$f":"'（別添４）エネルギー消費効率の根拠（要件ア）'!$FF44","v":0},{"$f":"'（別添４）エネルギー消費効率の根拠（要件ア）'!$FF45","v":0},{"$f":"'（別添４）エネルギー消費効率の根拠（要件ア）'!$FF46","v":0},{"$f":"'（別添４）エネルギー消費効率の根拠（要件ア）'!$FF47","v":0},{"$f":"'（別添４）エネルギー消費効率の根拠（要件ア）'!$FF48","v":0},{"$f":"'（別添４）エネルギー消費効率の根拠（要件ア）'!$FF49","v":0},{"$f":"'（別添４）エネルギー消費効率の根拠（要件ア）'!$FF50","v":"台"},{"$f":"'（別添４）エネルギー消費効率の根拠（要件ア）'!$FF51","v":0},{"$f":"'（別添４）エネルギー消費効率の根拠（要件ア）'!$FF52","v":0},{"$f":"'（別添４）エネルギー消費効率の根拠（要件ア）'!$FF65","v":0},{"$f":"'（別添４）エネルギー消費効率の根拠（要件ア）'!$FF54","v":0},{"$f":"'（別添４）エネルギー消費効率の根拠（要件ア）'!$FF55","v":0},{"$f":"'（別添４）エネルギー消費効率の根拠（要件ア）'!$FF56","v":0},{"$f":"'（別添４）エネルギー消費効率の根拠（要件ア）'!$FF57","v":"台"},{"$f":"'（別添４）エネルギー消費効率の根拠（要件ア）'!$FF58","v":0},{"$f":"'（別添４）エネルギー消費効率の根拠（要件ア）'!$FF59","v":0},{"$f":"'（別添４）エネルギー消費効率の根拠（要件ア）'!$FF66","v":0},{"$f":"'（別添４）エネルギー消費効率の根拠（要件ア）'!$FF67","v":0},{"$f":"'（別添４）エネルギー消費効率の根拠（要件ア）'!$FF62","v":0},{"$f":"'（別添４）エネルギー消費効率の根拠（要件ア）'!$FF63","v":0},{"$f":"'（別添４）エネルギー消費効率の根拠（要件ア）'!$FF64","v":""}]
[null,41,{"$f":"'（別添４）エネルギー消費効率の根拠（要件ア）'!$FJ41","v":0},"",{"$f":"'（別添４）エネルギー消費効率の根拠（要件ア）'!$FJ42","v":0},{"$f":"'（別添４）エネルギー消費効率の根拠（要件ア）'!$FJ43","v":0},{"$f":"'（別添４）エネルギー消費効率の根拠（要件ア）'!$FJ44","v":0},{"$f":"'（別添４）エネルギー消費効率の根拠（要件ア）'!$FJ45","v":0},{"$f":"'（別添４）エネルギー消費効率の根拠（要件ア）'!$FJ46","v":0},{"$f":"'（別添４）エネルギー消費効率の根拠（要件ア）'!$FJ47","v":0},{"$f":"'（別添４）エネルギー消費効率の根拠（要件ア）'!$FJ48","v":0},{"$f":"'（別添４）エネルギー消費効率の根拠（要件ア）'!$FJ49","v":0},{"$f":"'（別添４）エネルギー消費効率の根拠（要件ア）'!$FJ50","v":"台"},{"$f":"'（別添４）エネルギー消費効率の根拠（要件ア）'!$FJ51","v":0},{"$f":"'（別添４）エネルギー消費効率の根拠（要件ア）'!$FJ52","v":0},{"$f":"'（別添４）エネルギー消費効率の根拠（要件ア）'!$FJ65","v":0},{"$f":"'（別添４）エネルギー消費効率の根拠（要件ア）'!$FJ54","v":0},{"$f":"'（別添４）エネルギー消費効率の根拠（要件ア）'!$FJ55","v":0},{"$f":"'（別添４）エネルギー消費効率の根拠（要件ア）'!$FJ56","v":0},{"$f":"'（別添４）エネルギー消費効率の根拠（要件ア）'!$FJ57","v":"台"},{"$f":"'（別添４）エネルギー消費効率の根拠（要件ア）'!$FJ58","v":0},{"$f":"'（別添４）エネルギー消費効率の根拠（要件ア）'!$FJ59","v":0},{"$f":"'（別添４）エネルギー消費効率の根拠（要件ア）'!$FJ66","v":0},{"$f":"'（別添４）エネルギー消費効率の根拠（要件ア）'!$FJ67","v":0},{"$f":"'（別添４）エネルギー消費効率の根拠（要件ア）'!$FJ62","v":0},{"$f":"'（別添４）エネルギー消費効率の根拠（要件ア）'!$FJ63","v":0},{"$f":"'（別添４）エネルギー消費効率の根拠（要件ア）'!$FJ64","v":""}]
[null,42,{"$f":"'（別添４）エネルギー消費効率の根拠（要件ア）'!$FN41","v":0},"",{"$f":"'（別添４）エネルギー消費効率の根拠（要件ア）'!$FN42","v":0},{"$f":"'（別添４）エネルギー消費効率の根拠（要件ア）'!$FN43","v":0},{"$f":"'（別添４）エネルギー消費効率の根拠（要件ア）'!$FN44","v":0},{"$f":"'（別添４）エネルギー消費効率の根拠（要件ア）'!$FN45","v":0},{"$f":"'（別添４）エネルギー消費効率の根拠（要件ア）'!$FN46","v":0},{"$f":"'（別添４）エネルギー消費効率の根拠（要件ア）'!$FN47","v":0},{"$f":"'（別添４）エネルギー消費効率の根拠（要件ア）'!$FN48","v":0},{"$f":"'（別添４）エネルギー消費効率の根拠（要件ア）'!$FN49","v":0},{"$f":"'（別添４）エネルギー消費効率の根拠（要件ア）'!$FN50","v":"台"},{"$f":"'（別添４）エネルギー消費効率の根拠（要件ア）'!$FN51","v":0},{"$f":"'（別添４）エネルギー消費効率の根拠（要件ア）'!$FN52","v":0},{"$f":"'（別添４）エネルギー消費効率の根拠（要件ア）'!$FN65","v":0},{"$f":"'（別添４）エネルギー消費効率の根拠（要件ア）'!$FN54","v":0},{"$f":"'（別添４）エネルギー消費効率の根拠（要件ア）'!$FN55","v":0},{"$f":"'（別添４）エネルギー消費効率の根拠（要件ア）'!$FN56","v":0},{"$f":"'（別添４）エネルギー消費効率の根拠（要件ア）'!$FN57","v":"台"},{"$f":"'（別添４）エネルギー消費効率の根拠（要件ア）'!$FN58","v":0},{"$f":"'（別添４）エネルギー消費効率の根拠（要件ア）'!$FN59","v":0},{"$f":"'（別添４）エネルギー消費効率の根拠（要件ア）'!$FN66","v":0},{"$f":"'（別添４）エネルギー消費効率の根拠（要件ア）'!$FN67","v":0},{"$f":"'（別添４）エネルギー消費効率の根拠（要件ア）'!$FN62","v":0},{"$f":"'（別添４）エネルギー消費効率の根拠（要件ア）'!$FN63","v":0},{"$f":"'（別添４）エネルギー消費効率の根拠（要件ア）'!$FN64","v":""}]
[null,43,{"$f":"'（別添４）エネルギー消費効率の根拠（要件ア）'!$FR41","v":0},"",{"$f":"'（別添４）エネルギー消費効率の根拠（要件ア）'!$FR42","v":0},{"$f":"'（別添４）エネルギー消費効率の根拠（要件ア）'!$FR43","v":0},{"$f":"'（別添４）エネルギー消費効率の根拠（要件ア）'!$FR44","v":0},{"$f":"'（別添４）エネルギー消費効率の根拠（要件ア）'!$FR45","v":0},{"$f":"'（別添４）エネルギー消費効率の根拠（要件ア）'!$FR46","v":0},{"$f":"'（別添４）エネルギー消費効率の根拠（要件ア）'!$FR47","v":0},{"$f":"'（別添４）エネルギー消費効率の根拠（要件ア）'!$FR48","v":0},{"$f":"'（別添４）エネルギー消費効率の根拠（要件ア）'!$FR49","v":0},{"$f":"'（別添４）エネルギー消費効率の根拠（要件ア）'!$FR50","v":"台"},{"$f":"'（別添４）エネルギー消費効率の根拠（要件ア）'!$FR51","v":0},{"$f":"'（別添４）エネルギー消費効率の根拠（要件ア）'!$FR52","v":0},{"$f":"'（別添４）エネルギー消費効率の根拠（要件ア）'!$FR65","v":0},{"$f":"'（別添４）エネルギー消費効率の根拠（要件ア）'!$FR54","v":0},{"$f":"'（別添４）エネルギー消費効率の根拠（要件ア）'!$FR55","v":0},{"$f":"'（別添４）エネルギー消費効率の根拠（要件ア）'!$FR56","v":0},{"$f":"'（別添４）エネルギー消費効率の根拠（要件ア）'!$FR57","v":"台"},{"$f":"'（別添４）エネルギー消費効率の根拠（要件ア）'!$FR58","v":0},{"$f":"'（別添４）エネルギー消費効率の根拠（要件ア）'!$FR59","v":0},{"$f":"'（別添４）エネルギー消費効率の根拠（要件ア）'!$FR66","v":0},{"$f":"'（別添４）エネルギー消費効率の根拠（要件ア）'!$FR67","v":0},{"$f":"'（別添４）エネルギー消費効率の根拠（要件ア）'!$FR62","v":0},{"$f":"'（別添４）エネルギー消費効率の根拠（要件ア）'!$FR63","v":0},{"$f":"'（別添４）エネルギー消費効率の根拠（要件ア）'!$FR64","v":""}]
[null,44,{"$f":"'（別添４）エネルギー消費効率の根拠（要件ア）'!$FV41","v":0},"",{"$f":"'（別添４）エネルギー消費効率の根拠（要件ア）'!$FV42","v":0},{"$f":"'（別添４）エネルギー消費効率の根拠（要件ア）'!$FV43","v":0},{"$f":"'（別添４）エネルギー消費効率の根拠（要件ア）'!$FV44","v":0},{"$f":"'（別添４）エネルギー消費効率の根拠（要件ア）'!$FV45","v":0},{"$f":"'（別添４）エネルギー消費効率の根拠（要件ア）'!$FV46","v":0},{"$f":"'（別添４）エネルギー消費効率の根拠（要件ア）'!$FV47","v":0},{"$f":"'（別添４）エネルギー消費効率の根拠（要件ア）'!$FV48","v":0},{"$f":"'（別添４）エネルギー消費効率の根拠（要件ア）'!$FV49","v":0},{"$f":"'（別添４）エネルギー消費効率の根拠（要件ア）'!$FV50","v":"台"},{"$f":"'（別添４）エネルギー消費効率の根拠（要件ア）'!$FV51","v":0},{"$f":"'（別添４）エネルギー消費効率の根拠（要件ア）'!$FV52","v":0},{"$f":"'（別添４）エネルギー消費効率の根拠（要件ア）'!$FV65","v":0},{"$f":"'（別添４）エネルギー消費効率の根拠（要件ア）'!$FV54","v":0},{"$f":"'（別添４）エネルギー消費効率の根拠（要件ア）'!$FV55","v":0},{"$f":"'（別添４）エネルギー消費効率の根拠（要件ア）'!$FV56","v":0},{"$f":"'（別添４）エネルギー消費効率の根拠（要件ア）'!$FV57","v":"台"},{"$f":"'（別添４）エネルギー消費効率の根拠（要件ア）'!$FV58","v":0},{"$f":"'（別添４）エネルギー消費効率の根拠（要件ア）'!$FV59","v":0},{"$f":"'（別添４）エネルギー消費効率の根拠（要件ア）'!$FV66","v":0},{"$f":"'（別添４）エネルギー消費効率の根拠（要件ア）'!$FV67","v":0},{"$f":"'（別添４）エネルギー消費効率の根拠（要件ア）'!$FV62","v":0},{"$f":"'（別添４）エネルギー消費効率の根拠（要件ア）'!$FV63","v":0},{"$f":"'（別添４）エネルギー消費効率の根拠（要件ア）'!$FV64","v":""}]
[null,45,{"$f":"'（別添４）エネルギー消費効率の根拠（要件ア）'!$FZ41","v":0},"",{"$f":"'（別添４）エネルギー消費効率の根拠（要件ア）'!$FZ42","v":0},{"$f":"'（別添４）エネルギー消費効率の根拠（要件ア）'!$FZ43","v":0},{"$f":"'（別添４）エネルギー消費効率の根拠（要件ア）'!$FZ44","v":0},{"$f":"'（別添４）エネルギー消費効率の根拠（要件ア）'!$FZ45","v":0},{"$f":"'（別添４）エネルギー消費効率の根拠（要件ア）'!$FZ46","v":0},{"$f":"'（別添４）エネルギー消費効率の根拠（要件ア）'!$FZ47","v":0},{"$f":"'（別添４）エネルギー消費効率の根拠（要件ア）'!$FZ48","v":0},{"$f":"'（別添４）エネルギー消費効率の根拠（要件ア）'!$FZ49","v":0},{"$f":"'（別添４）エネルギー消費効率の根拠（要件ア）'!$FZ50","v":"台"},{"$f":"'（別添４）エネルギー消費効率の根拠（要件ア）'!$FZ51","v":0},{"$f":"'（別添４）エネルギー消費効率の根拠（要件ア）'!$FZ52","v":0},{"$f":"'（別添４）エネルギー消費効率の根拠（要件ア）'!$FZ65","v":0},{"$f":"'（別添４）エネルギー消費効率の根拠（要件ア）'!$FZ54","v":0},{"$f":"'（別添４）エネルギー消費効率の根拠（要件ア）'!$FZ55","v":0},{"$f":"'（別添４）エネルギー消費効率の根拠（要件ア）'!$FZ56","v":0},{"$f":"'（別添４）エネルギー消費効率の根拠（要件ア）'!$FZ57","v":"台"},{"$f":"'（別添４）エネルギー消費効率の根拠（要件ア）'!$FZ58","v":0},{"$f":"'（別添４）エネルギー消費効率の根拠（要件ア）'!$FZ59","v":0},{"$f":"'（別添４）エネルギー消費効率の根拠（要件ア）'!$FZ66","v":0},{"$f":"'（別添４）エネルギー消費効率の根拠（要件ア）'!$FZ67","v":0},{"$f":"'（別添４）エネルギー消費効率の根拠（要件ア）'!$FZ62","v":0},{"$f":"'（別添４）エネルギー消費効率の根拠（要件ア）'!$FZ63","v":0},{"$f":"'（別添４）エネルギー消費効率の根拠（要件ア）'!$FZ64","v":""}]
[null,46,{"$f":"'（別添４）エネルギー消費効率の根拠（要件ア）'!$GD41","v":0},"",{"$f":"'（別添４）エネルギー消費効率の根拠（要件ア）'!$GD42","v":0},{"$f":"'（別添４）エネルギー消費効率の根拠（要件ア）'!$GD43","v":0},{"$f":"'（別添４）エネルギー消費効率の根拠（要件ア）'!$GD44","v":0},{"$f":"'（別添４）エネルギー消費効率の根拠（要件ア）'!$GD45","v":0},{"$f":"'（別添４）エネルギー消費効率の根拠（要件ア）'!$GD46","v":0},{"$f":"'（別添４）エネルギー消費効率の根拠（要件ア）'!$GD47","v":0},{"$f":"'（別添４）エネルギー消費効率の根拠（要件ア）'!$GD48","v":0},{"$f":"'（別添４）エネルギー消費効率の根拠（要件ア）'!$GD49","v":0},{"$f":"'（別添４）エネルギー消費効率の根拠（要件ア）'!$GD50","v":"台"},{"$f":"'（別添４）エネルギー消費効率の根拠（要件ア）'!$GD51","v":0},{"$f":"'（別添４）エネルギー消費効率の根拠（要件ア）'!$GD52","v":0},{"$f":"'（別添４）エネルギー消費効率の根拠（要件ア）'!$GD65","v":0},{"$f":"'（別添４）エネルギー消費効率の根拠（要件ア）'!$GD54","v":0},{"$f":"'（別添４）エネルギー消費効率の根拠（要件ア）'!$GD55","v":0},{"$f":"'（別添４）エネルギー消費効率の根拠（要件ア）'!$GD56","v":0},{"$f":"'（別添４）エネルギー消費効率の根拠（要件ア）'!$GD57","v":"台"},{"$f":"'（別添４）エネルギー消費効率の根拠（要件ア）'!$GD58","v":0},{"$f":"'（別添４）エネルギー消費効率の根拠（要件ア）'!$GD59","v":0},{"$f":"'（別添４）エネルギー消費効率の根拠（要件ア）'!$GD66","v":0},{"$f":"'（別添４）エネルギー消費効率の根拠（要件ア）'!$GD67","v":0},{"$f":"'（別添４）エネルギー消費効率の根拠（要件ア）'!$GD62","v":0},{"$f":"'（別添４）エネルギー消費効率の根拠（要件ア）'!$GD63","v":0},{"$f":"'（別添４）エネルギー消費効率の根拠（要件ア）'!$GD64","v":""}]
[null,47,{"$f":"'（別添４）エネルギー消費効率の根拠（要件ア）'!$GH41","v":0},"",{"$f":"'（別添４）エネルギー消費効率の根拠（要件ア）'!$GH42","v":0},{"$f":"'（別添４）エネルギー消費効率の根拠（要件ア）'!$GH43","v":0},{"$f":"'（別添４）エネルギー消費効率の根拠（要件ア）'!$GH44","v":0},{"$f":"'（別添４）エネルギー消費効率の根拠（要件ア）'!$GH45","v":0},{"$f":"'（別添４）エネルギー消費効率の根拠（要件ア）'!$GH46","v":0},{"$f":"'（別添４）エネルギー消費効率の根拠（要件ア）'!$GH47","v":0},{"$f":"'（別添４）エネルギー消費効率の根拠（要件ア）'!$GH48","v":0},{"$f":"'（別添４）エネルギー消費効率の根拠（要件ア）'!$GH49","v":0},{"$f":"'（別添４）エネルギー消費効率の根拠（要件ア）'!$GH50","v":"台"},{"$f":"'（別添４）エネルギー消費効率の根拠（要件ア）'!$GH51","v":0},{"$f":"'（別添４）エネルギー消費効率の根拠（要件ア）'!$GH52","v":0},{"$f":"'（別添４）エネルギー消費効率の根拠（要件ア）'!$GH65","v":0},{"$f":"'（別添４）エネルギー消費効率の根拠（要件ア）'!$GH54","v":0},{"$f":"'（別添４）エネルギー消費効率の根拠（要件ア）'!$GH55","v":0},{"$f":"'（別添４）エネルギー消費効率の根拠（要件ア）'!$GH56","v":0},{"$f":"'（別添４）エネルギー消費効率の根拠（要件ア）'!$GH57","v":"台"},{"$f":"'（別添４）エネルギー消費効率の根拠（要件ア）'!$GH58","v":0},{"$f":"'（別添４）エネルギー消費効率の根拠（要件ア）'!$GH59","v":0},{"$f":"'（別添４）エネルギー消費効率の根拠（要件ア）'!$GH66","v":0},{"$f":"'（別添４）エネルギー消費効率の根拠（要件ア）'!$GH67","v":0},{"$f":"'（別添４）エネルギー消費効率の根拠（要件ア）'!$GH62","v":0},{"$f":"'（別添４）エネルギー消費効率の根拠（要件ア）'!$GH63","v":0},{"$f":"'（別添４）エネルギー消費効率の根拠（要件ア）'!$GH64","v":""}]
[null,48,{"$f":"'（別添４）エネルギー消費効率の根拠（要件ア）'!$GL41","v":0},"",{"$f":"'（別添４）エネルギー消費効率の根拠（要件ア）'!$GL42","v":0},{"$f":"'（別添４）エネルギー消費効率の根拠（要件ア）'!$GL43","v":0},{"$f":"'（別添４）エネルギー消費効率の根拠（要件ア）'!$GL44","v":0},{"$f":"'（別添４）エネルギー消費効率の根拠（要件ア）'!$GL45","v":0},{"$f":"'（別添４）エネルギー消費効率の根拠（要件ア）'!$GL46","v":0},{"$f":"'（別添４）エネルギー消費効率の根拠（要件ア）'!$GL47","v":0},{"$f":"'（別添４）エネルギー消費効率の根拠（要件ア）'!$GL48","v":0},{"$f":"'（別添４）エネルギー消費効率の根拠（要件ア）'!$GL49","v":0},{"$f":"'（別添４）エネルギー消費効率の根拠（要件ア）'!$GL50","v":"台"},{"$f":"'（別添４）エネルギー消費効率の根拠（要件ア）'!$GL51","v":0},{"$f":"'（別添４）エネルギー消費効率の根拠（要件ア）'!$GL52","v":0},{"$f":"'（別添４）エネルギー消費効率の根拠（要件ア）'!$GL65","v":0},{"$f":"'（別添４）エネルギー消費効率の根拠（要件ア）'!$GL54","v":0},{"$f":"'（別添４）エネルギー消費効率の根拠（要件ア）'!$GL55","v":0},{"$f":"'（別添４）エネルギー消費効率の根拠（要件ア）'!$GL56","v":0},{"$f":"'（別添４）エネルギー消費効率の根拠（要件ア）'!$GL57","v":"台"},{"$f":"'（別添４）エネルギー消費効率の根拠（要件ア）'!$GL58","v":0},{"$f":"'（別添４）エネルギー消費効率の根拠（要件ア）'!$GL59","v":0},{"$f":"'（別添４）エネルギー消費効率の根拠（要件ア）'!$GL66","v":0},{"$f":"'（別添４）エネルギー消費効率の根拠（要件ア）'!$GL67","v":0},{"$f":"'（別添４）エネルギー消費効率の根拠（要件ア）'!$GL62","v":0},{"$f":"'（別添４）エネルギー消費効率の根拠（要件ア）'!$GL63","v":0},{"$f":"'（別添４）エネルギー消費効率の根拠（要件ア）'!$GL64","v":""}]
[null,49,{"$f":"'（別添４）エネルギー消費効率の根拠（要件ア）'!$GP41","v":0},"",{"$f":"'（別添４）エネルギー消費効率の根拠（要件ア）'!$GP42","v":0},{"$f":"'（別添４）エネルギー消費効率の根拠（要件ア）'!$GP43","v":0},{"$f":"'（別添４）エネルギー消費効率の根拠（要件ア）'!$GP44","v":0},{"$f":"'（別添４）エネルギー消費効率の根拠（要件ア）'!$GP45","v":0},{"$f":"'（別添４）エネルギー消費効率の根拠（要件ア）'!$GP46","v":0},{"$f":"'（別添４）エネルギー消費効率の根拠（要件ア）'!$GP47","v":0},{"$f":"'（別添４）エネルギー消費効率の根拠（要件ア）'!$GP48","v":0},{"$f":"'（別添４）エネルギー消費効率の根拠（要件ア）'!$GP49","v":0},{"$f":"'（別添４）エネルギー消費効率の根拠（要件ア）'!$GP50","v":"台"},{"$f":"'（別添４）エネルギー消費効率の根拠（要件ア）'!$GP51","v":0},{"$f":"'（別添４）エネルギー消費効率の根拠（要件ア）'!$GP52","v":0},{"$f":"'（別添４）エネルギー消費効率の根拠（要件ア）'!$GP65","v":0},{"$f":"'（別添４）エネルギー消費効率の根拠（要件ア）'!$GP54","v":0},{"$f":"'（別添４）エネルギー消費効率の根拠（要件ア）'!$GP55","v":0},{"$f":"'（別添４）エネルギー消費効率の根拠（要件ア）'!$GP56","v":0},{"$f":"'（別添４）エネルギー消費効率の根拠（要件ア）'!$GP57","v":"台"},{"$f":"'（別添４）エネルギー消費効率の根拠（要件ア）'!$GP58","v":0},{"$f":"'（別添４）エネルギー消費効率の根拠（要件ア）'!$GP59","v":0},{"$f":"'（別添４）エネルギー消費効率の根拠（要件ア）'!$GP66","v":0},{"$f":"'（別添４）エネルギー消費効率の根拠（要件ア）'!$GP67","v":0},{"$f":"'（別添４）エネルギー消費効率の根拠（要件ア）'!$GP62","v":0},{"$f":"'（別添４）エネルギー消費効率の根拠（要件ア）'!$GP63","v":0},{"$f":"'（別添４）エネルギー消費効率の根拠（要件ア）'!$GP64","v":""}]
[null,50,{"$f":"'（別添４）エネルギー消費効率の根拠（要件ア）'!$GT41","v":0},"",{"$f":"'（別添４）エネルギー消費効率の根拠（要件ア）'!$GT42","v":0},{"$f":"'（別添４）エネルギー消費効率の根拠（要件ア）'!$GT43","v":0},{"$f":"'（別添４）エネルギー消費効率の根拠（要件ア）'!$GT44","v":0},{"$f":"'（別添４）エネルギー消費効率の根拠（要件ア）'!$GT45","v":0},{"$f":"'（別添４）エネルギー消費効率の根拠（要件ア）'!$GT46","v":0},{"$f":"'（別添４）エネルギー消費効率の根拠（要件ア）'!$GT47","v":0},{"$f":"'（別添４）エネルギー消費効率の根拠（要件ア）'!$GT48","v":0},{"$f":"'（別添４）エネルギー消費効率の根拠（要件ア）'!$GT49","v":0},{"$f":"'（別添４）エネルギー消費効率の根拠（要件ア）'!$GT50","v":"台"},{"$f":"'（別添４）エネルギー消費効率の根拠（要件ア）'!$GT51","v":0},{"$f":"'（別添４）エネルギー消費効率の根拠（要件ア）'!$GT52","v":0},{"$f":"'（別添４）エネルギー消費効率の根拠（要件ア）'!$GT65","v":0},{"$f":"'（別添４）エネルギー消費効率の根拠（要件ア）'!$GT54","v":0},{"$f":"'（別添４）エネルギー消費効率の根拠（要件ア）'!$GT55","v":0},{"$f":"'（別添４）エネルギー消費効率の根拠（要件ア）'!$GT56","v":0},{"$f":"'（別添４）エネルギー消費効率の根拠（要件ア）'!$GT57","v":"台"},{"$f":"'（別添４）エネルギー消費効率の根拠（要件ア）'!$GT58","v":0},{"$f":"'（別添４）エネルギー消費効率の根拠（要件ア）'!$GT59","v":0},{"$f":"'（別添４）エネルギー消費効率の根拠（要件ア）'!$GT66","v":0},{"$f":"'（別添４）エネルギー消費効率の根拠（要件ア）'!$GT67","v":0},{"$f":"'（別添４）エネルギー消費効率の根拠（要件ア）'!$GT62","v":0},{"$f":"'（別添４）エネルギー消費効率の根拠（要件ア）'!$GT63","v":0},{"$f":"'（別添４）エネルギー消費効率の根拠（要件ア）'!$GT64","v":""}]
[null,51,{"$f":"'（別添４）エネルギー消費効率の根拠（要件ア）'!$GX41","v":0},"",{"$f":"'（別添４）エネルギー消費効率の根拠（要件ア）'!$GX42","v":0},{"$f":"'（別添４）エネルギー消費効率の根拠（要件ア）'!$GX43","v":0},{"$f":"'（別添４）エネルギー消費効率の根拠（要件ア）'!$GX44","v":0},{"$f":"'（別添４）エネルギー消費効率の根拠（要件ア）'!$GX45","v":0},{"$f":"'（別添４）エネルギー消費効率の根拠（要件ア）'!$GX46","v":0},{"$f":"'（別添４）エネルギー消費効率の根拠（要件ア）'!$GX47","v":0},{"$f":"'（別添４）エネルギー消費効率の根拠（要件ア）'!$GX48","v":0},{"$f":"'（別添４）エネルギー消費効率の根拠（要件ア）'!$GX49","v":0},{"$f":"'（別添４）エネルギー消費効率の根拠（要件ア）'!$GX50","v":"台"},{"$f":"'（別添４）エネルギー消費効率の根拠（要件ア）'!$GX51","v":0},{"$f":"'（別添４）エネルギー消費効率の根拠（要件ア）'!$GX52","v":0},{"$f":"'（別添４）エネルギー消費効率の根拠（要件ア）'!$GX65","v":0},{"$f":"'（別添４）エネルギー消費効率の根拠（要件ア）'!$GX54","v":0},{"$f":"'（別添４）エネルギー消費効率の根拠（要件ア）'!$GX55","v":0},{"$f":"'（別添４）エネルギー消費効率の根拠（要件ア）'!$GX56","v":0},{"$f":"'（別添４）エネルギー消費効率の根拠（要件ア）'!$GX57","v":"台"},{"$f":"'（別添４）エネルギー消費効率の根拠（要件ア）'!$GX58","v":0},{"$f":"'（別添４）エネルギー消費効率の根拠（要件ア）'!$GX59","v":0},{"$f":"'（別添４）エネルギー消費効率の根拠（要件ア）'!$GX66","v":0},{"$f":"'（別添４）エネルギー消費効率の根拠（要件ア）'!$GX67","v":0},{"$f":"'（別添４）エネルギー消費効率の根拠（要件ア）'!$GX62","v":0},{"$f":"'（別添４）エネルギー消費効率の根拠（要件ア）'!$GX63","v":0},{"$f":"'（別添４）エネルギー消費効率の根拠（要件ア）'!$GX64","v":""}]
[null,52,{"$f":"'（別添４）エネルギー消費効率の根拠（要件ア）'!$HB41","v":0},"",{"$f":"'（別添４）エネルギー消費効率の根拠（要件ア）'!$HB42","v":0},{"$f":"'（別添４）エネルギー消費効率の根拠（要件ア）'!$HB43","v":0},{"$f":"'（別添４）エネルギー消費効率の根拠（要件ア）'!$HB44","v":0},{"$f":"'（別添４）エネルギー消費効率の根拠（要件ア）'!$HB45","v":0},{"$f":"'（別添４）エネルギー消費効率の根拠（要件ア）'!$HB46","v":0},{"$f":"'（別添４）エネルギー消費効率の根拠（要件ア）'!$HB47","v":0},{"$f":"'（別添４）エネルギー消費効率の根拠（要件ア）'!$HB48","v":0},{"$f":"'（別添４）エネルギー消費効率の根拠（要件ア）'!$HB49","v":0},{"$f":"'（別添４）エネルギー消費効率の根拠（要件ア）'!$HB50","v":"台"},{"$f":"'（別添４）エネルギー消費効率の根拠（要件ア）'!$HB51","v":0},{"$f":"'（別添４）エネルギー消費効率の根拠（要件ア）'!$HB52","v":0},{"$f":"'（別添４）エネルギー消費効率の根拠（要件ア）'!$HB65","v":0},{"$f":"'（別添４）エネルギー消費効率の根拠（要件ア）'!$HB54","v":0},{"$f":"'（別添４）エネルギー消費効率の根拠（要件ア）'!$HB55","v":0},{"$f":"'（別添４）エネルギー消費効率の根拠（要件ア）'!$HB56","v":0},{"$f":"'（別添４）エネルギー消費効率の根拠（要件ア）'!$HB57","v":"台"},{"$f":"'（別添４）エネルギー消費効率の根拠（要件ア）'!$HB58","v":0},{"$f":"'（別添４）エネルギー消費効率の根拠（要件ア）'!$HB59","v":0},{"$f":"'（別添４）エネルギー消費効率の根拠（要件ア）'!$HB66","v":0},{"$f":"'（別添４）エネルギー消費効率の根拠（要件ア）'!$HB67","v":0},{"$f":"'（別添４）エネルギー消費効率の根拠（要件ア）'!$HB62","v":0},{"$f":"'（別添４）エネルギー消費効率の根拠（要件ア）'!$HB63","v":0},{"$f":"'（別添４）エネルギー消費効率の根拠（要件ア）'!$HB64","v":""}]
[null,65,{"$f":"'（別添４）エネルギー消費効率の根拠（要件ア）'!$HF41","v":0},"",{"$f":"'（別添４）エネルギー消費効率の根拠（要件ア）'!$HF42","v":0},{"$f":"'（別添４）エネルギー消費効率の根拠（要件ア）'!$HF43","v":0},{"$f":"'（別添４）エネルギー消費効率の根拠（要件ア）'!$HF44","v":0},{"$f":"'（別添４）エネルギー消費効率の根拠（要件ア）'!$HF45","v":0},{"$f":"'（別添４）エネルギー消費効率の根拠（要件ア）'!$HF46","v":0},{"$f":"'（別添４）エネルギー消費効率の根拠（要件ア）'!$HF47","v":0},{"$f":"'（別添４）エネルギー消費効率の根拠（要件ア）'!$HF48","v":0},{"$f":"'（別添４）エネルギー消費効率の根拠（要件ア）'!$HF49","v":0},{"$f":"'（別添４）エネルギー消費効率の根拠（要件ア）'!$HF50","v":"台"},{"$f":"'（別添４）エネルギー消費効率の根拠（要件ア）'!$HF51","v":0},{"$f":"'（別添４）エネルギー消費効率の根拠（要件ア）'!$HF52","v":0},{"$f":"'（別添４）エネルギー消費効率の根拠（要件ア）'!$HF65","v":0},{"$f":"'（別添４）エネルギー消費効率の根拠（要件ア）'!$HF54","v":0},{"$f":"'（別添４）エネルギー消費効率の根拠（要件ア）'!$HF55","v":0},{"$f":"'（別添４）エネルギー消費効率の根拠（要件ア）'!$HF56","v":0},{"$f":"'（別添４）エネルギー消費効率の根拠（要件ア）'!$HF57","v":"台"},{"$f":"'（別添４）エネルギー消費効率の根拠（要件ア）'!$HF58","v":0},{"$f":"'（別添４）エネルギー消費効率の根拠（要件ア）'!$HF59","v":0},{"$f":"'（別添４）エネルギー消費効率の根拠（要件ア）'!$HF66","v":0},{"$f":"'（別添４）エネルギー消費効率の根拠（要件ア）'!$HF67","v":0},{"$f":"'（別添４）エネルギー消費効率の根拠（要件ア）'!$HF62","v":0},{"$f":"'（別添４）エネルギー消費効率の根拠（要件ア）'!$HF63","v":0},{"$f":"'（別添４）エネルギー消費効率の根拠（要件ア）'!$HF64","v":""}]
[null,54,{"$f":"'（別添４）エネルギー消費効率の根拠（要件ア）'!$HJ41","v":0},"",{"$f":"'（別添４）エネルギー消費効率の根拠（要件ア）'!$HJ42","v":0},{"$f":"'（別添４）エネルギー消費効率の根拠（要件ア）'!$HJ43","v":0},{"$f":"'（別添４）エネルギー消費効率の根拠（要件ア）'!$HJ44","v":0},{"$f":"'（別添４）エネルギー消費効率の根拠（要件ア）'!$HJ45","v":0},{"$f":"'（別添４）エネルギー消費効率の根拠（要件ア）'!$HJ46","v":0},{"$f":"'（別添４）エネルギー消費効率の根拠（要件ア）'!$HJ47","v":0},{"$f":"'（別添４）エネルギー消費効率の根拠（要件ア）'!$HJ48","v":0},{"$f":"'（別添４）エネルギー消費効率の根拠（要件ア）'!$HJ49","v":0},{"$f":"'（別添４）エネルギー消費効率の根拠（要件ア）'!$HJ50","v":"台"},{"$f":"'（別添４）エネルギー消費効率の根拠（要件ア）'!$HJ51","v":0},{"$f":"'（別添４）エネルギー消費効率の根拠（要件ア）'!$HJ52","v":0},{"$f":"'（別添４）エネルギー消費効率の根拠（要件ア）'!$HJ65","v":0},{"$f":"'（別添４）エネルギー消費効率の根拠（要件ア）'!$HJ54","v":0},{"$f":"'（別添４）エネルギー消費効率の根拠（要件ア）'!$HJ55","v":0},{"$f":"'（別添４）エネルギー消費効率の根拠（要件ア）'!$HJ56","v":0},{"$f":"'（別添４）エネルギー消費効率の根拠（要件ア）'!$HJ57","v":"台"},{"$f":"'（別添４）エネルギー消費効率の根拠（要件ア）'!$HJ58","v":0},{"$f":"'（別添４）エネルギー消費効率の根拠（要件ア）'!$HJ59","v":0},{"$f":"'（別添４）エネルギー消費効率の根拠（要件ア）'!$HJ66","v":0},{"$f":"'（別添４）エネルギー消費効率の根拠（要件ア）'!$HJ67","v":0},{"$f":"'（別添４）エネルギー消費効率の根拠（要件ア）'!$HJ62","v":0},{"$f":"'（別添４）エネルギー消費効率の根拠（要件ア）'!$HJ63","v":0},{"$f":"'（別添４）エネルギー消費効率の根拠（要件ア）'!$HJ64","v":""}]
[null,55,{"$f":"'（別添４）エネルギー消費効率の根拠（要件ア）'!$HN41","v":0},"",{"$f":"'（別添４）エネルギー消費効率の根拠（要件ア）'!$HN42","v":0},{"$f":"'（別添４）エネルギー消費効率の根拠（要件ア）'!$HN43","v":0},{"$f":"'（別添４）エネルギー消費効率の根拠（要件ア）'!$HN44","v":0},{"$f":"'（別添４）エネルギー消費効率の根拠（要件ア）'!$HN45","v":0},{"$f":"'（別添４）エネルギー消費効率の根拠（要件ア）'!$HN46","v":0},{"$f":"'（別添４）エネルギー消費効率の根拠（要件ア）'!$HN47","v":0},{"$f":"'（別添４）エネルギー消費効率の根拠（要件ア）'!$HN48","v":0},{"$f":"'（別添４）エネルギー消費効率の根拠（要件ア）'!$HN49","v":0},{"$f":"'（別添４）エネルギー消費効率の根拠（要件ア）'!$HN50","v":"台"},{"$f":"'（別添４）エネルギー消費効率の根拠（要件ア）'!$HN51","v":0},{"$f":"'（別添４）エネルギー消費効率の根拠（要件ア）'!$HN52","v":0},{"$f":"'（別添４）エネルギー消費効率の根拠（要件ア）'!$HN65","v":0},{"$f":"'（別添４）エネルギー消費効率の根拠（要件ア）'!$HN54","v":0},{"$f":"'（別添４）エネルギー消費効率の根拠（要件ア）'!$HN55","v":0},{"$f":"'（別添４）エネルギー消費効率の根拠（要件ア）'!$HN56","v":0},{"$f":"'（別添４）エネルギー消費効率の根拠（要件ア）'!$HN57","v":"台"},{"$f":"'（別添４）エネルギー消費効率の根拠（要件ア）'!$HN58","v":0},{"$f":"'（別添４）エネルギー消費効率の根拠（要件ア）'!$HN59","v":0},{"$f":"'（別添４）エネルギー消費効率の根拠（要件ア）'!$HN66","v":0},{"$f":"'（別添４）エネルギー消費効率の根拠（要件ア）'!$HN67","v":0},{"$f":"'（別添４）エネルギー消費効率の根拠（要件ア）'!$HN62","v":0},{"$f":"'（別添４）エネルギー消費効率の根拠（要件ア）'!$HN63","v":0},{"$f":"'（別添４）エネルギー消費効率の根拠（要件ア）'!$HN64","v":""}]
[null,56,{"$f":"'（別添４）エネルギー消費効率の根拠（要件ア）'!$HR41","v":0},"",{"$f":"'（別添４）エネルギー消費効率の根拠（要件ア）'!$HR42","v":0},{"$f":"'（別添４）エネルギー消費効率の根拠（要件ア）'!$HR43","v":0},{"$f":"'（別添４）エネルギー消費効率の根拠（要件ア）'!$HR44","v":0},{"$f":"'（別添４）エネルギー消費効率の根拠（要件ア）'!$HR45","v":0},{"$f":"'（別添４）エネルギー消費効率の根拠（要件ア）'!$HR46","v":0},{"$f":"'（別添４）エネルギー消費効率の根拠（要件ア）'!$HR47","v":0},{"$f":"'（別添４）エネルギー消費効率の根拠（要件ア）'!$HR48","v":0},{"$f":"'（別添４）エネルギー消費効率の根拠（要件ア）'!$HR49","v":0},{"$f":"'（別添４）エネルギー消費効率の根拠（要件ア）'!$HR50","v":"台"},{"$f":"'（別添４）エネルギー消費効率の根拠（要件ア）'!$HR51","v":0},{"$f":"'（別添４）エネルギー消費効率の根拠（要件ア）'!$HR52","v":0},{"$f":"'（別添４）エネルギー消費効率の根拠（要件ア）'!$HR65","v":0},{"$f":"'（別添４）エネルギー消費効率の根拠（要件ア）'!$HR54","v":0},{"$f":"'（別添４）エネルギー消費効率の根拠（要件ア）'!$HR55","v":0},{"$f":"'（別添４）エネルギー消費効率の根拠（要件ア）'!$HR56","v":0},{"$f":"'（別添４）エネルギー消費効率の根拠（要件ア）'!$HR57","v":"台"},{"$f":"'（別添４）エネルギー消費効率の根拠（要件ア）'!$HR58","v":0},{"$f":"'（別添４）エネルギー消費効率の根拠（要件ア）'!$HR59","v":0},{"$f":"'（別添４）エネルギー消費効率の根拠（要件ア）'!$HR66","v":0},{"$f":"'（別添４）エネルギー消費効率の根拠（要件ア）'!$HR67","v":0},{"$f":"'（別添４）エネルギー消費効率の根拠（要件ア）'!$HR62","v":0},{"$f":"'（別添４）エネルギー消費効率の根拠（要件ア）'!$HR63","v":0},{"$f":"'（別添４）エネルギー消費効率の根拠（要件ア）'!$HR64","v":""}]
[null,57,{"$f":"'（別添４）エネルギー消費効率の根拠（要件ア）'!$HV41","v":0},"",{"$f":"'（別添４）エネルギー消費効率の根拠（要件ア）'!$HV42","v":0},{"$f":"'（別添４）エネルギー消費効率の根拠（要件ア）'!$HV43","v":0},{"$f":"'（別添４）エネルギー消費効率の根拠（要件ア）'!$HV44","v":0},{"$f":"'（別添４）エネルギー消費効率の根拠（要件ア）'!$HV45","v":0},{"$f":"'（別添４）エネルギー消費効率の根拠（要件ア）'!$HV46","v":0},{"$f":"'（別添４）エネルギー消費効率の根拠（要件ア）'!$HV47","v":0},{"$f":"'（別添４）エネルギー消費効率の根拠（要件ア）'!$HV48","v":0},{"$f":"'（別添４）エネルギー消費効率の根拠（要件ア）'!$HV49","v":0},{"$f":"'（別添４）エネルギー消費効率の根拠（要件ア）'!$HV50","v":"台"},{"$f":"'（別添４）エネルギー消費効率の根拠（要件ア）'!$HV51","v":0},{"$f":"'（別添４）エネルギー消費効率の根拠（要件ア）'!$HV52","v":0},{"$f":"'（別添４）エネルギー消費効率の根拠（要件ア）'!$HV65","v":0},{"$f":"'（別添４）エネルギー消費効率の根拠（要件ア）'!$HV54","v":0},{"$f":"'（別添４）エネルギー消費効率の根拠（要件ア）'!$HV55","v":0},{"$f":"'（別添４）エネルギー消費効率の根拠（要件ア）'!$HV56","v":0},{"$f":"'（別添４）エネルギー消費効率の根拠（要件ア）'!$HV57","v":"台"},{"$f":"'（別添４）エネルギー消費効率の根拠（要件ア）'!$HV58","v":0},{"$f":"'（別添４）エネルギー消費効率の根拠（要件ア）'!$HV59","v":0},{"$f":"'（別添４）エネルギー消費効率の根拠（要件ア）'!$HV66","v":0},{"$f":"'（別添４）エネルギー消費効率の根拠（要件ア）'!$HV67","v":0},{"$f":"'（別添４）エネルギー消費効率の根拠（要件ア）'!$HV62","v":0},{"$f":"'（別添４）エネルギー消費効率の根拠（要件ア）'!$HV63","v":0},{"$f":"'（別添４）エネルギー消費効率の根拠（要件ア）'!$HV64","v":""}]
[null,58,{"$f":"'（別添４）エネルギー消費効率の根拠（要件ア）'!$HZ41","v":0},"",{"$f":"'（別添４）エネルギー消費効率の根拠（要件ア）'!$HZ42","v":0},{"$f":"'（別添４）エネルギー消費効率の根拠（要件ア）'!$HZ43","v":0},{"$f":"'（別添４）エネルギー消費効率の根拠（要件ア）'!$HZ44","v":0},{"$f":"'（別添４）エネルギー消費効率の根拠（要件ア）'!$HZ45","v":0},{"$f":"'（別添４）エネルギー消費効率の根拠（要件ア）'!$HZ46","v":0},{"$f":"'（別添４）エネルギー消費効率の根拠（要件ア）'!$HZ47","v":0},{"$f":"'（別添４）エネルギー消費効率の根拠（要件ア）'!$HZ48","v":0},{"$f":"'（別添４）エネルギー消費効率の根拠（要件ア）'!$HZ49","v":0},{"$f":"'（別添４）エネルギー消費効率の根拠（要件ア）'!$HZ50","v":"台"},{"$f":"'（別添４）エネルギー消費効率の根拠（要件ア）'!$HZ51","v":0},{"$f":"'（別添４）エネルギー消費効率の根拠（要件ア）'!$HZ52","v":0},{"$f":"'（別添４）エネルギー消費効率の根拠（要件ア）'!$HZ65","v":0},{"$f":"'（別添４）エネルギー消費効率の根拠（要件ア）'!$HZ54","v":0},{"$f":"'（別添４）エネルギー消費効率の根拠（要件ア）'!$HZ55","v":0},{"$f":"'（別添４）エネルギー消費効率の根拠（要件ア）'!$HZ56","v":0},{"$f":"'（別添４）エネルギー消費効率の根拠（要件ア）'!$HZ57","v":"台"},{"$f":"'（別添４）エネルギー消費効率の根拠（要件ア）'!$HZ58","v":0},{"$f":"'（別添４）エネルギー消費効率の根拠（要件ア）'!$HZ59","v":0},{"$f":"'（別添４）エネルギー消費効率の根拠（要件ア）'!$HZ66","v":0},{"$f":"'（別添４）エネルギー消費効率の根拠（要件ア）'!$HZ67","v":0},{"$f":"'（別添４）エネルギー消費効率の根拠（要件ア）'!$HZ62","v":0},{"$f":"'（別添４）エネルギー消費効率の根拠（要件ア）'!$HZ63","v":0},{"$f":"'（別添４）エネルギー消費効率の根拠（要件ア）'!$HZ64","v":""}]
[null,59,{"$f":"'（別添４）エネルギー消費効率の根拠（要件ア）'!$ID41","v":0},"",{"$f":"'（別添４）エネルギー消費効率の根拠（要件ア）'!$ID42","v":0},{"$f":"'（別添４）エネルギー消費効率の根拠（要件ア）'!$ID43","v":0},{"$f":"'（別添４）エネルギー消費効率の根拠（要件ア）'!$ID44","v":0},{"$f":"'（別添４）エネルギー消費効率の根拠（要件ア）'!$ID45","v":0},{"$f":"'（別添４）エネルギー消費効率の根拠（要件ア）'!$ID46","v":0},{"$f":"'（別添４）エネルギー消費効率の根拠（要件ア）'!$ID47","v":0},{"$f":"'（別添４）エネルギー消費効率の根拠（要件ア）'!$ID48","v":0},{"$f":"'（別添４）エネルギー消費効率の根拠（要件ア）'!$ID49","v":0},{"$f":"'（別添４）エネルギー消費効率の根拠（要件ア）'!$ID50","v":"台"},{"$f":"'（別添４）エネルギー消費効率の根拠（要件ア）'!$ID51","v":0},{"$f":"'（別添４）エネルギー消費効率の根拠（要件ア）'!$ID52","v":0},{"$f":"'（別添４）エネルギー消費効率の根拠（要件ア）'!$ID65","v":0},{"$f":"'（別添４）エネルギー消費効率の根拠（要件ア）'!$ID54","v":0},{"$f":"'（別添４）エネルギー消費効率の根拠（要件ア）'!$ID55","v":0},{"$f":"'（別添４）エネルギー消費効率の根拠（要件ア）'!$ID56","v":0},{"$f":"'（別添４）エネルギー消費効率の根拠（要件ア）'!$ID57","v":"台"},{"$f":"'（別添４）エネルギー消費効率の根拠（要件ア）'!$ID58","v":0},{"$f":"'（別添４）エネルギー消費効率の根拠（要件ア）'!$ID59","v":0},{"$f":"'（別添４）エネルギー消費効率の根拠（要件ア）'!$ID66","v":0},{"$f":"'（別添４）エネルギー消費効率の根拠（要件ア）'!$ID67","v":0},{"$f":"'（別添４）エネルギー消費効率の根拠（要件ア）'!$ID62","v":0},{"$f":"'（別添４）エネルギー消費効率の根拠（要件ア）'!$ID63","v":0},{"$f":"'（別添４）エネルギー消費効率の根拠（要件ア）'!$ID64","v":""}]
[null,60,{"$f":"'（別添４）エネルギー消費効率の根拠（要件ア）'!$IH41","v":0},"",{"$f":"'（別添４）エネルギー消費効率の根拠（要件ア）'!$IH42","v":0},{"$f":"'（別添４）エネルギー消費効率の根拠（要件ア）'!$IH43","v":0},{"$f":"'（別添４）エネルギー消費効率の根拠（要件ア）'!$IH44","v":0},{"$f":"'（別添４）エネルギー消費効率の根拠（要件ア）'!$IH45","v":0},{"$f":"'（別添４）エネルギー消費効率の根拠（要件ア）'!$IH46","v":0},{"$f":"'（別添４）エネルギー消費効率の根拠（要件ア）'!$IH47","v":0},{"$f":"'（別添４）エネルギー消費効率の根拠（要件ア）'!$IH48","v":0},{"$f":"'（別添４）エネルギー消費効率の根拠（要件ア）'!$IH49","v":0},{"$f":"'（別添４）エネルギー消費効率の根拠（要件ア）'!$IH50","v":"台"},{"$f":"'（別添４）エネルギー消費効率の根拠（要件ア）'!$IH51","v":0},{"$f":"'（別添４）エネルギー消費効率の根拠（要件ア）'!$IH52","v":0},{"$f":"'（別添４）エネルギー消費効率の根拠（要件ア）'!$IH65","v":0},{"$f":"'（別添４）エネルギー消費効率の根拠（要件ア）'!$IH54","v":0},{"$f":"'（別添４）エネルギー消費効率の根拠（要件ア）'!$IH55","v":0},{"$f":"'（別添４）エネルギー消費効率の根拠（要件ア）'!$IH56","v":0},{"$f":"'（別添４）エネルギー消費効率の根拠（要件ア）'!$IH57","v":"台"},{"$f":"'（別添４）エネルギー消費効率の根拠（要件ア）'!$IH58","v":0},{"$f":"'（別添４）エネルギー消費効率の根拠（要件ア）'!$IH59","v":0},{"$f":"'（別添４）エネルギー消費効率の根拠（要件ア）'!$IH66","v":0},{"$f":"'（別添４）エネルギー消費効率の根拠（要件ア）'!$IH67","v":0},{"$f":"'（別添４）エネルギー消費効率の根拠（要件ア）'!$IH62","v":0},{"$f":"'（別添４）エネルギー消費効率の根拠（要件ア）'!$IH63","v":0},{"$f":"'（別添４）エネルギー消費効率の根拠（要件ア）'!$IH64","v":""}]

{"sheet":"（別添５）エネルギー消費原単位の改善根拠（要件イ）","index":18,"n_rows":84,"n_cols":82,"rows_kept":84,"cut":false,"hidden":false,"merged":[[83,0,86,29],[63,6,66,6],[39,6,49,29],[65,14,65,21],[66,14,66,24],[62,7,66,11],[62,14,62,21],[69,0,75,5],[71,6,74,6],[77,0,81,5],[78,6,80,6],[71,16,71,26],[73,16,73,26],[74,16,74,26],[70,14,74,14],[70,15,74,15],[0,0,1,30],[39,0,49,5],[63,39,66,39],[62,40,66,44],[62,45,66,46],[50,0,60,5],[50,6,60,29],[61,0,67,5],[31,39,34,39],[30,40,34,44],[62,12,66,13],[39,33,49,38],[39,39,49,62],[50,33,60,38],[50,39,60,62],[61,33,67,38],[62,47,62,54],[63,47,63,57],[65,47,65,54],[66,47,66,57],[7,33,17,38],[7,39,17,62],[18,33,28,38],[18,39,28,62],[30,47,30,54],[30,45,34,46],[31,47,31,57],[33,47,33,54],[34,47,34,57],[29,33,35,38],[7,0,17,5],[18,0,28,5],[7,6,17,29],[18,6,28,29],[29,0,35,5],[31,6,34,6],[30,7,34,11],[30,12,34,13],[30,14,30,21],[78,55,78,59],[79,55,79,59],[80,47,80,51],[80,55,80,59],[78,45,80,46],[78,47,79,51],[78,7,80,11],[78,12,80,13],[78,14,79,18],[78,39,80,39],[78,53,80,53],[78,40,80,44],[77,33,81,38],[70,7,74,11],[73,49,73,59],[70,45,74,46],[71,49,71,59],[74,49,74,59],[70,40,74,44],[69,33,75,38],[70,47,74,47],[70,48,74,48],[70,49,70,59],[71,39,74,39],[70,12,74,13],[70,16,70,26],[63,14,63,24],[31,14,31,24],[33,14,33,21],[34,14,34,24],[80,14,80,18],[79,22,79,26],[78,20,80,20],[80,22,80,26],[78,22,78,26]]}
["（別添５）エネルギー消費原単位の改善根拠（要件イ）",null,null,null,null,null,null,null,null,null,null,null,null,null,null,null,null,null,null,null,null,null,null,null,null,null,null,null,null,null,null,null,null,null,null,null,null,null,null,null,null,null,null,null,null,null,null,null,null,null,null,null,null,null,null,null,null,null,null,null,null,null,null,null,null,null,null,null,null,null,null,null,null,null,null,null,null,null,"非表示","非表示","非表示"]
[]
["(別添５）",null,null,null,null,null,null,null,null,null,null,null,null,null,null,null,null,null,null,null,null,null,null,null,null,null,null,null,null,null,null,null,{"$f":"A3","v":"(別添５）"}]
["エネルギー消費原単位の改善根拠（要件イ）",null,null,null,null,null,null,null,null,null,null,null,null,null,null,null,null,null,null,null,null,null,null,null,null,null,null,null,null,null,null,null,{"$f":"A4","v":"エネルギー消費原単位の改善根拠（要件イ）"},null,null,null,null,null,null,null,null,null,null,null,null,null,null,null,null,null,null,null,null,null,null,null,null,null,null,null,null,null,null,null,null,null,null,null,null,null,null,null,null,null,null,null,null,null,"別添5_G8","【A】 事業実施前の生産量_式",{"$f":"IF(G8=\"\",\"\",G8)","v":""},"　"]
[null,null,null,null,null,null,null,null,null,null,null,null,null,null,null,null,null,null,null,null,null,null,null,null,null,null,null,null,null,null,null,null,null,null,null,null,null,null,null,null,null,null,null,null,null,null,null,null,null,null,null,null,null,null,null,null,null,null,null,null,null,null,null,null,null,null,null,null,null,null,null,null,null,null,null,null,null,null,"別添5_G19","【Ｂ】事業実施前の年間エネルギー使用量[kl]_式",{"$f":"IF(G19=\"\",\"\",G19)","v":""},"　"]
["１．事業実施前のエネルギー消費原単位及びエネルギー使用量",null,null,null,null,null,null,null,null,null,null,null,null,null,null,null,null,null,null,null,null,null,null,null,null,null,null,null,null,null,null,null,{"$f":"A6","v":"１．事業実施前のエネルギー消費原単位及びエネルギー使用量"},null,null,null,null,null,null,null,null,null,null,null,null,null,null,null,null,null,null,null,null,null,null,null,null,null,null,null,null,null,null,null,null,null,null,null,null,null,null,null,null,null,null,null,null,null,"別添5_O35","【A】 事業実施前の生産量_解",{"$f":"IF(O35=\"\",\"\",O35&X34)","v":""},"　"]
[null,null,null,null,null,null,null,null,null,null,null,null,null,null,null,null,null,null,null,null,null,null,null,null,null,null,null,null,null,null,null,null,null,null,null,null,null,null,null,null,null,null,null,null,null,null,null,null,null,null,null,null,null,null,null,null,null,null,null,null,null,null,null,null,null,null,null,null,null,null,null,null,null,null,null,null,null,null,"別添5_O32","【Ｂ】事業実施前の年間エネルギー使用量[kl]_解",{"$f":"IF(O32=\"\",\"\",O32&X31)","v":""},"　"]
["【A】 \n事業実施前の生産量",null,null,null,null,null,null,null,null,null,null,null,null,null,null,null,null,null,null,null,null,null,null,null,null,null,null,null,null,null,null,null,null,{"$f":"A8","v":"【A】 \n事業実施前の生産量"},null,null,null,null,null,"・生産ライン（A-01）について\n　　生産量 51.0（t/年）\n",null,null,null,null,null,null,null,null,null,null,null,null,null,null,null,null,null,null,null,null,null,null,null,null,null,null,null,null,null,null,null,null,null,null,null,null,null,null,"別添5_H31","【Ｃ】事業実施前のエネルギー消費原単位",{"$f":"IF(H31=\"\",\"\",H31&I36&J36&K36)","v":"【Ａ】と【Ｂ】に値を入力してくださいkl/"},"　"]
[null,null,null,null,null,null,null,null,null,null,null,null,null,null,null,null,null,null,null,null,null,null,null,null,null,null,null,null,null,null,null,null,null,null,null,null,null,null,null,null,null,null,null,null,null,null,null,null,null,null,null,null,null,null,null,null,null,null,null,null,null,null,null,null,null,null,null,null,null,null,null,null,null,null,null,null,null,null,"別添5_G40","【D】 事業実施後の生産量_式",{"$f":"IF(G40=\"\",\"\",G40)","v":""},"　"]
[null,null,null,null,null,null,null,null,null,null,null,null,null,null,null,null,null,null,null,null,null,null,null,null,null,null,null,null,null,null,null,null,null,null,null,null,null,null,null,null,null,null,null,null,null,null,null,null,null,null,null,null,null,null,null,null,null,null,null,null,null,null,null,null,null,null,null,null,null,null,null,null,null,null,null,null,null,null,"別添5_G51","【E】事業実施後の年間エネルギー使用量[kl]_式",{"$f":"IF(G51=\"\",\"\",G51)","v":""},"　"]
[null,null,null,null,null,null,null,null,null,null,null,null,null,null,null,null,null,null,null,null,null,null,null,null,null,null,null,null,null,null,null,null,null,null,null,null,null,null,null,null,null,null,null,null,null,null,null,null,null,null,null,null,null,null,null,null,null,null,null,null,null,null,null,null,null,null,null,null,null,null,null,null,null,null,null,null,null,null,"別添5_O67","【D】 事業実施後の生産量_解",{"$f":"IF(O67=\"\",\"\",O67&X66)","v":""},"　"]
[null,null,null,null,null,null,null,null,null,null,null,null,null,null,null,null,null,null,null,null,null,null,null,null,null,null,null,null,null,null,null,null,null,null,null,null,null,null,null,null,null,null,null,null,null,null,null,null,null,null,null,null,null,null,null,null,null,null,null,null,null,null,null,null,null,null,null,null,null,null,null,null,null,null,null,null,null,null,"別添5_O64","【E】事業実施後の年間エネルギー使用量[kl]_解",{"$f":"IF(O64=\"\",\"\",O64&X63)","v":""},"　"]
[null,null,null,null,null,null,null,null,null,null,null,null,null,null,null,null,null,null,null,null,null,null,null,null,null,null,null,null,null,null,null,null,null,null,null,null,null,null,null,null,null,null,null,null,null,null,null,null,null,null,null,null,null,null,null,null,null,null,null,null,null,null,null,null,null,null,null,null,null,null,null,null,null,null,null,null,null,null,"別添5_H63","【F】事業実施後のエネルギー消費原単位",{"$f":"IF(H63=\"\",\"\",H63&I68&J68&K68)","v":"【Ｄ】と【Ｅ】に値を入力してくださいkl/t"},"　"]
[null,null,null,null,null,null,null,null,null,null,null,null,null,null,null,null,null,null,null,null,null,null,null,null,null,null,null,null,null,null,null,null,null,null,null,null,null,null,null,null,null,null,null,null,null,null,null,null,null,null,null,null,null,null,null,null,null,null,null,null,null,null,null,null,null,null,null,null,null,null,null,null,null,null,null,null,null,null,"別添5_H71","【Ｇ】エネルギー消費原単位改善率",{"$f":"IF(H71=\"\",\"\",H71)","v":"【Ｃ】と【Ｆ】に値を入力してください"},"　"]
[null,null,null,null,null,null,null,null,null,null,null,null,null,null,null,null,null,null,null,null,null,null,null,null,null,null,null,null,null,null,null,null,null,null,null,null,null,null,null,null,null,null,null,null,null,null,null,null,null,null,null,null,null,null,null,null,null,null,null,null,null,null,null,null,null,null,null,null,null,null,null,null,null,null,null,null,null,null,"別添5_H79","【H】年間見込み省エネルギー量[kl]",{"$f":"IF(H79=\"\",\"\",H79&I68)","v":"【B】と【I】が入力された状態にしてくださいkl"},"　"]
[null,null,null,null,null,null,null,null,null,null,null,null,null,null,null,null,null,null,null,null,null,null,null,null,null,null,null,null,null,null,null,null,null,null,null,null,null,null,null,null,null,null,null,null,null,null,null,null,null,null,null,null,null,null,null,null,null,null,null,null,null,null,null,null,null,null,null,null,null,null,null,null,null,null,null,null,null,null,null,null,{"$f":"IF(G20=\"\",\"\",G20)","v":""},"　"]
[null,null,null,null,null,null,null,null,null,null,null,null,null,null,null,null,null,null,null,null,null,null,null,null,null,null,null,null,null,null,null,null,null,null,null,null,null,null,null,null,null,null,null,null,null,null,null,null,null,null,null,null,null,null,null,null,null,null,null,null,null,null,null,null,null,null,null,null,null,null,null,null,null,null,null,null,null,null,null,null,"","　"]
[null,null,null,null,null,null,null,null,null,null,null,null,null,null,null,null,null,null,null,null,null,null,null,null,null,null,null,null,null,null,null,null,null,null,null,null,null,null,null,null,null,null,null,null,null,null,null,null,null,null,null,null,null,null,null,null,null,null,null,null,null,null,null,null,null,null,null,null,null,null,null,null,null,null,null,null,null,null,null,null,"","　"]
["【Ｂ】\n事業実施前の\n年間エネルギー使用量[kl]",null,null,null,null,null,null,null,null,null,null,null,null,null,null,null,null,null,null,null,null,null,null,null,null,null,null,null,null,null,null,null,null,{"$f":"A19","v":"【Ｂ】\n事業実施前の\n年間エネルギー使用量[kl]"},null,null,null,null,null,"・生産ライン（A-01）について\n　　電力消費量 214,200（kWh/年）　※昼間買電のみ\n　　エネルギー使用量（原油換算）\n　 214,200（kWh/年）　÷　1000　×　8.64[GJ]（熱量換算係数）　×　0.0258[kl]（原油換算係数：10GJ=0.258kl）　＝　47.748（kl/年）\n\n・事業場全体のエネルギー使用量\n　　電力消費量 233,000（kWh/年）　※昼間買電のみ\n　　エネルギー使用量（原油換算）\n　  233,000（kWh/年）　÷　1000　 ×　8.64[GJ]（熱量換算係数）　×　0.0258[kl]（原油換算係数：10GJ=0.258kl）　＝　51.938（kl/年）",null,null,null,null,null,null,null,null,null,null,null,null,null,null,null,null,null,null,null,null,null,null,null,null,null,null,null,null,null,null,null,null,null,null,null,null,null,null,null,null,"","　"]
[null,null,null,null,null,null,null,null,null,null,null,null,null,null,null,null,null,null,null,null,null,null,null,null,null,null,null,null,null,null,null,null,null,null,null,null,null,null,null,null,null,null,null,null,null,null,null,null,null,null,null,null,null,null,null,null,null,null,null,null,null,null,null,null,null,null,null,null,null,null,null,null,null,null,null,null,null,null,null,null,"","　"]
[null,null,null,null,null,null,null,null,null,null,null,null,null,null,null,null,null,null,null,null,null,null,null,null,null,null,null,null,null,null,null,null,null,null,null,null,null,null,null,null,null,null,null,null,null,null,null,null,null,null,null,null,null,null,null,null,null,null,null,null,null,null,null,null,null,null,null,null,null,null,null,null,null,null,null,null,null,null,null,null,"","　"]
[null,null,null,null,null,null,null,null,null,null,null,null,null,null,null,null,null,null,null,null,null,null,null,null,null,null,null,null,null,null,null,null,null,null,null,null,null,null,null,null,null,null,null,null,null,null,null,null,null,null,null,null,null,null,null,null,null,null,null,null,null,null,null,null,null,null,null,null,null,null,null,null,null,null,null,null,null,null,null,null,"","　"]
[null,null,null,null,null,null,null,null,null,null,null,null,null,null,null,null,null,null,null,null,null,null,null,null,null,null,null,null,null,null,null,null,null,null,null,null,null,null,null,null,null,null,null,null,null,null,null,null,null,null,null,null,null,null,null,null,null,null,null,null,null,null,null,null,null,null,null,null,null,null,null,null,null,null,null,null,null,null,null,null,"","　"]
[null,null,null,null,null,null,null,null,null,null,null,null,null,null,null,null,null,null,null,null,null,null,null,null,null,null,null,null,null,null,null,null,null,null,null,null,null,null,null,null,null,null,null,null,null,null,null,null,null,null,null,null,null,null,null,null,null,null,null,null,null,null,null,null,null,null,null,null,null,null,null,null,null,null,null,null,null,null,null,null,"","　"]
[null,null,null,null,null,null,null,null,null,null,null,null,null,null,null,null,null,null,null,null,null,null,null,null,null,null,null,null,null,null,null,null,null,null,null,null,null,null,null,null,null,null,null,null,null,null,null,null,null,null,null,null,null,null,null,null,null,null,null,null,null,null,null,null,null,null,null,null,null,null,null,null,null,null,null,null,null,null,null,null,"","　"]
[null,null,null,null,null,null,null,null,null,null,null,null,null,null,null,null,null,null,null,null,null,null,null,null,null,null,null,null,null,null,null,null,null,null,null,null,null,null,null,null,null,null,null,null,null,null,null,null,null,null,null,null,null,null,null,null,null,null,null,null,null,null,null,null,null,null,null,null,null,null,null,null,null,null,null,null,null,null,null,null,"","　"]
[null,null,null,null,null,null,null,null,null,null,null,null,null,null,null,null,null,null,null,null,null,null,null,null,null,null,null,null,null,null,null,null,null,null,null,null,null,null,null,null,null,null,null,null,null,null,null,null,null,null,null,null,null,null,null,null,null,null,null,null,null,null,null,null,null,null,null,null,null,null,null,null,null,null,null,null,null,null,null,null,"","　"]
[null,null,null,null,null,null,null,null,null,null,null,null,null,null,null,null,null,null,null,null,null,null,null,null,null,null,null,null,null,null,null,null,null,null,null,null,null,null,null,null,null,null,null,null,null,null,null,null,null,null,null,null,null,null,null,null,null,null,null,null,null,null,null,null,null,null,null,null,null,null,null,null,null,null,null,null,null,null,null,null,"","　"]
[null,null,null,null,null,null,null,null,null,null,null,null,null,null,null,null,null,null,null,null,null,null,null,null,null,null,null,null,null,null,null,null,null,null,null,null,null,null,null,null,null,null,null,null,null,null,null,null,null,null,null,null,null,null,null,null,null,null,null,null,null,null,null,null,null,null,null,null,null,null,null,null,null,null,null,null,null,null,null,null,"","　"]
["【Ｃ】\n事業実施前の\nエネルギー消費原単位",null,null,null,null,null,null,null,null,null,null,null,null,null,null,null,null,null,null,null,null,null,null,null,null,null,null,null,null,null,null,null,null,{"$f":"A30","v":"【Ｃ】\n事業実施前の\nエネルギー消費原単位"},null,null,null,null,null,null,null,null,null,null,null,null,null,null,null,null,null,null,null,null,null,null,null,null,null,null,null,null,null,null,null,null,null,null,null,null,null,null,null,null,null,null,null,null,null,null,"","　"]
[null,null,null,null,null,null,null,{"$f":"IF(OR(O32=\"\",O35=\"\"),\"【Ａ】と【Ｂ】に値を入力してください\",O32/O35)","v":"【Ａ】と【Ｂ】に値を入力してください"},null,null,null,null,"＝",null,"【B】事業実施前の年間エネルギー使用量",null,null,null,null,null,null,null,"[","kl","]",null,null,null,null,null,null,null,null,null,null,null,null,null,null,null,{"$f":"IF(OR(AV32=\"\",AV35=\"\"),\"【Ａ】と【Ｂ】に値を入力してください\",AV32/AV35)","v":1.0183921568627452},null,null,null,null,"＝",null,{"$f":"O31","v":"【B】事業実施前の年間エネルギー使用量"},null,null,null,null,null,null,null,"[","kl","]",null,null,null,null,null,null,null,null,null,null,null,null,null,null,null,null,null,null,null,null,null,null,"","　"]
[null,null,null,null,null,null,null,null,null,null,null,null,null,null,null,null,null,null,null,null,null,null,null,null,null,null,null,null,null,null,null,null,null,null,null,null,null,null,null,null,null,null,null,null,null,null,null,51.938000000000002,null,null,null,null,null,null,null,null,null,null,null,null,null,null,null,null,null,null,null,null,null,null,null,null,null,null,null,null,null,null,null,null,"","　"]
[null,null,null,null,null,null,null,null,null,null,null,null,null,null,null,null,null,null,null,null,null,null,null,null,null,null,null,null,null,null,null,null,null,null,null,null,null,null,null,null,null,null,null,null,null,null,null,null,null,null,null,null,null,null,null,null,null,null,null,null,null,null,null,null,null,null,null,null,null,null,null,null,null,null,null,null,null,null,null,null,"","　"]
[null,null,null,null,null,null,null,null,null,null,null,null,null,null,"【Ａ】事業実施前の生産量",null,null,null,null,null,null,null,"[",null,"]",{"$f":"IF(X34=\"\",\"←単位をご入力ください\",\"\")","v":"←単位をご入力ください"},null,null,null,null,null,null,null,null,null,null,null,null,null,null,null,null,null,null,null,null,null,{"$f":"O34","v":"【Ａ】事業実施前の生産量"},null,null,null,null,null,null,null,"[","t","]",{"$f":"IF(BE34=\"\",\"←単位をご入力ください\",\"\")","v":""}]
[null,null,null,null,null,null,null,null,null,null,null,null,null,null,null,null,null,null,null,null,null,null,null,null,null,null,null,null,null,null,null,null,null,null,null,null,null,null,null,null,null,null,null,null,null,null,null,51]
[null,null,null,null,null,null,null,"[","kl","/",{"$f":"IF(X34=\"\",\"\",X34)","v":""},"]",null,null,null,null,null,null,null,null,null,null,null,null,null,null,null,null,null,null,null,null,null,null,null,null,null,null,null,null,"[","kl","/",{"$f":"IF(BE34=\"\",\"\",BE34)","v":"t"},"]"]
[]
["２．事業実施後のエネルギー原単位及びエネルギー使用量",null,null,null,null,null,null,null,null,null,null,null,null,null,null,null,null,null,null,null,null,null,null,null,null,null,null,null,null,null,null,null,{"$f":"A38","v":"２．事業実施後のエネルギー原単位及びエネルギー使用量"}]
[]
["【D】 \n事業実施後の生産量",null,null,null,null,null,null,null,null,null,null,null,null,null,null,null,null,null,null,null,null,null,null,null,null,null,null,null,null,null,null,null,null,{"$f":"A40","v":"【D】 \n事業実施後の生産量"},null,null,null,null,null,"・生産ライン（A-02）について\n　  生産量 32.0（t/年）\n　　電力消費量 136,000（kWh/年）　※昼間買電のみ\n\n・生産ライン（A-01及びA-02の合算）について\n　　生産量 51.0（t/年）＋ 32.0（t/年）＝ 83.0（t/年）"]
[]
[]
[]
[]
[]
[]
[]
[]
[]
[]
["【E】\n事業実施後の\n年間エネルギー使用量[kl]",null,null,null,null,null,null,null,null,null,null,null,null,null,null,null,null,null,null,null,null,null,null,null,null,null,null,null,null,null,null,null,null,{"$f":"A51","v":"【E】\n事業実施後の\n年間エネルギー使用量[kl]"},null,null,null,null,null,"・生産ライン（A-01及びA-02の合算）について\n　　電力消費量 214,200（kWh/年）＋136,000（kWh/年）＝ 350,200（kWh/年）\nエネルギー使用量（原油換算）\n    350,200（kWh/年）　÷　1000　×　8.64[GJ]（熱量換算係数）　×　0.0258[kl]（原油換算係数：10GJ=0.258kl）　\n　  ＝　78.064（kl/年）\n\n・生産ライン以外のエネルギー使用量について\n　　4.190（kl/年）\n\n・事業場全体のエネルギー使用量\n　　78.064（kl/年）　＋　4.190（kl/年）　＝　82.254（kl/年）"]
[]
[]
[]
[]
[]
[]
[]
[]
[]
[]
["【F】\n事業実施後の\nエネルギー消費原単位",null,null,null,null,null,null,null,null,null,null,null,null,null,null,null,null,null,null,null,null,null,null,null,null,null,null,null,null,null,null,null,null,{"$f":"A62","v":"【F】\n事業実施後の\nエネルギー消費原単位"}]
[null,null,null,null,null,null,null,{"$f":"IF(OR(O64=\"\",O67=\"\"),\"【Ｄ】と【Ｅ】に値を入力してください\",O64/O67)","v":"【Ｄ】と【Ｅ】に値を入力してください"},null,null,null,null,"＝",null,"【E】事業実施後の年間エネルギー使用量",null,null,null,null,null,null,null,"[","kl","]",null,null,null,null,null,null,null,null,null,null,null,null,null,null,null,{"$f":"IF(OR(AV64=\"\",AV67=\"\"),\"【Ｄ】と【Ｅ】に値を入力してください\",AV64/AV67)","v":0.99101204819277111},null,null,null,null,"＝",null,{"$f":"O63","v":"【E】事業実施後の年間エネルギー使用量"},null,null,null,null,null,null,null,"[","kl","]"]
[null,null,null,null,null,null,null,null,null,null,null,null,null,null,null,null,null,null,null,null,null,null,null,null,null,null,null,null,null,null,null,null,null,null,null,null,null,null,null,null,null,null,null,null,null,null,null,82.254000000000005]
[]
[null,null,null,null,null,null,null,null,null,null,null,null,null,null,"【D】事業実施後の生産量",null,null,null,null,null,null,null,"[","t","]",{"$f":"IF(X66=\"\",\"←単位をご入力ください\",\"\")","v":""},null,null,null,null,null,null,null,null,null,null,null,null,null,null,null,null,null,null,null,null,null,{"$f":"O66","v":"【D】事業実施後の生産量"},null,null,null,null,null,null,null,"[","t","]",{"$f":"IF(BE66=\"\",\"←単位をご入力ください\",\"\")","v":""}]
[null,null,null,null,null,null,null,null,null,null,null,null,null,null,null,null,null,null,null,null,null,null,null,null,null,null,null,null,null,null,null,null,null,null,null,null,null,null,null,null,null,null,null,null,null,null,null,83]
[null,null,null,null,null,null,null,"[","kl","/",{"$f":"IF(X66=\"\",\"\",X66)","v":"t"},"]",null,null,null,null,null,null,null,null,null,null,null,null,null,null,null,null,null,null,null,null,null,null,null,null,null,null,null,null,"[","kl","/",{"$f":"IF(BE66=\"\",\"\",BE66)","v":"t"},"]"]
[]
["【Ｇ】\nエネルギー消費原単位\n改善率",null,null,null,null,null,null,null,null,null,null,null,null,null,null,null,null,null,null,null,null,null,null,null,null,null,null,null,null,null,null,null,null,{"$f":"A70","v":"【Ｇ】\nエネルギー消費原単位\n改善率"}]
[null,null,null,null,null,null,null,{"$f":"IF(OR(Q72=\"【Ｄ】と【Ｅ】に値を入力してください\",Q75=\"【Ａ】と【Ｂ】に値を入力してください\"),\"【Ｃ】と【Ｆ】に値を入力してください\",((1-(Q72/Q75))*100)*0.01)","v":"【Ｃ】と【Ｆ】に値を入力してください"},null,null,null,null,"＝",null,1,"－","【Ｆ】事業実施後のエネルギー消費原単位",null,null,null,null,null,null,null,null,null,null,null,null,null,null,null,null,null,null,null,null,null,null,null,{"$f":"IF(OR(AX72=\"【Ｄ】と【Ｅ】に値を入力してください\",AX75=\"【Ａ】と【Ｂ】に値を入力してください\"),\"【Ｃ】と【Ｆ】に値を入力してください\",((1-(AX72/AX75))*100)*0.01)","v":2.6885624055001722E-2},null,null,null,null,"＝",null,1,"－",{"$f":"Q71","v":"【Ｆ】事業実施後のエネルギー消費原単位"}]
[null,null,null,null,null,null,null,null,null,null,null,null,null,null,null,null,{"$f":"H63","v":"【Ｄ】と【Ｅ】に値を入力してください"},null,null,null,null,null,null,null,null,null,null,null,null,null,null,null,null,null,null,null,null,null,null,null,null,null,null,null,null,null,null,null,null,{"$f":"AO63","v":0.99101204819277111}]
[]
[null,null,null,null,null,null,null,null,null,null,null,null,null,null,null,null,"【Ｃ】事業実施前のエネルギー消費原単位",null,null,null,null,null,null,null,null,null,null,null,null,null,null,null,null,null,null,null,null,null,null,null,null,null,null,null,null,null,null,null,null,{"$f":"Q74","v":"【Ｃ】事業実施前のエネルギー消費原単位"}]
[null,null,null,null,null,null,null,null,null,null,null,null,null,null,null,null,{"$f":"H31","v":"【Ａ】と【Ｂ】に値を入力してください"},null,null,null,null,null,null,null,null,null,null,null,null,null,null,null,null,null,null,null,null,null,null,null,null,null,null,null,null,null,null,null,null,{"$f":"AO31","v":1.0183921568627452}]
[]
[]
["【H】\n年間見込み\n省エネルギー量[kl]",null,null,null,null,null,null,null,null,null,null,null,null,null,null,null,null,null,null,null,null,null,null,null,null,null,null,null,null,null,null,null,null,{"$f":"A78","v":"【H】\n年間見込み\n省エネルギー量[kl]"}]
[null,null,null,null,null,null,null,{"$f":"IF(OR(O32=\"\",O35=\"\",H63=\"\"),\"【B】と【I】が入力された状態にしてください\",O81-W81)","v":"【B】と【I】が入力された状態にしてください"},null,null,null,null,"＝",null,"【B】\n事業実施前の\n年間エネルギー使用量[kl]",null,null,null,null,null,"－",null,"【I】\n年間見込みエネルギー\n使用量[kl]",null,null,null,null,null,null,null,null,null,null,null,null,null,null,null,null,null,{"$f":"IF(OR(AV32=\"\",AV35=\"\",AO63=\"\"),\"【B】と【I】が入力された状態にしてください\",AV81-BD81)","v":1.3963855421686731},null,null,null,null,"＝",null,{"$f":"O79","v":"【B】\n事業実施前の\n年間エネルギー使用量[kl]"},null,null,null,null,null,"－",null,{"$f":"W79","v":"【I】\n年間見込みエネルギー\n使用量[kl]"}]
[null,null,null,null,null,null,null,null,null,null,null,null,null,null,null,null,null,null,null,null,null,null,"(A)×(F)",null,null,null,null,null,null,null,null,null,null,null,null,null,null,null,null,null,null,null,null,null,null,null,null,null,null,null,null,null,null,null,null,{"$f":"W80","v":"(A)×(F)"}]
[null,null,null,null,null,null,null,null,null,null,null,null,null,null,{"$f":"IF(O32=\"\",\"\",O32)","v":""},null,null,null,null,null,null,null,{"$f":"IF(O35=\"\",\"\",O35*Q72)","v":""},null,null,null,null,null,null,null,null,null,null,null,null,null,null,null,null,null,null,null,null,null,null,null,null,{"$f":"IF(AV32=\"\",\"\",AV32)","v":51.938000000000002},null,null,null,null,null,null,null,{"$f":"IF(AV35=\"\",\"\",AV35*AX72)","v":50.541614457831329}]
[]
[]
["（注）\n【C】、【F】、【G】、【H】欄の計算については、表示形式は小数点第3位までとなっておりますが、実際の計算は小数点第4以降の値も含めて行っています。"]

{"sheet":"（別添６）省エネルギー取組の根拠（要件ウ）","index":19,"n_rows":61,"n_cols":100,"rows_kept":61,"cut":false,"hidden":false,"merged":[[0,0,1,30],[7,6,8,29],[13,0,16,5],[13,6,16,29],[17,0,20,5],[21,0,24,5],[21,6,24,29],[17,6,20,29],[7,0,8,5],[31,0,34,5],[31,6,34,29],[27,0,30,5],[27,6,30,29],[35,0,38,5],[35,6,38,29],[41,16,41,23],[41,24,41,29],[42,16,42,23],[45,7,59,10],[45,11,59,14],[60,7,74,10],[60,11,74,14],[44,7,44,10],[44,1,44,3],[44,4,44,6],[45,0,59,0],[45,1,59,3],[45,4,59,6],[27,32,30,37],[44,11,44,14],[60,15,74,29],[44,33,44,35],[44,36,44,38],[60,32,74,32],[31,32,34,37],[35,32,38,37],[45,32,59,32],[45,33,59,35],[42,24,42,29],[45,15,59,29],[44,15,44,29],[45,36,59,38],[27,38,30,61],[31,38,34,61],[7,32,8,37],[7,38,8,61],[13,32,16,37],[17,32,20,37],[21,32,24,37],[13,38,16,61],[17,38,20,61],[21,38,24,61],[45,47,59,61],[45,39,59,42],[45,43,59,46],[44,47,44,61],[41,48,41,55],[41,56,41,61],[35,38,38,61],[42,48,42,55],[42,56,42,61],[44,39,44,42],[44,43,44,46],[76,0,79,29],[76,32,79,61],[60,33,74,35],[60,36,74,38],[60,47,74,61],[60,0,74,0],[60,1,74,3],[60,4,74,6],[60,39,74,42],[60,43,74,46]]}
["（別添６）省エネルギー取組の根拠（要件ウ）",null,null,null,null,null,null,null,null,null,null,null,null,null,null,null,null,null,null,null,null,null,null,null,null,null,null,null,null,null,null,null,null,null,null,null,null,null,null,null,null,null,null,null,null,null,null,null,null,null,null,null,null,null,null,null,null,null,null,null,null,null,null,null,null,null,null,null,null,null,null,null,null,null,null,null,null,null,null,null,null,null,null,null,null,null,null,null,null,null,null,null,null,null,null,null,"非表示","非表示","非表示","非表示"]
[]
["(別添６）",null,null,null,null,null,null,null,null,null,null,null,null,null,null,null,null,null,null,null,null,null,null,null,null,null,null,null,null,null,null,null,{"$f":"A3","v":"(別添６）"},null,null,null,null,null,null,null,null,null,null,null,null,null,null,null,null,null,null,null,null,null,null,null,null,null,null,null,null,null,null,null,null,null,null,null,null,null,null,null,null,null,null,null,null,null,null,null,null,null,null,null,null,null,null,null,null,null,null,null,null,null,null,null,"別添6_G8","対象要件内容",{"$f":"IF(G8=\"\",\"\",G8)","v":""}]
["省エネルギー取組の根拠（要件ウ）",null,null,null,null,null,null,null,null,null,null,null,null,null,null,null,null,null,null,null,null,null,null,null,null,null,null,null,null,null,null,null,{"$f":"A4","v":"省エネルギー取組の根拠（要件ウ）"},null,null,null,null,null,null,null,null,null,null,null,null,null,null,null,null,null,null,null,null,null,null,null,null,null,null,null,null,null,null,null,null,null,null,null,null,null,null,null,null,null,null,null,null,null,null,null,null,null,null,null,null,null,null,null,null,null,null,null,null,null,null,null,"別添6_G14","利用データセンター名称",{"$f":"IF(G14=\"\",\"\",G14)","v":""}]
[null,null,null,null,null,null,null,null,null,null,null,null,null,null,null,null,null,null,null,null,null,null,null,null,null,null,null,null,null,null,null,null,null,null,null,null,null,null,null,null,null,null,null,null,null,null,null,null,null,null,null,null,null,null,null,null,null,null,null,null,null,null,null,null,null,null,null,null,null,null,null,null,null,null,null,null,null,null,null,null,null,null,null,null,null,null,null,null,null,null,null,null,null,null,null,null,"別添6_G18","データセンターのＰＵＥ値",{"$f":"IF(G18=\"\",\"\",G18)","v":""}]
["１.対象要件内容",null,null,null,null,null,null,null,null,null,null,null,null,null,null,null,null,null,null,null,null,null,null,null,null,null,null,null,null,null,null,null,{"$f":"A6","v":"１.対象要件内容"},null,null,null,null,null,null,null,null,null,null,null,null,null,null,null,null,null,null,null,null,null,null,null,null,null,null,null,null,null,null,null,null,null,null,null,null,null,null,null,null,null,null,null,null,null,null,null,null,null,null,null,null,null,null,null,null,null,null,null,null,null,null,null,"別添6_G22","省エネルギー取組概要",{"$f":"IF(G22=\"\",\"\",G22)","v":""}]
[null,null,null,null,null,null,null,null,null,null,null,null,null,null,null,null,null,null,null,null,null,null,null,null,null,null,null,null,null,null,null,null,null,null,null,null,null,null,null,null,null,null,null,null,null,null,null,null,null,null,null,null,null,null,null,null,null,null,null,null,null,null,null,null,null,null,null,null,null,null,null,null,null,null,null,null,null,null,null,null,null,null,null,null,null,null,null,null,null,null,null,null,null,null,null,null,"別添6_G28","導入機器",{"$f":"IF(G28=\"\",\"\",G28)","v":""}]
["対象要件内容",null,null,null,null,null,null,null,null,null,null,null,null,null,null,null,null,null,null,null,null,null,null,null,null,null,null,null,null,null,null,null,{"$f":"A8","v":"対象要件内容"},null,null,null,null,null,"データセンターのクラウドサービス活用",null,null,null,null,null,null,null,null,null,null,null,null,null,null,null,null,null,null,null,null,null,null,null,null,null,null,null,null,null,null,null,null,null,null,null,null,null,null,null,null,null,null,null,null,null,null,null,null,null,null,null,null,null,null,null,null,null,"別添6_G32","削減効果（計画値）",{"$f":"IF(G32=\"\",\"\",G32)","v":""}]
[null,null,null,null,null,null,null,null,null,null,null,null,null,null,null,null,null,null,null,null,null,null,null,null,null,null,null,null,null,null,null,null,null,null,null,null,null,null,null,null,null,null,null,null,null,null,null,null,null,null,null,null,null,null,null,null,null,null,null,null,null,null,null,null,null,null,null,null,null,null,null,null,null,null,null,null,null,null,null,null,null,null,null,null,null,null,null,null,null,null,null,null,null,null,null,null,"別添6_G36","省エネルギー取組概要",{"$f":"IF(G36=\"\",\"\",G36)","v":""}]
[null,null,null,null,null,null,null,null,null,null,null,null,null,null,null,null,null,null,null,null,null,null,null,null,null,null,null,null,null,null,null,null,null,null,null,null,null,null,null,null,null,null,null,null,null,null,null,null,null,null,null,null,null,null,null,null,null,null,null,null,null,null,null,null,null,null,null,null,null,null,null,null,null,null,null,null,null,null,null,null,null,null,null,null,null,null,null,null,null,null,null,null,null,null,null,null,"別添6_Y42","年間見込み省エネルギー率[%]",{"$f":"IF(Y42=\"\",\"\",Y42&CV10)","v":""},"%"]
["２．取組内容の詳細",null,null,null,null,null,null,null,null,null,null,null,null,null,null,null,null,null,null,null,null,null,null,null,null,null,null,null,null,null,null,null,{"$f":"A11","v":"２．取組内容の詳細"},null,null,null,null,null,null,null,null,null,null,null,null,null,null,null,null,null,null,null,null,null,null,null,null,null,null,null,null,null,null,null,null,null,null,null,null,null,null,null,null,null,null,null,null,null,null,null,null,null,null,null,null,null,null,null,null,null,null,null,null,null,null,null,"別添6_Y43","年間見込み省エネルギー量[kl]",{"$f":"IF(Y43=\"\",\"\",Y43&CV11)","v":""},"kl"]
[]
["＜データセンターのクラウドサービスの活用＞",null,null,null,null,null,null,null,null,null,null,null,null,null,null,null,null,null,null,null,null,null,null,null,null,null,null,null,null,null,null,null,{"$f":"A13","v":"＜データセンターのクラウドサービスの活用＞"}]
["利用データセンター名称",null,null,null,null,null,null,null,null,null,null,null,null,null,null,null,null,null,null,null,null,null,null,null,null,null,null,null,null,null,null,null,{"$f":"A14","v":"利用データセンター名称"},null,null,null,null,null,"○○データセンター"]
[]
[]
[]
["データセンターのＰＵＥ値\n（実測値又は設計値）",null,null,null,null,null,null,null,null,null,null,null,null,null,null,null,null,null,null,null,null,null,null,null,null,null,null,null,null,null,null,null,{"$f":"A18","v":"データセンターのＰＵＥ値\n（実測値又は設計値）"},null,null,null,null,null,"ＰＵＥ値：1.6（設計値）※添付資料○ページを参照"]
[]
[]
[]
["省エネルギー取組概要",null,null,null,null,null,null,null,null,null,null,null,null,null,null,null,null,null,null,null,null,null,null,null,null,null,null,null,null,null,null,null,{"$f":"A22","v":"省エネルギー取組概要"},null,null,null,null,null,"社内で運用しているメールシステム・勤怠管理システムを、データセンターを活用したクラウドサービスへ\n移行することにより、社内での消費エネルギーを削減する。"]
[]
[]
[]
[]
["＜ＥＭＳの導入＞",null,null,null,null,null,null,null,null,null,null,null,null,null,null,null,null,null,null,null,null,null,null,null,null,null,null,null,null,null,null,null,{"$f":"A27","v":"＜ＥＭＳの導入＞"}]
["導入機器",null,null,null,null,null,null,null,null,null,null,null,null,null,null,null,null,null,null,null,null,null,null,null,null,null,null,null,null,null,null,null,{"$f":"A28","v":"導入機器"},null,null,null,null,null,"動力制御装置　※添付資料○ページ参照"]
[]
[]
[]
["削減効果（計画値）",null,null,null,null,null,null,null,null,null,null,null,null,null,null,null,null,null,null,null,null,null,null,null,null,null,null,null,null,null,null,null,{"$f":"A32","v":"削減効果（計画値）"},null,null,null,null,null,"使用エネルギー量○○％削減見込み　※添付資料○ページ参照"]
[]
[]
[]
["省エネルギー取組概要",null,null,null,null,null,null,null,null,null,null,null,null,null,null,null,null,null,null,null,null,null,null,null,null,null,null,null,null,null,null,null,{"$f":"A36","v":"省エネルギー取組概要"},null,null,null,null,null,"社内エネルギーコストの低減を図るべく、施設内の照明・空調設備・冷却設備等が使用するエネルギー量の\n現状把握（見える化）し、当該設備が使用するエネルギー量の削減を実現する為にＥＭＳを導入する。"]
[]
[]
[]
[]
["3．見込み省エネルギー量の算出",null,null,null,null,null,null,null,null,null,null,null,null,null,null,null,null,null,null,null,null,null,null,null,null,null,null,null,null,null,null,null,{"$f":"A41","v":"3．見込み省エネルギー量の算出"}]
[null,null,null,null,null,null,null,null,null,null,null,null,null,null,null,null,"年間見込み省エネルギー率[%]",null,null,null,null,null,null,null,{"$f":"IF(H46=\"\",\"\",AVERAGE(H46:K75))","v":""},null,null,null,null,null,null,null,null,null,null,null,null,null,null,null,null,null,null,null,null,null,null,null,{"$f":"Q42","v":"年間見込み省エネルギー率[%]"},null,null,null,null,null,null,null,{"$f":"IF(AR46=\"\",\"\",AVERAGE(AN46:AQ75))","v":23}]
[null,null,null,null,null,null,null,null,null,null,null,null,null,null,null,null,"年間見込み省エネルギー量[kl]",null,null,null,null,null,null,null,{"$f":"IF(L46=\"\",\"\",SUM(L46:O75))","v":""},null,null,null,null,null,null,null,null,null,null,null,null,null,null,null,null,null,null,null,null,null,null,null,{"$f":"Q43","v":"年間見込み省エネルギー量[kl]"},null,null,null,null,null,null,null,{"$f":"IF(AV46=\"\",\"\",SUM(AR46:AU75))","v":6.3289999999999997}]
[]
["No","製品名",null,null,"型番",null,null,"年間見込み\n省エネルギー率\n[%]",null,null,null,"年間見込み\n省エネルギー量\n[kl]",null,null,null,"算出根拠",null,null,null,null,null,null,null,null,null,null,null,null,null,null,null,null,{"$f":"A45","v":"No"},{"$f":"B45","v":"製品名"},null,null,{"$f":"E45","v":"型番"},null,null,{"$f":"H45","v":"年間見込み\n省エネルギー率\n[%]"},null,null,null,{"$f":"L45","v":"年間見込み\n省エネルギー量\n[kl]"},null,null,null,{"$f":"P45","v":"算出根拠"}]
[1,null,null,null,null,null,null,null,null,null,null,null,null,null,null,null,null,null,null,null,null,null,null,null,null,null,null,null,null,null,null,null,{"$f":"A46","v":1},"データセンターのクラウドサービス",null,null,"○○データセンター",null,null,23,null,null,null,6.3289999999999997,null,null,null,"算出根拠は、省エネ量計算ツールの「6.クラウドサービス活用（要件ウ）」を利用。\n　 データセンター移行前システムの推計消費電力量：123,456kWh/年\n　PUE値の改善率：23％\n\n上記を以下の式に代入し、見込み省エネルギー量[kWh/年]を算出。\n・見込み省エネルギー量[kWh/年] = 推計消費電力量[kWh/年] × 改善率[%]\n　見込み省エネルギー量：‭28,394.88‬kWh/年\n\n見込み省エネルギー量[kWh/年]を以下の式に代入し、原油換算[kl/年]。\n・見込み省エネルギー量[kl/年] = 見込み省エネルギー量[kWh/年] ÷ 1000 ×8.64[GJ]（熱量換算係数） × 0.0258[kl]（原油換算係数：10GJ=0.258kl）\n\n　見込み省エネルギー量：6.329kl/年\n　見込み省エネルギー率：23.0%/年\n\n※算出根拠は、申請者自ら手計算した見込み省エネルギー計算を記載してもよい。"]
[]
[]
[]
[]
[]
[]
[]
[]
[]
[]
[]
[]
[]
[]
[2,null,null,null,null,null,null,null,null,null,null,null,null,null,null,null,null,null,null,null,null,null,null,null,null,null,null,null,null,null,null,null,{"$f":"A61","v":2}]

{"sheet":"（様式第３）交付申請書（新規融資案件）","index":20,"n_rows":85,"n_cols":55,"rows_kept":85,"cut":false,"hidden":false,"merged":[[18,28,20,34],[18,10,20,16],[39,9,39,14],[18,3,20,6],[18,8,20,9],[18,21,20,24],[18,26,20,27],[0,0,1,16],[4,28,6,28],[15,8,17,9],[15,26,17,27],[15,28,17,34],[15,10,17,16],[4,10,6,10],[82,19,82,24],[74,1,75,15],[74,19,75,33],[78,1,79,7],[78,8,79,8],[78,19,79,25],[78,26,79,26],[82,1,82,7],[77,9,81,16],[70,1,71,15],[70,19,71,33],[39,0,39,2],[21,28,22,33],[21,34,25,34],[23,28,24,33],[21,10,22,16],[23,10,24,16],[21,8,24,9],[21,26,24,27],[39,33,39,34],[39,27,39,32],[39,18,39,20],[39,21,39,26],[39,3,39,8],[39,15,39,16]]}
["（様式第３）交付申請書（新規融資案件）",null,null,null,null,null,null,null,null,null,null,null,null,null,null,null,null,null,null,null,null,null,null,null,null,null,null,null,null,null,null,null,null,null,null,null,null,null,null,null,null,null,null,null,null,null,null,null,null,null,null,null,"非表示","非表示","非表示"]
[]
["様式第３",null,null,null,null,null,null,null,null,null,null,null,null,null,null,null,null,null,{"$f":"A3","v":"様式第３"},null,null,null,null,null,null,null,null,null,null,null,null,null,null,null,null,null,null,null,null,null,null,null,null,null,null,null,null,null,null,null,null,null,"様式第3_L2","受付番号",{"$f":"ASC(IF(Q4=\"\",\"\",Q4))","v":""}]
[null,null,null,null,null,null,null,null,null,null,null,null,null,{"$f":"IF(Q4=\"\",\"受付番号（例：07AA-001-01）をご入力ください。→\",\"\")","v":"受付番号（例：07AA-001-01）をご入力ください。→"},null,null,null,null,null,null,null,null,null,null,null,null,null,null,null,null,null,null,null,null,"07AA-001-01",null,null,null,null,null,null,null,null,null,null,null,null,null,null,null,null,null,"様式第3_L4","年",{"$f":"IF(L6=\"\",\"\",L6)","v":""}]
[null,null,null,null,null,null,null,null,null,null,null,null,null,null,null,null,null,null,null,null,null,null,null,null,null,null,null,null,null,null,null,null,null,null,null,null,null,null,null,null,null,null,null,null,null,null,null,null,null,null,null,null,"様式第3_N4","月",{"$f":"IF(N6=\"\",\"\",N6)","v":""}]
[null,null,null,null,null,null,null,null,null,null,null,null,"年",null,"月",null,"日",null,null,null,null,null,null,null,null,null,null,null,null,"202○",{"$f":"M6","v":"年"},"○○",{"$f":"O6","v":"月"},"○○",{"$f":"Q6","v":"日"},null,null,null,null,null,null,null,null,null,null,null,null,null,null,null,null,null,"様式第3_P4","日",{"$f":"IF(P6=\"\",\"\",P6)","v":""}]
[null,null,null,null,null,null,null,null,null,null,null,null,null,null,null,null,null,null,null,null,null,null,null,null,null,null,null,null,null,null,null,null,null,null,null,null,null,null,null,null,null,null,null,null,null,null,null,null,null,null,null,null,"様式第3_K14","指定金融機関_住所",{"$f":"IF(K16=\"\",\"\",K16)","v":""}]
[null,null,null,null,null,null,null,null,null,null,null,null,null,null,null,null,null,null,null,null,null,null,null,null,null,null,null,null,null,null,null,null,null,null,null,null,null,null,null,null,null,null,null,null,null,null,null,null,null,null,null,null,"様式第3_K17","指定金融機関_名称",{"$f":"IF(K19=\"\",\"\",K19)","v":""}]
["一般社団法人　環境共創イニシアチブ",null,null,null,null,null,null,null,null,null,null,null,null,null,null,null,null,null,{"$f":"A9","v":"一般社団法人　環境共創イニシアチブ"},null,null,null,null,null,null,null,null,null,null,null,null,null,null,null,null,null,null,null,null,null,null,null,null,null,null,null,null,null,null,null,null,null,"様式第3_K20","指定金融機関_役職",{"$f":"IF(K22=\"\",\"\",K22)","v":""}]
[null,null,null,null,null,null,null,null,null,null,null,null,null,null,null,null,null,null,null,null,null,null,null,null,null,null,null,null,null,null,null,null,null,null,null,null,null,null,null,null,null,null,null,null,null,null,null,null,null,null,null,null,"様式第3_K22","指定金融機関_代表者名",{"$f":"IF(K24=\"\",\"\",K24)","v":""}]
["代 表 理 事　殿",null,null,null,null,null,null,null,null,null,null,null,null,null,null,null,null,null,{"$f":"A11","v":"代 表 理 事　殿"},null,null,null,null,null,null,null,null,null,null,null,null,null,null,null,null,null,null,null,null,null,null,null,null,null,null,null,null,null,null,null,null,null,"様式第3_A37","交付方針決定日",{"$f":"IF(A40=\"\",\"\",A40)","v":""}]
[null,null,null,null,null,null,null,null,null,null,null,null,null,null,null,null,null,null,null,null,null,null,null,null,null,null,null,null,null,null,null,null,null,null,null,null,null,null,null,null,null,null,null,null,null,null,null,null,null,null,null,null,"様式第3_J37","交付方針決定通知番号",{"$f":"ASC(IF(J40=\"\",\"\",J40))","v":""}]
[null,null,null,null,null,null,null,null,null,null,null,null,null,null,null,null,null,null,null,null,null,null,null,null,null,null,null,null,null,null,null,null,null,null,null,null,null,null,null,null,null,null,null,null,null,null,null,null,null,null,null,null,"様式第3_B69","利子補給対象事業者名",{"$f":"IF(B71=\"\",\"\",B71)","v":""}]
[null,null,null,null,null,null,null,null,null,null,null,null,null,null,null,null,null,null,null,null,null,null,null,null,null,null,null,null,null,null,null,null,null,null,null,null,null,null,null,null,null,null,null,null,null,null,null,null,null,null,null,null,"様式第3_B73","融資名称",{"$f":"IF(B75=\"\",\"\",B75)","v":""}]
[null,null,null,null,null,null,null,null,null,null,{"$f":"IF(K16=\"\",\"↓住所は都道府県からご入力ください。\",\"\")","v":"↓住所は都道府県からご入力ください。"},null,null,null,null,null,null,null,null,null,null,null,null,null,null,null,null,null,null,null,null,null,null,null,null,null,null,null,null,null,null,null,null,null,null,null,null,null,null,null,null,null,"様式第3_B77","利子補給金交付申請額",{"$f":"IF(B79=\"\",\"\",B79)","v":""}]
[null,null,null,null,null,null,null,null,"住　　所",null,null,null,null,null,null,null,null,null,null,null,null,null,null,null,null,null,{"$f":"I16","v":"住　　所"},null,"〇〇県〇〇市〇〇町〇丁目〇番〇号",null,null,null,null,null,null,null,null,null,null,null,null,null,null,null,null,null,null,null,null,null,null,null,"様式第3_B81","交付対象融資の内容",{"$f":"IF(B83=\"\",\"\",B83)","v":""}]
[]
[]
[null,null,null,"指定金融機関",null,null,null,null,"名　　称",null,null,null,null,null,null,null,null,null,null,null,null,{"$f":"D19","v":"指定金融機関"},null,null,null,null,{"$f":"I19","v":"名　　称"},null,"株式会社〇〇銀行"]
[]
[]
[null,null,null,null,null,null,null,null,"代表者等名",null,null,null,null,null,null,null,null,null,null,null,null,null,null,null,null,null,{"$f":"I22","v":"代表者等名"},null,"代表取締役"]
[]
[null,null,null,null,null,null,null,null,null,null,null,null,null,null,null,null,null,null,null,null,null,null,null,null,null,null,null,null,"〇〇　〇〇"]
[]
[]
[]
[]
[]
[]
[null,null,null,null,null,null,null,null,"令和７年度省エネルギー設備投資利子補給金",null,null,null,null,null,null,null,null,null,null,null,null,null,null,null,null,null,{"$f":"I31","v":"令和７年度省エネルギー設備投資利子補給金"}]
[]
[null,null,null,null,null,null,null,null,"交付申請書（新規融資案件）",null,null,null,null,null,null,null,null,null,null,null,null,null,null,null,null,null,{"$f":"I33","v":"交付申請書（新規融資案件）"}]
[]
[]
[]
[]
[]
[]
[null,null,null,"をもって交付方針決定の通知 （",null,null,null,null,null,null,null,null,null,null,null,"）のあった",null,null,"202〇年○月○日",null,null,{"$f":"D40","v":"をもって交付方針決定の通知 （"},null,null,null,null,null,"SII-BFA250-01-○○○○○○-00○○○-F",null,null,null,null,null,{"$f":"P40","v":"）のあった"}]
[]
[]
[]
[]
[]
[]
[]
[]
[]
[]
[]
[]
[]
[]
[]
[]
[]
[]
[]
[]
[]
[]
[]
[]
[null,null,null,null,null,null,null,null,null,null,null,null,null,null,null,null,{"$f":"IF($Q$4=\"\",\"様式第３で受付番号をご入力ください。\",$Q$4)","v":"様式第３で受付番号をご入力ください。"},null,null,null,null,null,null,null,null,null,null,null,null,null,null,null,null,null,"07AA-001-01"]
[]
[null,null,null,null,null,null,null,null,"記",null,null,null,null,null,null,null,null,null,null,null,null,null,null,null,null,null,{"$f":"I67","v":"記"}]
[]
[]
["１．利子補給対象事業者名",null,null,null,null,null,null,null,null,null,null,null,null,null,null,null,null,null,{"$f":"A70","v":"１．利子補給対象事業者名"}]
[null,null,null,null,null,null,null,null,null,null,null,null,null,null,null,null,null,null,null,"株式会社○○○○"]
[]
[]
["２．融資名称",null,null,null,null,null,null,null,null,null,null,null,null,null,null,null,null,null,{"$f":"A74","v":"２．融資名称"}]
[null,null,null,null,null,null,null,null,null,null,null,null,null,null,null,null,null,null,null,"○○○○○○○にともなう融資"]
[]
[]
["３．利子補給金交付申請額",null,null,null,null,null,null,null,null,{"$f":"IF(B79=\"\",\"2025年度の利子補給交付申請額をご入力ください。\n※2025年度単位期間Ⅰと単位期間Ⅱを合算して、\n　 交付申請も可能です。\",\"\")","v":"2025年度の利子補給交付申請額をご入力ください。\n※2025年度単位期間Ⅰと単位期間Ⅱを合算して、\n　 交付申請も可能です。"},null,null,null,null,null,null,null,null,{"$f":"A78","v":"３．利子補給金交付申請額"}]
[null,null,null,null,null,null,null,null,"円",null,null,null,null,null,null,null,null,null,null,"○○○,○○○",null,null,null,null,null,null,"円"]
[]
[]
["４．交付対象融資の内容",null,null,null,null,null,null,null,null,null,null,null,null,null,null,null,null,null,{"$f":"A82","v":"４．交付対象融資の内容"}]
[null,null,null,null,null,null,null,null,null,null,null,null,null,null,null,null,null,null,null,"※（別添１）融資計画詳細　参照"]
[]
["（注）この申請書には、ＳＩＩが指示する書面を添付すること。",null,null,null,null,null,null,null,null,null,null,null,null,null,null,null,null,null,{"$f":"A85","v":"（注）この申請書には、ＳＩＩが指示する書面を添付すること。"}]

{"sheet":"（別添１）融資計画詳細１（交付申請）","index":21,"n_rows":219,"n_cols":55,"rows_kept":219,"cut":false,"hidden":false,"merged":[[0,0,1,16],[8,0,9,1],[8,2,9,4],[8,5,9,5],[8,8,9,16],[8,27,9,28],[8,29,9,31],[8,32,9,32],[8,33,9,33],[2,2,3,2],[2,29,3,29],[6,2,6,4],[5,0,5,4],[5,27,5,31],[8,35,9,43],[10,0,11,1],[10,2,11,4],[10,5,11,5],[10,8,16,16],[10,27,11,28],[10,29,11,31],[10,32,11,32],[10,35,16,43],[12,0,13,1],[12,2,13,4],[12,5,13,5],[12,27,13,28],[12,29,13,31],[12,32,13,32],[12,33,13,33],[14,0,17,1],[14,2,15,4],[14,5,15,5],[14,27,17,28],[14,29,15,31],[16,2,17,4],[16,5,17,5],[16,29,17,31],[17,8,18,16],[10,33,11,33],[17,35,18,43],[18,0,19,1],[18,2,19,4],[18,5,19,5],[18,27,19,28],[18,29,19,31],[18,32,19,32],[18,33,19,33],[19,8,24,16],[19,35,24,43],[21,33,22,33],[23,0,24,1],[23,2,24,4],[23,5,24,5],[23,27,24,28],[23,29,24,31],[23,32,24,32],[23,33,24,33],[21,0,22,1],[21,2,22,4],[21,5,22,5],[21,27,22,28],[21,29,22,31],[21,32,22,32],[31,0,32,1],[31,2,32,4],[31,5,32,5],[31,27,32,28],[31,29,32,31],[25,32,26,32],[25,33,26,33],[25,35,26,43],[27,0,30,1],[27,2,28,4],[27,5,28,5],[27,8,32,16],[27,27,30,28],[27,29,28,31],[27,32,28,32],[25,0,26,1],[25,2,26,4],[25,5,26,5],[25,8,26,16],[25,27,26,28],[25,29,26,31],[31,32,32,32],[31,33,32,33],[27,35,32,43],[29,2,30,4],[29,5,30,5],[29,29,30,31],[29,32,30,32],[38,2,38,12],[38,13,39,16],[38,18,38,23],[39,23,40,23],[34,10,34,12],[35,10,35,12],[34,14,34,16],[35,14,35,16],[35,41,35,43],[35,37,35,39],[34,37,34,39],[34,41,34,43],[38,40,39,43],[38,24,38,26],[38,27,40,28],[39,26,40,26],[39,29,39,34],[39,35,40,35],[39,36,40,36],[39,37,40,37],[39,38,39,39],[42,0,57,0],[42,1,49,1],[42,7,49,7],[42,12,49,12],[42,27,57,27],[38,0,40,1],[42,28,49,28],[42,34,49,34],[42,39,49,39],[50,1,57,1],[50,7,57,7],[50,12,57,12],[50,28,57,28],[50,34,57,34],[50,39,57,39],[38,29,38,39],[39,2,39,7],[39,8,40,8],[39,9,40,9],[39,10,40,10],[39,11,39,12],[39,18,40,19],[39,20,40,21],[39,22,40,22],[58,34,65,34],[58,39,65,39],[66,1,73,1],[66,7,73,7],[66,12,73,12],[66,28,73,28],[66,34,73,34],[66,39,73,39],[58,0,73,0],[58,1,65,1],[58,7,65,7],[58,12,65,12],[58,27,73,27],[58,28,65,28],[74,34,81,34],[74,39,81,39],[82,1,89,1],[82,7,89,7],[82,12,89,12],[82,28,89,28],[82,34,89,34],[82,39,89,39],[74,0,89,0],[74,1,81,1],[74,7,81,7],[74,12,81,12],[74,27,89,27],[74,28,81,28],[90,34,97,34],[90,39,97,39],[98,1,105,1],[98,7,105,7],[98,12,105,12],[98,28,105,28],[98,34,105,34],[98,39,105,39],[90,0,105,0],[90,1,97,1],[90,7,97,7],[90,12,97,12],[90,27,105,27],[90,28,97,28],[106,34,113,34],[106,39,113,39],[114,1,121,1],[114,7,121,7],[114,12,121,12],[114,28,121,28],[114,34,121,34],[114,39,121,39],[106,0,121,0],[106,1,113,1],[106,7,113,7],[106,12,113,12],[106,27,121,27],[106,28,113,28],[130,28,137,28],[130,34,137,34],[130,39,137,39],[122,0,137,0],[122,1,129,1],[122,7,129,7],[122,12,129,12],[122,27,137,27],[122,28,129,28],[138,0,153,0],[138,1,145,1],[138,7,145,7],[138,12,145,12],[138,27,153,27],[138,28,145,28],[138,34,145,34],[138,39,145,39],[146,1,153,1],[170,0,185,0],[170,1,177,1],[170,7,177,7],[170,12,177,12],[170,27,185,27],[170,28,177,28],[154,34,161,34],[154,39,161,39],[162,1,169,1],[162,7,169,7],[162,12,169,12],[162,28,169,28],[162,34,169,34],[162,39,169,39],[154,0,169,0],[154,1,161,1],[154,7,161,7],[154,12,161,12],[154,27,169,27],[154,28,161,28],[202,0,217,0],[202,1,209,1],[202,7,209,7],[202,12,209,12],[202,27,217,27],[202,28,209,28],[186,34,193,34],[186,39,193,39],[194,1,201,1],[194,7,201,7],[194,12,201,12],[194,28,201,28],[194,34,201,34],[194,39,201,39],[186,0,201,0],[186,1,193,1],[186,7,193,7],[186,12,193,12],[186,27,201,27],[186,28,193,28],[202,34,209,34],[202,39,209,39],[210,1,217,1],[210,7,217,7],[14,32,15,32],[16,32,17,32],[210,12,217,12],[210,28,217,28],[210,34,217,34],[210,39,217,39],[170,34,177,34],[170,39,177,39],[178,1,185,1],[178,7,185,7],[178,12,185,12],[178,28,185,28],[178,34,185,34],[178,39,185,39],[146,7,153,7],[146,12,153,12],[146,28,153,28],[146,34,153,34],[146,39,153,39],[122,34,129,34],[122,39,129,39],[130,1,137,1],[130,7,137,7],[130,12,137,12]]}
["（別添１）融資計画詳細１（交付申請）",null,null,null,null,null,null,null,null,null,null,null,null,null,null,null,null,null,null,null,null,null,null,null,null,null,null,null,null,null,null,null,null,null,null,null,null,null,null,null,null,null,null,null,null,null,null,null,null,null,null,null,"非表示","非表示","非表示"]
[]
["（別添１）",null,"交付申請",null,null,null,null,null,null,null,null,null,null,"非表示",null,"非表示",null,null,"非表示","非表示","非表示","非表示","非表示","非表示","非表示","非表示","非表示",{"$f":"A3","v":"（別添１）"},null,{"$f":"C3","v":"交付申請"},null,null,null,null,null,null,null,null,null,null,null,null,null,null,null,null,null,null,null,null,null,null,"別添1_C9","融資額",{"$f":"IF(C9=\"\",\"\",C9)","v":""}]
["融資計画詳細１",null,null,null,null,null,null,null,null,null,null,null,null,null,null,null,{"$f":"IF('（様式第３）交付申請書（新規融資案件）'!$Q$4=\"\",\"様式第３で受付番号をご入力ください。\",'（様式第３）交付申請書（新規融資案件）'!$Q$4)","v":"様式第３で受付番号をご入力ください。"},null,null,null,null,null,null,null,null,null,null,{"$f":"A4","v":"融資計画詳細１"},null,null,null,null,null,null,null,null,null,null,null,null,null,null,null,null,null,null,null,null,null,null,null,null,"別添1_C11","元金均等返済額",{"$f":"IF(C11=\"\",\"\",C11)","v":""}]
[null,null,null,null,null,null,null,null,null,null,null,null,null,null,null,null,null,null,null,null,null,null,null,null,null,null,null,null,null,null,null,null,null,null,null,null,null,null,null,null,null,null,null,null,null,null,null,null,null,null,null,null,"別添1_C13","最終弁済額",{"$f":"IF(C13=\"\",\"\",C13)","v":""}]
["融資計画書からの変更はありません。",null,null,null,null,null,null,null,null,null,null,null,null,null,null,null,null,null,null,null,null,null,null,null,null,null,null,"融資計画書からの変更はありません。",null,null,null,null,null,null,null,null,null,null,null,null,null,null,null,null,null,null,null,null,null,null,null,null,"別添1_C15","融資期間_自：",{"$f":"IF(C15=\"\",\"\",C15)","v":""}]
["１．融資の内容",null,null,null,null,null,null,null,null,null,null,null,null,null,null,null,null,null,null,null,null,null,null,null,null,null,null,{"$f":"A7","v":"１．融資の内容"},null,null,null,null,null,null,null,null,null,null,null,null,null,null,null,null,null,null,null,null,null,null,null,null,"別添1_C17","融資期間_至：",{"$f":"IF(C17=\"\",\"\",C17)","v":""}]
[null,null,null,null,null,null,null,null,null,null,null,null,null,null,null,null,null,null,null,null,null,null,null,null,null,null,null,null,null,null,null,null,null,null,null,null,null,null,null,null,null,null,null,null,null,null,null,null,null,null,null,null,"別添1_C19","融資利率",{"$f":"IF(C19=\"\",\"\",C19)","v":""}]
["融資額",null,null,null,null,"円",null,null,"融資備考欄",null,null,null,null,null,null,null,null,null,null,null,null,null,null,null,null,null,null,{"$f":"A9","v":"融資額"},null,84000000,null,null,{"$f":"F9","v":"円"},null,null,"融資備考欄",null,null,null,null,null,null,null,null,null,null,null,null,null,null,null,null,"別添1_C22","内　交付対象融資額",{"$f":"IF(C22=\"\",\"\",C22)","v":""}]
[null,null,null,null,null,null,null,null,null,null,null,null,null,null,null,null,null,null,null,null,null,null,null,null,null,null,null,null,null,null,null,null,null,null,null,null,null,null,null,null,null,null,null,null,null,null,null,null,null,null,null,null,"別添1_C24","元金均等返済額",{"$f":"IF(C24=\"\",\"\",C24)","v":""}]
["元金均等返済額",null,null,null,null,"円",null,null,"",null,null,null,null,null,null,null,null,null,null,null,null,null,null,null,null,null,null,{"$f":"A11","v":"元金均等返済額"},null,1000000,null,null,{"$f":"F11","v":"円"},null,null,null,null,null,null,null,null,null,null,null,null,null,null,null,null,null,null,null,"別添1_C26","最終弁済額",{"$f":"IF(C26=\"\",\"\",C26)","v":""}]
[null,null,null,null,null,null,null,null,null,null,null,null,null,null,null,null,null,null,null,null,null,null,null,null,null,null,null,null,null,null,null,null,null,null,null,null,null,null,null,null,null,null,null,null,null,null,null,null,null,null,null,null,"別添1_C28","交付対象融資期間_自：",{"$f":"IF(C28=\"\",\"\",C28)","v":""}]
["最終弁済額",null,null,null,null,"円",null,null,null,null,null,null,null,null,null,null,null,null,null,null,null,null,null,null,null,null,null,{"$f":"A13","v":"最終弁済額"},null,1000000,null,null,{"$f":"F13","v":"円"},null,null,null,null,null,null,null,null,null,null,null,null,null,null,null,null,null,null,null,"別添1_C30","交付対象融資期間_至：",{"$f":"IF(C30=\"\",\"\",C30)","v":""}]
[null,null,null,null,null,null,null,null,null,null,null,null,null,null,null,null,null,null,null,null,null,null,null,null,null,null,null,null,null,null,null,null,null,null,null,null,null,null,null,null,null,null,null,null,null,null,null,null,null,null,null,null,"別添1_C32","利子補給率",{"$f":"IF(C32=\"\",\"\",C32)","v":""}]
["融資期間",null,null,null,null,"(自)",null,null,null,null,null,null,null,null,null,null,null,null,null,null,null,null,null,null,null,null,null,{"$f":"A15","v":"融資期間"},null,{"$f":"DATE(YEAR(U50),11,11)","v":"2025-11-11"},null,null,{"$f":"F15","v":"(自)"},null,null,null,null,null,null,null,null,null,null,null,null,null,null,null,null,null,null,null,"別添1_M43","利子補給金交付申請額（円）合計_単位期間Ⅰ",{"$f":"IF(M43=\"\",\"\",M43)","v":""}]
[null,null,null,null,null,null,null,null,null,null,null,null,null,null,null,null,null,null,null,null,null,null,null,null,null,null,null,null,null,null,null,null,null,null,null,null,null,null,null,null,null,null,null,null,null,null,null,null,null,null,null,null,"別添1_M51","利子補給金交付申請額（円）合計_単位期間Ⅱ",{"$f":"IF(M51=\"\",\"\",M51)","v":""}]
[null,null,null,null,null,"(至)",null,null,null,null,null,null,null,null,null,null,null,null,null,null,null,null,null,null,null,null,null,null,null,{"$f":"DATE(YEAR(U50)+7,11,10)","v":"2032-11-10"},null,null,{"$f":"F17","v":"(至)"},null,null,null,null,null,null,null,null,null,null,null,null,null,null,null,null,null,null,null,"別添1_N35","利子補給金交付申請額合計（円）",{"$f":"IF(N36=\"\",\"\",N36)","v":0}]
[null,null,null,null,null,null,null,null,"協調融資",null,null,null,null,null,null,null,null,null,null,null,null,null,null,null,null,null,null,null,null,null,null,null,null,null,null,"協調融資",null,null,null,null,null,null,null,null,null,null,null,null,null,null,null,null,"別添1_I11","融資備考欄",{"$f":"IF(I11=\"\",\"\",I11)","v":""}]
["融資利率",null,null,null,null,"％",null,null,null,null,null,null,null,null,null,null,null,null,null,null,null,null,null,null,null,null,null,{"$f":"A19","v":"融資利率"},null,1.1000000000000001,null,null,{"$f":"F19","v":"％"},null,null,null,null,null,null,null,null,null,null,null,null,null,null,null,null,null,null,null,"別添1_I20","協調融資",{"$f":"IF(I20=\"\",\"\",I20)","v":""}]
[null,null,null,null,null,null,null,null,"",null,null,null,null,null,null,null,null,null,null,null,null,null,null,null,null,null,null,null,null,null,null,null,null,null,null,"本件融資は協調融資となります。\n△△銀行　融資額　○○○,○○○,○○○円\n□□銀行　融資額　○○○,○○○,○○○円",null,null,null,null,null,null,null,null,null,null,null,null,null,null,null,null,"別添1_I28","シンジケートローン",{"$f":"IF(I28=\"\",\"\",I28)","v":""}]
[null,null,null,null,null,null,null,null,null,null,null,null,null,null,null,null,null,null,null,null,null,null,null,null,null,null,null,null,null,null,null,null,null,null,null,null,null,null,null,null,null,null,null,null,null,null,null,null,null,null,null,null,null,"融資計画変更無しフラグ",{"$f":"IF(F6=\"\",FALSE,TRUE)","v":false}]
["内　交付対象融資額",null,null,null,null,"円",null,null,null,null,null,null,null,null,null,null,null,null,null,null,null,null,null,null,null,null,null,{"$f":"A22","v":"内　交付対象融資額"},null,84000000,null,null,{"$f":"F22","v":"円"}]
[]
["元金均等返済額",null,null,null,null,"円",null,null,null,null,null,null,null,null,null,null,null,null,null,null,null,null,null,null,null,null,null,{"$f":"A24","v":"元金均等返済額"},null,1000000,null,null,{"$f":"F24","v":"円"}]
[]
["最終弁済額",null,null,null,null,"円",null,null,"シンジケートローン",null,null,null,null,null,null,null,null,null,null,null,null,null,null,null,null,null,null,{"$f":"A26","v":"最終弁済額"},null,1000000,null,null,{"$f":"F26","v":"円"},null,null,"シンジケートローン"]
[]
["交付対象融資期間",null,null,null,null,"(自)",null,null,"",null,null,null,null,null,null,null,null,null,null,null,null,null,null,null,null,null,null,{"$f":"A28","v":"交付対象融資期間"},null,{"$f":"AD15","v":"2025-11-11"},null,null,{"$f":"F28","v":"(自)"},null,null,"本件融資はシンジケートローンを利用します。\n・アレンジャー\n○○銀行　融資額　○○○,○○○,○○○円\n・シンジケート団\n△△銀行　融資額　○○○,○○○,○○○円\n□□銀行　融資額　○○○,○○○,○○○円"]
[]
[null,null,null,null,null,"(至)",null,null,null,null,null,null,null,null,null,null,null,null,null,null,null,null,null,null,null,null,null,null,null,{"$f":"$AD$17","v":"2032-11-10"},null,null,{"$f":"F30","v":"(至)"}]
[]
["利子補給率",null,null,null,null,"％",null,null,null,null,null,null,null,null,null,null,null,null,null,null,null,null,null,null,null,null,null,{"$f":"A32","v":"利子補給率"},null,1,null,null,{"$f":"F32","v":"％"}]
[]
[null,null,null,null,null,null,null,null,null,null,null,null,null,null,null,null,null,null,null,null,null,null,null,null,null,null,null,null,1]
[null,null,null,null,null,null,null,null,null,null,"本年度の利子補給金申請額合計（円）",null,null,{"$f":"SUMIF($M$43:$M$58,\"<>#VALUE!\")","v":0},{"$f":"SUMIF(M43:M58,\"<>#VALUE!\")","v":0},null,null,null,"数式ありのセル",null,null,null,null,null,null,null,null,null,null,null,null,null,null,null,null,null,null,"本年度の利子補給金申請額合計（円）",null,null,{"$f":"SUMIF($M$43:$M$58,\"<>#VALUE!\")","v":0},{"$f":"SUMIF(AN43:AN58,\"<>#VALUE!\")","v":271396}]
[null,null,null,null,null,null,null,null,null,null,"利子補給金交付申請額合計（円）",null,null,{"$f":"SUMIF(M43:M218,\"<>#VALUE!\")","v":0},{"$f":"SUMIF(M43:M218,\"<>#VALUE!\")","v":0},null,null,null,null,null,null,null,null,null,null,null,null,null,null,null,null,null,null,null,null,null,null,{"$f":"K36","v":"利子補給金交付申請額合計（円）"},null,null,2973515,{"$f":"SUMIF(AN43:AN218,\"<>#VALUE!\")","v":2976671}]
["２．申請する利子補給金の額",null,null,null,null,null,null,null,null,null,null,null,null,null,null,null,null,null,"エラーメッセージ",null,"↓42行目に要修正の日付あり。再表示すること！",null,null,null,"エラーメッセージ",null,null,{"$f":"A37","v":"２．申請する利子補給金の額"}]
[null,null,null,{"$f":"IF(OR(E43>0,E51>0),\"\",\"↓上記にて交付対象融資期間を入力後、以下の「終了日」、「融資残高」、「交付対象融資残高」をご入力ください。\")","v":"↓上記にて交付対象融資期間を入力後、以下の「終了日」、「融資残高」、「交付対象融資残高」をご入力ください。"},null,null,null,null,null,null,null,null,null,null,null,null,"曜日色：土曜（青）、日曜（赤）、祝日（緑）※祝日は2025年5月時点",null,"↑開始日と終了日の入力に誤りがないかご確認ください。",null,null,null,null,null,"残高をご確認ください。"]
["単位期間",null,"利子補給金の額",null,null,null,null,null,null,null,null,null,null,"元金均等返済額\n（円）",null,null,null,null,"単位期間",null,null,null,null,null,"元金均等返済額",null,null,{"$f":"A39","v":"単位期間"},null,{"$f":"C39","v":"利子補給金の額"},null,null,null,null,null,null,null,null,null,null,{"$f":"N39","v":"元金均等返済額\n（円）"}]
[null,null,"単位期間",null,null,null,null,null,"融資残高\n（円）","交付対象\n融資残高\n（円）","利子\n補給率","利子補給金交付申請額（円）",null,null,null,null,null,null,"①日付の重複\n②「終了日-開始日」が1日以上あいている",null,"③単位期間以外の日程記載NG",null,"④日数が0","NG\nカウント","融資額","交付対象融資額","NG\nカウント",null,null,{"$f":"C40","v":"単位期間"},null,null,null,null,null,{"$f":"I40","v":"融資残高\n（円）"},{"$f":"J40","v":"交付対象\n融資残高\n（円）"},{"$f":"K40","v":"利子\n補給率"},{"$f":"L40","v":"利子補給金交付申請額（円）"}]
[null,null,"開始日","曜日","終了日","曜日","日数","日数\n（合計）",null,null,null,null,"合計（円）","計算用セル\n（配布時非表示）","融資額","計算用セル\n（配布時非表示）","交付対象\n融資額",null,null,null,null,null,null,null,{"$f":"$C$11","v":0},{"$f":"$C$24","v":0},null,null,null,{"$f":"C41","v":"開始日"},{"$f":"D41","v":"曜日"},{"$f":"E41","v":"終了日"},{"$f":"F41","v":"曜日"},{"$f":"G41","v":"日数"},{"$f":"H41","v":"日数\n（合計）"},null,null,null,null,{"$f":"M41","v":"合計（円）"},"計算用セル\n（配布時非表示）",{"$f":"O41","v":"融資額"},"計算用セル\n（配布時非表示）",{"$f":"Q41","v":"交付対象\n融資額"}]
[null,null,null,null,null,null,null,null,null,null,null,null,null,null,null,null,null,null,{"$f":"IF(C42=\"\",\"\",IF(C42>E42,\"NG\",\"\"))","v":""},{"$f":"IF(E42=\"\",\"\",IF(C43=\"\",\"\",IF(E42>C43,\"NG\",\"\")))","v":""},"2024-03-09","2024-09-12"]
[{"$f":"YEAR(U50)&\"年度\"","v":"2025年度"},"単位期間Ⅰ",{"$f":"IF(C28=\"\",\"\",IF(C28<=DATE(2025,9,10),C28,\"\"))","v":""},{"$f":"IF(C43=\"\",\"\",C43)","v":""},null,{"$f":"IF(E43=\"\",\"\",E43)","v":""},{"$f":"IF(E43=\"\",\"\",E43-C43+1)","v":""},{"$f":"IF(G43=\"\",\"\",SUM(G43:G50))","v":""},null,null,{"$f":"C32/100","v":0},{"$f":"IF(J43=\"\",\"\",ROUNDDOWN(J43*K43*G43/365,0))","v":""},{"$f":"IF(L43=\"\",\"\",SUM(L43:L50))","v":""},{"$f":"IF(I43=\"\",N42,I43)","v":0},{"$f":"IF(N43-N44<0,0,N43-N44)","v":0},{"$f":"IF(J43=\"\",P42,J43)","v":0},{"$f":"IF(P43-P44<0,0,P43-P44)","v":0},null,{"$f":"IF(C43=\"\",\"\",IF(C43>E43,\"NG\",\"\"))","v":""},"","","",{"$f":"IF(G43>0,\"\",\"NG\")","v":""},{"$f":"COUNTIF(S43:W43,\"NG\")","v":0},"-","-","-",{"$f":"A43","v":"2025年度"},{"$f":"B43","v":"単位期間Ⅰ"},null,{"$f":"IF(AD43=\"\",\"\",AD43)","v":""},null,{"$f":"IF(AF43=\"\",\"\",AF43)","v":""},{"$f":"IF(AD43=\"\",\"\",AF43-AD43+1)","v":""},{"$f":"IF(AH43=\"\",\"\",SUM(AH43:AH50))","v":""},null,null,{"$f":"AD32/100","v":0.01},{"$f":"IF(AF43=\"\",\"\",ROUNDDOWN(AK43*AL43*AH43/365,0))","v":""},{"$f":"IF(AM43=\"\",\"\",SUM(AM43:AM50))","v":""},{"$f":"IF(AJ43=\"\",AO42,AJ43)","v":0},"-",{"$f":"IF(AK43=\"\",AQ42,AK43)","v":0},"-"]
[null,null,{"$f":"IF(E44=\"\",\"\",IF(E43=\"\",\"\",IF(E43>=DATE(2025,9,10),\"\",E43+1)))","v":""},{"$f":"IF(C44=\"\",\"\",C44)","v":""},null,{"$f":"IF(E44=\"\",\"\",E44)","v":""},{"$f":"IF(E44=\"\",\"\",E44-C44+1)","v":""},null,{"$f":"IF(I43=\"\",\"\",IF(E44=\"\",\"\",I43-$C$11))","v":""},{"$f":"IF(J43=\"\",\"\",IF(F44=\"\",\"\",J43-$C$24))","v":""},{"$f":"IF(K43=\"\",\"\",$K$43)","v":0},{"$f":"IF(J44=\"\",\"\",ROUNDDOWN(J44*K44*G44/365,0))","v":""},null,{"$f":"IF(I44=\"\",N$51,I44)","v":0},{"$f":"N44-N45","v":0},{"$f":"IF(J44=\"\",$P$51,J44)","v":0},{"$f":"P44-P45","v":0},{"$f":"IF(AA44>0,$Y$38,\"\")","v":""},{"$f":"IF(C44=\"\",\"\",IF(C44=E43,\"NG\",IF(C44<E43,\"NG\",IF((C44-E43)>1,\"NG\",\"\"))))","v":""},"",null,"",{"$f":"IF(G44>0,\"\",\"NG\")","v":""},{"$f":"COUNTIF(S44:W44,\"NG\")","v":0},{"$f":"IF($O44=$I44,\"\",IF($O44=0,\"\",IF($O44=$Y$41,\"\",\"NG\")))","v":""},{"$f":"IF($Q44=$J44,\"\",IF($Q44=0,\"\",IF($Q44=$Z$41,\"\",\"NG\")))","v":""},{"$f":"COUNTIF(Y44:Z44,\"NG\")","v":0},null,null,null,{"$f":"IF(AD44=\"\",\"\",AD44)","v":""},null,{"$f":"IF(AF44=\"\",\"\",AF44)","v":""},{"$f":"IF(AD44=\"\",\"\",AF44-AD44+1)","v":""},null,{"$f":"IF(AJ43=\"\",\"\",IF(AF44=\"\",\"\",AJ43-$C$11))","v":""},{"$f":"IF(AK43=\"\",\"\",IF(AG44=\"\",\"\",AK43-$C$24))","v":""},0.01,{"$f":"IF(AF44=\"\",\"\",ROUNDDOWN(AK44*AL44*AH44/365,0))","v":""},null,0,{"$f":"AO43-AO44","v":0},0,{"$f":"AQ43-AQ44","v":0}]
[null,null,{"$f":"IF(E45=\"\",\"\",IF(E44=\"\",\"\",IF(E44>=DATE(2025,9,10),\"\",E44+1)))","v":""},"",null,{"$f":"IF(E45=\"\",\"\",E45)","v":""},{"$f":"IF(E45=\"\",\"\",E45-C45+1)","v":""},null,{"$f":"IF(I44=\"\",\"\",IF(E45=\"\",\"\",I44-$C$11))","v":""},{"$f":"IF(J44=\"\",\"\",IF(F45=\"\",\"\",J44-$C$24))","v":""},{"$f":"IF(K44=\"\",\"\",$K$43)","v":0},"",null,{"$f":"IF(I45=\"\",$N$51,I45)","v":0},0,{"$f":"IF(J45=\"\",$P$51,J45)","v":0},0,{"$f":"IF(AA45>0,$Y$38,\"\")","v":""},"","",null,"","",0,"","",0,null,null,{"$f":"IF(AF45=\"\",\"\",IF(AF44=\"\",\"\",IF(AF44>=DATE(2021,9,10),\"\",AF44+1)))","v":""},"",null,"","",null,{"$f":"IF(AJ44=\"\",\"\",IF(AF45=\"\",\"\",AJ44-$C$11))","v":""},{"$f":"IF(AK44=\"\",\"\",IF(AG45=\"\",\"\",AK44-$C$24))","v":""},0.01,{"$f":"IF(AF45=\"\",\"\",ROUNDDOWN(AK45*AL45*AH45/365,0))","v":""},null,0,{"$f":"AO44-AO45","v":0},0,{"$f":"AQ44-AQ45","v":0}]
[null,null,"","",null,{"$f":"IF(E46=\"\",\"\",E46)","v":""},{"$f":"IF(E46=\"\",\"\",E46-C46+1)","v":""},null,{"$f":"IF(I45=\"\",\"\",IF(E46=\"\",\"\",I45-$C$11))","v":""},{"$f":"IF(J45=\"\",\"\",IF(F46=\"\",\"\",J45-$C$24))","v":""},{"$f":"IF(K45=\"\",\"\",$K$43)","v":0},"",null,0,0,0,0,"","","",null,"","",0,"","",0,null,null,"","",null,"","",null,{"$f":"IF(AJ45=\"\",\"\",IF(AF46=\"\",\"\",AJ45-$C$11))","v":""},"",0.01,"",null,0,0,0,0]
[null,null,"","",null,{"$f":"IF(E47=\"\",\"\",E47)","v":""},"",null,{"$f":"IF(I46=\"\",\"\",IF(E47=\"\",\"\",I46-$C$11))","v":""},"",{"$f":"IF(K46=\"\",\"\",$K$43)","v":0},"",null,0,0,0,0,"","","",null,"","",0,"","",0,null,null,"","",null,"","",null,"","",0.01,"",null,0,0,0,0]
[null,null,"","",null,"","",null,"","",{"$f":"IF(K47=\"\",\"\",$K$43)","v":0},"",null,0,0,0,0,"","","",null,"","",0,"","",0,null,null,"","",null,"","",null,"","",0.01,"",null,0,0,0,0]
[null,null,"","",null,"","",null,"","",0,"",null,0,0,0,0,"","",{"$f":"IF(D49=\"\",\"\",IF(D49<C49,\"NG\",\"\"))","v":""},null,"",{"$f":"IF(G49>0,\"\",\"NG\")","v":""},0,"","",0,null,null,"","",null,"","",null,"","",0.01,"",null,0,0,0,0]
[null,null,{"$f":"IF(X50>0,$S$38,\"\")","v":""},null,null,null,null,null,null,null,0,{"$f":"IF(J50=\"\",\"\",ROUNDDOWN(J50*K50*G50/365,0))","v":""},null,0,{"$f":"IF(N50-N51<0,0,N50-N51)","v":0},0,{"$f":"IF(P50-P51<0,0,P50-P51)","v":0},"",null,null,"2025-09-09","2026-03-12",null,{"$f":"SUM(X43:X49)","v":0},"","",0,null,null,{"$f":"IF($C$220>0,$H$224,IF($E$220>0,$H$224,\"\"))","v":""},"",null,"",null,null,null,null,0.01,"",null,0,0,0,0]
[null,"単位期間Ⅱ",{"$f":"IF(C28=\"\",\"\",IF(E49>M225,E49+1,IF(E48>M225,E48+1,IF(E47>M225,E47+1,IF(E46>M225,E46+1,IF(E45>M225,E45+1,IF(E44>M225,E44+1,IF(E43>M225,E43+1,IF(C28>M225,C28,\"\")))))))))","v":""},{"$f":"IF(C51=\"\",\"\",C51)","v":""},null,{"$f":"IF(E51=\"\",\"\",E51)","v":""},{"$f":"IF(E51=\"\",\"\",E51-C51+1)","v":""},{"$f":"IF(G51=\"\",\"\",SUM(G51:G58))","v":""},null,null,{"$f":"IF(K50=\"\",\"\",$K$43)","v":0},{"$f":"IF(J51=\"\",\"\",ROUNDDOWN(J51*K51*G51/365,0))","v":""},{"$f":"IF(L51=\"\",\"\",SUM(L51:L58))","v":""},{"$f":"IF(I51=\"\",$N$59,I51)","v":0},{"$f":"N51-N52","v":0},{"$f":"IF(J51=\"\",$P$59,J51)","v":0},{"$f":"P51-P52","v":0},"",{"$f":"IF(C51=\"\",\"\",IF(C51>E51,\"NG\",\"\"))","v":""},{"$f":"IF(E51=\"\",\"\",IF(C52=\"\",\"\",IF(E51>C52,\"NG\",\"\")))","v":""},"","",{"$f":"IF(G51>0,\"\",\"NG\")","v":""},{"$f":"COUNTIF(S51:W51,\"NG\")","v":0},"","",0,null,{"$f":"B51","v":"単位期間Ⅱ"},{"$f":"AD15","v":"2025-11-11"},{"$f":"IF(AD51=\"\",\"\",AD51)","v":45972},"2025-12-10",46001,{"$f":"IF(AD51=\"\",\"\",AF51-AD51+1)","v":30},{"$f":"IF(AH51=\"\",\"\",SUM(AH51:AH58))","v":120},84000000,84000000,0.01,{"$f":"IF(AD51=\"\",\"\",ROUNDDOWN(AK51*AL51*AH51/365,0))","v":69041},{"$f":"IF(AM51=\"\",\"\",SUM(AM51:AM58))","v":271396},84000000,1000000,84000000,1000000]
[null,null,{"$f":"IF(E52=\"\",\"\",IF(E51=\"\",\"\",IF(E51>=DATE(2026,3,10),\"\",E51+1)))","v":""},{"$f":"IF(C52=\"\",\"\",C52)","v":""},null,"",{"$f":"IF(E52=\"\",\"\",E52-C52+1)","v":""},null,{"$f":"IF(I51=\"\",\"\",IF(E52=\"\",\"\",I51-$C$11))","v":""},{"$f":"IF(J51=\"\",\"\",IF(F52=\"\",\"\",J51-$C$24))","v":""},0,{"$f":"IF(J52=\"\",\"\",ROUNDDOWN(J52*K52*G52/365,0))","v":""},null,{"$f":"IF(I52=\"\",$N$59,I52)","v":0},{"$f":"N52-N53","v":0},{"$f":"IF(J52=\"\",$P$59,J52)","v":0},{"$f":"P52-P53","v":0},"",{"$f":"IF(C52=\"\",\"\",IF(C52=E51,\"NG\",IF(C52<E51,\"NG\",IF((C52-E51)>1,\"NG\",\"\"))))","v":""},{"$f":"IF(E52=\"\",\"\",IF(C53=\"\",\"\",IF(E52>C53,\"NG\",\"\")))","v":""},null,"",{"$f":"IF(G52>0,\"\",\"NG\")","v":""},{"$f":"COUNTIF(S52:W52,\"NG\")","v":0},"","",0,null,null,{"$f":"AF51+1","v":"2025-12-11"},{"$f":"IF(AD52=\"\",\"\",AD52)","v":46002},"2026-01-13",46035,{"$f":"IF(AD52=\"\",\"\",AF52-AD52+1)","v":34},null,{"$f":"IF(AJ51=\"\",\"\",IF(AF52=\"\",\"\",AJ51-$AD$11))","v":83000000},{"$f":"IF(AK51=\"\",\"\",IF(AG52=\"\",\"\",AK51-$AD$24))","v":83000000},0.01,77315,null,83000000,1000000,83000000,1000000]
[null,null,{"$f":"IF(E53=\"\",\"\",IF(E52=\"\",\"\",IF(E52>=DATE(2026,3,10),\"\",E52+1)))","v":""},"",null,"","",null,{"$f":"IF(I52=\"\",\"\",IF(E53=\"\",\"\",I52-$C$11))","v":""},{"$f":"IF(J52=\"\",\"\",IF(F53=\"\",\"\",J52-$C$24))","v":""},0,"",null,0,0,0,0,"",{"$f":"IF(C53=\"\",\"\",IF(C53=E52,\"NG\",IF(C53<E52,\"NG\",IF((C53-E52)>1,\"NG\",\"\"))))","v":""},"",null,"","",0,"","",0,null,null,{"$f":"AF52+1","v":"2026-01-14"},46036,"2026-02-10",46063,28,null,{"$f":"IF(AJ52=\"\",\"\",IF(AF53=\"\",\"\",AJ52-$AD$11))","v":82000000},{"$f":"IF(AK52=\"\",\"\",IF(AG53=\"\",\"\",AK52-$AD$24))","v":82000000},0.01,62904,null,82000000,1000000,82000000,1000000]
[null,null,"","",null,"","",null,"","",0,"",null,0,0,0,0,"","","",null,"","",0,"","",0,null,null,"2026-02-11",46064,"2026-03-10",46091,28,null,81000000,81000000,0.01,62136,null,81000000,1000000,81000000,1000000]
[null,null,"","",null,"","",null,"","",0,"",null,0,0,0,0,"","","",null,"","",0,"","",0,null,null,null,"",null,"","",null,"","",0.01,"",null,81000000,0,80000000,0]
[null,null,"","",null,"","",null,"","",0,"",null,0,0,0,0,"","","",null,"","",0,"","",0,null,null,null,"",null,"","",null,"","",0.01,"",null,81000000,0,80000000,0]
[null,null,"","",null,"","",null,"","",0,"",null,0,0,0,0,"",{"$f":"IF(C57=\"\",\"\",IF(C57=E56,\"NG\",IF(C57<E56,\"NG\",IF((C57-E56)>1,\"NG\",\"\"))))","v":""},{"$f":"IF(D57=\"\",\"\",IF(D57<C57,\"NG\",\"\"))","v":""},null,"",{"$f":"IF(G57>0,\"\",\"NG\")","v":""},0,"","",0,null,null,null,"",null,"","",null,"","",0.01,"",null,81000000,0,80000000,0]
[null,null,{"$f":"IF(X58>0,$S$38,\"\")","v":""},null,null,null,null,null,null,null,0,{"$f":"IF(J58=\"\",\"\",ROUNDDOWN(J58*K58*G58/365,0))","v":""},null,0,{"$f":"IF(N58-N59<0,0,N58-N59)","v":0},0,{"$f":"IF(P58-P59<0,0,P58-P59)","v":0},"",null,null,"2026-03-09","2026-09-12",null,{"$f":"SUM(X51:X57)","v":0},"","",0,null,null,{"$f":"IF($C$238>0,$H$242,IF($E$238>0,$H$242,\"\"))","v":""},"",null,"",null,null,"","",0.01,"",null,81000000,0,80000000,0]
[{"$f":"YEAR(U66)&\"年度\"","v":"2026年度"},"単位期間Ⅰ",{"$f":"IF(E59=\"\",\"\",IF(E57>0,E57+1,IF(E56>0,E56+1,IF(E55>0,E55+1,IF(E54>0,E54+1,IF(E53>0,E53+1,IF(E52>0,E52+1,E51+1)))))))","v":""},{"$f":"IF(C59=\"\",\"\",C59)","v":""},null,{"$f":"IF(E59=\"\",\"\",E59)","v":""},{"$f":"IF(E59=\"\",\"\",E59-C59+1)","v":""},{"$f":"IF(G59=\"\",\"\",SUM(G59:G66))","v":""},null,null,{"$f":"IF(K58=\"\",\"\",$K$43)","v":0},{"$f":"IF(J59=\"\",\"\",ROUNDDOWN(J59*K59*G59/365,0))","v":""},{"$f":"IF(L59=\"\",\"\",SUM(L59:L66))","v":""},{"$f":"IF(I59=\"\",$N$67,I59)","v":0},0,{"$f":"IF(J59=\"\",$P$67,J59)","v":0},0,"",{"$f":"IF(C59=\"\",\"\",IF(C59>E59,\"NG\",\"\"))","v":""},{"$f":"IF(E59=\"\",\"\",IF(C60=\"\",\"\",IF(E59>C60,\"NG\",\"\")))","v":""},"","",{"$f":"IF(G59>0,\"\",\"NG\")","v":""},{"$f":"COUNTIF(S59:W59,\"NG\")","v":0},"","",0,{"$f":"A59","v":"2026年度"},"単位期間Ⅰ",{"$f":"AF54+1","v":"2026-03-11"},46092,"2026-04-10",46122,{"$f":"IF(AD59=\"\",\"\",AF59-AD59+1)","v":31},{"$f":"IF(AH59=\"\",\"\",SUM(AH59:AH66))","v":184},80000000,80000000,0.01,{"$f":"IF(AF59=\"\",\"\",ROUNDDOWN(AK59*AL59*AH59/365,0))","v":67945},{"$f":"IF(AM59=\"\",\"\",SUM(AM59:AM66))","v":390681},80000000,1000000,80000000,1000000]
[null,null,{"$f":"IF(E60=\"\",\"\",IF(E59=\"\",\"\",IF(E59>=DATE(2026,9,10),\"\",E59+1)))","v":""},{"$f":"IF(C60=\"\",\"\",C60)","v":""},null,{"$f":"IF(E60=\"\",\"\",E60)","v":""},{"$f":"IF(E60=\"\",\"\",E60-C60+1)","v":""},null,{"$f":"IF(I59=\"\",\"\",IF(E60=\"\",\"\",I59-$C$11))","v":""},{"$f":"IF(J59=\"\",\"\",IF(F60=\"\",\"\",J59-$C$24))","v":""},{"$f":"IF(K59=\"\",\"\",$K$43)","v":0},{"$f":"IF(J60=\"\",\"\",ROUNDDOWN(J60*K60*G60/365,0))","v":""},null,{"$f":"IF(I60=\"\",$N$67,I60)","v":0},0,{"$f":"IF(J60=\"\",$P$67,J60)","v":0},0,"",{"$f":"IF(C60=\"\",\"\",IF(C60=E59,\"NG\",IF(C60<E59,\"NG\",IF((C60-E59)>1,\"NG\",\"\"))))","v":""},{"$f":"IF(E60=\"\",\"\",IF(C61=\"\",\"\",IF(E60>C61,\"NG\",\"\")))","v":""},null,"",{"$f":"IF(G60>0,\"\",\"NG\")","v":""},{"$f":"COUNTIF(S60:W60,\"NG\")","v":0},"","",0,null,null,{"$f":"AF59+1","v":"2026-04-11"},46123,"2026-05-11",46153,{"$f":"IF(AD60=\"\",\"\",AF60-AD60+1)","v":31},null,79000000,79000000,0.01,{"$f":"IF(AF60=\"\",\"\",ROUNDDOWN(AK60*AL60*AH60/365,0))","v":67095},null,79000000,1000000,79000000,1000000]
[null,null,{"$f":"IF(E61=\"\",\"\",IF(E60=\"\",\"\",IF(E60>=DATE(2026,9,10),\"\",E60+1)))","v":""},"",null,"","",null,{"$f":"IF(I60=\"\",\"\",IF(E61=\"\",\"\",I60-$C$11))","v":""},{"$f":"IF(J60=\"\",\"\",IF(F61=\"\",\"\",J60-$C$24))","v":""},0,"",null,0,0,0,0,"",{"$f":"IF(C61=\"\",\"\",IF(C61=E60,\"NG\",IF(C61<E60,\"NG\",IF((C61-E60)>1,\"NG\",\"\"))))","v":""},"",null,"","",0,"","",0,null,null,"2026-05-12",46154,"2026-06-10",46183,30,null,78000000,78000000,0.01,{"$f":"IF(AF61=\"\",\"\",ROUNDDOWN(AK61*AL61*AH61/365,0))","v":64109},null,78000000,1000000,78000000,1000000]
[null,null,"","",null,"","",null,{"$f":"IF(I61=\"\",\"\",IF(E62=\"\",\"\",I61-$C$11))","v":""},{"$f":"IF(J61=\"\",\"\",IF(F62=\"\",\"\",J61-$C$24))","v":""},0,"",null,0,0,0,0,"","","",null,"","",0,"","",0,null,null,"2026-06-11",46184,"2026-07-10",46213,30,null,77000000,77000000,0.01,63287,null,77000000,1000000,77000000,1000000]
[null,null,"","",null,"","",null,"","",0,"",null,0,0,0,0,"","","",null,"","",0,"","",0,null,null,"2026-07-11",46214,"2026-08-10",46244,31,null,76000000,76000000,0.01,64547,null,76000000,1000000,76000000,1000000]
[null,null,"","",null,"","",null,"","",0,"",null,0,0,0,0,"","",{"$f":"IF(E64=\"\",\"\",IF(C65=\"\",\"\",IF(E64>C65,\"NG\",\"\")))","v":""},null,"","",0,"","",0,null,null,"2026-08-11",46245,"2026-09-10",46275,31,null,75000000,75000000,0.01,63698,null,75000000,1000000,75000000,1000000]
[null,null,"","",null,"","",null,"","",0,"",null,0,0,0,0,"","",{"$f":"IF(D65=\"\",\"\",IF(D65<C65,\"NG\",\"\"))","v":""},null,"","",0,"","",0,null,null,null,"",null,"","",null,null,null,0.01,"",null,75000000,0,74000000,0]
[null,null,{"$f":"IF(X66>0,$S$38,\"\")","v":""},null,null,null,null,null,null,null,0,{"$f":"IF(J66=\"\",\"\",ROUNDDOWN(J66*K66*G66/365,0))","v":""},null,0,{"$f":"IF(N66-N67<0,0,N66-N67)","v":0},0,0,"",null,null,"2026-09-09","2027-03-12",null,{"$f":"SUM(X59:X65)","v":0},"","",0,null,null,null,"",null,"",null,null,null,null,0.01,"",null,75000000,0,74000000,0]
[null,"単位期間Ⅱ",{"$f":"IF(E67=\"\",\"\",IF(E65>M240,E65+1,IF(E64>M240,E64+1,IF(E63>M240,E63+1,IF(E62>M240,E62+1,IF(E61>M240,E61+1,IF(E60>M240,E60+1,IF(E59>M240,E59+1,IF(C44>M240,C44,\"\")))))))))","v":""},{"$f":"IF(C67=\"\",\"\",C67)","v":""},null,{"$f":"IF(E67=\"\",\"\",E67)","v":""},{"$f":"IF(E67=\"\",\"\",E67-C67+1)","v":""},{"$f":"IF(G67=\"\",\"\",SUM(G67:G74))","v":""},null,null,0,{"$f":"IF(J67=\"\",\"\",ROUNDDOWN(J67*K67*G67/365,0))","v":""},{"$f":"IF(L67=\"\",\"\",SUM(L67:L74))","v":""},{"$f":"IF(I67=\"\",$N$75,I67)","v":0},0,{"$f":"IF(J67=\"\",$P$75,J67)","v":0},0,"",{"$f":"IF(C67=\"\",\"\",IF(C67>E67,\"NG\",\"\"))","v":""},{"$f":"IF(E67=\"\",\"\",IF(C68=\"\",\"\",IF(E67>C68,\"NG\",\"\")))","v":""},"","","",{"$f":"COUNTIF(S67:W67,\"NG\")","v":0},"","",0,null,"単位期間Ⅱ",{"$f":"AF64+1","v":"2026-09-11"},46276,"2026-10-13",46308,{"$f":"IF(AD67=\"\",\"\",AF67-AD67+1)","v":33},{"$f":"IF(AH67=\"\",\"\",SUM(AH67:AH74))","v":181},74000000,74000000,0.01,{"$f":"IF(AD67=\"\",\"\",ROUNDDOWN(AK67*AL67*AH67/365,0))","v":66904},{"$f":"IF(AM67=\"\",\"\",SUM(AM67:AM74))","v":354820},74000000,1000000,74000000,1000000]
[null,null,{"$f":"IF(E68=\"\",\"\",IF(E67=\"\",\"\",IF(E67>=DATE(2027,3,10),\"\",E67+1)))","v":""},{"$f":"IF(C68=\"\",\"\",C68)","v":""},null,{"$f":"IF(E68=\"\",\"\",E68)","v":""},{"$f":"IF(E68=\"\",\"\",E68-C68+1)","v":""},null,{"$f":"IF(I67=\"\",\"\",IF(E68=\"\",\"\",I67-$C$11))","v":""},{"$f":"IF(J67=\"\",\"\",IF(F68=\"\",\"\",J67-$C$24))","v":""},0,{"$f":"IF(J68=\"\",\"\",ROUNDDOWN(J68*K68*G68/365,0))","v":""},null,{"$f":"IF(I68=\"\",$N$75,I68)","v":0},0,{"$f":"IF(J68=\"\",$P$75,J68)","v":0},0,"",{"$f":"IF(C68=\"\",\"\",IF(C68=E67,\"NG\",IF(C68<E67,\"NG\",IF((C68-E67)>1,\"NG\",\"\"))))","v":""},{"$f":"IF(E68=\"\",\"\",IF(C69=\"\",\"\",IF(E68>C69,\"NG\",\"\")))","v":""},null,"","",{"$f":"COUNTIF(S68:W68,\"NG\")","v":0},"","",0,null,null,{"$f":"AF67+1","v":"2026-10-14"},46309,"2026-11-10",46336,{"$f":"IF(AD68=\"\",\"\",AF68-AD68+1)","v":28},null,73000000,73000000,0.01,56000,null,73000000,1000000,73000000,1000000]
[null,null,{"$f":"IF(E69=\"\",\"\",IF(E68=\"\",\"\",IF(E68>=DATE(2027,3,10),\"\",E68+1)))","v":""},"",null,"","",null,{"$f":"IF(I68=\"\",\"\",IF(E69=\"\",\"\",I68-$C$11))","v":""},{"$f":"IF(J68=\"\",\"\",IF(F69=\"\",\"\",J68-$C$24))","v":""},0,"",null,0,0,0,0,"",{"$f":"IF(C69=\"\",\"\",IF(C69=E68,\"NG\",IF(C69<E68,\"NG\",IF((C69-E68)>1,\"NG\",\"\"))))","v":""},"",null,"","",0,"","",0,null,null,"2026-11-11",46337,"2026-12-10",46366,30,null,72000000,72000000,0.01,59178,null,72000000,1000000,72000000,1000000]
[null,null,"","",null,"","",null,"","",0,"",null,0,0,0,0,"","","",null,"","",0,"","",0,null,null,"2026-12-11",46367,"2027-01-12",46399,33,null,71000000,71000000,0.01,64191,null,71000000,1000000,71000000,1000000]
[null,null,"","",null,"","",null,"","",0,"",null,0,0,0,0,"","","",null,"","",0,"","",0,null,null,"2027-01-13",46400,"2027-02-10",46428,29,null,70000000,70000000,0.01,55616,null,70000000,1000000,70000000,1000000]
[null,null,"","",null,"","",null,"","",0,"",null,0,0,0,0,"","",{"$f":"IF(E72=\"\",\"\",IF(C73=\"\",\"\",IF(E72>C73,\"NG\",\"\")))","v":""},null,"","",0,"","",0,null,null,"2027-02-11",46429,"2027-03-10",{"$f":"IF(AF72=\"\",\"\",AF72)","v":46456},28,null,69000000,69000000,0.01,52931,null,69000000,1000000,69000000,1000000]
[null,null,"","",null,"","",null,"","",0,"",null,0,0,0,0,"","",{"$f":"IF(D73=\"\",\"\",IF(D73<C73,\"NG\",\"\"))","v":""},null,"","",0,"","",0,null,null,null,"",null,"","",null,null,null,0.01,"",null,69000000,0,68000000,0]
[null,null,{"$f":"IF(X74>0,$S$38,\"\")","v":""},null,null,null,null,null,null,null,0,{"$f":"IF(J74=\"\",\"\",ROUNDDOWN(J74*K74*G74/365,0))","v":""},null,0,{"$f":"IF(N74-N75<0,0,N74-N75)","v":0},0,0,"",null,null,"2027-03-09","2027-09-12",null,{"$f":"SUM(X67:X73)","v":0},"","",0,null,null,null,"",null,"",null,null,null,null,0.01,"",null,69000000,0,68000000,0]
[{"$f":"YEAR(U82)&\"年度\"","v":"2027年度"},"単位期間Ⅰ",{"$f":"IF(E75=\"\",\"\",IF(E73>0,E73+1,IF(E72>0,E72+1,IF(E71>0,E71+1,IF(E70>0,E70+1,IF(E69>0,E69+1,IF(E68>0,E68+1,E67+1)))))))","v":""},{"$f":"IF(C75=\"\",\"\",C75)","v":""},null,{"$f":"IF(E75=\"\",\"\",E75)","v":""},{"$f":"IF(E75=\"\",\"\",E75-C75+1)","v":""},{"$f":"IF(G75=\"\",\"\",SUM(G75:G82))","v":""},null,null,{"$f":"IF(K74=\"\",\"\",$K$43)","v":0},{"$f":"IF(J75=\"\",\"\",ROUNDDOWN(J75*K75*G75/365,0))","v":""},{"$f":"IF(L75=\"\",\"\",SUM(L75:L82))","v":""},{"$f":"IF(I75=\"\",$N$83,I75)","v":0},0,{"$f":"IF(J75=\"\",$P$83,J75)","v":0},0,"",{"$f":"IF(C75=\"\",\"\",IF(C75>E75,\"NG\",\"\"))","v":""},{"$f":"IF(E75=\"\",\"\",IF(C76=\"\",\"\",IF(E75>C76,\"NG\",\"\")))","v":""},"","","",{"$f":"COUNTIF(S75:W75,\"NG\")","v":0},"","",0,{"$f":"A75","v":"2027年度"},"単位期間Ⅰ",{"$f":"AF72+1","v":"2027-03-11"},46457,"2027-04-12",46489,{"$f":"IF(AD75=\"\",\"\",AF75-AD75+1)","v":33},{"$f":"IF(AH75=\"\",\"\",SUM(AH75:AH82))","v":184},68000000,68000000,0.01,{"$f":"IF(AF75=\"\",\"\",ROUNDDOWN(AK75*AL75*AH75/365,0))","v":61479},{"$f":"IF(AM75=\"\",\"\",SUM(AM75:AM82))","v":330271},68000000,1000000,68000000,1000000]
[null,null,{"$f":"IF(E76=\"\",\"\",IF(E75=\"\",\"\",IF(E75>=DATE(2027,9,10),\"\",E75+1)))","v":""},{"$f":"IF(C76=\"\",\"\",C76)","v":""},null,{"$f":"IF(E76=\"\",\"\",E76)","v":""},{"$f":"IF(E76=\"\",\"\",E76-C76+1)","v":""},null,{"$f":"IF(I75=\"\",\"\",IF(E76=\"\",\"\",I75-$C$11))","v":""},{"$f":"IF(J75=\"\",\"\",IF(F76=\"\",\"\",J75-$C$24))","v":""},{"$f":"IF(K75=\"\",\"\",$K$43)","v":0},{"$f":"IF(J76=\"\",\"\",ROUNDDOWN(J76*K76*G76/365,0))","v":""},null,{"$f":"IF(I76=\"\",$N$83,I76)","v":0},0,{"$f":"IF(J76=\"\",$P$83,J76)","v":0},0,"",{"$f":"IF(C76=\"\",\"\",IF(C76=E75,\"NG\",IF(C76<E75,\"NG\",IF((C76-E75)>1,\"NG\",\"\"))))","v":""},{"$f":"IF(E76=\"\",\"\",IF(C77=\"\",\"\",IF(E76>C77,\"NG\",\"\")))","v":""},null,"","",{"$f":"COUNTIF(S76:W76,\"NG\")","v":0},"","",0,null,null,{"$f":"AF75+1","v":"2027-04-13"},46490,"2027-05-10",46517,{"$f":"IF(AD76=\"\",\"\",AF76-AD76+1)","v":28},null,67000000,67000000,0.01,{"$f":"IF(AF76=\"\",\"\",ROUNDDOWN(AK76*AL76*AH76/365,0))","v":51397},null,67000000,1000000,67000000,1000000]
[null,null,{"$f":"IF(E77=\"\",\"\",IF(E76=\"\",\"\",IF(E76>=DATE(2027,9,10),\"\",E76+1)))","v":""},"",null,"","",null,{"$f":"IF(I76=\"\",\"\",IF(E77=\"\",\"\",I76-$C$11))","v":""},{"$f":"IF(J76=\"\",\"\",IF(F77=\"\",\"\",J76-$C$24))","v":""},{"$f":"IF(K76=\"\",\"\",$K$43)","v":0},"",null,0,0,0,0,"",{"$f":"IF(C77=\"\",\"\",IF(C77=E76,\"NG\",IF(C77<E76,\"NG\",IF((C77-E76)>1,\"NG\",\"\"))))","v":""},"",null,"","",0,"","",0,null,null,"2027-05-11",46518,"2027-06-10",46548,31,null,66000000,66000000,0.01,{"$f":"IF(AF77=\"\",\"\",ROUNDDOWN(AK77*AL77*AH77/365,0))","v":56054},null,66000000,1000000,66000000,1000000]
[null,null,"","",null,"","",null,{"$f":"IF(I77=\"\",\"\",IF(E78=\"\",\"\",I77-$C$11))","v":""},{"$f":"IF(J77=\"\",\"\",IF(F78=\"\",\"\",J77-$C$24))","v":""},0,"",null,0,0,0,0,"","","",null,"","",0,"","",0,null,null,"2027-06-11",46549,"2027-07-12",46580,32,null,65000000,65000000,0.01,56986,null,65000000,1000000,65000000,1000000]
[null,null,"","",null,"","",null,"","",0,"",null,0,0,0,0,"","","",null,"","",0,"","",0,null,null,"2027-07-13",46581,"2027-08-10",46609,29,null,64000000,64000000,0.01,50849,null,64000000,1000000,64000000,1000000]
[null,null,"","",null,"","",null,"","",0,"",null,0,0,0,0,"","","",null,"","",0,"","",0,null,null,"2027-08-11",46610,"2027-09-10",46640,31,null,63000000,63000000,0.01,53506,null,63000000,1000000,63000000,1000000]
[null,null,"","",null,"","",null,"","",0,"",null,0,0,0,0,"",{"$f":"IF(C81=\"\",\"\",IF(C81=E80,\"NG\",IF(C81<E80,\"NG\",IF((C81-E80)>1,\"NG\",\"\"))))","v":""},{"$f":"IF(D81=\"\",\"\",IF(D81<C81,\"NG\",\"\"))","v":""},null,"","",0,"","",0,null,null,null,"",null,"","",null,null,null,0.01,"",null,63000000,0,62000000,0]
[null,null,{"$f":"IF(X82>0,$S$38,\"\")","v":""},null,null,null,null,null,null,null,0,{"$f":"IF(J82=\"\",\"\",ROUNDDOWN(J82*K82*G82/365,0))","v":""},null,0,{"$f":"IF(N82-N83<0,0,N82-N83)","v":0},0,0,"",null,null,"2027-09-09","2028-03-12",null,{"$f":"SUM(X75:X81)","v":0},"","",0,null,null,null,"",null,"",null,null,null,null,0.01,"",null,63000000,0,62000000,0]
[null,"単位期間Ⅱ",{"$f":"IF(E83=\"\",\"\",IF(E81>M256,E81+1,IF(E80>M256,E80+1,IF(E79>M256,E79+1,IF(E78>M256,E78+1,IF(E77>M256,E77+1,IF(E76>M256,E76+1,IF(E75>M256,E75+1,IF(C60>M256,C60,\"\")))))))))","v":""},{"$f":"IF(C83=\"\",\"\",C83)","v":""},null,{"$f":"IF(E83=\"\",\"\",E83)","v":""},{"$f":"IF(E83=\"\",\"\",E83-C83+1)","v":""},{"$f":"IF(G83=\"\",\"\",SUM(G83:G90))","v":""},null,null,0,{"$f":"IF(J83=\"\",\"\",ROUNDDOWN(J83*K83*G83/365,0))","v":""},{"$f":"IF(L83=\"\",\"\",SUM(L83:L90))","v":""},{"$f":"IF(I83=\"\",$N$91,I83)","v":0},0,{"$f":"IF(J83=\"\",$P$91,J83)","v":0},0,"",{"$f":"IF(C83=\"\",\"\",IF(C83>E83,\"NG\",\"\"))","v":""},{"$f":"IF(E83=\"\",\"\",IF(C84=\"\",\"\",IF(E83>C84,\"NG\",\"\")))","v":""},"","","",{"$f":"COUNTIF(S83:W83,\"NG\")","v":0},"","",0,null,"単位期間Ⅱ",{"$f":"AF80+1","v":"2027-09-11"},46641,"2027-10-12",46672,{"$f":"IF(AD83=\"\",\"\",AF83-AD83+1)","v":32},{"$f":"IF(AH83=\"\",\"\",SUM(AH83:AH90))","v":182},62000000,62000000,0.01,{"$f":"IF(AD83=\"\",\"\",ROUNDDOWN(AK83*AL83*AH83/365,0))","v":54356},{"$f":"IF(AM83=\"\",\"\",SUM(AM83:AM90))","v":296847},62000000,1000000,62000000,1000000]
[null,null,{"$f":"IF(E84=\"\",\"\",IF(E83=\"\",\"\",IF(E83>=DATE(2028,3,10),\"\",E83+1)))","v":""},{"$f":"IF(C84=\"\",\"\",C84)","v":""},null,{"$f":"IF(E84=\"\",\"\",E84)","v":""},{"$f":"IF(E84=\"\",\"\",E84-C84+1)","v":""},null,{"$f":"IF(I83=\"\",\"\",IF(E84=\"\",\"\",I83-$C$11))","v":""},{"$f":"IF(J83=\"\",\"\",IF(F84=\"\",\"\",J83-$C$24))","v":""},0,{"$f":"IF(J84=\"\",\"\",ROUNDDOWN(J84*K84*G84/365,0))","v":""},null,{"$f":"IF(I84=\"\",$N$91,I84)","v":0},0,{"$f":"IF(J84=\"\",$P$91,J84)","v":0},0,"",{"$f":"IF(C84=\"\",\"\",IF(C84=E83,\"NG\",IF(C84<E83,\"NG\",IF((C84-E83)>1,\"NG\",\"\"))))","v":""},{"$f":"IF(E84=\"\",\"\",IF(C85=\"\",\"\",IF(E84>C85,\"NG\",\"\")))","v":""},null,"","",{"$f":"COUNTIF(S84:W84,\"NG\")","v":0},"","",0,null,null,{"$f":"AF83+1","v":"2027-10-13"},46673,"2027-11-10",46701,{"$f":"IF(AD84=\"\",\"\",AF84-AD84+1)","v":29},null,61000000,61000000,0.01,48465,null,61000000,1000000,61000000,1000000]
[null,null,{"$f":"IF(E85=\"\",\"\",IF(E84=\"\",\"\",IF(E84>=DATE(2028,3,10),\"\",E84+1)))","v":""},"",null,"","",null,{"$f":"IF(I84=\"\",\"\",IF(E85=\"\",\"\",I84-$C$11))","v":""},{"$f":"IF(J84=\"\",\"\",IF(F85=\"\",\"\",J84-$C$24))","v":""},0,"",null,0,0,0,0,"",{"$f":"IF(C85=\"\",\"\",IF(C85=E84,\"NG\",IF(C85<E84,\"NG\",IF((C85-E84)>1,\"NG\",\"\"))))","v":""},"",null,"","",0,"","",0,null,null,"2027-11-11",46702,"2027-12-10",46731,30,null,60000000,60000000,0.01,49315,null,60000000,1000000,60000000,1000000]
[null,null,"","",null,"","",null,"","",0,"",null,0,0,0,0,"","","",null,"","",0,"","",0,null,null,"2027-12-11",46732,"2028-01-12",46764,33,null,59000000,59000000,0.01,53342,null,59000000,1000000,59000000,1000000]
[null,null,"","",null,"","",null,"","",0,"",null,0,0,0,0,"","","",null,"","",0,"","",0,null,null,"2028-01-13",46765,"2028-02-10",46793,29,null,58000000,58000000,0.01,46082,null,58000000,1000000,58000000,1000000]
[null,null,"","",null,"","",null,"","",0,"",null,0,0,0,0,"","",{"$f":"IF(E88=\"\",\"\",IF(C89=\"\",\"\",IF(E88>C89,\"NG\",\"\")))","v":""},null,"","",0,"","",0,null,null,"2028-02-11",46794,"2028-03-10",46822,29,null,57000000,57000000,0.01,45287,null,57000000,1000000,57000000,1000000]
[null,null,"","",null,"","",null,"","",0,"",null,0,0,0,0,"","",{"$f":"IF(D89=\"\",\"\",IF(D89<C89,\"NG\",\"\"))","v":""},null,"","",0,"","",0,null,null,null,"",null,"","",null,null,null,0.01,"",null,57000000,0,56000000,0]
[null,null,{"$f":"IF(X90>0,$S$38,\"\")","v":""},null,null,null,null,null,null,null,0,{"$f":"IF(J90=\"\",\"\",ROUNDDOWN(J90*K90*G90/365,0))","v":""},null,0,{"$f":"IF(N90-N91<0,0,N90-N91)","v":0},0,0,"",null,null,"2028-03-09","2028-09-12",null,{"$f":"SUM(X83:X89)","v":0},"","",0,null,null,null,"",null,"",null,null,null,null,0.01,"",null,57000000,0,56000000,0]
[{"$f":"YEAR(U98)&\"年度\"","v":"2028年度"},"単位期間Ⅰ",{"$f":"IF(E91=\"\",\"\",IF(E89>0,E89+1,IF(E88>0,E88+1,IF(E87>0,E87+1,IF(E86>0,E86+1,IF(E85>0,E85+1,IF(E84>0,E84+1,E83+1)))))))","v":""},{"$f":"IF(C91=\"\",\"\",C91)","v":""},null,{"$f":"IF(E91=\"\",\"\",E91)","v":""},{"$f":"IF(E91=\"\",\"\",E91-C91+1)","v":""},{"$f":"IF(G91=\"\",\"\",SUM(G91:G98))","v":""},null,null,{"$f":"IF(K90=\"\",\"\",$K$43)","v":0},{"$f":"IF(J91=\"\",\"\",ROUNDDOWN(J91*K91*G91/365,0))","v":""},{"$f":"IF(L91=\"\",\"\",SUM(L91:L98))","v":""},{"$f":"IF(I91=\"\",$N$99,I91)","v":0},0,{"$f":"IF(J91=\"\",$P$99,J91)","v":0},0,"",{"$f":"IF(C91=\"\",\"\",IF(C91>E91,\"NG\",\"\"))","v":""},{"$f":"IF(E91=\"\",\"\",IF(C92=\"\",\"\",IF(E91>C92,\"NG\",\"\")))","v":""},"","","",{"$f":"COUNTIF(S91:W91,\"NG\")","v":0},"","",0,{"$f":"A91","v":"2028年度"},"単位期間Ⅰ",{"$f":"AF88+1","v":"2028-03-11"},46823,"2028-04-10",46853,{"$f":"IF(AD91=\"\",\"\",AF91-AD91+1)","v":31},{"$f":"IF(AH91=\"\",\"\",SUM(AH91:AH98))","v":185},56000000,56000000,0.01,{"$f":"IF(AF91=\"\",\"\",ROUNDDOWN(AK91*AL91*AH91/365,0))","v":47561},{"$f":"IF(AM91=\"\",\"\",SUM(AM91:AM98))","v":271120},56000000,1000000,56000000,1000000]
[null,null,{"$f":"IF(E92=\"\",\"\",IF(E91=\"\",\"\",IF(E91>=DATE(2028,9,10),\"\",E91+1)))","v":""},{"$f":"IF(C92=\"\",\"\",C92)","v":""},null,{"$f":"IF(E92=\"\",\"\",E92)","v":""},{"$f":"IF(E92=\"\",\"\",E92-C92+1)","v":""},null,{"$f":"IF(I91=\"\",\"\",IF(E92=\"\",\"\",I91-$C$11))","v":""},{"$f":"IF(J91=\"\",\"\",IF(F92=\"\",\"\",J91-$C$24))","v":""},{"$f":"IF(K91=\"\",\"\",$K$43)","v":0},{"$f":"IF(J92=\"\",\"\",ROUNDDOWN(J92*K92*G92/365,0))","v":""},null,{"$f":"IF(I92=\"\",$N$99,I92)","v":0},0,{"$f":"IF(J92=\"\",$P$99,J92)","v":0},0,"",{"$f":"IF(C92=\"\",\"\",IF(C92=E91,\"NG\",IF(C92<E91,\"NG\",IF((C92-E91)>1,\"NG\",\"\"))))","v":""},{"$f":"IF(E92=\"\",\"\",IF(C93=\"\",\"\",IF(E92>C93,\"NG\",\"\")))","v":""},null,"","",{"$f":"COUNTIF(S92:W92,\"NG\")","v":0},"","",0,null,null,{"$f":"AF91+1","v":"2028-04-11"},46854,"2028-05-10",46883,{"$f":"IF(AD92=\"\",\"\",AF92-AD92+1)","v":30},null,55000000,55000000,0.01,{"$f":"IF(AF92=\"\",\"\",ROUNDDOWN(AK92*AL92*AH92/365,0))","v":45205},null,55000000,1000000,55000000,1000000]
[null,null,{"$f":"IF(E93=\"\",\"\",IF(E92=\"\",\"\",IF(E92>=DATE(2028,9,10),\"\",E92+1)))","v":""},"",null,"","",null,{"$f":"IF(I92=\"\",\"\",IF(E93=\"\",\"\",I92-$C$11))","v":""},{"$f":"IF(J92=\"\",\"\",IF(F93=\"\",\"\",J92-$C$24))","v":""},{"$f":"IF(K92=\"\",\"\",$K$43)","v":0},"",null,0,0,0,0,"",{"$f":"IF(C93=\"\",\"\",IF(C93=E92,\"NG\",IF(C93<E92,\"NG\",IF((C93-E92)>1,\"NG\",\"\"))))","v":""},"",null,"","",0,"","",0,null,null,"2028-05-11",46884,"2028-06-12",46916,33,null,54000000,54000000,0.01,{"$f":"IF(AF93=\"\",\"\",ROUNDDOWN(AK93*AL93*AH93/365,0))","v":48821},null,54000000,1000000,54000000,1000000]
[null,null,"","",null,"","",null,{"$f":"IF(I93=\"\",\"\",IF(E94=\"\",\"\",I93-$C$11))","v":""},{"$f":"IF(J93=\"\",\"\",IF(F94=\"\",\"\",J93-$C$24))","v":""},0,"",null,0,0,0,0,"","","",null,"","",0,"","",0,null,null,"2028-06-13",46917,"2028-07-10",46944,28,null,53000000,53000000,0.01,40657,null,53000000,1000000,53000000,1000000]
[null,null,"","",null,"","",null,"","",0,"",null,0,0,0,0,"","","",null,"","",0,"","",0,null,null,"2028-07-11",46945,"2028-08-10",46975,31,null,52000000,52000000,0.01,44164,null,52000000,1000000,52000000,1000000]
[null,null,"","",null,"","",null,"","",0,"",null,0,0,0,0,"","",{"$f":"IF(E96=\"\",\"\",IF(C97=\"\",\"\",IF(E96>C97,\"NG\",\"\")))","v":""},null,"","",0,"","",0,null,null,"2028-08-11",46976,"2028-09-11",47007,32,null,51000000,51000000,0.01,44712,null,51000000,1000000,51000000,1000000]
[null,null,"","",null,"","",null,"","",0,"",null,0,0,0,0,"","",{"$f":"IF(D97=\"\",\"\",IF(D97<C97,\"NG\",\"\"))","v":""},null,"",{"$f":"IF(G97>0,\"\",\"NG\")","v":""},0,"","",0,null,null,null,"",null,"","",null,null,null,0.01,"",null,51000000,0,50000000,0]
[null,null,{"$f":"IF(X98>0,$S$38,\"\")","v":""},null,null,null,null,null,null,null,0,{"$f":"IF(J98=\"\",\"\",ROUNDDOWN(J98*K98*G98/365,0))","v":""},null,0,{"$f":"IF(N98-N99<0,0,N98-N99)","v":0},0,0,"",null,null,"2028-09-09","2029-03-12",null,{"$f":"SUM(X91:X97)","v":0},"","",0,null,null,"","",null,"",null,null,null,null,0.01,"",null,51000000,0,50000000,0]
[null,"単位期間Ⅱ",{"$f":"IF(E99=\"\",\"\",IF(E97>M272,E97+1,IF(E96>M272,E96+1,IF(E95>M272,E95+1,IF(E94>M272,E94+1,IF(E93>M272,E93+1,IF(E92>M272,E92+1,IF(E91>M272,E91+1,IF(C76>M272,C76,\"\")))))))))","v":""},{"$f":"IF(C99=\"\",\"\",C99)","v":""},null,{"$f":"IF(E99=\"\",\"\",E99)","v":""},{"$f":"IF(E99=\"\",\"\",E99-C99+1)","v":""},{"$f":"IF(G99=\"\",\"\",SUM(G99:G106))","v":""},null,null,0,{"$f":"IF(J99=\"\",\"\",ROUNDDOWN(J99*K99*G99/365,0))","v":""},{"$f":"IF(L99=\"\",\"\",SUM(L99:L106))","v":""},{"$f":"IF(I99=\"\",$N$107,I99)","v":0},0,{"$f":"IF(J99=\"\",$P$107,J99)","v":0},0,"",{"$f":"IF(C99=\"\",\"\",IF(C99>E99,\"NG\",\"\"))","v":""},{"$f":"IF(E99=\"\",\"\",IF(C100=\"\",\"\",IF(E99>C100,\"NG\",\"\")))","v":""},"","",{"$f":"IF(G99>0,\"\",\"NG\")","v":""},{"$f":"COUNTIF(S99:W99,\"NG\")","v":0},"","",0,null,"単位期間Ⅱ",{"$f":"AF96+1","v":"2028-09-12"},47008,"2028-10-10",47036,{"$f":"IF(AD99=\"\",\"\",AF99-AD99+1)","v":29},{"$f":"IF(AH99=\"\",\"\",SUM(AH99:AH106))","v":182},50000000,50000000,0.01,{"$f":"IF(AD99=\"\",\"\",ROUNDDOWN(AK99*AL99*AH99/365,0))","v":39726},{"$f":"IF(AM99=\"\",\"\",SUM(AM99:AM106))","v":236875},50000000,1000000,50000000,1000000]
[null,null,{"$f":"IF(E100=\"\",\"\",IF(E99=\"\",\"\",IF(E99>=DATE(2029,3,10),\"\",E99+1)))","v":""},{"$f":"IF(C100=\"\",\"\",C100)","v":""},null,{"$f":"IF(E100=\"\",\"\",E100)","v":""},{"$f":"IF(E100=\"\",\"\",E100-C100+1)","v":""},null,{"$f":"IF(I99=\"\",\"\",IF(E100=\"\",\"\",I99-$C$11))","v":""},{"$f":"IF(J99=\"\",\"\",IF(F100=\"\",\"\",J99-$C$24))","v":""},0,{"$f":"IF(J100=\"\",\"\",ROUNDDOWN(J100*K100*G100/365,0))","v":""},null,{"$f":"IF(I100=\"\",$N$107,I100)","v":0},0,{"$f":"IF(J100=\"\",$P$107,J100)","v":0},0,"",{"$f":"IF(C100=\"\",\"\",IF(C100=E99,\"NG\",IF(C100<E99,\"NG\",IF((C100-E99)>1,\"NG\",\"\"))))","v":""},{"$f":"IF(E100=\"\",\"\",IF(C101=\"\",\"\",IF(E100>C101,\"NG\",\"\")))","v":""},null,"",{"$f":"IF(G100>0,\"\",\"NG\")","v":""},{"$f":"COUNTIF(S100:W100,\"NG\")","v":0},"","",0,null,null,{"$f":"AF99+1","v":"2028-10-11"},47037,"2028-11-10",47067,{"$f":"IF(AD100=\"\",\"\",AF100-AD100+1)","v":31},null,49000000,49000000,0.01,41616,null,49000000,1000000,49000000,1000000]
[null,null,{"$f":"IF(E101=\"\",\"\",IF(E100=\"\",\"\",IF(E100>=DATE(2029,3,10),\"\",E100+1)))","v":""},"",null,"","",null,{"$f":"IF(I100=\"\",\"\",IF(E101=\"\",\"\",I100-$C$11))","v":""},{"$f":"IF(J100=\"\",\"\",IF(F101=\"\",\"\",J100-$C$24))","v":""},0,"",null,0,0,0,0,"",{"$f":"IF(C101=\"\",\"\",IF(C101=E100,\"NG\",IF(C101<E100,\"NG\",IF((C101-E100)>1,\"NG\",\"\"))))","v":""},"",null,"","",0,"","",0,null,null,"2028-11-11",47068,"2028-12-11",47098,31,null,48000000,48000000,0.01,40767,null,48000000,1000000,48000000,1000000]
[null,null,"","",null,"","",null,"","",0,"",null,0,0,0,0,"","","",null,"","",0,"","",0,null,null,"2028-12-12",47099,"2029-01-10",47128,30,null,47000000,47000000,0.01,38630,null,47000000,1000000,47000000,1000000]
[null,null,"","",null,"","",null,"","",0,"",null,0,0,0,0,"","","",null,"","",0,"","",0,null,null,"2029-01-11",47129,"2029-02-13",47162,34,null,46000000,46000000,0.01,42849,null,46000000,1000000,46000000,1000000]
[null,null,"","",null,"","",null,"","",0,"",null,0,0,0,0,"","",{"$f":"IF(E104=\"\",\"\",IF(C105=\"\",\"\",IF(E104>C105,\"NG\",\"\")))","v":""},null,"","",0,"","",0,null,null,"2029-02-14",47163,"2029-03-12",47189,27,null,45000000,45000000,0.01,33287,null,45000000,1000000,45000000,1000000]
[null,null,"","",null,"","",null,"","",0,"",null,0,0,0,0,"","",{"$f":"IF(D105=\"\",\"\",IF(D105<C105,\"NG\",\"\"))","v":""},null,"","",0,"","",0,null,null,null,"",null,"","",null,null,null,0.01,"",null,45000000,0,44000000,0]
[null,null,{"$f":"IF(X106>0,$S$38,\"\")","v":""},null,null,null,null,null,null,null,0,{"$f":"IF(J106=\"\",\"\",ROUNDDOWN(J106*K106*G106/365,0))","v":""},null,0,{"$f":"IF(N106-N107<0,0,N106-N107)","v":0},0,0,"",null,null,"2029-03-09","2029-09-12",null,{"$f":"SUM(X99:X105)","v":0},"","",0,null,null,"","",null,"",null,null,null,null,0.01,"",null,45000000,0,44000000,0]
[{"$f":"YEAR(U114)&\"年度\"","v":"2029年度"},"単位期間Ⅰ",{"$f":"IF(E107=\"\",\"\",IF(E105>0,E105+1,IF(E104>0,E104+1,IF(E103>0,E103+1,IF(E102>0,E102+1,IF(E101>0,E101+1,IF(E100>0,E100+1,E99+1)))))))","v":""},{"$f":"IF(C107=\"\",\"\",C107)","v":""},null,{"$f":"IF(E107=\"\",\"\",E107)","v":""},{"$f":"IF(E107=\"\",\"\",E107-C107+1)","v":""},{"$f":"IF(G107=\"\",\"\",SUM(G107:G114))","v":""},null,null,{"$f":"IF(K106=\"\",\"\",$K$43)","v":0},{"$f":"IF(J107=\"\",\"\",ROUNDDOWN(J107*K107*G107/365,0))","v":""},{"$f":"IF(L107=\"\",\"\",SUM(L107:L114))","v":""},{"$f":"IF(I107=\"\",$N$115,I107)","v":0},0,{"$f":"IF(J107=\"\",$P$115,J107)","v":0},0,"",{"$f":"IF(C107=\"\",\"\",IF(C107>E107,\"NG\",\"\"))","v":""},{"$f":"IF(E107=\"\",\"\",IF(C108=\"\",\"\",IF(E107>C108,\"NG\",\"\")))","v":""},"","","",{"$f":"COUNTIF(S107:W107,\"NG\")","v":0},"","",0,{"$f":"A107","v":"2029年度"},"単位期間Ⅰ",{"$f":"AF104+1","v":"2029-03-13"},47190,"2029-04-10",47218,{"$f":"IF(AD107=\"\",\"\",AF107-AD107+1)","v":29},{"$f":"IF(AH107=\"\",\"\",SUM(AH107:AH114))","v":182},44000000,44000000,0.01,{"$f":"IF(AF107=\"\",\"\",ROUNDDOWN(AK107*AL107*AH107/365,0))","v":34958},{"$f":"IF(AM107=\"\",\"\",SUM(AM107:AM114))","v":206791},{"$f":"IF(AJ107=\"\",AO106,AJ107)","v":44000000},1000000,44000000,1000000]
[null,null,{"$f":"IF(E108=\"\",\"\",IF(E107=\"\",\"\",IF(E107>=DATE(2029,9,10),\"\",E107+1)))","v":""},{"$f":"IF(C108=\"\",\"\",C108)","v":""},null,{"$f":"IF(E108=\"\",\"\",E108)","v":""},{"$f":"IF(E108=\"\",\"\",E108-C108+1)","v":""},null,{"$f":"IF(I107=\"\",\"\",IF(E108=\"\",\"\",I107-$C$11))","v":""},{"$f":"IF(J107=\"\",\"\",IF(F108=\"\",\"\",J107-$C$24))","v":""},{"$f":"IF(K107=\"\",\"\",$K$43)","v":0},{"$f":"IF(J108=\"\",\"\",ROUNDDOWN(J108*K108*G108/365,0))","v":""},null,{"$f":"IF(I108=\"\",$N$115,I108)","v":0},0,{"$f":"IF(J108=\"\",$P$115,J108)","v":0},0,"",{"$f":"IF(C108=\"\",\"\",IF(C108=E107,\"NG\",IF(C108<E107,\"NG\",IF((C108-E107)>1,\"NG\",\"\"))))","v":""},{"$f":"IF(E108=\"\",\"\",IF(C109=\"\",\"\",IF(E108>C109,\"NG\",\"\")))","v":""},null,"","",{"$f":"COUNTIF(S108:W108,\"NG\")","v":0},{"$f":"IF($O108=$I108,\"\",IF($O108=0,\"\",IF($O108=$Y$41,\"\",\"NG\")))","v":""},{"$f":"IF($Q108=$J108,\"\",IF($Q108=0,\"\",IF($Q108=$Z$41,\"\",\"NG\")))","v":""},0,null,null,{"$f":"AF107+1","v":"2029-04-11"},47219,"2029-05-10",{"$f":"IF(AF108=\"\",\"\",AF108)","v":47248},{"$f":"IF(AD108=\"\",\"\",AF108-AD108+1)","v":30},null,43000000,43000000,0.01,{"$f":"IF(AF108=\"\",\"\",ROUNDDOWN(AK108*AL108*AH108/365,0))","v":35342},null,43000000,1000000,43000000,1000000]
[null,null,{"$f":"IF(E109=\"\",\"\",IF(E108=\"\",\"\",IF(E108>=DATE(2029,9,10),\"\",E108+1)))","v":""},"",null,"","",null,{"$f":"IF(I108=\"\",\"\",IF(E109=\"\",\"\",I108-$C$11))","v":""},{"$f":"IF(J108=\"\",\"\",IF(F109=\"\",\"\",J108-$C$24))","v":""},{"$f":"IF(K108=\"\",\"\",$K$43)","v":0},"",null,0,0,0,0,{"$f":"IF(AA109>0,$Y$38,\"\")","v":""},{"$f":"IF(C109=\"\",\"\",IF(C109=E108,\"NG\",IF(C109<E108,\"NG\",IF((C109-E108)>1,\"NG\",\"\"))))","v":""},"",null,"","",0,"","",{"$f":"COUNTIF(Y109:Z109,\"NG\")","v":0},null,null,"2029-05-11",47249,"2029-06-11",47280,32,null,42000000,42000000,0.01,{"$f":"IF(AF109=\"\",\"\",ROUNDDOWN(AK109*AL109*AH109/365,0))","v":36821},null,42000000,1000000,42000000,1000000]
[null,null,"","",null,"","",null,{"$f":"IF(I109=\"\",\"\",IF(E110=\"\",\"\",I109-$C$11))","v":""},{"$f":"IF(J109=\"\",\"\",IF(F110=\"\",\"\",J109-$C$24))","v":""},0,"",null,0,0,0,0,"","","",null,"","",0,"","",0,null,null,"2029-06-12",47281,"2029-07-10",47309,29,null,41000000,41000000,0.01,32575,null,41000000,1000000,41000000,1000000]
[null,null,"","",null,"","",null,"","",0,"",null,0,0,0,0,"","","",null,"","",0,"","",0,null,null,"2029-07-11",47310,"2029-08-10",47340,31,null,40000000,40000000,0.01,33972,null,40000000,1000000,40000000,1000000]
[null,null,"","",null,"","",null,"","",0,"",null,0,0,0,0,"","",{"$f":"IF(E112=\"\",\"\",IF(C113=\"\",\"\",IF(E112>C113,\"NG\",\"\")))","v":""},null,"","",0,"","",0,null,null,"2029-08-11",47341,"2029-09-10",47371,31,null,39000000,39000000,0.01,33123,null,39000000,1000000,39000000,1000000]
[null,null,"","",null,"","",null,"","",0,"",null,0,0,0,0,"","",{"$f":"IF(D113=\"\",\"\",IF(D113<C113,\"NG\",\"\"))","v":""},null,"","",0,"","",0,null,null,null,"",null,"","",null,null,null,0.01,"",null,39000000,0,38000000,0]
[null,null,{"$f":"IF(X114>0,$S$38,\"\")","v":""},null,null,null,null,null,null,null,0,{"$f":"IF(J114=\"\",\"\",ROUNDDOWN(J114*K114*G114/365,0))","v":""},null,0,{"$f":"IF(N114-N115<0,0,N114-N115)","v":0},0,0,"",null,null,"2029-09-09","2030-03-12",null,{"$f":"SUM(X107:X113)","v":0},"","",0,null,null,"","",null,"",null,null,null,null,0.01,"",null,39000000,0,38000000,0]
[null,"単位期間Ⅱ",{"$f":"IF(E115=\"\",\"\",IF(E113>M287,E113+1,IF(E112>M287,E112+1,IF(E111>M287,E111+1,IF(E110>M287,E110+1,IF(E109>M287,E109+1,IF(E108>M287,E108+1,IF(E107>M287,E107+1,IF(C92>M287,C92,\"\")))))))))","v":""},{"$f":"IF(C115=\"\",\"\",C115)","v":""},null,{"$f":"IF(E115=\"\",\"\",E115)","v":""},{"$f":"IF(E115=\"\",\"\",E115-C115+1)","v":""},{"$f":"IF(G115=\"\",\"\",SUM(G115:G122))","v":""},null,null,0,{"$f":"IF(J115=\"\",\"\",ROUNDDOWN(J115*K115*G115/365,0))","v":""},{"$f":"IF(L115=\"\",\"\",SUM(L115:L122))","v":""},{"$f":"IF(I115=\"\",$N$123,I115)","v":0},0,{"$f":"IF(J115=\"\",$P$123,J115)","v":0},0,"",{"$f":"IF(C115=\"\",\"\",IF(C115>E115,\"NG\",\"\"))","v":""},{"$f":"IF(E115=\"\",\"\",IF(C116=\"\",\"\",IF(E115>C116,\"NG\",\"\")))","v":""},"","","",{"$f":"COUNTIF(S115:W115,\"NG\")","v":0},"","",0,null,"単位期間Ⅱ",{"$f":"AF112+1","v":"2029-09-11"},47372,"2029-10-10",47401,{"$f":"IF(AD115=\"\",\"\",AF115-AD115+1)","v":30},{"$f":"IF(AH115=\"\",\"\",SUM(AH115:AH122))","v":182},38000000,38000000,0.01,{"$f":"IF(AD115=\"\",\"\",ROUNDDOWN(AK115*AL115*AH115/365,0))","v":31232},{"$f":"IF(AM115=\"\",\"\",SUM(AM115:AM122))","v":177175},38000000,1000000,38000000,1000000]
[null,null,{"$f":"IF(E116=\"\",\"\",IF(E115=\"\",\"\",IF(E115>=DATE(2030,3,10),\"\",E115+1)))","v":""},{"$f":"IF(C116=\"\",\"\",C116)","v":""},null,{"$f":"IF(E116=\"\",\"\",E116)","v":""},{"$f":"IF(E116=\"\",\"\",E116-C116+1)","v":""},null,{"$f":"IF(I115=\"\",\"\",IF(E116=\"\",\"\",I115-$C$11))","v":""},{"$f":"IF(J115=\"\",\"\",IF(F116=\"\",\"\",J115-$C$24))","v":""},0,{"$f":"IF(J116=\"\",\"\",ROUNDDOWN(J116*K116*G116/365,0))","v":""},null,{"$f":"IF(I116=\"\",$N$123,I116)","v":0},{"$f":"N116-N117","v":0},{"$f":"IF(J116=\"\",$P$123,J116)","v":0},{"$f":"P116-P117","v":0},"",{"$f":"IF(C116=\"\",\"\",IF(C116=E115,\"NG\",IF(C116<E115,\"NG\",IF((C116-E115)>1,\"NG\",\"\"))))","v":""},{"$f":"IF(E116=\"\",\"\",IF(C117=\"\",\"\",IF(E116>C117,\"NG\",\"\")))","v":""},null,"","",{"$f":"COUNTIF(S116:W116,\"NG\")","v":0},"","",0,null,null,{"$f":"AF115+1","v":"2029-10-11"},{"$f":"IF(AD116=\"\",\"\",AD116)","v":47402},"2029-11-12",47434,{"$f":"IF(AD116=\"\",\"\",AF116-AD116+1)","v":33},null,37000000,37000000,0.01,33452,null,37000000,1000000,37000000,1000000]
[null,null,{"$f":"IF(E117=\"\",\"\",IF(E116=\"\",\"\",IF(E116>=DATE(2030,3,10),\"\",E116+1)))","v":""},"",null,"","",null,{"$f":"IF(I116=\"\",\"\",IF(E117=\"\",\"\",I116-$C$11))","v":""},{"$f":"IF(J116=\"\",\"\",IF(F117=\"\",\"\",J116-$C$24))","v":""},0,"",null,0,0,0,0,"",{"$f":"IF(C117=\"\",\"\",IF(C117=E116,\"NG\",IF(C117<E116,\"NG\",IF((C117-E116)>1,\"NG\",\"\"))))","v":""},"",null,"","",0,"","",0,null,null,"2029-11-13",47435,"2029-12-10",47462,28,null,36000000,36000000,0.01,27616,null,36000000,1000000,36000000,1000000]
[null,null,"","",null,"","",null,"","",0,"",null,0,0,0,0,"","","",null,"","",0,"","",0,null,null,"2029-12-11",47463,"2030-01-10",47493,31,null,35000000,35000000,0.01,29726,null,35000000,1000000,35000000,1000000]
[null,null,"","",null,"","",null,"","",0,"",null,0,0,0,0,"","","",null,"","",0,"","",0,null,null,"2030-01-11",47494,"2030-02-12",47526,33,null,34000000,34000000,0.01,30739,null,34000000,1000000,34000000,1000000]
[null,null,"","",null,"","",null,"","",0,"",null,0,0,0,0,"","",{"$f":"IF(E120=\"\",\"\",IF(C121=\"\",\"\",IF(E120>C121,\"NG\",\"\")))","v":""},null,"","",0,"","",0,null,null,"2030-02-13",47527,"2030-03-11",47553,27,null,33000000,33000000,0.01,24410,null,33000000,1000000,33000000,1000000]
[null,null,"","",null,"","",null,"","",0,"",null,0,0,0,0,"","",{"$f":"IF(D121=\"\",\"\",IF(D121<C121,\"NG\",\"\"))","v":""},null,"","",0,"","",0,null,null,null,"",null,"","",null,null,null,0.01,"",null,33000000,0,32000000,0]
[null,null,{"$f":"IF(X122>0,$S$38,\"\")","v":""},null,null,null,null,null,null,null,0,{"$f":"IF(J122=\"\",\"\",ROUNDDOWN(J122*K122*G122/365,0))","v":""},null,0,{"$f":"IF(N122-N123<0,0,N122-N123)","v":0},0,0,"",null,null,"2030-03-09","2030-09-12",null,{"$f":"SUM(X115:X121)","v":0},"","",0,null,null,null,"",null,"",null,null,null,null,0.01,"",null,33000000,0,32000000,0]
[{"$f":"YEAR(U130)&\"年度\"","v":"2030年度"},"単位期間Ⅰ",{"$f":"IF(E123=\"\",\"\",IF(E121>0,E121+1,IF(E120>0,E120+1,IF(E119>0,E119+1,IF(E118>0,E118+1,IF(E117>0,E117+1,IF(E116>0,E116+1,E115+1)))))))","v":""},{"$f":"IF(C123=\"\",\"\",C123)","v":""},null,{"$f":"IF(E123=\"\",\"\",E123)","v":""},{"$f":"IF(E123=\"\",\"\",E123-C123+1)","v":""},{"$f":"IF(G123=\"\",\"\",SUM(G123:G130))","v":""},null,null,{"$f":"IF(K122=\"\",\"\",$K$43)","v":0},{"$f":"IF(J123=\"\",\"\",ROUNDDOWN(J123*K123*G123/365,0))","v":""},{"$f":"IF(L123=\"\",\"\",SUM(L123:L130))","v":""},{"$f":"IF(I123=\"\",$N$131,I123)","v":0},0,{"$f":"IF(J123=\"\",$P$131,J123)","v":0},0,"",{"$f":"IF(C123=\"\",\"\",IF(C123>E123,\"NG\",\"\"))","v":""},{"$f":"IF(E123=\"\",\"\",IF(C124=\"\",\"\",IF(E123>C124,\"NG\",\"\")))","v":""},"","","",{"$f":"COUNTIF(S123:W123,\"NG\")","v":0},"","",0,{"$f":"A123","v":"2030年度"},"単位期間Ⅰ",{"$f":"AF120+1","v":"2030-03-12"},47554,"2030-04-10",47583,{"$f":"IF(AD123=\"\",\"\",AF123-AD123+1)","v":30},{"$f":"IF(AH123=\"\",\"\",SUM(AH123:AH130))","v":183},32000000,32000000,0.01,{"$f":"IF(AF123=\"\",\"\",ROUNDDOWN(AK123*AL123*AH123/365,0))","v":26301},{"$f":"IF(AM123=\"\",\"\",SUM(AM123:AM130))","v":147888},32000000,1000000,32000000,1000000]
[null,null,{"$f":"IF(E124=\"\",\"\",IF(E123=\"\",\"\",IF(E123>=DATE(2030,9,10),\"\",E123+1)))","v":""},{"$f":"IF(C124=\"\",\"\",C124)","v":""},null,{"$f":"IF(E124=\"\",\"\",E124)","v":""},{"$f":"IF(E124=\"\",\"\",E124-C124+1)","v":""},null,{"$f":"IF(I123=\"\",\"\",IF(E124=\"\",\"\",I123-$C$11))","v":""},{"$f":"IF(J123=\"\",\"\",IF(F124=\"\",\"\",J123-$C$24))","v":""},{"$f":"IF(K123=\"\",\"\",$K$43)","v":0},{"$f":"IF(J124=\"\",\"\",ROUNDDOWN(J124*K124*G124/365,0))","v":""},null,{"$f":"IF(I124=\"\",$N$131,I124)","v":0},0,{"$f":"IF(J124=\"\",$P$131,J124)","v":0},0,"",{"$f":"IF(C124=\"\",\"\",IF(C124=E123,\"NG\",IF(C124<E123,\"NG\",IF((C124-E123)>1,\"NG\",\"\"))))","v":""},{"$f":"IF(E124=\"\",\"\",IF(C125=\"\",\"\",IF(E124>C125,\"NG\",\"\")))","v":""},null,"","",{"$f":"COUNTIF(S124:W124,\"NG\")","v":0},"","",0,null,null,{"$f":"AF123+1","v":"2030-04-11"},47584,"2030-05-10",47613,{"$f":"IF(AD124=\"\",\"\",AF124-AD124+1)","v":30},null,31000000,31000000,0.01,{"$f":"IF(AF124=\"\",\"\",ROUNDDOWN(AK124*AL124*AH124/365,0))","v":25479},null,31000000,1000000,31000000,1000000]
[null,null,{"$f":"IF(E125=\"\",\"\",IF(E124=\"\",\"\",IF(E124>=DATE(2030,9,10),\"\",E124+1)))","v":""},"",null,"","",null,{"$f":"IF(I124=\"\",\"\",IF(E125=\"\",\"\",I124-$C$11))","v":""},{"$f":"IF(J124=\"\",\"\",IF(F125=\"\",\"\",J124-$C$24))","v":""},{"$f":"IF(K124=\"\",\"\",$K$43)","v":0},"",null,0,0,0,0,"",{"$f":"IF(C125=\"\",\"\",IF(C125=E124,\"NG\",IF(C125<E124,\"NG\",IF((C125-E124)>1,\"NG\",\"\"))))","v":""},"",null,"","",0,"","",0,null,null,"2030-05-11",47614,"2030-06-10",47644,31,null,30000000,30000000,0.01,{"$f":"IF(AF125=\"\",\"\",ROUNDDOWN(AK125*AL125*AH125/365,0))","v":25479},null,30000000,1000000,30000000,1000000]
[null,null,"","",null,"","",null,{"$f":"IF(I125=\"\",\"\",IF(E126=\"\",\"\",I125-$C$11))","v":""},{"$f":"IF(J125=\"\",\"\",IF(F126=\"\",\"\",J125-$C$24))","v":""},0,"",null,0,0,0,0,"","","",null,"","",0,"","",0,null,null,"2030-06-11",47645,"2030-07-10",47674,30,null,29000000,29000000,0.01,23835,null,29000000,1000000,29000000,1000000]
[null,null,"","",null,"","",null,"","",0,"",null,0,0,0,0,"","","",null,"","",0,"","",0,null,null,"2030-07-11",47675,"2030-08-13",47708,34,null,28000000,28000000,0.01,26082,null,28000000,1000000,28000000,1000000]
[null,null,"","",null,"","",null,"","",0,"",null,0,0,0,0,"","","",null,"","",0,"","",0,null,null,"2030-08-14",47709,"2030-09-10",47736,28,null,27000000,27000000,0.01,20712,null,27000000,1000000,27000000,1000000]
[null,null,"","",null,"","",null,"","",0,"",null,0,0,0,0,"","",{"$f":"IF(D129=\"\",\"\",IF(D129<C129,\"NG\",\"\"))","v":""},null,"","",0,"","",0,null,null,null,"",null,"","",null,null,null,0.01,"",null,27000000,0,26000000,0]
[null,null,{"$f":"IF(X130>0,$S$38,\"\")","v":""},null,null,null,null,null,null,null,0,{"$f":"IF(J130=\"\",\"\",ROUNDDOWN(J130*K130*G130/365,0))","v":""},null,0,{"$f":"IF(N130-N131<0,0,N130-N131)","v":0},0,0,"",null,null,"2030-09-09","2031-03-12",null,{"$f":"SUM(X123:X129)","v":0},"","",0,null,null,"","",null,"",null,null,null,null,0.01,"",null,27000000,0,26000000,0]
[null,"単位期間Ⅱ",{"$f":"IF(E131=\"\",\"\",IF(E129>M303,E129+1,IF(E128>M303,E128+1,IF(E127>M303,E127+1,IF(E126>M303,E126+1,IF(E125>M303,E125+1,IF(E124>M303,E124+1,IF(E123>M303,E123+1,IF(C108>M303,C108,\"\")))))))))","v":""},{"$f":"IF(C131=\"\",\"\",C131)","v":""},null,{"$f":"IF(E131=\"\",\"\",E131)","v":""},{"$f":"IF(E131=\"\",\"\",E131-C131+1)","v":""},{"$f":"IF(G131=\"\",\"\",SUM(G131:G138))","v":""},null,null,0,{"$f":"IF(J131=\"\",\"\",ROUNDDOWN(J131*K131*G131/365,0))","v":""},{"$f":"IF(L131=\"\",\"\",SUM(L131:L138))","v":""},{"$f":"IF(I131=\"\",$N$139,I131)","v":0},0,{"$f":"IF(J131=\"\",$P$139,J131)","v":0},0,"",{"$f":"IF(C131=\"\",\"\",IF(C131>E131,\"NG\",\"\"))","v":""},{"$f":"IF(E131=\"\",\"\",IF(C132=\"\",\"\",IF(E131>C132,\"NG\",\"\")))","v":""},"","","",{"$f":"COUNTIF(S131:W131,\"NG\")","v":0},"","",0,null,"単位期間Ⅱ",{"$f":"AF128+1","v":"2030-09-11"},47737,"2030-10-10",47766,{"$f":"IF(AD131=\"\",\"\",AF131-AD131+1)","v":30},{"$f":"IF(AH131=\"\",\"\",SUM(AH131:AH138))","v":181},26000000,26000000,0.01,{"$f":"IF(AD131=\"\",\"\",ROUNDDOWN(AK131*AL131*AH131/365,0))","v":21369},{"$f":"IF(AM131=\"\",\"\",SUM(AM131:AM138))","v":116681},26000000,1000000,26000000,1000000]
[null,null,{"$f":"IF(E132=\"\",\"\",IF(E131=\"\",\"\",IF(E131>=DATE(2031,3,10),\"\",E131+1)))","v":""},{"$f":"IF(C132=\"\",\"\",C132)","v":""},null,{"$f":"IF(E132=\"\",\"\",E132)","v":""},{"$f":"IF(E132=\"\",\"\",E132-C132+1)","v":""},null,{"$f":"IF(I131=\"\",\"\",IF(E132=\"\",\"\",I131-$C$11))","v":""},{"$f":"IF(J131=\"\",\"\",IF(F132=\"\",\"\",J131-$C$24))","v":""},0,{"$f":"IF(J132=\"\",\"\",ROUNDDOWN(J132*K132*G132/365,0))","v":""},null,{"$f":"IF(I132=\"\",$N$139,I132)","v":0},0,{"$f":"IF(J132=\"\",$P$139,J132)","v":0},0,"",{"$f":"IF(C132=\"\",\"\",IF(C132=E131,\"NG\",IF(C132<E131,\"NG\",IF((C132-E131)>1,\"NG\",\"\"))))","v":""},{"$f":"IF(E132=\"\",\"\",IF(C133=\"\",\"\",IF(E132>C133,\"NG\",\"\")))","v":""},null,"","",{"$f":"COUNTIF(S132:W132,\"NG\")","v":0},"","",0,null,null,{"$f":"AF131+1","v":"2030-10-11"},47767,"2030-11-11",47798,{"$f":"IF(AD132=\"\",\"\",AF132-AD132+1)","v":32},null,25000000,25000000,0.01,21917,null,25000000,1000000,25000000,1000000]
[null,null,{"$f":"IF(E133=\"\",\"\",IF(E132=\"\",\"\",IF(E132>=DATE(2031,3,10),\"\",E132+1)))","v":""},{"$f":"IF(C133=\"\",\"\",C133)","v":""},null,"","",null,{"$f":"IF(I132=\"\",\"\",IF(E133=\"\",\"\",I132-$C$11))","v":""},{"$f":"IF(J132=\"\",\"\",IF(F133=\"\",\"\",J132-$C$24))","v":""},0,"",null,0,0,0,0,"",{"$f":"IF(C133=\"\",\"\",IF(C133=E132,\"NG\",IF(C133<E132,\"NG\",IF((C133-E132)>1,\"NG\",\"\"))))","v":""},"",null,"","",0,"","",0,null,null,"2030-11-12",47799,"2030-12-10",47827,29,null,24000000,24000000,0.01,19068,null,24000000,1000000,24000000,1000000]
[null,null,"","",null,"","",null,"","",0,"",null,0,0,0,0,"","","",null,"","",0,"","",0,null,null,"2030-12-11",47828,"2031-01-10",47858,31,null,23000000,23000000,0.01,19534,null,23000000,1000000,23000000,1000000]
[null,null,"","",null,"","",null,"","",0,"",null,0,0,0,0,"","","",null,"","",0,"","",0,null,null,"2031-01-11",47859,"2031-02-10",47889,31,null,22000000,22000000,0.01,18684,null,22000000,1000000,22000000,1000000]
[null,null,"","",null,"","",null,"","",0,"",null,0,0,0,0,"","",{"$f":"IF(E136=\"\",\"\",IF(C137=\"\",\"\",IF(E136>C137,\"NG\",\"\")))","v":""},null,"","",0,"","",0,null,null,"2031-02-11",47890,"2031-03-10",47917,28,null,21000000,21000000,0.01,16109,null,21000000,1000000,21000000,1000000]
[null,null,"","",null,"","",null,"","",0,"",null,0,0,0,0,"","",{"$f":"IF(D137=\"\",\"\",IF(D137<C137,\"NG\",\"\"))","v":""},null,"","",0,"","",0,null,null,null,"",null,"","",null,null,null,0.01,"",null,21000000,0,20000000,0]
[null,null,{"$f":"IF(X138>0,$S$38,\"\")","v":""},null,null,null,null,null,null,null,0,{"$f":"IF(J138=\"\",\"\",ROUNDDOWN(J138*K138*G138/365,0))","v":""},null,0,{"$f":"IF(N138-N139<0,0,N138-N139)","v":0},0,0,"",null,null,"2031-03-09","2031-09-12",null,{"$f":"SUM(X131:X137)","v":0},"","",0,null,null,null,"",null,"",null,null,null,null,0.01,"",null,21000000,0,20000000,0]
[{"$f":"YEAR(U146)&\"年度\"","v":"2031年度"},"単位期間Ⅰ",{"$f":"IF(E139=\"\",\"\",IF(E137>0,E137+1,IF(E136>0,E136+1,IF(E135>0,E135+1,IF(E134>0,E134+1,IF(E133>0,E133+1,IF(E132>0,E132+1,E131+1)))))))","v":""},{"$f":"IF(C139=\"\",\"\",C139)","v":""},null,{"$f":"IF(E139=\"\",\"\",E139)","v":""},{"$f":"IF(E139=\"\",\"\",E139-C139+1)","v":""},{"$f":"IF(G139=\"\",\"\",SUM(G139:G146))","v":""},null,null,{"$f":"IF(K138=\"\",\"\",$K$43)","v":0},{"$f":"IF(J139=\"\",\"\",ROUNDDOWN(J139*K139*G139/365,0))","v":""},{"$f":"IF(L139=\"\",\"\",SUM(L139:L146))","v":""},{"$f":"IF(I139=\"\",$N$147,I139)","v":0},0,{"$f":"IF(J139=\"\",$P$147,J139)","v":0},0,"",{"$f":"IF(C139=\"\",\"\",IF(C139>E139,\"NG\",\"\"))","v":""},{"$f":"IF(E139=\"\",\"\",IF(C140=\"\",\"\",IF(E139>C140,\"NG\",\"\")))","v":""},"","","",{"$f":"COUNTIF(S139:W139,\"NG\")","v":0},"","",0,{"$f":"A139","v":"2031年度"},"単位期間Ⅰ",{"$f":"AF136+1","v":"2031-03-11"},47918,"2031-04-10",47948,{"$f":"IF(AD139=\"\",\"\",AF139-AD139+1)","v":31},{"$f":"IF(AH139=\"\",\"\",SUM(AH139:AH146))","v":184},20000000,20000000,0.01,{"$f":"IF(AF139=\"\",\"\",ROUNDDOWN(AK139*AL139*AH139/365,0))","v":16986},{"$f":"IF(AM139=\"\",\"\",SUM(AM139:AM146))","v":88298},20000000,1000000,20000000,1000000]
[null,null,{"$f":"IF(E140=\"\",\"\",IF(E139=\"\",\"\",IF(E139>=DATE(2031,9,10),\"\",E139+1)))","v":""},{"$f":"IF(C140=\"\",\"\",C140)","v":""},null,{"$f":"IF(E140=\"\",\"\",E140)","v":""},{"$f":"IF(E140=\"\",\"\",E140-C140+1)","v":""},null,{"$f":"IF(I139=\"\",\"\",IF(E140=\"\",\"\",I139-$C$11))","v":""},{"$f":"IF(J139=\"\",\"\",IF(F140=\"\",\"\",J139-$C$24))","v":""},{"$f":"IF(K139=\"\",\"\",$K$43)","v":0},{"$f":"IF(J140=\"\",\"\",ROUNDDOWN(J140*K140*G140/365,0))","v":""},null,{"$f":"IF(I140=\"\",$N$147,I140)","v":0},0,{"$f":"IF(J140=\"\",$P$147,J140)","v":0},0,"",{"$f":"IF(C140=\"\",\"\",IF(C140=E139,\"NG\",IF(C140<E139,\"NG\",IF((C140-E139)>1,\"NG\",\"\"))))","v":""},{"$f":"IF(E140=\"\",\"\",IF(C141=\"\",\"\",IF(E140>C141,\"NG\",\"\")))","v":""},null,"","",{"$f":"COUNTIF(S140:W140,\"NG\")","v":0},"","",0,null,null,{"$f":"AF139+1","v":"2031-04-11"},47949,"2031-05-12",47980,{"$f":"IF(AD140=\"\",\"\",AF140-AD140+1)","v":32},null,19000000,19000000,0.01,{"$f":"IF(AF140=\"\",\"\",ROUNDDOWN(AK140*AL140*AH140/365,0))","v":16657},null,19000000,1000000,19000000,1000000]
[null,null,{"$f":"IF(E141=\"\",\"\",IF(E140=\"\",\"\",IF(E140>=DATE(2031,9,10),\"\",E140+1)))","v":""},"",null,"","",null,{"$f":"IF(I140=\"\",\"\",IF(E141=\"\",\"\",I140-$C$11))","v":""},{"$f":"IF(J140=\"\",\"\",IF(F141=\"\",\"\",J140-$C$24))","v":""},{"$f":"IF(K140=\"\",\"\",$K$43)","v":0},"",null,0,0,0,0,"",{"$f":"IF(C141=\"\",\"\",IF(C141=E140,\"NG\",IF(C141<E140,\"NG\",IF((C141-E140)>1,\"NG\",\"\"))))","v":""},"",null,"","",0,"","",0,null,null,"2031-05-13",47981,"2031-06-10",48009,29,null,18000000,18000000,0.01,{"$f":"IF(AF141=\"\",\"\",ROUNDDOWN(AK141*AL141*AH141/365,0))","v":14301},null,18000000,1000000,18000000,1000000]
[null,null,"","",null,"","",null,{"$f":"IF(I141=\"\",\"\",IF(E142=\"\",\"\",I141-$C$11))","v":""},{"$f":"IF(J141=\"\",\"\",IF(F142=\"\",\"\",J141-$C$24))","v":""},0,"",null,0,0,0,0,"","","",null,"","",0,"","",0,null,null,"2031-06-11",48010,"2031-07-10",48039,30,null,17000000,17000000,0.01,13972,null,17000000,1000000,17000000,1000000]
[null,null,"","",null,"","",null,"","",0,"",null,0,0,0,0,"","","",null,"","",0,"","",0,null,null,"2031-07-11",48040,"2031-08-12",48072,33,null,16000000,16000000,0.01,14465,null,16000000,1000000,16000000,1000000]
[null,null,"","",null,"","",null,"","",0,"",null,0,0,0,0,"","",{"$f":"IF(E144=\"\",\"\",IF(C145=\"\",\"\",IF(E144>C145,\"NG\",\"\")))","v":""},null,"","",0,"","",0,null,null,"2031-08-13",48073,"2031-09-10",48101,29,null,15000000,15000000,0.01,11917,null,15000000,1000000,15000000,1000000]
[null,null,"","",null,"","",null,"","",0,"",null,0,0,0,0,"","",{"$f":"IF(D145=\"\",\"\",IF(D145<C145,\"NG\",\"\"))","v":""},null,"","",0,"","",0,null,null,null,"",null,"","",null,null,null,0.01,"",null,15000000,0,14000000,0]
[null,null,{"$f":"IF(X146>0,$S$38,\"\")","v":""},null,null,null,null,null,null,null,0,{"$f":"IF(J146=\"\",\"\",ROUNDDOWN(J146*K146*G146/365,0))","v":""},null,0,{"$f":"IF(N146-N147<0,0,N146-N147)","v":0},0,0,"",null,null,"2031-09-09","2032-03-12",null,{"$f":"SUM(X139:X145)","v":0},"","",0,null,null,null,"",null,"",null,null,null,null,0.01,"",null,15000000,0,14000000,0]
[null,"単位期間Ⅱ",{"$f":"IF(E147=\"\",\"\",IF(E145>M318,E145+1,IF(E144>M318,E144+1,IF(E143>M318,E143+1,IF(E142>M318,E142+1,IF(E141>M318,E141+1,IF(E140>M318,E140+1,IF(E139>M318,E139+1,IF(C124>M318,C124,\"\")))))))))","v":""},{"$f":"IF(C147=\"\",\"\",C147)","v":""},null,{"$f":"IF(E147=\"\",\"\",E147)","v":""},{"$f":"IF(E147=\"\",\"\",E147-C147+1)","v":""},{"$f":"IF(G147=\"\",\"\",SUM(G147:G154))","v":""},null,null,0,{"$f":"IF(J147=\"\",\"\",ROUNDDOWN(J147*K147*G147/365,0))","v":""},{"$f":"IF(L147=\"\",\"\",SUM(L147:L154))","v":""},{"$f":"IF(I147=\"\",$N$155,I147)","v":0},0,{"$f":"IF(J147=\"\",$P$155,J147)","v":0},0,"",{"$f":"IF(C147=\"\",\"\",IF(C147>E147,\"NG\",\"\"))","v":""},{"$f":"IF(E147=\"\",\"\",IF(C148=\"\",\"\",IF(E147>C148,\"NG\",\"\")))","v":""},"","","",{"$f":"COUNTIF(S147:W147,\"NG\")","v":0},"","",0,null,"単位期間Ⅱ",{"$f":"AF144+1","v":"2031-09-11"},48102,"2031-10-10",48131,{"$f":"IF(AD147=\"\",\"\",AF147-AD147+1)","v":30},{"$f":"IF(AH147=\"\",\"\",SUM(AH147:AH154))","v":182},14000000,14000000,0.01,{"$f":"IF(AD147=\"\",\"\",ROUNDDOWN(AK147*AL147*AH147/365,0))","v":11506},{"$f":"IF(AM147=\"\",\"\",SUM(AM147:AM154))","v":57477},14000000,1000000,14000000,1000000]
[null,null,{"$f":"IF(E148=\"\",\"\",IF(E147=\"\",\"\",IF(E147>=DATE(2032,3,10),\"\",E147+1)))","v":""},{"$f":"IF(C148=\"\",\"\",C148)","v":""},null,{"$f":"IF(E148=\"\",\"\",E148)","v":""},{"$f":"IF(E148=\"\",\"\",E148-C148+1)","v":""},null,{"$f":"IF(I147=\"\",\"\",IF(E148=\"\",\"\",I147-$C$11))","v":""},{"$f":"IF(J147=\"\",\"\",IF(F148=\"\",\"\",J147-$C$24))","v":""},0,{"$f":"IF(J148=\"\",\"\",ROUNDDOWN(J148*K148*G148/365,0))","v":""},null,{"$f":"IF(I148=\"\",$N$155,I148)","v":0},0,{"$f":"IF(J148=\"\",$P$155,J148)","v":0},0,"",{"$f":"IF(C148=\"\",\"\",IF(C148=E147,\"NG\",IF(C148<E147,\"NG\",IF((C148-E147)>1,\"NG\",\"\"))))","v":""},{"$f":"IF(E148=\"\",\"\",IF(C149=\"\",\"\",IF(E148>C149,\"NG\",\"\")))","v":""},null,"","",{"$f":"COUNTIF(S148:W148,\"NG\")","v":0},"","",0,null,null,{"$f":"AF147+1","v":"2031-10-11"},48132,"2031-11-10",48162,{"$f":"IF(AD148=\"\",\"\",AF148-AD148+1)","v":31},null,13000000,13000000,0.01,11041,null,13000000,1000000,13000000,1000000]
[null,null,{"$f":"IF(E149=\"\",\"\",IF(E148=\"\",\"\",IF(E148>=DATE(2032,3,10),\"\",E148+1)))","v":""},"",null,"","",null,{"$f":"IF(I148=\"\",\"\",IF(E149=\"\",\"\",I148-$C$11))","v":""},{"$f":"IF(J148=\"\",\"\",IF(F149=\"\",\"\",J148-$C$24))","v":""},0,"",null,0,0,0,0,"",{"$f":"IF(C149=\"\",\"\",IF(C149=E148,\"NG\",IF(C149<E148,\"NG\",IF((C149-E148)>1,\"NG\",\"\"))))","v":""},"",null,"","",0,"","",0,null,null,"2031-11-11",48163,"2031-12-10",48192,30,null,12000000,12000000,0.01,9863,null,12000000,1000000,12000000,1000000]
[null,null,"","",null,"","",null,"","",0,"",null,0,0,0,0,"","","",null,"","",0,"","",0,null,null,"2031-12-11",48193,"2032-01-13",48226,34,null,11000000,11000000,0.01,10246,null,11000000,1000000,11000000,1000000]
[null,null,"","",null,"","",null,"","",0,"",null,0,0,0,0,"","","",null,"","",0,"","",0,null,null,"2032-01-14",48227,"2032-02-10",48254,28,null,10000000,10000000,0.01,7671,null,10000000,1000000,10000000,1000000]
[null,null,"","",null,"","",null,"","",0,"",null,0,0,0,0,"","",{"$f":"IF(E152=\"\",\"\",IF(C153=\"\",\"\",IF(E152>C153,\"NG\",\"\")))","v":""},null,"","",0,"","",0,null,null,"2032-02-11",48255,"2032-03-10",48283,29,null,9000000,9000000,0.01,7150,null,9000000,1000000,9000000,1000000]
[null,null,"","",null,"","",null,"","",0,"",null,0,0,0,0,"","",{"$f":"IF(D153=\"\",\"\",IF(D153<C153,\"NG\",\"\"))","v":""},null,"","",0,"","",0,null,null,null,"",null,"","",null,null,null,0.01,"",null,9000000,0,8000000,0]
[null,null,{"$f":"IF(X154>0,$S$38,\"\")","v":""},null,null,null,null,null,null,null,0,{"$f":"IF(J154=\"\",\"\",ROUNDDOWN(J154*K154*G154/365,0))","v":""},null,0,{"$f":"IF(N154-N155<0,0,N154-N155)","v":0},0,0,"",null,null,"2032-03-09","2032-09-12",null,{"$f":"SUM(X147:X153)","v":0},"","",0,null,null,null,"",null,"",null,null,null,null,0.01,"",null,9000000,0,8000000,0]
[{"$f":"YEAR(U162)&\"年度\"","v":"2032年度"},"単位期間Ⅰ",{"$f":"IF(E155=\"\",\"\",IF(E153>0,E153+1,IF(E152>0,E152+1,IF(E151>0,E151+1,IF(E150>0,E150+1,IF(E149>0,E149+1,IF(E148>0,E148+1,E147+1)))))))","v":""},{"$f":"IF(C155=\"\",\"\",C155)","v":""},null,{"$f":"IF(E155=\"\",\"\",E155)","v":""},{"$f":"IF(E155=\"\",\"\",E155-C155+1)","v":""},{"$f":"IF(G155=\"\",\"\",SUM(G155:G162))","v":""},null,null,{"$f":"IF(K154=\"\",\"\",$K$43)","v":0},{"$f":"IF(J155=\"\",\"\",ROUNDDOWN(J155*K155*G155/365,0))","v":""},{"$f":"IF(L155=\"\",\"\",SUM(L155:L162))","v":""},{"$f":"IF(I155=\"\",$N$163,I155)","v":0},0,{"$f":"IF(J155=\"\",$P$163,J155)","v":0},0,"",{"$f":"IF(C155=\"\",\"\",IF(C155>E155,\"NG\",\"\"))","v":""},{"$f":"IF(E155=\"\",\"\",IF(C156=\"\",\"\",IF(E155>C156,\"NG\",\"\")))","v":""},"","","",{"$f":"COUNTIF(S155:W155,\"NG\")","v":0},"","",0,{"$f":"A155","v":"2032年度"},"単位期間Ⅰ",{"$f":"AF152+1","v":"2032-03-11"},48284,"2032-04-12",48316,{"$f":"IF(AD155=\"\",\"\",AF155-AD155+1)","v":33},{"$f":"IF(AH155=\"\",\"\",SUM(AH155:AH162))","v":184},8000000,8000000,0.01,{"$f":"IF(AF155=\"\",\"\",ROUNDDOWN(AK155*AL155*AH155/365,0))","v":7232},{"$f":"IF(AM155=\"\",\"\",SUM(AM155:AM162))","v":27804},8000000,1000000,8000000,1000000]
[null,null,{"$f":"IF(E156=\"\",\"\",IF(E155=\"\",\"\",IF(E155>=DATE(2032,9,10),\"\",E155+1)))","v":""},{"$f":"IF(C156=\"\",\"\",C156)","v":""},null,{"$f":"IF(E156=\"\",\"\",E156)","v":""},{"$f":"IF(E156=\"\",\"\",E156-C156+1)","v":""},null,{"$f":"IF(I155=\"\",\"\",IF(E156=\"\",\"\",I155-$C$11))","v":""},{"$f":"IF(J155=\"\",\"\",IF(F156=\"\",\"\",J155-$C$24))","v":""},{"$f":"IF(K155=\"\",\"\",$K$43)","v":0},{"$f":"IF(J156=\"\",\"\",ROUNDDOWN(J156*K156*G156/365,0))","v":""},null,{"$f":"IF(I156=\"\",$N$163,I156)","v":0},0,{"$f":"IF(J156=\"\",$P$163,J156)","v":0},0,"",{"$f":"IF(C156=\"\",\"\",IF(C156=E155,\"NG\",IF(C156<E155,\"NG\",IF((C156-E155)>1,\"NG\",\"\"))))","v":""},{"$f":"IF(E156=\"\",\"\",IF(C157=\"\",\"\",IF(E156>C157,\"NG\",\"\")))","v":""},null,"","",{"$f":"COUNTIF(S156:W156,\"NG\")","v":0},"","",0,null,null,{"$f":"AF155+1","v":"2032-04-13"},48317,"2032-05-10",48344,{"$f":"IF(AD156=\"\",\"\",AF156-AD156+1)","v":28},null,7000000,7000000,0.01,{"$f":"IF(AF156=\"\",\"\",ROUNDDOWN(AK156*AL156*AH156/365,0))","v":5369},null,7000000,1000000,7000000,1000000]
[null,null,{"$f":"IF(E157=\"\",\"\",IF(E156=\"\",\"\",IF(E156>=DATE(2032,9,10),\"\",E156+1)))","v":""},"",null,"","",null,{"$f":"IF(I156=\"\",\"\",IF(E157=\"\",\"\",I156-$C$11))","v":""},{"$f":"IF(J156=\"\",\"\",IF(F157=\"\",\"\",J156-$C$24))","v":""},{"$f":"IF(K156=\"\",\"\",$K$43)","v":0},"",null,0,0,0,0,"",{"$f":"IF(C157=\"\",\"\",IF(C157=E156,\"NG\",IF(C157<E156,\"NG\",IF((C157-E156)>1,\"NG\",\"\"))))","v":""},"",null,"","",0,"","",0,null,null,"2032-05-11",48345,"2032-06-10",48375,31,null,6000000,6000000,0.01,{"$f":"IF(AF157=\"\",\"\",ROUNDDOWN(AK157*AL157*AH157/365,0))","v":5095},null,6000000,1000000,6000000,1000000]
[null,null,"","",null,"","",null,{"$f":"IF(I157=\"\",\"\",IF(E158=\"\",\"\",I157-$C$11))","v":""},{"$f":"IF(J157=\"\",\"\",IF(F158=\"\",\"\",J157-$C$24))","v":""},0,"",null,0,0,0,0,"","","",null,"","",0,{"$f":"IF($O158=$I158,\"\",IF($O158=0,\"\",IF($O158=$Y$41,\"\",\"NG\")))","v":""},{"$f":"IF($Q158=$J158,\"\",IF($Q158=0,\"\",IF($Q158=$Z$41,\"\",\"NG\")))","v":""},0,null,null,"2032-06-11",48376,"2032-07-12",48407,32,null,5000000,5000000,0.01,4383,null,5000000,1000000,5000000,1000000]
[null,null,"","",null,"","",null,"","",0,"",null,0,0,0,0,"","","",null,"","",0,{"$f":"IF($O159=$I159,\"\",IF($O159=0,\"\",IF($O159=$Y$41,\"\",\"NG\")))","v":""},{"$f":"IF($Q159=$J159,\"\",IF($Q159=0,\"\",IF($Q159=$Z$41,\"\",\"NG\")))","v":""},0,null,null,"2032-07-13",48408,"2032-08-10",48436,29,null,4000000,4000000,0.01,3178,null,4000000,1000000,4000000,1000000]
[null,null,"","",null,"","",null,"","",0,"",null,{"$f":"IF(I160=\"\",$N$163,I160)","v":0},0,{"$f":"IF(J160=\"\",$P$163,J160)","v":0},0,"","",{"$f":"IF(E160=\"\",\"\",IF(C161=\"\",\"\",IF(E160>C161,\"NG\",\"\")))","v":""},null,"","",0,"","",0,null,null,"2032-08-11",48437,"2032-09-10",48467,31,null,3000000,3000000,0.01,2547,null,3000000,1000000,3000000,1000000]
[null,null,"","",null,"","",null,"","",0,"",null,{"$f":"IF(I161=\"\",$N$163,I161)","v":0},0,{"$f":"IF(J161=\"\",$P$163,J161)","v":0},0,"","",{"$f":"IF(D161=\"\",\"\",IF(D161<C161,\"NG\",\"\"))","v":""},null,"","",0,"","",0,null,null,null,"",null,"","",null,null,null,0.01,"",null,3000000,0,2000000,0]
[null,null,{"$f":"IF(X162>0,$S$38,\"\")","v":""},null,null,null,null,null,null,null,0,{"$f":"IF(J162=\"\",\"\",ROUNDDOWN(J162*K162*G162/365,0))","v":""},null,{"$f":"IF(I162=\"\",$N$163,I162)","v":0},{"$f":"IF(N162-N163<0,0,N162-N163)","v":0},{"$f":"IF(J162=\"\",$P$163,J162)","v":0},0,"",null,null,"2032-09-09","2033-03-12",null,{"$f":"SUM(X155:X161)","v":0},"","",0,null,null,null,"",null,"",null,null,null,null,0.01,"",null,3000000,0,2000000,0]
[null,"単位期間Ⅱ",{"$f":"IF(E163=\"\",\"\",IF(E161>M334,E161+1,IF(E160>M334,E160+1,IF(E159>M334,E159+1,IF(E158>M334,E158+1,IF(E157>M334,E157+1,IF(E156>M334,E156+1,IF(E155>M334,E155+1,IF(C140>M334,C140,\"\")))))))))","v":""},{"$f":"IF(C163=\"\",\"\",C163)","v":""},null,{"$f":"IF(E163=\"\",\"\",E163)","v":""},{"$f":"IF(E163=\"\",\"\",E163-C163+1)","v":""},{"$f":"IF(G163=\"\",\"\",SUM(G163:G170))","v":""},null,null,0,{"$f":"IF(J163=\"\",\"\",ROUNDDOWN(J163*K163*G163/365,0))","v":""},{"$f":"IF(L163=\"\",\"\",SUM(L163:L170))","v":""},{"$f":"IF(I163=\"\",$N$171,I163)","v":0},0,{"$f":"IF(J163=\"\",$P$171,J163)","v":0},0,"",{"$f":"IF(C163=\"\",\"\",IF(C163>E163,\"NG\",\"\"))","v":""},{"$f":"IF(E163=\"\",\"\",IF(C164=\"\",\"\",IF(E163>C164,\"NG\",\"\")))","v":""},"","","",{"$f":"COUNTIF(S163:W163,\"NG\")","v":0},"","",0,null,"単位期間Ⅱ",{"$f":"AF160+1","v":"2032-09-11"},48468,"2032-10-12",48499,{"$f":"IF(AD163=\"\",\"\",AF163-AD163+1)","v":32},{"$f":"IF(AH163=\"\",\"\",SUM(AH163:AH170))","v":61},2000000,2000000,0.01,{"$f":"IF(AD163=\"\",\"\",ROUNDDOWN(AK163*AL163*AH163/365,0))","v":1753},{"$f":"IF(AM163=\"\",\"\",SUM(AM163:AM170))","v":2547},2000000,1000000,2000000,1000000]
[null,null,{"$f":"IF(E164=\"\",\"\",IF(E163=\"\",\"\",IF(E163>=DATE(2033,3,10),\"\",E163+1)))","v":""},{"$f":"IF(C164=\"\",\"\",C164)","v":""},null,{"$f":"IF(E164=\"\",\"\",E164)","v":""},{"$f":"IF(E164=\"\",\"\",E164-C164+1)","v":""},null,{"$f":"IF(I163=\"\",\"\",IF(E164=\"\",\"\",I163-$C$11))","v":""},{"$f":"IF(J163=\"\",\"\",IF(F164=\"\",\"\",J163-$C$24))","v":""},0,{"$f":"IF(J164=\"\",\"\",ROUNDDOWN(J164*K164*G164/365,0))","v":""},null,{"$f":"IF(I164=\"\",$N$171,I164)","v":0},0,{"$f":"IF(J164=\"\",$P$171,J164)","v":0},0,"",{"$f":"IF(C164=\"\",\"\",IF(C164=E163,\"NG\",IF(C164<E163,\"NG\",IF((C164-E163)>1,\"NG\",\"\"))))","v":""},{"$f":"IF(E164=\"\",\"\",IF(C165=\"\",\"\",IF(E164>C165,\"NG\",\"\")))","v":""},null,"","",{"$f":"COUNTIF(S164:W164,\"NG\")","v":0},"","",0,null,null,{"$f":"AF163+1","v":"2032-10-13"},48500,"2032-11-10",48528,{"$f":"IF(AD164=\"\",\"\",AF164-AD164+1)","v":29},null,1000000,1000000,0.01,794,null,1000000,1000000,1000000,1000000]
[null,null,{"$f":"IF(E165=\"\",\"\",IF(E164=\"\",\"\",IF(E164>=DATE(2033,3,10),\"\",E164+1)))","v":""},"",null,"","",null,{"$f":"IF(I164=\"\",\"\",IF(E165=\"\",\"\",I164-$C$11))","v":""},{"$f":"IF(J164=\"\",\"\",IF(F165=\"\",\"\",J164-$C$24))","v":""},0,"",null,0,0,0,0,"",{"$f":"IF(C165=\"\",\"\",IF(C165=E164,\"NG\",IF(C165<E164,\"NG\",IF((C165-E164)>1,\"NG\",\"\"))))","v":""},"",null,"",{"$f":"IF(G165>0,\"\",\"NG\")","v":""},0,"","",0,null,null,null,{"$f":"IF(AD165=\"\",\"\",AD165)","v":""},null,"","",null,null,null,0.01,"",null,1000000,0,1000000,0]
[null,null,"","",null,"","",null,"","",0,"",null,0,0,0,0,"","","",null,"","",0,"","",0,null,null,null,"",null,"","",null,null,null,0.01,"",null,1000000,0,1000000,0]
[null,null,"","",null,"","",null,"","",0,"",null,0,0,0,0,"","","",null,"","",0,"","",0,null,null,null,"",null,"","",null,null,null,0.01,"",null,1000000,0,1000000,0]
[null,null,"","",null,"","",null,"","",0,"",null,0,0,0,0,"","",{"$f":"IF(E168=\"\",\"\",IF(C169=\"\",\"\",IF(E168>C169,\"NG\",\"\")))","v":""},null,"","",0,"","",0,null,null,null,"",null,"","",null,null,null,0.01,"",null,1000000,0,1000000,0]
[null,null,"","",null,"","",null,"","",0,"",null,0,0,0,0,"","",{"$f":"IF(D169=\"\",\"\",IF(D169<C169,\"NG\",\"\"))","v":""},null,"","",0,"","",0,null,null,null,"",null,"","",null,null,null,0.01,"",null,1000000,0,1000000,0]
[null,null,{"$f":"IF(X170>0,$S$38,\"\")","v":""},null,null,null,null,null,null,null,0,{"$f":"IF(J170=\"\",\"\",ROUNDDOWN(J170*K170*G170/365,0))","v":""},null,0,{"$f":"IF(N170-N171<0,0,N170-N171)","v":0},0,0,"",null,null,"2033-03-09","2033-09-12",null,{"$f":"SUM(X163:X169)","v":0},"","",0,null,null,null,"",null,"",null,null,null,null,0.01,"",null,1000000,0,1000000,0]
[{"$f":"YEAR(U178)&\"年度\"","v":"2033年度"},"単位期間Ⅰ",{"$f":"IF(E171=\"\",\"\",IF(E169>0,E169+1,IF(E168>0,E168+1,IF(E167>0,E167+1,IF(E166>0,E166+1,IF(E165>0,E165+1,IF(E164>0,E164+1,E163+1)))))))","v":""},{"$f":"IF(C171=\"\",\"\",C171)","v":""},null,{"$f":"IF(E171=\"\",\"\",E171)","v":""},{"$f":"IF(E171=\"\",\"\",E171-C171+1)","v":""},{"$f":"IF(G171=\"\",\"\",SUM(G171:G178))","v":""},null,null,{"$f":"IF(K170=\"\",\"\",$K$43)","v":0},{"$f":"IF(J171=\"\",\"\",ROUNDDOWN(J171*K171*G171/365,0))","v":""},{"$f":"IF(L171=\"\",\"\",SUM(L171:L178))","v":""},{"$f":"IF(I171=\"\",$N$179,I171)","v":0},0,{"$f":"IF(J171=\"\",$P$179,J171)","v":0},0,"",{"$f":"IF(C171=\"\",\"\",IF(C171>E171,\"NG\",\"\"))","v":""},{"$f":"IF(E171=\"\",\"\",IF(C172=\"\",\"\",IF(E171>C172,\"NG\",\"\")))","v":""},"","","",{"$f":"COUNTIF(S171:W171,\"NG\")","v":0},"","",0,{"$f":"A171","v":"2033年度"},"単位期間Ⅰ",null,"",null,"",{"$f":"IF(AD171=\"\",\"\",AF171-AD171+1)","v":""},{"$f":"IF(AH171=\"\",\"\",SUM(AH171:AH178))","v":""},null,null,0.01,{"$f":"IF(AF171=\"\",\"\",ROUNDDOWN(AK171*AL171*AH171/365,0))","v":""},{"$f":"IF(AM171=\"\",\"\",SUM(AM171:AM178))","v":""},{"$f":"IF(AJ171=\"\",AO170,AJ171)","v":1000000},"-",1000000,"-"]
[null,null,{"$f":"IF(E172=\"\",\"\",IF(E171=\"\",\"\",IF(E171>=DATE(2033,9,10),\"\",E171+1)))","v":""},{"$f":"IF(C172=\"\",\"\",C172)","v":""},null,{"$f":"IF(E172=\"\",\"\",E172)","v":""},{"$f":"IF(E172=\"\",\"\",E172-C172+1)","v":""},null,{"$f":"IF(I171=\"\",\"\",IF(E172=\"\",\"\",I171-$C$11))","v":""},{"$f":"IF(J171=\"\",\"\",IF(F172=\"\",\"\",J171-$C$24))","v":""},{"$f":"IF(K171=\"\",\"\",$K$43)","v":0},{"$f":"IF(J172=\"\",\"\",ROUNDDOWN(J172*K172*G172/365,0))","v":""},null,{"$f":"IF(I172=\"\",$N$179,I172)","v":0},0,{"$f":"IF(J172=\"\",$P$179,J172)","v":0},0,"",{"$f":"IF(C172=\"\",\"\",IF(C172=E171,\"NG\",IF(C172<E171,\"NG\",IF((C172-E171)>1,\"NG\",\"\"))))","v":""},{"$f":"IF(E172=\"\",\"\",IF(C173=\"\",\"\",IF(E172>C173,\"NG\",\"\")))","v":""},null,"","",{"$f":"COUNTIF(S172:W172,\"NG\")","v":0},"","",0,null,null,null,{"$f":"IF(AD172=\"\",\"\",AD172)","v":""},null,{"$f":"IF(AF172=\"\",\"\",AF172)","v":""},{"$f":"IF(AD172=\"\",\"\",AF172-AD172+1)","v":""},null,null,null,0.01,{"$f":"IF(AF172=\"\",\"\",ROUNDDOWN(AK172*AL172*AH172/365,0))","v":""},null,1000000,0,1000000,0]
[null,null,{"$f":"IF(E173=\"\",\"\",IF(E172=\"\",\"\",IF(E172>=DATE(2033,9,10),\"\",E172+1)))","v":""},"",null,"","",null,{"$f":"IF(I172=\"\",\"\",IF(E173=\"\",\"\",I172-$C$11))","v":""},{"$f":"IF(J172=\"\",\"\",IF(F173=\"\",\"\",J172-$C$24))","v":""},{"$f":"IF(K172=\"\",\"\",$K$43)","v":0},"",null,0,0,0,0,{"$f":"IF(AA173>0,$Y$38,\"\")","v":""},{"$f":"IF(C173=\"\",\"\",IF(C173=E172,\"NG\",IF(C173<E172,\"NG\",IF((C173-E172)>1,\"NG\",\"\"))))","v":""},"",null,"","",0,"","",{"$f":"COUNTIF(Y173:Z173,\"NG\")","v":0},null,null,null,"",null,"","",null,null,null,0.01,{"$f":"IF(AF173=\"\",\"\",ROUNDDOWN(AK173*AL173*AH173/365,0))","v":""},null,1000000,0,1000000,0]
[null,null,"","",null,"","",null,{"$f":"IF(I173=\"\",\"\",IF(E174=\"\",\"\",I173-$C$11))","v":""},{"$f":"IF(J173=\"\",\"\",IF(F174=\"\",\"\",J173-$C$24))","v":""},0,"",null,0,0,0,0,"","","",null,"","",0,"","",0,null,null,null,"",null,"","",null,null,null,0.01,"",null,1000000,0,1000000,0]
[null,null,"","",null,"","",null,"","",0,"",null,0,0,0,0,"","","",null,"","",0,"","",0,null,null,null,"",null,"","",null,null,null,0.01,"",null,1000000,0,1000000,0]
[null,null,"","",null,"","",null,"","",0,"",null,0,0,0,0,"","",{"$f":"IF(E176=\"\",\"\",IF(C177=\"\",\"\",IF(E176>C177,\"NG\",\"\")))","v":""},null,"","",0,"","",0,null,null,null,"",null,"","",null,null,null,0.01,"",null,1000000,0,1000000,0]
[null,null,"","",null,"","",null,"","",0,"",null,0,0,0,0,"","",{"$f":"IF(D177=\"\",\"\",IF(D177<C177,\"NG\",\"\"))","v":""},null,"","",0,"","",0,null,null,null,"",null,"","",null,null,null,0.01,"",null,1000000,0,1000000,0]
[null,null,{"$f":"IF(X178>0,$S$38,\"\")","v":""},null,null,null,null,null,null,null,0,{"$f":"IF(J178=\"\",\"\",ROUNDDOWN(J178*K178*G178/365,0))","v":""},null,0,{"$f":"IF(N178-N179<0,0,N178-N179)","v":0},0,0,"",null,null,"2033-09-09","2034-03-12",null,{"$f":"SUM(X171:X177)","v":0},"","",0,null,null,null,"",null,"",null,null,null,null,0.01,"",null,1000000,0,1000000,0]
[null,"単位期間Ⅱ",{"$f":"IF(E179=\"\",\"\",IF(E177>M349,E177+1,IF(E176>M349,E176+1,IF(E175>M349,E175+1,IF(E174>M349,E174+1,IF(E173>M349,E173+1,IF(E172>M349,E172+1,IF(E171>M349,E171+1,IF(C156>M349,C156,\"\")))))))))","v":""},{"$f":"IF(C179=\"\",\"\",C179)","v":""},null,{"$f":"IF(E179=\"\",\"\",E179)","v":""},{"$f":"IF(E179=\"\",\"\",E179-C179+1)","v":""},{"$f":"IF(G179=\"\",\"\",SUM(G179:G186))","v":""},null,null,0,{"$f":"IF(J179=\"\",\"\",ROUNDDOWN(J179*K179*G179/365,0))","v":""},{"$f":"IF(L179=\"\",\"\",SUM(L179:L186))","v":""},{"$f":"IF(I179=\"\",$N$187,I179)","v":0},0,{"$f":"IF(J179=\"\",$P$187,J179)","v":0},0,"",{"$f":"IF(C179=\"\",\"\",IF(C179>E179,\"NG\",\"\"))","v":""},{"$f":"IF(E179=\"\",\"\",IF(C180=\"\",\"\",IF(E179>C180,\"NG\",\"\")))","v":""},"","","",{"$f":"COUNTIF(S179:W179,\"NG\")","v":0},"","",0,null,"単位期間Ⅱ",null,"",null,"",null,null,null,null,0.01,{"$f":"IF(AD179=\"\",\"\",ROUNDDOWN(AK179*AL179*AH179/365,0))","v":""},{"$f":"IF(AM179=\"\",\"\",SUM(AM179:AM186))","v":""},1000000,0,1000000,0]
[null,null,{"$f":"IF(E180=\"\",\"\",IF(E179=\"\",\"\",IF(E179>=DATE(2034,3,10),\"\",E179+1)))","v":""},{"$f":"IF(C180=\"\",\"\",C180)","v":""},null,{"$f":"IF(E180=\"\",\"\",E180)","v":""},{"$f":"IF(E180=\"\",\"\",E180-C180+1)","v":""},null,{"$f":"IF(I179=\"\",\"\",IF(E180=\"\",\"\",I179-$C$11))","v":""},{"$f":"IF(J179=\"\",\"\",IF(F180=\"\",\"\",J179-$C$24))","v":""},0,{"$f":"IF(J180=\"\",\"\",ROUNDDOWN(J180*K180*G180/365,0))","v":""},null,{"$f":"IF(I180=\"\",$N$187,I180)","v":0},{"$f":"N180-N181","v":0},{"$f":"IF(J180=\"\",$P$187,J180)","v":0},{"$f":"P180-P181","v":0},"",{"$f":"IF(C180=\"\",\"\",IF(C180=E179,\"NG\",IF(C180<E179,\"NG\",IF((C180-E179)>1,\"NG\",\"\"))))","v":""},{"$f":"IF(E180=\"\",\"\",IF(C181=\"\",\"\",IF(E180>C181,\"NG\",\"\")))","v":""},null,"","",{"$f":"COUNTIF(S180:W180,\"NG\")","v":0},"","",0,null,null,null,"",null,"",null,null,null,null,0.01,"",null,1000000,0,1000000,0]
[null,null,{"$f":"IF(E181=\"\",\"\",IF(E180=\"\",\"\",IF(E180>=DATE(2034,3,10),\"\",E180+1)))","v":""},"",null,"","",null,{"$f":"IF(I180=\"\",\"\",IF(E181=\"\",\"\",I180-$C$11))","v":""},{"$f":"IF(J180=\"\",\"\",IF(F181=\"\",\"\",J180-$C$24))","v":""},0,"",null,0,0,0,0,"",{"$f":"IF(C181=\"\",\"\",IF(C181=E180,\"NG\",IF(C181<E180,\"NG\",IF((C181-E180)>1,\"NG\",\"\"))))","v":""},"",null,"","",0,"","",0,null,null,null,"",null,"",null,null,null,null,0.01,"",null,1000000,0,1000000,0]
[null,null,"","",null,"","",null,"","",0,"",null,0,0,0,0,"","","",null,"","",0,"","",0,null,null,null,"",null,"",null,null,null,null,0.01,"",null,1000000,0,1000000,0]
[null,null,"","",null,"","",null,"","",0,"",null,0,0,0,0,"","","",null,"","",0,"","",0,null,null,null,"",null,"",null,null,null,null,0.01,"",null,1000000,0,1000000,0]
[null,null,"","",null,"","",null,"","",0,"",null,0,0,0,0,"","",{"$f":"IF(E184=\"\",\"\",IF(C185=\"\",\"\",IF(E184>C185,\"NG\",\"\")))","v":""},null,"","",0,"","",0,null,null,null,"",null,"",null,null,null,null,0.01,"",null,1000000,0,1000000,0]
[null,null,"","",null,"","",null,"","",0,"",null,0,0,0,0,"","",{"$f":"IF(D185=\"\",\"\",IF(D185<C185,\"NG\",\"\"))","v":""},null,"",{"$f":"IF(G185>0,\"\",\"NG\")","v":""},0,"","",0,null,null,null,"",null,"",null,null,null,null,0.01,"",null,1000000,0,1000000,0]
[null,null,{"$f":"IF(X186>0,$S$38,\"\")","v":""},null,null,null,null,null,null,null,0,{"$f":"IF(J186=\"\",\"\",ROUNDDOWN(J186*K186*G186/365,0))","v":""},null,0,{"$f":"IF(N186-N187<0,0,N186-N187)","v":0},0,0,"",null,null,"2034-03-09","2034-09-12",null,{"$f":"SUM(X179:X185)","v":0},"","",0,null,null,null,"",null,"",null,null,null,null,0.01,"",null,1000000,0,1000000,0]
[{"$f":"YEAR(U194)&\"年度\"","v":"2034年度"},"単位期間Ⅰ",{"$f":"IF(E187=\"\",\"\",IF(E185>0,E185+1,IF(E184>0,E184+1,IF(E183>0,E183+1,IF(E182>0,E182+1,IF(E181>0,E181+1,IF(E180>0,E180+1,E179+1)))))))","v":""},{"$f":"IF(C187=\"\",\"\",C187)","v":""},null,{"$f":"IF(E187=\"\",\"\",E187)","v":""},{"$f":"IF(E187=\"\",\"\",E187-C187+1)","v":""},{"$f":"IF(G187=\"\",\"\",SUM(G187:G194))","v":""},null,null,{"$f":"IF(K186=\"\",\"\",$K$43)","v":0},{"$f":"IF(J187=\"\",\"\",ROUNDDOWN(J187*K187*G187/365,0))","v":""},{"$f":"IF(L187=\"\",\"\",SUM(L187:L194))","v":""},{"$f":"IF(I187=\"\",$N$195,I187)","v":0},0,{"$f":"IF(J187=\"\",$P$195,J187)","v":0},0,"",{"$f":"IF(C187=\"\",\"\",IF(C187>E187,\"NG\",\"\"))","v":""},{"$f":"IF(E187=\"\",\"\",IF(C188=\"\",\"\",IF(E187>C188,\"NG\",\"\")))","v":""},"","",{"$f":"IF(G187>0,\"\",\"NG\")","v":""},{"$f":"COUNTIF(S187:W187,\"NG\")","v":0},"","",0,{"$f":"A187","v":"2034年度"},"単位期間Ⅰ",null,"",null,"",null,null,null,null,0.01,{"$f":"IF(AF187=\"\",\"\",ROUNDDOWN(AK187*AL187*AH187/365,0))","v":""},{"$f":"IF(AM187=\"\",\"\",SUM(AM187:AM194))","v":""},1000000,"-",1000000,"-"]
[null,null,{"$f":"IF(E188=\"\",\"\",IF(E187=\"\",\"\",IF(E187>=DATE(2034,9,10),\"\",E187+1)))","v":""},{"$f":"IF(C188=\"\",\"\",C188)","v":""},null,{"$f":"IF(E188=\"\",\"\",E188)","v":""},{"$f":"IF(E188=\"\",\"\",E188-C188+1)","v":""},null,{"$f":"IF(I187=\"\",\"\",IF(E188=\"\",\"\",I187-$C$11))","v":""},{"$f":"IF(J187=\"\",\"\",IF(F188=\"\",\"\",J187-$C$24))","v":""},{"$f":"IF(K187=\"\",\"\",$K$43)","v":0},{"$f":"IF(J188=\"\",\"\",ROUNDDOWN(J188*K188*G188/365,0))","v":""},null,{"$f":"IF(I188=\"\",$N$195,I188)","v":0},0,{"$f":"IF(J188=\"\",$P$195,J188)","v":0},0,"",{"$f":"IF(C188=\"\",\"\",IF(C188=E187,\"NG\",IF(C188<E187,\"NG\",IF((C188-E187)>1,\"NG\",\"\"))))","v":""},{"$f":"IF(E188=\"\",\"\",IF(C189=\"\",\"\",IF(E188>C189,\"NG\",\"\")))","v":""},null,"",{"$f":"IF(G188>0,\"\",\"NG\")","v":""},{"$f":"COUNTIF(S188:W188,\"NG\")","v":0},"","",0,null,null,null,"",null,"",null,null,null,null,0.01,{"$f":"IF(AF188=\"\",\"\",ROUNDDOWN(AK188*AL188*AH188/365,0))","v":""},null,1000000,0,1000000,0]
[null,null,{"$f":"IF(E189=\"\",\"\",IF(E188=\"\",\"\",IF(E188>=DATE(2034,9,10),\"\",E188+1)))","v":""},"",null,"","",null,{"$f":"IF(I188=\"\",\"\",IF(E189=\"\",\"\",I188-$C$11))","v":""},{"$f":"IF(J188=\"\",\"\",IF(F189=\"\",\"\",J188-$C$24))","v":""},{"$f":"IF(K188=\"\",\"\",$K$43)","v":0},"",null,0,0,0,0,"",{"$f":"IF(C189=\"\",\"\",IF(C189=E188,\"NG\",IF(C189<E188,\"NG\",IF((C189-E188)>1,\"NG\",\"\"))))","v":""},"",null,"","",0,"","",0,null,null,null,"",null,"",null,null,null,null,0.01,{"$f":"IF(AF189=\"\",\"\",ROUNDDOWN(AK189*AL189*AH189/365,0))","v":""},null,1000000,0,1000000,0]
[null,null,"","",null,"","",null,{"$f":"IF(I189=\"\",\"\",IF(E190=\"\",\"\",I189-$C$11))","v":""},{"$f":"IF(J189=\"\",\"\",IF(F190=\"\",\"\",J189-$C$24))","v":""},0,"",null,0,0,0,0,"","","",null,"","",0,"","",0,null,null,null,"",null,"",null,null,null,null,0.01,"",null,1000000,0,1000000,0]
[null,null,"","",null,"","",null,"","",0,"",null,0,0,0,0,"","","",null,"","",0,"","",0,null,null,null,"",null,"",null,null,null,null,0.01,"",null,1000000,0,1000000,0]
[null,null,"","",null,"","",null,"","",0,"",null,0,0,0,0,"","",{"$f":"IF(E192=\"\",\"\",IF(C193=\"\",\"\",IF(E192>C193,\"NG\",\"\")))","v":""},null,"","",0,"","",0,null,null,null,"",null,"",null,null,null,null,0.01,"",null,1000000,0,1000000,0]
[null,null,"","",null,"","",null,"","",0,"",null,0,0,0,0,"","",{"$f":"IF(D193=\"\",\"\",IF(D193<C193,\"NG\",\"\"))","v":""},null,"","",0,"","",0,null,null,null,"",null,"",null,null,null,null,0.01,"",null,1000000,0,1000000,0]
[null,null,{"$f":"IF(X194>0,$S$38,\"\")","v":""},null,null,null,null,null,null,null,0,{"$f":"IF(J194=\"\",\"\",ROUNDDOWN(J194*K194*G194/365,0))","v":""},null,0,{"$f":"IF(N194-N195<0,0,N194-N195)","v":0},0,0,"",null,null,"2034-09-09","2035-03-12",null,{"$f":"SUM(X187:X193)","v":0},"","",0,null,null,null,"",null,"",null,null,null,null,0.01,"",null,1000000,0,1000000,0]
[null,"単位期間Ⅱ",{"$f":"IF(E195=\"\",\"\",IF(E193>M365,E193+1,IF(E192>M365,E192+1,IF(E191>M365,E191+1,IF(E190>M365,E190+1,IF(E189>M365,E189+1,IF(E188>M365,E188+1,IF(E187>M365,E187+1,IF(C172>M365,C172,\"\")))))))))","v":""},{"$f":"IF(C195=\"\",\"\",C195)","v":""},null,{"$f":"IF(E195=\"\",\"\",E195)","v":""},{"$f":"IF(E195=\"\",\"\",E195-C195+1)","v":""},{"$f":"IF(G195=\"\",\"\",SUM(G195:G202))","v":""},null,null,0,{"$f":"IF(J195=\"\",\"\",ROUNDDOWN(J195*K195*G195/365,0))","v":""},{"$f":"IF(L195=\"\",\"\",SUM(L195:L202))","v":""},{"$f":"IF(I195=\"\",$N$203,I195)","v":0},0,{"$f":"IF(J195=\"\",$P$203,J195)","v":0},0,"",{"$f":"IF(C195=\"\",\"\",IF(C195>E195,\"NG\",\"\"))","v":""},{"$f":"IF(E195=\"\",\"\",IF(C196=\"\",\"\",IF(E195>C196,\"NG\",\"\")))","v":""},"","","",{"$f":"COUNTIF(S195:W195,\"NG\")","v":0},"","",0,null,"単位期間Ⅱ",null,"",null,"",null,null,null,null,0.01,{"$f":"IF(AD195=\"\",\"\",ROUNDDOWN(AK195*AL195*AH195/365,0))","v":""},{"$f":"IF(AM195=\"\",\"\",SUM(AM195:AM202))","v":""},1000000,0,1000000,0]
[null,null,{"$f":"IF(E196=\"\",\"\",IF(E195=\"\",\"\",IF(E195>=DATE(2035,3,10),\"\",E195+1)))","v":""},{"$f":"IF(C196=\"\",\"\",C196)","v":""},null,{"$f":"IF(E196=\"\",\"\",E196)","v":""},{"$f":"IF(E196=\"\",\"\",E196-C196+1)","v":""},null,{"$f":"IF(I195=\"\",\"\",IF(E196=\"\",\"\",I195-$C$11))","v":""},{"$f":"IF(J195=\"\",\"\",IF(F196=\"\",\"\",J195-$C$24))","v":""},0,{"$f":"IF(J196=\"\",\"\",ROUNDDOWN(J196*K196*G196/365,0))","v":""},null,{"$f":"IF(I196=\"\",$N$203,I196)","v":0},0,{"$f":"IF(J196=\"\",$P$203,J196)","v":0},0,"",{"$f":"IF(C196=\"\",\"\",IF(C196=E195,\"NG\",IF(C196<E195,\"NG\",IF((C196-E195)>1,\"NG\",\"\"))))","v":""},{"$f":"IF(E196=\"\",\"\",IF(C197=\"\",\"\",IF(E196>C197,\"NG\",\"\")))","v":""},null,"","",{"$f":"COUNTIF(S196:W196,\"NG\")","v":0},"","",0,null,null,null,"",null,"",null,null,null,null,0.01,"",null,1000000,0,1000000,0]
[null,null,{"$f":"IF(E197=\"\",\"\",IF(E196=\"\",\"\",IF(E196>=DATE(2035,3,10),\"\",E196+1)))","v":""},"",null,"","",null,{"$f":"IF(I196=\"\",\"\",IF(E197=\"\",\"\",I196-$C$11))","v":""},{"$f":"IF(J196=\"\",\"\",IF(F197=\"\",\"\",J196-$C$24))","v":""},0,"",null,0,0,0,0,"",{"$f":"IF(C197=\"\",\"\",IF(C197=E196,\"NG\",IF(C197<E196,\"NG\",IF((C197-E196)>1,\"NG\",\"\"))))","v":""},"",null,"","",0,"","",0,null,null,null,"",null,"",null,null,null,null,0.01,"",null,1000000,0,1000000,0]
[null,null,"","",null,"","",null,"","",0,"",null,0,0,0,0,"","","",null,"","",0,"","",0,null,null,null,"",null,"",null,null,null,null,0.01,"",null,1000000,0,1000000,0]
[null,null,"","",null,"","",null,"","",0,"",null,0,0,0,0,"","","",null,"","",0,"","",0,null,null,null,"",null,"",null,null,null,null,0.01,"",null,1000000,0,1000000,0]
[null,null,"","",null,"","",null,"","",0,"",null,0,0,0,0,"","",{"$f":"IF(E200=\"\",\"\",IF(C201=\"\",\"\",IF(E200>C201,\"NG\",\"\")))","v":""},null,"","",0,"","",0,null,null,null,"",null,"",null,null,null,null,0.01,"",null,1000000,0,1000000,0]
[null,null,"","",null,"","",null,"","",0,"",null,0,0,0,0,"","",{"$f":"IF(D201=\"\",\"\",IF(D201<C201,\"NG\",\"\"))","v":""},null,"","",0,"","",0,null,null,null,"",null,"",null,null,null,null,0.01,"",null,1000000,0,1000000,0]
[null,null,{"$f":"IF(X202>0,$S$38,\"\")","v":""},null,null,null,null,null,null,null,0,{"$f":"IF(J202=\"\",\"\",ROUNDDOWN(J202*K202*G202/365,0))","v":""},null,0,{"$f":"IF(N202-N203<0,0,N202-N203)","v":0},0,0,"",null,null,"2035-03-09","2035-09-12",null,{"$f":"SUM(X195:X201)","v":0},"","",0,null,null,null,"",null,"",null,null,null,null,0.01,"",null,1000000,0,1000000,0]
[{"$f":"YEAR(U210)&\"年度\"","v":"2035年度"},"単位期間Ⅰ",{"$f":"IF(E203=\"\",\"\",IF(E201>0,E201+1,IF(E200>0,E200+1,IF(E199>0,E199+1,IF(E198>0,E198+1,IF(E197>0,E197+1,IF(E196>0,E196+1,E195+1)))))))","v":""},{"$f":"IF(C203=\"\",\"\",C203)","v":""},null,{"$f":"IF(E203=\"\",\"\",E203)","v":""},{"$f":"IF(E203=\"\",\"\",E203-C203+1)","v":""},{"$f":"IF(G203=\"\",\"\",SUM(G203:G210))","v":""},null,null,{"$f":"IF(K202=\"\",\"\",$K$43)","v":0},{"$f":"IF(J203=\"\",\"\",ROUNDDOWN(J203*K203*G203/365,0))","v":""},{"$f":"IF(L203=\"\",\"\",SUM(L203:L210))","v":""},{"$f":"IF(I203=\"\",$N$211,I203)","v":0},0,{"$f":"IF(J203=\"\",$P$211,J203)","v":0},0,{"$f":"IF(AA203>0,$Y$38,\"\")","v":""},{"$f":"IF(C203=\"\",\"\",IF(C203>E203,\"NG\",\"\"))","v":""},{"$f":"IF(E203=\"\",\"\",IF(C204=\"\",\"\",IF(E203>C204,\"NG\",\"\")))","v":""},"","","",{"$f":"COUNTIF(S203:W203,\"NG\")","v":0},"","",0,{"$f":"A203","v":"2035年度"},"単位期間Ⅰ",null,"",null,"",null,null,null,null,0.01,{"$f":"IF(AF203=\"\",\"\",ROUNDDOWN(AK203*AL203*AH203/365,0))","v":""},{"$f":"IF(AM203=\"\",\"\",SUM(AM203:AM210))","v":""},1000000,"-",1000000,"-"]
[null,null,{"$f":"IF(E204=\"\",\"\",IF(E203=\"\",\"\",IF(E203>=DATE(2035,9,10),\"\",E203+1)))","v":""},{"$f":"IF(C204=\"\",\"\",C204)","v":""},null,{"$f":"IF(E204=\"\",\"\",E204)","v":""},{"$f":"IF(E204=\"\",\"\",E204-C204+1)","v":""},null,{"$f":"IF(I203=\"\",\"\",IF(E204=\"\",\"\",I203-$C$11))","v":""},{"$f":"IF(J203=\"\",\"\",IF(F204=\"\",\"\",J203-$C$24))","v":""},{"$f":"IF(K203=\"\",\"\",$K$43)","v":0},{"$f":"IF(J204=\"\",\"\",ROUNDDOWN(J204*K204*G204/365,0))","v":""},null,{"$f":"IF(I204=\"\",$N$211,I204)","v":0},0,{"$f":"IF(J204=\"\",$P$211,J204)","v":0},0,"",{"$f":"IF(C204=\"\",\"\",IF(C204=E203,\"NG\",IF(C204<E203,\"NG\",IF((C204-E203)>1,\"NG\",\"\"))))","v":""},{"$f":"IF(E204=\"\",\"\",IF(C205=\"\",\"\",IF(E204>C205,\"NG\",\"\")))","v":""},null,"","",{"$f":"COUNTIF(S204:W204,\"NG\")","v":0},"","",0,null,null,null,"",null,"",null,null,null,null,0.01,{"$f":"IF(AF204=\"\",\"\",ROUNDDOWN(AK204*AL204*AH204/365,0))","v":""},null,1000000,0,1000000,0]
[null,null,{"$f":"IF(E205=\"\",\"\",IF(E204=\"\",\"\",IF(E204>=DATE(2035,9,10),\"\",E204+1)))","v":""},"",null,"","",null,{"$f":"IF(I204=\"\",\"\",IF(E205=\"\",\"\",I204-$C$11))","v":""},{"$f":"IF(J204=\"\",\"\",IF(F205=\"\",\"\",J204-$C$24))","v":""},{"$f":"IF(K204=\"\",\"\",$K$43)","v":0},"",null,0,0,0,0,"",{"$f":"IF(C205=\"\",\"\",IF(C205=E204,\"NG\",IF(C205<E204,\"NG\",IF((C205-E204)>1,\"NG\",\"\"))))","v":""},"",null,"","",0,"","",0,null,null,null,"",null,"",null,null,null,null,0.01,{"$f":"IF(AF205=\"\",\"\",ROUNDDOWN(AK205*AL205*AH205/365,0))","v":""},null,1000000,0,1000000,0]
[null,null,"","",null,"","",null,{"$f":"IF(I205=\"\",\"\",IF(E206=\"\",\"\",I205-$C$11))","v":""},{"$f":"IF(J205=\"\",\"\",IF(F206=\"\",\"\",J205-$C$24))","v":""},0,"",null,0,0,0,0,"","","",null,"","",0,"","",0,null,null,null,"",null,"",null,null,null,null,0.01,"",null,1000000,0,1000000,0]
[null,null,"","",null,"","",null,"","",0,"",null,0,0,0,0,"","","",null,"","",0,"","",0,null,null,null,"",null,"",null,null,null,null,0.01,"",null,1000000,0,1000000,0]
[null,null,"","",null,"","",null,"","",0,"",null,0,0,0,0,"","","",null,"","",0,"","",0,null,null,null,"",null,"",null,null,null,null,0.01,"",null,1000000,0,1000000,0]
[null,null,"","",null,"","",null,"","",0,"",null,0,0,0,0,"","",{"$f":"IF(D209=\"\",\"\",IF(D209<C209,\"NG\",\"\"))","v":""},null,"","",0,"","",0,null,null,null,"",null,"",null,null,null,null,0.01,"",null,1000000,0,1000000,0]
[null,null,{"$f":"IF(X210>0,$S$38,\"\")","v":""},null,null,null,null,null,null,null,0,{"$f":"IF(J210=\"\",\"\",ROUNDDOWN(J210*K210*G210/365,0))","v":""},null,0,{"$f":"IF(N210-N211<0,0,N210-N211)","v":0},0,0,"",null,null,"2035-09-09","2036-03-12",null,{"$f":"SUM(X203:X209)","v":0},"","",0,null,null,null,"",null,"",null,null,null,null,0.01,"",null,1000000,0,1000000,0]
[null,"単位期間Ⅱ",{"$f":"IF(E211=\"\",\"\",IF(E209>M381,E209+1,IF(E208>M381,E208+1,IF(E207>M381,E207+1,IF(E206>M381,E206+1,IF(E205>M381,E205+1,IF(E204>M381,E204+1,IF(E203>M381,E203+1,IF(C188>M381,C188,\"\")))))))))","v":""},{"$f":"IF(C211=\"\",\"\",C211)","v":""},null,{"$f":"IF(E211=\"\",\"\",E211)","v":""},{"$f":"IF(E211=\"\",\"\",E211-C211+1)","v":""},{"$f":"IF(G211=\"\",\"\",SUM(G211:G218))","v":""},null,null,0,{"$f":"IF(J211=\"\",\"\",ROUNDDOWN(J211*K211*G211/365,0))","v":""},{"$f":"IF(L211=\"\",\"\",SUM(L211:L218))","v":""},{"$f":"IF(I211=\"\",$N$219,I211)","v":0},0,{"$f":"IF(J211=\"\",$P$219,J211)","v":0},0,"",{"$f":"IF(C211=\"\",\"\",IF(C211>E211,\"NG\",\"\"))","v":""},{"$f":"IF(E211=\"\",\"\",IF(C212=\"\",\"\",IF(E211>C212,\"NG\",\"\")))","v":""},"","","",{"$f":"COUNTIF(S211:W211,\"NG\")","v":0},"","",0,null,"単位期間Ⅱ",null,"",null,"",null,{"$f":"IF(AH211=\"\",\"\",SUM(AH211:AH218))","v":""},null,null,0.01,{"$f":"IF(AD211=\"\",\"\",ROUNDDOWN(AK211*AL211*AH211/365,0))","v":""},{"$f":"IF(AM211=\"\",\"\",SUM(AM211:AM218))","v":""},1000000,0,1000000,0]
[null,null,{"$f":"IF(E212=\"\",\"\",IF(E211=\"\",\"\",IF(E211>=DATE(2036,3,10),\"\",E211+1)))","v":""},{"$f":"IF(C212=\"\",\"\",C212)","v":""},null,{"$f":"IF(E212=\"\",\"\",E212)","v":""},{"$f":"IF(E212=\"\",\"\",E212-C212+1)","v":""},null,{"$f":"IF(I211=\"\",\"\",IF(E212=\"\",\"\",I211-$C$11))","v":""},{"$f":"IF(J211=\"\",\"\",IF(F212=\"\",\"\",J211-$C$24))","v":""},0,{"$f":"IF(J212=\"\",\"\",ROUNDDOWN(J212*K212*G212/365,0))","v":""},null,{"$f":"IF(I212=\"\",$N$219,I212)","v":0},0,{"$f":"IF(J212=\"\",$P$219,J212)","v":0},0,"",{"$f":"IF(C212=\"\",\"\",IF(C212=E211,\"NG\",IF(C212<E211,\"NG\",IF((C212-E211)>1,\"NG\",\"\"))))","v":""},{"$f":"IF(E212=\"\",\"\",IF(C213=\"\",\"\",IF(E212>C213,\"NG\",\"\")))","v":""},null,"","",{"$f":"COUNTIF(S212:W212,\"NG\")","v":0},"","",0,null,null,null,"",null,"",null,null,{"$f":"IF(AJ211=\"\",\"\",IF(AF212=\"\",\"\",AJ211-$AD$11))","v":""},{"$f":"IF(AK211=\"\",\"\",IF(AG212=\"\",\"\",AK211-$AD$24))","v":""},0.01,"",null,1000000,0,1000000,0]
[null,null,{"$f":"IF(E213=\"\",\"\",IF(E212=\"\",\"\",IF(E212>=DATE(2036,3,10),\"\",E212+1)))","v":""},"",null,"","",null,{"$f":"IF(I212=\"\",\"\",IF(E213=\"\",\"\",I212-$C$11))","v":""},{"$f":"IF(J212=\"\",\"\",IF(F213=\"\",\"\",J212-$C$24))","v":""},0,"",null,0,0,0,0,"",{"$f":"IF(C213=\"\",\"\",IF(C213=E212,\"NG\",IF(C213<E212,\"NG\",IF((C213-E212)>1,\"NG\",\"\"))))","v":""},"",null,"","",0,"","",0,null,null,null,"",null,"",null,null,{"$f":"IF(AJ212=\"\",\"\",IF(AF213=\"\",\"\",AJ212-$AD$11))","v":""},{"$f":"IF(AK212=\"\",\"\",IF(AG213=\"\",\"\",AK212-$AD$24))","v":""},0.01,"",null,1000000,0,1000000,0]
[null,null,"","",null,"","",null,{"$f":"IF(I213=\"\",\"\",IF(E214=\"\",\"\",I213-$C$11))","v":""},{"$f":"IF(J213=\"\",\"\",IF(F214=\"\",\"\",J213-$C$24))","v":""},0,"",null,0,0,0,0,"","","",null,"","",0,"","",0,null,null,null,"",null,"",null,null,"","",0.01,"",null,1000000,0,1000000,0]
[null,null,"","",null,"","",null,"","",0,"",null,0,0,0,0,"","","",null,"","",0,"","",0,null,null,null,"",null,"",null,null,"","",0.01,"",null,1000000,0,1000000,0]
[null,null,"","",null,"","",null,"","",0,"",null,0,0,0,0,"","","",null,"","",0,"","",0,null,null,null,"",null,"",null,null,"","",0.01,"",null,1000000,0,1000000,0]
[null,null,"","",null,"","",null,"","",0,"",null,0,0,0,0,"","",{"$f":"IF(D217=\"\",\"\",IF(D217<C217,\"NG\",\"\"))","v":""},null,"",{"$f":"IF(G217>0,\"\",\"NG\")","v":""},0,"","",0,null,null,null,"",null,"",null,null,"","",0.01,"",null,1000000,0,1000000,0]
[null,null,{"$f":"IF(X218>0,$S$38,\"\")","v":""},null,null,null,null,null,"","",0,{"$f":"IF(J218=\"\",\"\",ROUNDDOWN(J218*K218*G218/365,0))","v":""},null,0,{"$f":"IF(N218-N219<0,0,N218-N219)","v":0},0,{"$f":"P217-P218","v":0},"",null,null,null,null,null,{"$f":"SUM(X211:X217)","v":0},{"$f":"IF(U218=0,\"\",IF(U218=#REF!,\"\",\"NG\"))","v":""},{"$f":"IF(W218=0,\"\",IF(W218=#REF!,\"\",\"NG\"))","v":""},0,null,null,{"$f":"IF($C$238>0,$H$242,IF($E$238>0,$H$242,\"\"))","v":""},"",null,"",null,null,"","",0.01,"",null,1000000,0,1000000,0]
[null,null,null,null,null,null,null,null,null,null,null,null,null,0,null,0]

{"sheet":"（別添１）融資計画詳細２（交付申請）","index":22,"n_rows":75,"n_cols":74,"rows_kept":75,"cut":false,"hidden":false,"merged":[[74,39,83,41],[74,42,83,56],[62,45,63,45],[37,39,38,41],[37,42,38,50],[39,42,40,50],[44,39,58,41],[44,42,46,42],[44,43,46,56],[47,42,49,42],[47,43,49,56],[50,42,52,42],[50,43,52,56],[53,42,55,42],[53,43,55,56],[56,42,58,42],[62,39,63,41],[62,42,63,42],[62,43,63,44],[62,46,63,47],[62,48,63,56],[64,39,73,41],[64,42,73,56],[56,43,58,56],[74,3,83,17],[10,22,11,30],[12,19,13,21],[12,22,13,30],[14,22,15,30],[16,19,17,21],[16,22,17,30],[18,22,19,30],[20,22,21,30],[22,19,23,21],[22,22,23,30],[24,22,25,30],[26,19,27,21],[26,22,27,30],[28,22,29,30],[30,19,31,21],[30,22,31,22],[30,23,31,24],[20,3,21,11],[22,3,23,11],[24,3,25,11],[26,3,27,11],[30,25,31,25],[30,26,31,27],[74,0,83,2],[62,3,63,3],[62,4,63,5],[62,7,63,8],[62,9,63,17],[47,23,49,36],[39,19,40,21],[64,19,73,21],[64,22,73,36],[74,19,83,21],[74,22,83,36],[62,25,63,25],[62,19,63,21],[62,22,63,22],[62,23,63,24],[62,26,63,27],[62,28,63,36],[62,6,63,6],[64,3,73,17],[44,0,58,2],[64,0,73,2],[62,0,63,2],[44,3,46,3],[47,3,49,3],[30,28,31,28],[30,29,31,30],[35,22,36,30],[20,51,21,56],[24,39,25,41],[20,42,21,50],[22,39,23,41],[22,42,23,50],[24,42,25,50],[24,51,25,56],[26,39,27,41],[26,42,27,50],[30,51,31,56],[35,42,36,50],[35,51,36,56],[20,39,21,41],[16,39,17,41],[16,42,17,50],[18,42,19,50],[28,42,29,50],[30,39,31,41],[30,42,31,42],[30,43,31,44],[30,45,31,45],[30,46,31,47],[30,48,31,48],[30,49,31,50],[28,39,29,41],[39,39,40,41],[37,22,38,30],[39,22,40,30],[44,19,58,21],[44,22,46,22],[44,23,46,36],[47,22,49,22],[50,22,52,22],[50,23,52,36],[53,22,55,22],[53,23,55,36],[56,22,58,22],[56,23,58,36],[37,19,38,21],[0,0,1,17],[28,0,29,2],[28,3,29,11],[10,19,11,21],[14,19,15,21],[10,0,11,2],[20,0,21,2],[20,12,21,17],[24,0,25,2],[18,0,19,2],[14,0,15,2],[18,19,19,21],[20,19,21,21],[2,3,3,5],[12,0,13,2],[16,0,17,2],[22,0,23,2],[26,0,27,2],[24,12,25,17],[10,3,11,11],[12,3,13,11],[14,3,15,11],[16,3,17,11],[18,3,19,11],[35,0,36,2],[30,6,31,6],[35,12,36,17],[50,3,52,3],[53,3,55,3],[56,3,58,3],[44,4,46,17],[47,4,49,17],[50,4,52,17],[53,4,55,17],[56,4,58,17],[37,0,38,2],[30,0,31,2],[30,4,31,5],[30,9,31,9],[30,10,31,11],[30,12,31,17],[5,0,5,6],[5,19,5,25],[5,39,5,45],[39,0,40,2],[30,7,31,8],[30,3,31,3],[35,3,36,11],[37,3,38,11],[39,3,40,11],[28,19,29,21],[35,19,36,21],[24,19,25,21],[24,31,25,36],[30,31,31,36],[35,31,36,36],[20,31,21,36],[35,39,36,41],[10,39,11,41],[14,39,15,41],[18,39,19,41],[10,42,11,50],[12,39,13,41],[12,42,13,50],[14,42,15,50]]}
["（別添１）融資計画詳細２（交付申請）",null,null,null,null,null,null,null,null,null,null,null,null,null,null,null,null,null,null,null,null,null,null,null,null,null,null,null,null,null,null,null,null,null,null,null,null,null,null,null,null,null,null,null,null,null,null,null,null,null,null,null,null,null,null,null,null,null,"非表示","非表示","非表示","非表示","非表示","非表示","非表示","非表示","非表示","非表示","非表示","非表示","非表示","非表示","非表示","非表示"]
[]
["（別添１）",null,null,"交付申請",null,null,null,null,null,null,null,null,null,null,null,null,null,null,null,{"$f":"A3","v":"（別添１）"},null,null,null,null,null,null,null,null,null,null,null,null,null,null,null,null,null,null,null,{"$f":"T3","v":"（別添１）"},null,null,null,null,null,null,null,null,null,null,null,null,null,null,null,null,null,null,"別添1-2_D9","事業者名",{"$f":"IF(D11=\"\",\"\",D11)","v":""}]
["融資計画詳細２",null,null,null,null,null,null,null,null,null,null,null,null,null,null,null,null,{"$f":"IF('（様式第３）交付申請書（新規融資案件）'!$Q$4=\"\",\"様式第３で受付番号をご入力ください。\",'（様式第３）交付申請書（新規融資案件）'!$Q$4)","v":"様式第３で受付番号をご入力ください。"},null,{"$f":"A4","v":"融資計画詳細２"},null,null,null,null,null,null,null,null,null,null,null,null,null,null,null,null,null,null,null,{"$f":"T4","v":"融資計画詳細２"},null,null,null,null,null,null,null,null,null,null,null,null,null,null,null,null,null,null,"別添1-2_D11","設備等利用者名",{"$f":"IF(D13=\"\",\"\",D13)","v":""}]
[null,null,null,null,null,null,null,null,null,null,null,null,null,null,null,null,null,null,null,null,null,null,null,null,null,null,null,null,null,null,null,null,null,null,null,null,null,null,null,null,null,null,null,null,null,null,null,null,null,null,null,null,null,null,null,null,null,null,"別添1-2_D13","都道府県",{"$f":"IF(D15=\"\",\"\",D15)","v":""}]
["融資計画書からの変更はありません。",null,null,null,null,null,null,null,null,null,null,null,null,null,null,null,null,null,null,"融資計画書からの変更はありません。",null,null,null,null,null,null,null,null,null,null,null,null,null,null,null,null,null,null,"07AA-001-01","融資計画書からの変更はありません。",null,null,null,null,null,null,null,null,null,null,null,null,null,null,null,null,"07AA-001-01",null,"別添1-2_D15","市区町村",{"$f":"IF(D17=\"\",\"\",D17)","v":""}]
[null,null,null,null,null,null,null,null,null,null,null,null,null,null,null,null,null,null,null,null,null,null,null,null,null,null,null,null,null,null,null,null,null,null,null,null,null,null,null,null,null,null,null,null,null,null,null,null,null,null,null,null,null,null,null,null,null,null,"別添1-2_D17","丁目・番地",{"$f":"IF(D19=\"\",\"\",D19)","v":""}]
[null,null,null,null,null,null,null,null,null,null,null,null,null,null,null,null,null,null,null,null,null,null,null,null,null,null,null,null,null,null,null,null,null,null,null,null,null,null,null,null,null,null,null,null,null,null,null,null,null,null,null,null,null,null,null,null,null,null,"別添1-2_D19","業種大分類",{"$f":"IF(D21=\"\",\"\",D21)","v":""}]
["４．利子補給対象事業者情報",null,null,null,null,null,null,null,null,null,null,null,null,null,null,null,null,null,null,{"$f":"A9","v":"４．利子補給対象事業者情報"},null,null,null,null,null,null,null,null,null,null,null,null,null,null,null,null,null,null,null,"４．利子補給対象事業者情報",null,null,null,null,null,null,null,null,null,null,null,null,null,null,null,null,null,null,"別添1-2_D21","業種分類項目名",{"$f":"IF(D23=\"\",\"\",D23)","v":""}]
[null,null,null,null,null,null,null,null,null,null,null,null,null,null,null,null,null,null,null,null,null,null,null,null,null,null,null,null,null,null,null,null,null,null,null,null,null,null,null,null,null,null,null,null,null,null,null,null,null,null,null,null,null,null,null,null,null,null,"別添1-2_D23","資本金",{"$f":"IF(D25=\"\",\"\",D25)","v":""}]
["事業者名",null,null,"",null,null,null,null,null,null,null,null,null,null,null,null,null,null,null,{"$f":"A11","v":"事業者名"},null,null,"株式会社○○○○",null,null,null,null,null,null,null,null,null,null,null,null,null,null,null,null,"事業者名",null,null,"○○○○",null,null,null,null,null,null,null,null,null,null,null,null,null,null,null,"別添1-2_D25","従業員数",{"$f":"IF(D27=\"\",\"\",D27)","v":""}]
[null,null,null,null,null,null,null,null,null,null,null,null,null,null,null,null,null,null,null,null,null,null,null,null,null,null,null,null,null,null,null,null,null,null,null,null,null,null,null,null,null,null,null,null,null,null,null,null,null,null,null,null,null,null,null,null,null,null,"別添1-2_D27","企業の内容",{"$f":"IF(D29=\"\",\"\",D29)","v":""}]
["設備等利用者名",null,null,"",null,null,null,null,null,null,null,null,null,null,null,null,null,null,null,{"$f":"A13","v":"設備等利用者名"},null,null,"株式会社○○○○",null,null,null,null,null,null,null,null,null,null,null,null,null,null,null,null,"設備等利用者名",null,null,"○○○○",null,null,null,null,null,null,null,null,null,null,null,null,null,null,null,"別添1-2_D29","企業の規模",{"$f":"IF(BK13=\"中小企業\",BK13,IF(BM13=\"個人事業主\",BM13,IF(BO13:BO13=\"その他\",BO13,\"\")))","v":""},{"$f":"_xlfn.IFS(D31=\"\",FALSE,D31=\"　\",FALSE,D31=\"☑\",TRUE)","v":false},{"$f":"IF(D31=\"☑\",\"中小企業\",\"\")","v":""},{"$f":"_xlfn.IFS(G31=\"\",FALSE,G31=\"　\",FALSE,G31=\"☑\",TRUE)","v":false},{"$f":"IF(G31=\"☑\",\"個人事業主\",\"\")","v":""},{"$f":"_xlfn.IFS(J31=\"\",FALSE,J31=\"　\",FALSE,J31=\"☑\",TRUE)","v":false},{"$f":"IF(J31=\"☑\",\"その他\",\"\")","v":""},{"$f":"COUNTIF(BJ13:BO13,TRUE)","v":0},{"$f":"IF(BP13=3,\"NG\",IF(BP13=2,\"NG\",IF(BP13=0,\"NG\",\"OK\")))","v":"NG"}]
[null,null,null,null,null,null,null,null,null,null,null,null,null,null,null,null,null,null,null,null,null,null,null,null,null,null,null,null,null,null,null,null,null,null,null,null,null,null,null,null,null,null,null,null,null,null,null,null,null,null,null,null,null,null,null,null,null,null,"別添1-2_D34","都道府県",{"$f":"IF(D36=\"\",\"\",D36)","v":""}]
["都道府県",null,null,"",null,null,null,null,null,null,null,null,null,null,null,null,null,null,null,{"$f":"A15","v":"都道府県"},null,null,"○○県",null,null,null,null,null,null,null,null,null,null,null,null,null,null,null,null,"都道府県",null,null,"○○県",null,null,null,null,null,null,null,null,null,null,null,null,null,null,null,"別添1-2_D36","市区町村",{"$f":"IF(D38=\"\",\"\",D38)","v":""}]
[null,null,null,null,null,null,null,null,null,null,null,null,null,null,null,null,null,null,null,null,null,null,null,null,null,null,null,null,null,null,null,null,null,null,null,null,null,null,null,null,null,null,null,null,null,null,null,null,null,null,null,null,null,null,null,null,null,null,"別添1-2_D38","丁目・番地",{"$f":"IF(D40=\"\",\"\",D40)","v":""}]
["市区町村",null,null,"",null,null,null,null,null,null,null,null,null,null,null,null,null,null,null,{"$f":"A17","v":"市区町村"},null,null,"○○市○○町",null,null,null,null,null,null,null,null,null,null,null,null,null,null,null,null,"市区町村",null,null,"○○市○○町",null,null,null,null,null,null,null,null,null,null,null,null,null,null,null,"別添1-2_D43～55","対象要件１",{"$f":"IF(OR(BK17=TRUE,BM17=TRUE),_xlfn.CONCAT(BI23:BI24)&\"-（ア）\",IF(BO17=TRUE,_xlfn.CONCAT(BI23:BI24)&\"-（イ）\",IF(OR(BQ17=TRUE,BS17=TRUE),_xlfn.CONCAT(BI23:BI24)&\"-（ウ）\",\"\")))","v":""},null,{"$f":"_xlfn.IFS(D45=\"\",FALSE,D45=\"　\",FALSE,D45=\"☑\",TRUE)","v":false},{"$f":"IF(BK17=FALSE,\"\",IF(D45=\"☑\",\"(ア)TR\"))","v":""},{"$f":"_xlfn.IFS(D48=\"\",FALSE,D48=\"　\",FALSE,D48=\"☑\",TRUE)","v":false},{"$f":"IF(BM17=FALSE,\"\",IF(D48=\"☑\",\"(ア)TR該当なし\"))","v":""},{"$f":"_xlfn.IFS(D51=\"\",FALSE,D51=\"　\",FALSE,D51=\"☑\",TRUE)","v":false},{"$f":"IF(BO17=FALSE,\"\",IF(D51=\"☑\",\"イ\"))","v":""},{"$f":"_xlfn.IFS(D54=\"\",FALSE,D54=\"　\",FALSE,D54=\"☑\",TRUE)","v":false},{"$f":"IF(BQ17=FALSE,\"\",IF(D54=\"☑\",\"(ウ)データセンター\"))","v":""},{"$f":"_xlfn.IFS(D57=\"\",FALSE,D57=\"　\",FALSE,D57=\"☑\",TRUE)","v":false},{"$f":"IF(BS17=FALSE,\"\",IF(D57=\"☑\",\"(ウ)EMS\"))","v":""},{"$f":"COUNTIF(BK17:BT17,TRUE)","v":0},{"$f":"IF(BU17=0,\"NG\",\"OK\")","v":"NG"}]
[null,null,null,null,null,null,null,null,null,null,null,null,null,null,null,null,null,null,null,null,null,null,null,null,null,null,null,null,null,null,null,null,null,null,null,null,null,null,null,null,null,null,null,null,null,null,null,null,null,null,null,null,null,null,null,null,null,null,"別添1-2_D43～55","対象要件２",{"$f":"BL17&BN17&BP17&BR17&BT17","v":""}]
["丁目・番地",null,null,"",null,null,null,null,null,null,null,null,null,null,null,null,null,null,null,{"$f":"A19","v":"丁目・番地"},null,null,"○丁目○番○号",null,null,null,null,null,null,null,null,null,null,null,null,null,null,null,null,"丁目・番地",null,null,"○丁目○番○号",null,null,null,null,null,null,null,null,null,null,null,null,null,null,null,"別添1-2_D61","設備導入区分１",{"$f":"IF(OR(BJ19=\"①\",BJ19=\"①②\"),\"①\",IF(BJ19=\"②\",\"②\",\"\"))","v":""},{"$f":"BL19&BN19","v":""},{"$f":"_xlfn.IFS(D63=\"\",FALSE,D63=\"　\",FALSE,D63=\"☑\",TRUE)","v":false},{"$f":"IF(BK19=FALSE,\"\",IF(D63=\"☑\",\"①\"))","v":""},{"$f":"_xlfn.IFS(G63=\"\",FALSE,G63=\"　\",FALSE,G63=\"☑\",TRUE)","v":false},{"$f":"IF(BM19=FALSE,\"\",IF(G63=\"☑\",\"②\"))","v":""},{"$f":"COUNTIF(BK19:BN19,TRUE)","v":0},{"$f":"IF(BO19=0,\"NG\",IF(BO19=0,\"NG\",\"OK\"))","v":"NG"}]
[null,null,null,null,null,null,null,null,null,null,null,null,null,null,null,null,null,null,null,null,null,null,null,null,null,null,null,null,null,null,null,null,null,null,null,null,null,null,null,null,null,null,null,null,null,null,null,null,null,null,null,null,null,null,null,null,null,null,"別添1-2_D61","設備導入区分2",{"$f":"BL20&BN20","v":""},null,{"$f":"_xlfn.IFS(D63=\"\",FALSE,D63=\"　\",FALSE,D63=\"☑\",TRUE)","v":false},{"$f":"IF(BK19=FALSE,\"\",IF(D63=\"☑\",\"新設\"))","v":""},{"$f":"_xlfn.IFS(G64=\"\",FALSE,G64=\"　\",FALSE,G64=\"☑\",TRUE)","v":false},{"$f":"IF(BM19=FALSE,\"\",IF(G63=\"☑\",\"増設\"))","v":""},{"$f":"COUNTIF(BK20:BN20,TRUE)","v":0},{"$f":"IF(BO20=0,\"NG\",IF(BO20=0,\"NG\",\"OK\"))","v":"NG"}]
["業種大分類",null,null,null,null,null,null,null,null,null,null,null,null,null,null,null,null,null,null,{"$f":"A21","v":"業種大分類"},null,null,"○○業",null,null,null,null,null,null,null,null,null,null,null,null,null,null,null,null,"業種大分類",null,null,"無",null,null,null,null,null,null,null,null,null,null,null,null,null,null,null,"別添1-2_D63","導入設備の概要",{"$f":"IF(D65=\"\",\"\",D65)","v":""}]
[null,null,null,null,null,null,null,null,null,null,null,null,null,null,null,null,null,null,null,null,null,null,null,null,null,null,null,null,null,null,null,null,null,null,null,null,null,null,null,null,null,null,null,null,null,null,null,null,null,null,null,null,null,null,null,null,null,null,"別添1-2_D73","対象事業の概要",{"$f":"IF(D75=\"\",\"\",D75)","v":""}]
["業種分類項目名",null,null,null,null,null,null,null,null,null,null,null,null,null,null,null,null,null,null,{"$f":"A23","v":"業種分類項目名"},null,null,"○○業",null,null,null,null,null,null,null,null,null,null,null,null,null,null,null,null,"業種分類項目名",null,null,"無",null,null,null,null,null,null,null,null,null,null,null,null,null,null,null,"西暦年度",{"$f":"TODAY()","v":"2025-11-10"},{"$f":"IF(LEN(YEAR(BH23)-2018)>1,\"\",0)","v":0},"←和暦2桁判定"]
[null,null,null,null,null,null,null,null,null,null,null,null,null,null,null,null,null,null,null,null,null,null,null,null,null,null,null,null,null,null,null,null,null,null,null,null,null,null,null,null,null,null,null,null,null,null,null,null,null,null,null,null,null,null,null,null,null,null,"申請月",{"$f":"MONTH(BH23)","v":11},6]
["資本金",null,null,null,null,null,null,null,null,null,null,null,null,null,null,null,null,null,null,{"$f":"A25","v":"資本金"},null,null,"○，○○○，○○○ 円",null,null,null,null,null,null,null,null,null,null,null,null,null,null,null,null,"資本金",null,null,"0 円",null,null,null,null,null,null,null,null,null,null,null,null,null,null,null,null,"融資計画変更無しフラグ",{"$f":"IF(H6=\"\",FALSE,TRUE)","v":false}]
[]
["従業員数",null,null,null,null,null,null,null,null,null,null,null,null,null,null,null,null,null,null,{"$f":"A27","v":"従業員数"},null,null,"○○○ 人",null,null,null,null,null,null,null,null,null,null,null,null,null,null,null,null,"従業員数",null,null,"○○○ 人"]
[]
["企業の内容",null,null,"",null,null,null,null,null,null,null,null,null,null,null,null,null,null,null,{"$f":"A29","v":"企業の内容"},null,null,"○○部品の製造",null,null,null,null,null,null,null,null,null,null,null,null,null,null,null,null,"企業の内容",null,null,"○○部品の製造"]
[]
["企業の規模",null,null,null,"中小企業",null,null,"個人事業主",null,null,"その他",null,{"$f":"IF(BQ13=\"NG\",\"←該当する対象要件（チェックボックス）を選択してください。\",\"\")","v":"←該当する対象要件（チェックボックス）を選択してください。"},null,null,null,null,null,null,{"$f":"A31","v":"企業の規模"},null,null,"☑",{"$f":"E31","v":"中小企業"},null,null,{"$f":"H31","v":"個人事業主"},null,null,{"$f":"K31","v":"その他"},null,{"$f":"IF(W11=\"\",\"\",IF(CJ13=\"NG\",\"←該当する対象要件（チェックボックス）を選択してください。\",\"\"))","v":""},null,null,null,null,null,null,null,"企業の規模",null,null,null,"中小企業",null,"☑","個人事業主",null,null,"その他",null,{"$f":"IF(AQ11=\"\",\"\",IF(DD13=\"NG\",\"←該当する対象要件（チェックボックス）を選択してください。\",\"\"))","v":""}]
[]
[]
["５．所在地（省エネルギー設備の使用場所及び省エネルギー取組の実施場所）",null,null,null,null,null,null,null,null,null,null,null,null,null,null,null,null,null,null,{"$f":"A34","v":"５．所在地（省エネルギー設備の使用場所及び省エネルギー取組の実施場所）"},null,null,null,null,null,null,null,null,null,null,null,null,null,null,null,null,null,null,null,"５．所在地（省エネルギー設備の使用場所及び省エネルギー取組の実施場所）"]
[]
["都道府県",null,null,"",null,null,null,null,null,null,null,null,null,null,null,null,null,null,null,{"$f":"A36","v":"都道府県"},null,null,"○○県",null,null,null,null,null,null,null,null,null,null,null,null,null,null,null,null,"（住所）都道府県",null,null,"○○県"]
[]
["市区町村",null,null,"",null,null,null,null,null,null,null,null,null,null,null,null,null,null,null,{"$f":"A38","v":"市区町村"},null,null,"○○市○○町",null,null,null,null,null,null,null,null,null,null,null,null,null,null,null,null,"市区町村",null,null,"○○市○○町"]
[]
["丁目・番地",null,null,"",null,null,null,null,null,null,null,null,null,null,null,null,null,null,null,{"$f":"A40","v":"丁目・番地"},null,null,"〇丁目〇番〇号",null,null,null,null,null,null,null,null,null,null,null,null,null,null,null,null,"丁目・番地",null,null,"〇丁目〇番〇号"]
[]
[]
["６．対象要件",null,null,null,null,null,null,null,null,null,null,null,null,null,null,null,null,null,null,{"$f":"A43","v":"６．対象要件"},null,null,null,null,null,null,null,null,null,null,null,null,null,null,null,null,null,null,null,"６．対象要件"]
[{"$f":"IF(BV17=\"NG\",\"↓該当する対象要件（チェックボックス）を選択してください。\",\"\")","v":"↓該当する対象要件（チェックボックス）を選択してください。"}]
["対象要件",null,null,null,"（ア）エネルギー消費効率が高い省エネルギー設備を新設、又は増設する事業。\n　　※トップランナー基準を満たす設備の導入",null,null,null,null,null,null,null,null,null,null,null,null,null,null,{"$f":"A45","v":"対象要件"},null,null,"☑",{"$f":"E45","v":"（ア）エネルギー消費効率が高い省エネルギー設備を新設、又は増設する事業。\n　　※トップランナー基準を満たす設備の導入"},null,null,null,null,null,null,null,null,null,null,null,null,null,null,null,"対象要件",null,null,"☑","（ア）エネルギー消費効率が高い省エネルギー設備を新設、又は増設する事業。\n　　※トップランナー基準を満たす設備の導入"]
[]
[]
[null,null,null,null,"（ア）エネルギー消費効率が高い省エネルギー設備を新設、又は増設する事業。\n　　※トップランナー基準に該当しない設備で、エネルギー消費効率が高い設備の導入",null,null,null,null,null,null,null,null,null,null,null,null,null,null,null,null,null,"☑",{"$f":"E48","v":"（ア）エネルギー消費効率が高い省エネルギー設備を新設、又は増設する事業。\n　　※トップランナー基準に該当しない設備で、エネルギー消費効率が高い設備の導入"},null,null,null,null,null,null,null,null,null,null,null,null,null,null,null,null,null,null,null,"（ア）エネルギー消費効率が高い省エネルギー設備を新設、又は増設する事業。\n　　※トップランナー基準に該当しない設備で、エネルギー消費効率が高い設備の導入"]
[]
[]
[null,null,null,null,"（イ）省エネルギー設備等を新設、又は増設し、工場・事業場全体におけるエネルギー\n　　 消費原単位が１％以上改善される事業。",null,null,null,null,null,null,null,null,null,null,null,null,null,null,null,null,null,null,{"$f":"E51","v":"（イ）省エネルギー設備等を新設、又は増設し、工場・事業場全体におけるエネルギー\n　　 消費原単位が１％以上改善される事業。"},null,null,null,null,null,null,null,null,null,null,null,null,null,null,null,null,null,null,null,"（イ）省エネルギー設備等を新設、又は増設し、工場・事業場全体におけるエネルギー\n　　 消費原単位が１％以上改善される事業。"]
[]
[]
[null,null,null,null,"（ウ）データセンターのクラウドサービス活用に関する事業。",null,null,null,null,null,null,null,null,null,null,null,null,null,null,null,null,null,null,{"$f":"E54","v":"（ウ）データセンターのクラウドサービス活用に関する事業。"},null,null,null,null,null,null,null,null,null,null,null,null,null,null,null,null,null,null,null,"（ウ）データセンターのクラウドサービス活用に関する事業。"]
[]
[]
[null,null,null,null,"（ウ）ＥＭＳの導入等による省エネルギー取組に関する事業。",null,null,null,null,null,null,null,null,null,null,null,null,null,null,null,null,null,null,{"$f":"E57","v":"（ウ）ＥＭＳの導入等による省エネルギー取組に関する事業。"},null,null,null,null,null,null,null,null,null,null,null,null,null,null,null,null,null,null,null,"（ウ）ＥＭＳの導入等による省エネルギー取組に関する事業。"]
[]
[]
[null,null,null,null,null,null,null,null,null,null,null,null,null,null,null,null,null,null,null,{"$f":"IF(W11=\"\",\"\",IF(CO17=\"NG\",\"↑該当する対象要件（チェックボックス）を選択してください。\",\"\"))","v":""},null,null,null,null,null,null,null,null,null,null,null,null,null,null,null,null,null,null,null,{"$f":"IF(AQ11=\"\",\"\",IF(DI17=\"NG\",\"↑該当する対象要件（チェックボックス）を選択してください。\",\"\"))","v":""}]
["７．利子補給対象事業の概要",null,null,null,null,null,null,null,null,null,null,null,null,null,null,null,null,null,null,{"$f":"A61","v":"７．利子補給対象事業の概要"},null,null,null,null,null,null,null,null,null,null,null,null,null,null,null,null,null,null,null,"７．利子補給対象事業の概要"]
[]
["導入設備区分",null,null,null,"新設",null,null,"増設",null,{"$f":"IF(BP18=\"NG\",\"←該当する導入設備区分（チェックボックス）を選択してください。\",\"\")","v":""},null,null,null,null,null,null,null,null,null,{"$f":"A63","v":"導入設備区分"},null,null,"☑","新設",null,"☑","増設",null,{"$f":"IF(W11=\"\",\"\",IF(CI18=\"NG\",\"←該当する導入設備区分（チェックボックス）を選択してください。\",\"\"))","v":""},null,null,null,null,null,null,null,null,null,null,"導入設備区分",null,null,"☑","新設",null,"☑","増設",null,{"$f":"IF(AQ11=\"\",\"\",IF(DC18=\"NG\",\"←該当する導入設備区分（チェックボックス）を選択してください。\",\"\"))","v":""}]
[]
["対象事業の概要",null,null,"",null,null,null,null,null,null,null,null,null,null,null,null,null,null,null,"対象事業の概要",null,null,"例①：○○工場に○○機器を新設する事業\n例②：○○作業所の生産ラインを増設する事業\n　　　（現状6ラインから8ラインへ2ライン増設）",null,null,null,null,null,null,null,null,null,null,null,null,null,null,null,null,"対象事業の概要",null,null,"例①：○○工場に○○機器を新設する事業\n例②：○○作業所の生産ラインを増設する事業\n　　　（現状6ラインから8ラインへ2ライン増設）"]
[]
[]
[]
[]
[]
[]
[]
[]
[]
["導入設備の概要",null,null,"",null,null,null,null,null,null,null,null,null,null,null,null,null,null,null,"導入設備の概要",null,null,"例①：工場新設による○○機器新規導入\n　　　○○機器○台、○○機器○台の新規導入\n例②：生産ライン拡大による○○機器の増設\n　　　○○機器○台、○○機器○台の増設",null,null,null,null,null,null,null,null,null,null,null,null,null,null,null,null,"導入設備の概要",null,null,"例①：工場新設による○○機器新規導入\n　　　○○機器○台、○○機器○台の新規導入\n例②：生産ライン拡大による○○機器の増設\n　　　○○機器○台、○○機器○台の増設"]

{"sheet":"（様式第９）実績報告書","index":23,"n_rows":86,"n_cols":55,"rows_kept":86,"cut":false,"hidden":false,"merged":[[82,1,82,7],[18,3,20,6],[18,8,20,9],[18,20,20,23],[77,9,81,16],[39,20,39,23],[39,3,39,6],[39,17,39,19],[39,13,39,16],[39,7,39,12],[15,25,17,26],[15,27,17,33],[18,27,20,33],[21,8,24,9],[21,25,24,26],[21,27,22,32],[15,10,17,16],[18,10,20,16],[21,10,22,16],[23,10,24,16],[21,33,23,33],[23,27,24,32],[18,25,20,26],[39,30,39,33],[39,24,39,29],[0,0,1,16],[82,18,82,23],[74,1,75,15],[74,18,75,32],[78,1,79,7],[78,8,79,8],[78,18,79,24],[78,25,79,25],[40,0,46,16],[40,17,46,33],[70,1,71,15],[70,18,71,32],[39,0,39,2],[15,8,17,9]]}
["（様式第９）実績報告書",null,null,null,null,null,null,null,null,null,null,null,null,null,null,null,null,null,null,null,null,null,null,null,null,null,null,null,null,null,null,null,null,null,null,null,null,null,null,null,null,null,null,null,null,null,null,null,null,null,null,null,"非表示","非表示","非表示"]
[]
["様式第９",null,null,null,null,null,null,null,null,null,null,null,null,null,null,null,null,{"$f":"A3","v":"様式第９"}]
[null,null,null,null,null,null,null,null,null,null,null,null,null,null,null,null,{"$f":"IF('（様式第３）交付申請書（新規融資案件）'!$Q$4=\"\",\"様式第３で受付番号をご入力ください。\",'（様式第３）交付申請書（新規融資案件）'!$Q$4)","v":"様式第３で受付番号をご入力ください。"},null,null,null,null,null,null,null,null,null,null,null,null,null,null,null,null,"07AA-001-01",null,null,null,null,null,null,null,null,null,null,null,null,null,null,null,null,null,null,"様式第9_L6","年",{"$f":"IF(L6=\"\",\"\",L6)","v":""}]
[null,null,null,null,null,null,null,null,null,null,null,null,null,null,null,null,null,null,null,null,null,null,null,null,null,null,null,null,null,null,null,null,null,null,null,null,null,null,null,null,null,null,null,null,null,null,null,null,null,null,null,null,"様式第9_N6","月",{"$f":"IF(N6=\"\",\"\",N6)","v":""}]
[null,null,null,null,null,null,null,null,null,null,null,null,"年",null,"月",null,"日",null,null,null,null,null,null,null,null,null,null,null,"202○",{"$f":"M6","v":"年"},"○○",{"$f":"O6","v":"月"},"○○",{"$f":"Q6","v":"日"},null,null,null,null,null,null,null,null,null,null,null,null,null,null,null,null,null,null,"様式第9_P6","日",{"$f":"IF(P6=\"\",\"\",P6)","v":""}]
[null,null,null,null,null,null,null,null,null,null,null,null,null,null,null,null,null,null,null,null,null,null,null,null,null,null,null,null,null,null,null,null,null,null,null,null,null,null,null,null,null,null,null,null,null,null,null,null,null,null,null,null,"様式第9_K16","指定金融機関_住所",{"$f":"IF(K16=\"\",\"\",K16)","v":""}]
[null,null,null,null,null,null,null,null,null,null,null,null,null,null,null,null,null,null,null,null,null,null,null,null,null,null,null,null,null,null,null,null,null,null,null,null,null,null,null,null,null,null,null,null,null,null,null,null,null,null,null,null,"様式第9_K19","指定金融機関_名称",{"$f":"IF(K19=\"\",\"\",K19)","v":""}]
["一般社団法人　環境共創イニシアチブ",null,null,null,null,null,null,null,null,null,null,null,null,null,null,null,null,{"$f":"A9","v":"一般社団法人　環境共創イニシアチブ"},null,null,null,null,null,null,null,null,null,null,null,null,null,null,null,null,null,null,null,null,null,null,null,null,null,null,null,null,null,null,null,null,null,null,"様式第9_K22","指定金融機関_役職",{"$f":"IF(K22=\"\",\"\",K22)","v":""}]
[null,null,null,null,null,null,null,null,null,null,null,null,null,null,null,null,null,null,null,null,null,null,null,null,null,null,null,null,null,null,null,null,null,null,null,null,null,null,null,null,null,null,null,null,null,null,null,null,null,null,null,null,"様式第9_K24","指定金融機関_代表者名",{"$f":"IF(K24=\"\",\"\",K24)","v":""}]
["代 表 理 事　殿",null,null,null,null,null,null,null,null,null,null,null,null,null,null,null,null,{"$f":"A11","v":"代 表 理 事　殿"},null,null,null,null,null,null,null,null,null,null,null,null,null,null,null,null,null,null,null,null,null,null,null,null,null,null,null,null,null,null,null,null,null,null,"様式第9_A40","交付決定日",{"$f":"IF(A40=\"\",\"\",A40)","v":""}]
[null,null,null,null,null,null,null,null,null,null,null,null,null,null,null,null,null,null,null,null,null,null,null,null,null,null,null,null,null,null,null,null,null,null,null,null,null,null,null,null,null,null,null,null,null,null,null,null,null,null,null,null,"様式第9_H40","交付決定番号",{"$f":"IF(H40=\"\",\"\",H40)","v":""}]
[null,null,null,null,null,null,null,null,null,null,null,null,null,null,null,null,null,null,null,null,null,null,null,null,null,null,null,null,null,null,null,null,null,null,null,null,null,null,null,null,null,null,null,null,null,null,null,null,null,null,null,null,"様式第9_B71","利子補給対象事業者名",{"$f":"IF(B71=\"\",\"\",B71)","v":""}]
[null,null,null,null,null,null,null,null,null,null,null,null,null,null,null,null,null,null,null,null,null,null,null,null,null,null,null,null,null,null,null,null,null,null,null,null,null,null,null,null,null,null,null,null,null,null,null,null,null,null,null,null,"様式第9_B75","融資名称",{"$f":"IF(B75=\"\",\"\",B75)","v":""}]
[null,null,null,null,null,null,null,null,null,null,{"$f":"IF(K16=\"\",\"↓住所は都道府県からご入力ください。\",\"\")","v":"↓住所は都道府県からご入力ください。"},null,null,null,null,null,null,null,null,null,null,null,null,null,null,null,null,null,null,null,null,null,null,null,null,null,null,null,null,null,null,null,null,null,null,null,null,null,null,null,null,null,"様式第9_B79","利子補給金額",{"$f":"IF(B79=\"\",\"\",B79)","v":""}]
[null,null,null,null,null,null,null,null,"住　　所",null,null,null,null,null,null,null,null,null,null,null,null,null,null,null,null,{"$f":"I16","v":"住　　所"},null,"〇〇県〇〇市〇〇町〇丁目〇番〇号",null,null,null,null,null,null,null,null,null,null,null,null,null,null,null,null,null,null,null,null,null,null,null,null,"様式第9_B83","交付対象融資の内容",{"$f":"IF(B83=\"\",\"\",B83)","v":""}]
[]
[]
[null,null,null,"指定金融機関",null,null,null,null,"名　　称",null,null,null,null,null,null,null,null,null,null,null,{"$f":"D19","v":"指定金融機関"},null,null,null,null,{"$f":"I19","v":"名　　称"},null,"株式会社〇〇銀行"]
[]
[]
[null,null,null,null,null,null,null,null,"代表者等名",null,null,null,null,null,null,null,null,null,null,null,null,null,null,null,null,{"$f":"I22","v":"代表者等名"},null,"代表取締役"]
[]
[null,null,null,null,null,null,null,null,null,null,null,null,null,null,null,null,null,null,null,null,null,null,null,null,null,null,null,"〇〇　〇〇"]
[]
[]
[]
[]
[]
[]
[null,null,null,null,null,null,null,null,"令和７年度省エネルギー設備投資利子補給金",null,null,null,null,null,null,null,null,null,null,null,null,null,null,null,null,{"$f":"I31","v":"令和７年度省エネルギー設備投資利子補給金"}]
[]
[null,null,null,null,null,null,null,null,"実績報告書",null,null,null,null,null,null,null,null,null,null,null,null,null,null,null,null,{"$f":"I33","v":"実績報告書"}]
[]
[]
[]
[]
[]
[]
[null,null,null,"をもって交付決定 （",null,null,null,null,null,null,null,null,null,"）があった標記利子補",null,null,null,"202○年○月○日",null,null,{"$f":"D40","v":"をもって交付決定 （"},null,null,null,"SII-BFA250-01-○○○○○○-00○○○-A",null,null,null,null,null,{"$f":"N40","v":"）があった標記利子補"}]
["給金について、省エネルギー設備投資利子補給金交付規程（ＳＩＩ－ＢＦＡ２４０－０１－２４０４０１－Ｒ）第１６条の規定に基づき、下記のとおり報告します。",null,null,null,null,null,null,null,null,null,null,null,null,null,null,null,null,{"$f":"A41","v":"給金について、省エネルギー設備投資利子補給金交付規程（ＳＩＩ－ＢＦＡ２４０－０１－２４０４０１－Ｒ）第１６条の規定に基づき、下記のとおり報告します。"}]
[]
[]
[]
[]
[]
[]
[]
[]
[]
[]
[]
[]
[]
[]
[]
[]
[]
[]
[]
[]
[]
[]
[]
[null,null,null,null,null,null,null,null,null,null,null,null,null,null,null,null,{"$f":"IF('（様式第３）交付申請書（新規融資案件）'!$Q$4=\"\",\"様式第３で受付番号をご入力ください。\",'（様式第３）交付申請書（新規融資案件）'!$Q$4)","v":"様式第３で受付番号をご入力ください。"},null,null,null,null,null,null,null,null,null,null,null,null,null,null,null,null,"07AA-001-01"]
[]
[null,null,null,null,null,null,null,null,"記",null,null,null,null,null,null,null,null,null,null,null,null,null,null,null,null,{"$f":"I67","v":"記"}]
[]
[]
["１．利子補給対象事業者名",null,null,null,null,null,null,null,null,null,null,null,null,null,null,null,null,{"$f":"A70","v":"１．利子補給対象事業者名"}]
[null,null,null,null,null,null,null,null,null,null,null,null,null,null,null,null,null,null,"株式会社○○○○"]
[]
[]
["２．融資名称",null,null,null,null,null,null,null,null,null,null,null,null,null,null,null,null,{"$f":"A74","v":"２．融資名称"}]
[null,null,null,null,null,null,null,null,null,null,null,null,null,null,null,null,null,null,"○○○○○○○にともなう融資"]
[]
[]
["３．利子補給金額",null,null,null,null,null,null,null,null,{"$f":"IF(B79=\"\",\"2025年度の利子補給交付申請額をご入力ください。\n※2025年度単位期間Ⅰと単位期間Ⅱを合算して、\n　 交付申請も可能です。\",\"\")","v":"2025年度の利子補給交付申請額をご入力ください。\n※2025年度単位期間Ⅰと単位期間Ⅱを合算して、\n　 交付申請も可能です。"},null,null,null,null,null,null,null,{"$f":"A78","v":"３．利子補給金額"}]
[null,null,null,null,null,null,null,null,"円",null,null,null,null,null,null,null,null,null,"○○○,○○○",null,null,null,null,null,null,"円"]
[]
[]
["４．交付対象融資の内容",null,null,null,null,null,null,null,null,null,null,null,null,null,null,null,null,{"$f":"A82","v":"４．交付対象融資の内容"}]
[null,null,null,null,null,null,null,null,null,null,null,null,null,null,null,null,null,null,"※（別添１）融資計画詳細　参照"]
[]
[]
["（注）この申請書には、ＳＩＩが指示する書面を添付すること。",null,null,null,null,null,null,null,null,null,null,null,null,null,null,null,null,{"$f":"A86","v":"（注）この申請書には、ＳＩＩが指示する書面を添付すること。"}]

{"sheet":"（別添1）融資計画詳細１（実績報告）","index":24,"n_rows":221,"n_cols":55,"rows_kept":221,"cut":false,"hidden":false,"merged":[[5,0,5,4],[5,27,5,31],[0,0,1,16],[2,2,3,2],[2,29,3,29],[10,32,11,32],[10,33,11,33],[10,35,11,43],[12,0,13,1],[12,2,13,4],[12,5,13,5],[12,8,18,16],[12,27,13,28],[12,29,13,31],[12,32,13,32],[10,0,11,1],[10,2,11,4],[10,5,11,5],[10,8,11,16],[10,27,11,28],[10,29,11,31],[12,35,18,43],[14,0,15,1],[14,2,15,4],[14,5,15,5],[14,27,15,28],[14,29,15,31],[14,32,15,32],[14,33,15,33],[16,0,19,1],[16,2,17,4],[16,5,17,5],[16,27,19,28],[16,29,17,31],[18,2,19,4],[18,5,19,5],[18,29,19,31],[19,8,20,16],[16,32,17,32],[18,32,19,32],[12,33,13,33],[19,35,20,43],[20,0,21,1],[20,2,21,4],[20,5,21,5],[20,27,21,28],[20,29,21,31],[20,32,21,32],[20,33,21,33],[21,8,26,16],[21,35,26,43],[23,33,24,33],[25,0,26,1],[25,2,26,4],[25,5,26,5],[25,27,26,28],[25,29,26,31],[25,32,26,32],[25,33,26,33],[23,0,24,1],[23,2,24,4],[23,5,24,5],[23,27,24,28],[23,29,24,31],[23,32,24,32],[33,0,34,1],[33,2,34,4],[33,5,34,5],[33,27,34,28],[33,29,34,31],[27,32,28,32],[27,33,28,33],[27,35,28,43],[29,0,32,1],[29,2,30,4],[29,5,30,5],[29,8,34,16],[29,27,32,28],[29,29,30,31],[29,32,30,32],[27,0,28,1],[27,2,28,4],[27,5,28,5],[27,8,28,16],[27,27,28,28],[27,29,28,31],[33,32,34,32],[33,33,34,33],[29,35,34,43],[31,2,32,4],[31,5,32,5],[31,29,32,31],[31,32,32,32],[37,41,37,43],[37,37,37,39],[37,14,37,16],[37,10,37,12],[36,10,36,12],[36,14,36,16],[36,37,36,39],[36,41,36,43],[40,40,41,43],[41,2,41,7],[41,8,42,8],[41,9,42,9],[41,10,42,10],[41,11,41,12],[41,18,42,19],[41,20,42,21],[41,22,42,22],[40,2,40,12],[40,13,41,16],[40,18,40,23],[40,24,40,26],[40,27,42,28],[41,23,42,23],[41,26,42,26],[41,29,41,34],[41,35,42,35],[41,36,42,36],[41,37,42,37],[41,38,41,39],[44,27,59,27],[40,0,42,1],[44,28,51,28],[44,34,51,34],[44,39,51,39],[52,1,59,1],[52,7,59,7],[52,12,59,12],[52,28,59,28],[52,34,59,34],[52,39,59,39],[40,29,40,39],[60,39,67,39],[68,1,75,1],[68,7,75,7],[68,12,75,12],[68,28,75,28],[68,34,75,34],[68,39,75,39],[60,0,75,0],[60,1,67,1],[60,7,67,7],[60,12,67,12],[60,27,75,27],[60,28,67,28],[76,39,83,39],[84,1,91,1],[84,7,91,7],[84,12,91,12],[84,28,91,28],[84,34,91,34],[84,39,91,39],[76,0,91,0],[76,1,83,1],[76,7,83,7],[76,12,83,12],[76,27,91,27],[76,28,83,28],[92,39,99,39],[100,1,107,1],[100,7,107,7],[100,12,107,12],[100,28,107,28],[100,34,107,34],[100,39,107,39],[92,0,107,0],[92,1,99,1],[92,7,99,7],[92,12,99,12],[92,27,107,27],[92,28,99,28],[108,39,115,39],[116,1,123,1],[116,7,123,7],[116,12,123,12],[116,28,123,28],[116,34,123,34],[116,39,123,39],[108,0,123,0],[108,1,115,1],[108,7,115,7],[108,12,115,12],[108,27,123,27],[108,28,115,28],[148,39,155,39],[140,0,155,0],[140,1,147,1],[140,7,147,7],[140,12,147,12],[140,27,155,27],[140,28,147,28],[124,34,131,34],[124,39,131,39],[132,1,139,1],[132,7,139,7],[132,12,139,12],[132,28,139,28],[132,34,139,34],[132,39,139,39],[124,0,139,0],[124,1,131,1],[124,7,131,7],[124,12,131,12],[124,27,139,27],[124,28,131,28],[140,34,147,34],[140,39,147,39],[148,1,155,1],[156,39,163,39],[164,1,171,1],[164,7,171,7],[164,12,171,12],[164,28,171,28],[164,34,171,34],[164,39,171,39],[156,0,171,0],[156,1,163,1],[156,7,163,7],[156,12,163,12],[156,27,171,27],[156,28,163,28],[204,39,211,39],[212,1,219,1],[212,7,219,7],[172,0,187,0],[172,1,179,1],[172,7,179,7],[172,12,179,12],[172,27,187,27],[172,28,179,28],[212,39,219,39],[172,34,179,34],[172,39,179,39],[180,1,187,1],[180,7,187,7],[180,12,187,12],[180,28,187,28],[180,34,187,34],[180,39,187,39],[204,1,211,1],[204,7,211,7],[204,12,211,12],[204,27,219,27],[204,28,211,28],[188,34,195,34],[188,39,195,39],[196,1,203,1],[196,7,203,7],[196,12,203,12],[196,28,203,28],[196,34,203,34],[196,39,203,39],[188,1,195,1],[188,7,195,7],[148,7,155,7],[148,12,155,12],[148,28,155,28],[148,34,155,34],[7,0,7,4],[7,27,7,31],[212,12,219,12],[212,28,219,28],[212,34,219,34],[204,0,219,0],[188,0,203,0],[188,12,195,12],[188,27,203,27],[188,28,195,28],[204,34,211,34],[156,34,163,34],[108,34,115,34],[92,34,99,34],[76,34,83,34],[60,34,67,34],[44,0,59,0],[44,1,51,1],[44,7,51,7],[44,12,51,12]]}
["（別添１）融資計画詳細１（実績報告）",null,null,null,null,null,null,null,null,null,null,null,null,null,null,null,null,null,null,null,null,null,null,null,null,null,null,null,null,null,null,null,null,null,null,null,null,null,null,null,null,null,null,null,null,null,null,null,null,null,null,null,"非表示","非表示","非表示"]
[]
["（別添１）",null,"実績報告",null,null,null,null,null,null,null,null,null,null,"非表示",null,"非表示",null,null,"非表示","非表示","非表示","非表示","非表示","非表示","非表示","非表示","非表示",{"$f":"A3","v":"（別添１）"},null,{"$f":"C3","v":"実績報告"},null,null,null,null,null,null,null,null,null,null,null,null,null,null,null,null,null,null,null,null,null,null,"別添1_C9","融資額",{"$f":"IF(C11=\"\",\"\",C11)","v":""}]
["融資計画詳細１",null,null,null,null,null,null,null,null,null,null,null,null,null,null,null,{"$f":"IF('（様式第３）交付申請書（新規融資案件）'!$Q$4=\"\",\"様式第３で受付番号をご入力ください。\",'（様式第３）交付申請書（新規融資案件）'!$Q$4)","v":"様式第３で受付番号をご入力ください。"},null,null,null,null,null,null,null,null,null,null,{"$f":"A4","v":"融資計画詳細１"},null,null,null,null,null,null,null,null,null,null,null,null,null,null,null,null,null,null,null,null,null,null,null,null,"別添1_C11","元金均等返済額",{"$f":"IF(C13=\"\",\"\",C13)","v":""}]
[]
["利子補給対象事業に係る省エネルギー設備又はサービス等の\n検収・支払い、及び使途等の確認を行いました。",null,null,null,null,null,null,null,null,null,null,null,null,null,null,null,null,null,null,null,null,null,null,null,null,null,null,{"$f":"A6","v":"利子補給対象事業に係る省エネルギー設備又はサービス等の\n検収・支払い、及び使途等の確認を行いました。"}]
[null,null,null,null,null,null,null,null,null,null,null,null,null,null,null,null,null,null,null,null,null,null,null,null,null,null,null,null,null,null,null,null,null,null,null,null,null,null,null,null,null,null,null,null,null,null,null,null,null,null,null,null,"別添1_C13","最終弁済額",{"$f":"IF(C15=\"\",\"\",C15)","v":""}]
["交付申請書からの変更はありません。",null,null,null,null,null,null,null,null,null,null,null,null,null,null,null,null,null,null,null,null,null,null,null,null,null,null,"交付申請書からの変更はありません。",null,null,null,null,null,null,null,null,null,null,null,null,null,null,null,null,null,null,null,null,null,null,null,null,"別添1_C15","融資期間_自：",{"$f":"IF(C17=\"\",\"\",C17)","v":""}]
["１．融資の内容",null,null,null,null,null,null,null,null,null,null,null,null,null,null,null,null,null,null,null,null,null,null,null,null,null,null,{"$f":"A9","v":"１．融資の内容"},null,null,null,null,null,null,null,null,null,null,null,null,null,null,null,null,null,null,null,null,null,null,null,null,"別添1_C17","融資期間_至：",{"$f":"IF(C19=\"\",\"\",C19)","v":""}]
[null,null,null,null,null,null,null,null,null,null,null,null,null,null,null,null,null,null,null,null,null,null,null,null,null,null,null,null,null,null,null,null,null,null,null,null,null,null,null,null,null,null,null,null,null,null,null,null,null,null,null,null,"別添1_C19","融資利率",{"$f":"IF(C21=\"\",\"\",C21)","v":""}]
["融資額",null,null,null,null,"円",null,null,"融資備考欄",null,null,null,null,null,null,null,null,null,null,null,null,null,null,null,null,null,null,{"$f":"A11","v":"融資額"},null,84000000,null,null,{"$f":"F11","v":"円"},null,null,"融資備考欄",null,null,null,null,null,null,null,null,null,null,null,null,null,null,null,null,"別添1_C22","内　交付対象融資額",{"$f":"IF(C24=\"\",\"\",C24)","v":""}]
[null,null,null,null,null,null,null,null,null,null,null,null,null,null,null,null,null,null,null,null,null,null,null,null,null,null,null,null,null,null,null,null,null,null,null,null,null,null,null,null,null,null,null,null,null,null,null,null,null,null,null,null,"別添1_C24","元金均等返済額",{"$f":"IF(C26=\"\",\"\",C26)","v":""}]
["元金均等返済額",null,null,null,null,"円",null,null,"",null,null,null,null,null,null,null,null,null,null,null,null,null,null,null,null,null,null,{"$f":"A13","v":"元金均等返済額"},null,1000000,null,null,{"$f":"F13","v":"円"},null,null,null,null,null,null,null,null,null,null,null,null,null,null,null,null,null,null,null,"別添1_C26","最終弁済額",{"$f":"IF(C28=\"\",\"\",C28)","v":""}]
[null,null,null,null,null,null,null,null,null,null,null,null,null,null,null,null,null,null,null,null,null,null,null,null,null,null,null,null,null,null,null,null,null,null,null,null,null,null,null,null,null,null,null,null,null,null,null,null,null,null,null,null,"別添1_C28","交付対象融資期間_自：",{"$f":"IF(C30=\"\",\"\",C30)","v":""}]
["最終弁済額",null,null,null,null,"円",null,null,null,null,null,null,null,null,null,null,null,null,null,null,null,null,null,null,null,null,null,{"$f":"A15","v":"最終弁済額"},null,1000000,null,null,{"$f":"F15","v":"円"},null,null,null,null,null,null,null,null,null,null,null,null,null,null,null,null,null,null,null,"別添1_C30","交付対象融資期間_至：",{"$f":"IF(C32=\"\",\"\",C32)","v":""}]
[null,null,null,null,null,null,null,null,null,null,null,null,null,null,null,null,null,null,null,null,null,null,null,null,null,null,null,null,null,null,null,null,null,null,null,null,null,null,null,null,null,null,null,null,null,null,null,null,null,null,null,null,"別添1_C32","利子補給率",{"$f":"IF(C34=\"\",\"\",C34)","v":""}]
["融資期間",null,null,null,null,"(自)",null,null,null,null,null,null,null,null,null,null,null,null,null,null,null,null,null,null,null,null,null,{"$f":"A17","v":"融資期間"},null,{"$f":"DATE(YEAR(U52),11,11)","v":"2025-11-11"},null,null,{"$f":"F17","v":"(自)"},null,null,null,null,null,null,null,null,null,null,null,null,null,null,null,null,null,null,null,"別添1_M43","利子補給金交付申請額（円）合計_単位期間Ⅰ",{"$f":"IF(M45=\"\",\"\",M45)","v":""}]
[null,null,null,null,null,null,null,null,null,null,null,null,null,null,null,null,null,null,null,null,null,null,null,null,null,null,null,null,null,null,null,null,null,null,null,null,null,null,null,null,null,null,null,null,null,null,null,null,null,null,null,null,"別添1_M51","利子補給金交付申請額（円）合計_単位期間Ⅱ",{"$f":"IF(M53=\"\",\"\",M53)","v":""}]
[null,null,null,null,null,"(至)",null,null,null,null,null,null,null,null,null,null,null,null,null,null,null,null,null,null,null,null,null,null,null,{"$f":"DATE(YEAR(U52)+7,11,10)","v":"2032-11-10"},null,null,{"$f":"F19","v":"(至)"},null,null,null,null,null,null,null,null,null,null,null,null,null,null,null,null,null,null,null,"別添1_N35","利子補給金交付申請額合計（円）",{"$f":"IF(N38=\"\",\"\",N38)","v":0}]
[null,null,null,null,null,null,null,null,"協調融資",null,null,null,null,null,null,null,null,null,null,null,null,null,null,null,null,null,null,null,null,null,null,null,null,null,null,"協調融資",null,null,null,null,null,null,null,null,null,null,null,null,null,null,null,null,"別添1_I11","融資備考欄",{"$f":"IF(I13=\"\",\"\",I13)","v":""}]
["融資利率",null,null,null,null,"％",null,null,null,null,null,null,null,null,null,null,null,null,null,null,null,null,null,null,null,null,null,{"$f":"A21","v":"融資利率"},null,1.1000000000000001,null,null,{"$f":"F21","v":"％"},null,null,null,null,null,null,null,null,null,null,null,null,null,null,null,null,null,null,null,"別添1_I21","協調融資",{"$f":"IF(I22=\"\",\"\",I22)","v":""}]
[null,null,null,null,null,null,null,null,"",null,null,null,null,null,null,null,null,null,null,null,null,null,null,null,null,null,null,null,null,null,null,null,null,null,null,"本件融資は協調融資となります。\n△△銀行　融資額　○○○,○○○,○○○円\n□□銀行　融資額　○○○,○○○,○○○円",null,null,null,null,null,null,null,null,null,null,null,null,null,null,null,null,"別添1_I28","シンジケートローン",{"$f":"IF(I30=\"\",\"\",I30)","v":""}]
[null,null,null,null,null,null,null,null,null,null,null,null,null,null,null,null,null,null,null,null,null,null,null,null,null,null,null,null,null,null,null,null,null,null,null,null,null,null,null,null,null,null,null,null,null,null,null,null,null,null,null,null,null,"交付申請変更無しフラグ",{"$f":"IF(F8=\"\",FALSE,TRUE)","v":false}]
["内　交付対象融資額",null,null,null,null,"円",null,null,null,null,null,null,null,null,null,null,null,null,null,null,null,null,null,null,null,null,null,{"$f":"A24","v":"内　交付対象融資額"},null,84000000,null,null,{"$f":"F24","v":"円"}]
[]
["元金均等返済額",null,null,null,null,"円",null,null,null,null,null,null,null,null,null,null,null,null,null,null,null,null,null,null,null,null,null,{"$f":"A26","v":"元金均等返済額"},null,1000000,null,null,{"$f":"F26","v":"円"}]
[]
["最終弁済額",null,null,null,null,"円",null,null,"シンジケートローン",null,null,null,null,null,null,null,null,null,null,null,null,null,null,null,null,null,null,{"$f":"A28","v":"最終弁済額"},null,1000000,null,null,{"$f":"F28","v":"円"},null,null,"シンジケートローン"]
[]
["交付対象融資期間",null,null,null,null,"(自)",null,null,"",null,null,null,null,null,null,null,null,null,null,null,null,null,null,null,null,null,null,{"$f":"A30","v":"交付対象融資期間"},null,{"$f":"AD17","v":"2025-11-11"},null,null,{"$f":"F30","v":"(自)"},null,null,"本件融資はシンジケートローンを利用します。\n・アレンジャー\n○○銀行　融資額　○○○,○○○,○○○円\n・シンジケート団\n△△銀行　融資額　○○○,○○○,○○○円\n□□銀行　融資額　○○○,○○○,○○○円"]
[]
[null,null,null,null,null,"(至)",null,null,null,null,null,null,null,null,null,null,null,null,null,null,null,null,null,null,null,null,null,null,null,{"$f":"$AD$19","v":"2032-11-10"},null,null,{"$f":"F32","v":"(至)"}]
[]
["利子補給率",null,null,null,null,"％",null,null,null,null,null,null,null,null,null,null,null,null,null,null,null,null,null,null,null,null,null,{"$f":"A34","v":"利子補給率"},null,1,null,null,{"$f":"F34","v":"％"}]
[]
[null,null,null,null,null,null,null,null,null,null,null,null,null,null,null,null,null,null,null,null,null,null,null,null,null,null,null,null,1]
[null,null,null,null,null,null,null,null,null,null,"本年度の利子補給金申請額合計（円）",null,null,{"$f":"SUMIF($M$45:$M$60,\"<>#VALUE!\")","v":0},{"$f":"SUMIF(M45:M60,\"<>#VALUE!\")","v":0},null,null,null,"数式ありのセル",null,null,null,null,null,null,null,null,null,null,null,null,null,null,null,null,null,null,"本年度の利子補給金申請額合計（円）",null,null,{"$f":"SUMIF($M$45:$M$60,\"<>#VALUE!\")","v":0},{"$f":"SUMIF(AN45:AN60,\"<>#VALUE!\")","v":271396}]
[null,null,null,null,null,null,null,null,null,null,"利子補給金交付申請額合計（円）",null,null,{"$f":"SUMIF(M45:M220,\"<>#VALUE!\")","v":0},{"$f":"SUMIF(M45:M220,\"<>#VALUE!\")","v":0},null,null,null,null,null,null,null,null,null,null,null,null,null,null,null,null,null,null,null,null,null,null,{"$f":"K38","v":"利子補給金交付申請額合計（円）"},null,null,{"$f":"N38","v":0},{"$f":"SUMIF(AN45:AN220,\"<>#VALUE!\")","v":2976671}]
["２．申請する利子補給金の額",null,null,null,null,null,null,null,null,null,null,null,null,null,null,null,null,null,"エラーメッセージ",null,"↓42行目に要修正の日付あり。再表示すること！",null,null,null,"エラーメッセージ",null,null,{"$f":"A39","v":"２．申請する利子補給金の額"}]
[null,null,null,{"$f":"IF(OR(E45>0,E53>0),\"\",\"↓上記にて交付対象融資期間を入力後、以下の「終了日」、「融資残高」、「交付対象融資残高」をご入力ください。\")","v":"↓上記にて交付対象融資期間を入力後、以下の「終了日」、「融資残高」、「交付対象融資残高」をご入力ください。"},null,null,null,null,null,null,null,null,null,null,null,null,"曜日色：土曜（青）、日曜（赤）、祝日（緑）※祝日は2025年5月時点",null,"↑開始日と終了日の入力に誤りがないかご確認ください。",null,null,null,null,null,"残高をご確認ください。"]
["単位期間",null,"利子補給金の額",null,null,null,null,null,null,null,null,null,null,"元金均等返済額\n（円）",null,null,null,null,"単位期間",null,null,null,null,null,"元金均等返済額",null,null,{"$f":"A41","v":"単位期間"},null,{"$f":"C41","v":"利子補給金の額"},null,null,null,null,null,null,null,null,null,null,{"$f":"N41","v":"元金均等返済額\n（円）"}]
[null,null,"単位期間",null,null,null,null,null,"融資残高\n（円）","交付対象\n融資残高\n（円）","利子\n補給率","利子補給金交付申請額（円）",null,null,null,null,null,null,"①日付の重複\n②「終了日-開始日」が1日以上あいている",null,"③単位期間以外の日程記載NG",null,"④日数が0","NG\nカウント","融資額","交付対象融資額","NG\nカウント",null,null,{"$f":"C42","v":"単位期間"},null,null,null,null,null,{"$f":"I42","v":"融資残高\n（円）"},{"$f":"J42","v":"交付対象\n融資残高\n（円）"},{"$f":"K42","v":"利子\n補給率"},{"$f":"L42","v":"利子補給金交付申請額（円）"}]
[null,null,"開始日","曜日","終了日","曜日","日数","日数\n（合計）",null,null,null,null,"合計（円）","計算用セル\n（配布時非表示）","融資額","計算用セル\n（配布時非表示）","交付対象\n融資額",null,null,null,null,null,null,null,{"$f":"$C$13","v":0},{"$f":"$C$26","v":0},null,null,null,{"$f":"C43","v":"開始日"},{"$f":"D43","v":"曜日"},{"$f":"E43","v":"終了日"},{"$f":"F43","v":"曜日"},{"$f":"G43","v":"日数"},{"$f":"H43","v":"日数\n（合計）"},null,null,null,null,{"$f":"M43","v":"合計（円）"},"計算用セル\n（配布時非表示）",{"$f":"O43","v":"融資額"},"計算用セル\n（配布時非表示）",{"$f":"Q43","v":"交付対象\n融資額"}]
[null,null,null,null,null,null,null,null,null,null,null,null,null,null,null,null,null,null,{"$f":"IF(C44=\"\",\"\",IF(C44>E44,\"NG\",\"\"))","v":""},{"$f":"IF(E44=\"\",\"\",IF(C45=\"\",\"\",IF(E44>C45,\"NG\",\"\")))","v":""},"2024-03-09","2024-09-12"]
[{"$f":"YEAR(U52)&\"年度\"","v":"2025年度"},"単位期間Ⅰ",{"$f":"IF(C30=\"\",\"\",IF(C30<=DATE(2025,9,10),C30,\"\"))","v":""},{"$f":"IF(C45=\"\",\"\",C45)","v":""},null,{"$f":"IF(E45=\"\",\"\",E45)","v":""},{"$f":"IF(E45=\"\",\"\",E45-C45+1)","v":""},{"$f":"IF(G45=\"\",\"\",SUM(G45:G52))","v":""},null,null,{"$f":"C34/100","v":0},{"$f":"IF(J45=\"\",\"\",ROUNDDOWN(J45*K45*G45/365,0))","v":""},{"$f":"IF(L45=\"\",\"\",SUM(L45:L52))","v":""},{"$f":"IF(I45=\"\",N44,I45)","v":0},{"$f":"IF(N45-N46<0,0,N45-N46)","v":0},{"$f":"IF(J45=\"\",P44,J45)","v":0},{"$f":"IF(P45-P46<0,0,P45-P46)","v":0},null,{"$f":"IF(C45=\"\",\"\",IF(C45>E45,\"NG\",\"\"))","v":""},"","","",{"$f":"IF(G45>0,\"\",\"NG\")","v":""},{"$f":"COUNTIF(S45:W45,\"NG\")","v":0},"-","-","-",{"$f":"A45","v":"2025年度"},{"$f":"B45","v":"単位期間Ⅰ"},null,{"$f":"IF(AD45=\"\",\"\",AD45)","v":""},null,{"$f":"IF(AF45=\"\",\"\",AF45)","v":""},{"$f":"IF(AD45=\"\",\"\",AF45-AD45+1)","v":""},{"$f":"IF(AH45=\"\",\"\",SUM(AH45:AH52))","v":""},null,null,{"$f":"AD34/100","v":0.01},{"$f":"IF(AF45=\"\",\"\",ROUNDDOWN(AK45*AL45*AH45/365,0))","v":""},{"$f":"IF(AM45=\"\",\"\",SUM(AM45:AM52))","v":""},{"$f":"IF(AJ45=\"\",AO44,AJ45)","v":0},"-",{"$f":"IF(AK45=\"\",AQ44,AK45)","v":0},"-"]
[null,null,{"$f":"IF(E46=\"\",\"\",IF(E45=\"\",\"\",IF(E45>=DATE(2025,9,10),\"\",E45+1)))","v":""},{"$f":"IF(C46=\"\",\"\",C46)","v":""},null,{"$f":"IF(E46=\"\",\"\",E46)","v":""},{"$f":"IF(E46=\"\",\"\",E46-C46+1)","v":""},null,{"$f":"IF(I45=\"\",\"\",IF(E46=\"\",\"\",I45-$C$13))","v":""},{"$f":"IF(J45=\"\",\"\",IF(F46=\"\",\"\",J45-$C$26))","v":""},{"$f":"IF(K45=\"\",\"\",$K$45)","v":0},{"$f":"IF(J46=\"\",\"\",ROUNDDOWN(J46*K46*G46/365,0))","v":""},null,{"$f":"IF(I46=\"\",N$53,I46)","v":0},{"$f":"N46-N47","v":0},{"$f":"IF(J46=\"\",$P$53,J46)","v":0},{"$f":"P46-P47","v":0},{"$f":"IF(AA46>0,$Y$40,\"\")","v":""},{"$f":"IF(C46=\"\",\"\",IF(C46=E45,\"NG\",IF(C46<E45,\"NG\",IF((C46-E45)>1,\"NG\",\"\"))))","v":""},"",null,"",{"$f":"IF(G46>0,\"\",\"NG\")","v":""},{"$f":"COUNTIF(S46:W46,\"NG\")","v":0},{"$f":"IF($O46=$I46,\"\",IF($O46=0,\"\",IF($O46=$Y$43,\"\",\"NG\")))","v":""},{"$f":"IF($Q46=$J46,\"\",IF($Q46=0,\"\",IF($Q46=$Z$43,\"\",\"NG\")))","v":""},{"$f":"COUNTIF(Y46:Z46,\"NG\")","v":0},null,null,null,{"$f":"IF(AD46=\"\",\"\",AD46)","v":""},null,{"$f":"IF(AF46=\"\",\"\",AF46)","v":""},{"$f":"IF(AD46=\"\",\"\",AF46-AD46+1)","v":""},null,{"$f":"IF(AJ45=\"\",\"\",IF(AF46=\"\",\"\",AJ45-$C$13))","v":""},{"$f":"IF(AK45=\"\",\"\",IF(AG46=\"\",\"\",AK45-$C$26))","v":""},0.01,{"$f":"IF(AF46=\"\",\"\",ROUNDDOWN(AK46*AL46*AH46/365,0))","v":""},null,0,{"$f":"AO45-AO46","v":0},0,{"$f":"AQ45-AQ46","v":0}]
[null,null,{"$f":"IF(E47=\"\",\"\",IF(E46=\"\",\"\",IF(E46>=DATE(2025,9,10),\"\",E46+1)))","v":""},"",null,{"$f":"IF(E47=\"\",\"\",E47)","v":""},{"$f":"IF(E47=\"\",\"\",E47-C47+1)","v":""},null,{"$f":"IF(I46=\"\",\"\",IF(E47=\"\",\"\",I46-$C$13))","v":""},{"$f":"IF(J46=\"\",\"\",IF(F47=\"\",\"\",J46-$C$26))","v":""},{"$f":"IF(K46=\"\",\"\",$K$45)","v":0},"",null,{"$f":"IF(I47=\"\",$N$53,I47)","v":0},0,{"$f":"IF(J47=\"\",$P$53,J47)","v":0},0,{"$f":"IF(AA47>0,$Y$40,\"\")","v":""},"","",null,"","",0,"","",0,null,null,{"$f":"IF(AF47=\"\",\"\",IF(AF46=\"\",\"\",IF(AF46>=DATE(2021,9,10),\"\",AF46+1)))","v":""},"",null,"","",null,{"$f":"IF(AJ46=\"\",\"\",IF(AF47=\"\",\"\",AJ46-$C$13))","v":""},{"$f":"IF(AK46=\"\",\"\",IF(AG47=\"\",\"\",AK46-$C$26))","v":""},0.01,{"$f":"IF(AF47=\"\",\"\",ROUNDDOWN(AK47*AL47*AH47/365,0))","v":""},null,0,{"$f":"AO46-AO47","v":0},0,{"$f":"AQ46-AQ47","v":0}]
[null,null,"","",null,{"$f":"IF(E48=\"\",\"\",E48)","v":""},{"$f":"IF(E48=\"\",\"\",E48-C48+1)","v":""},null,{"$f":"IF(I47=\"\",\"\",IF(E48=\"\",\"\",I47-$C$13))","v":""},{"$f":"IF(J47=\"\",\"\",IF(F48=\"\",\"\",J47-$C$26))","v":""},{"$f":"IF(K47=\"\",\"\",$K$45)","v":0},"",null,0,0,0,0,"","","",null,"","",0,"","",0,null,null,"","",null,"","",null,{"$f":"IF(AJ47=\"\",\"\",IF(AF48=\"\",\"\",AJ47-$C$13))","v":""},"",0.01,"",null,0,0,0,0]
[null,null,"","",null,{"$f":"IF(E49=\"\",\"\",E49)","v":""},"",null,{"$f":"IF(I48=\"\",\"\",IF(E49=\"\",\"\",I48-$C$13))","v":""},"",{"$f":"IF(K48=\"\",\"\",$K$45)","v":0},"",null,0,0,0,0,"","","",null,"","",0,"","",0,null,null,"","",null,"","",null,"","",0.01,"",null,0,0,0,0]
[null,null,"","",null,"","",null,"","",{"$f":"IF(K49=\"\",\"\",$K$45)","v":0},"",null,0,0,0,0,"","","",null,"","",0,"","",0,null,null,"","",null,"","",null,"","",0.01,"",null,0,0,0,0]
[null,null,"","",null,"","",null,"","",0,"",null,0,0,0,0,"","",{"$f":"IF(D51=\"\",\"\",IF(D51<C51,\"NG\",\"\"))","v":""},null,"",{"$f":"IF(G51>0,\"\",\"NG\")","v":""},0,"","",0,null,null,"","",null,"","",null,"","",0.01,"",null,0,0,0,0]
[null,null,{"$f":"IF(X52>0,$S$40,\"\")","v":""},null,null,null,null,null,null,null,0,{"$f":"IF(J52=\"\",\"\",ROUNDDOWN(J52*K52*G52/365,0))","v":""},null,0,{"$f":"IF(N52-N53<0,0,N52-N53)","v":0},0,{"$f":"IF(P52-P53<0,0,P52-P53)","v":0},"",null,null,"2025-09-09","2026-03-12",null,{"$f":"SUM(X45:X51)","v":0},"","",0,null,null,{"$f":"IF($C$222>0,$H$226,IF($E$222>0,$H$226,\"\"))","v":""},"",null,"",null,null,null,null,0.01,"",null,0,0,0,0]
[null,"単位期間Ⅱ",{"$f":"IF(C30=\"\",\"\",IF(E51>M227,E51+1,IF(E50>M227,E50+1,IF(E49>M227,E49+1,IF(E48>M227,E48+1,IF(E47>M227,E47+1,IF(E46>M227,E46+1,IF(E45>M227,E45+1,IF(C30>M227,C30,\"\")))))))))","v":""},{"$f":"IF(C53=\"\",\"\",C53)","v":""},null,{"$f":"IF(E53=\"\",\"\",E53)","v":""},{"$f":"IF(E53=\"\",\"\",E53-C53+1)","v":""},{"$f":"IF(G53=\"\",\"\",SUM(G53:G60))","v":""},null,null,{"$f":"IF(K52=\"\",\"\",$K$45)","v":0},{"$f":"IF(J53=\"\",\"\",ROUNDDOWN(J53*K53*G53/365,0))","v":""},{"$f":"IF(L53=\"\",\"\",SUM(L53:L60))","v":""},{"$f":"IF(I53=\"\",$N$61,I53)","v":0},{"$f":"N53-N54","v":0},{"$f":"IF(J53=\"\",$P$61,J53)","v":0},{"$f":"P53-P54","v":0},"",{"$f":"IF(C53=\"\",\"\",IF(C53>E53,\"NG\",\"\"))","v":""},{"$f":"IF(E53=\"\",\"\",IF(C54=\"\",\"\",IF(E53>C54,\"NG\",\"\")))","v":""},"","",{"$f":"IF(G53>0,\"\",\"NG\")","v":""},{"$f":"COUNTIF(S53:W53,\"NG\")","v":0},"","",0,null,{"$f":"B53","v":"単位期間Ⅱ"},{"$f":"AD17","v":"2025-11-11"},{"$f":"IF(AD53=\"\",\"\",AD53)","v":45972},"2025-12-10",46001,{"$f":"IF(AD53=\"\",\"\",AF53-AD53+1)","v":30},{"$f":"IF(AH53=\"\",\"\",SUM(AH53:AH60))","v":120},84000000,84000000,0.01,{"$f":"IF(AD53=\"\",\"\",ROUNDDOWN(AK53*AL53*AH53/365,0))","v":69041},{"$f":"IF(AM53=\"\",\"\",SUM(AM53:AM60))","v":271396},84000000,1000000,84000000,1000000]
[null,null,{"$f":"IF(E54=\"\",\"\",IF(E53=\"\",\"\",IF(E53>=DATE(2026,3,10),\"\",E53+1)))","v":""},{"$f":"IF(C54=\"\",\"\",C54)","v":""},null,"",{"$f":"IF(E54=\"\",\"\",E54-C54+1)","v":""},null,{"$f":"IF(I53=\"\",\"\",IF(E54=\"\",\"\",I53-$C$13))","v":""},{"$f":"IF(J53=\"\",\"\",IF(F54=\"\",\"\",J53-$C$26))","v":""},0,{"$f":"IF(J54=\"\",\"\",ROUNDDOWN(J54*K54*G54/365,0))","v":""},null,{"$f":"IF(I54=\"\",$N$61,I54)","v":0},{"$f":"N54-N55","v":0},{"$f":"IF(J54=\"\",$P$61,J54)","v":0},{"$f":"P54-P55","v":0},"",{"$f":"IF(C54=\"\",\"\",IF(C54=E53,\"NG\",IF(C54<E53,\"NG\",IF((C54-E53)>1,\"NG\",\"\"))))","v":""},{"$f":"IF(E54=\"\",\"\",IF(C55=\"\",\"\",IF(E54>C55,\"NG\",\"\")))","v":""},null,"",{"$f":"IF(G54>0,\"\",\"NG\")","v":""},{"$f":"COUNTIF(S54:W54,\"NG\")","v":0},"","",0,null,null,{"$f":"AF53+1","v":"2025-12-11"},{"$f":"IF(AD54=\"\",\"\",AD54)","v":46002},"2026-01-13",{"$f":"IF(AF54=\"\",\"\",AF54)","v":46035},{"$f":"IF(AD54=\"\",\"\",AF54-AD54+1)","v":34},null,{"$f":"IF(AJ53=\"\",\"\",IF(AF54=\"\",\"\",AJ53-$AD$13))","v":83000000},{"$f":"IF(AK53=\"\",\"\",IF(AG54=\"\",\"\",AK53-$AD$26))","v":83000000},0.01,77315,null,83000000,1000000,83000000,1000000]
[null,null,{"$f":"IF(E55=\"\",\"\",IF(E54=\"\",\"\",IF(E54>=DATE(2026,3,10),\"\",E54+1)))","v":""},"",null,"","",null,{"$f":"IF(I54=\"\",\"\",IF(E55=\"\",\"\",I54-$C$13))","v":""},{"$f":"IF(J54=\"\",\"\",IF(F55=\"\",\"\",J54-$C$26))","v":""},0,"",null,0,0,0,0,"",{"$f":"IF(C55=\"\",\"\",IF(C55=E54,\"NG\",IF(C55<E54,\"NG\",IF((C55-E54)>1,\"NG\",\"\"))))","v":""},"",null,"","",0,"","",0,null,null,{"$f":"AF54+1","v":"2026-01-14"},46036,"2026-02-10",46063,28,null,{"$f":"IF(AJ54=\"\",\"\",IF(AF55=\"\",\"\",AJ54-$AD$13))","v":82000000},{"$f":"IF(AK54=\"\",\"\",IF(AG55=\"\",\"\",AK54-$AD$26))","v":82000000},0.01,62904,null,82000000,1000000,82000000,1000000]
[null,null,"","",null,"","",null,"","",0,"",null,0,0,0,0,"","","",null,"","",0,"","",0,null,null,"2026-02-11",46064,"2026-03-10",46091,28,null,81000000,81000000,0.01,62136,null,81000000,1000000,81000000,1000000]
[null,null,"","",null,"","",null,"","",0,"",null,0,0,0,0,"","","",null,"","",0,"","",0,null,null,null,"",null,{"$f":"IF(AF57=\"\",\"\",AF57)","v":""},"",null,"","",0.01,"",null,81000000,0,80000000,0]
[null,null,"","",null,"","",null,"","",0,"",null,0,0,0,0,"","","",null,"","",0,"","",0,null,null,null,"",null,{"$f":"IF(AF58=\"\",\"\",AF58)","v":""},"",null,"","",0.01,"",null,81000000,0,80000000,0]
[null,null,"","",null,"","",null,"","",0,"",null,0,0,0,0,"",{"$f":"IF(C59=\"\",\"\",IF(C59=E58,\"NG\",IF(C59<E58,\"NG\",IF((C59-E58)>1,\"NG\",\"\"))))","v":""},{"$f":"IF(D59=\"\",\"\",IF(D59<C59,\"NG\",\"\"))","v":""},null,"",{"$f":"IF(G59>0,\"\",\"NG\")","v":""},0,"","",0,null,null,null,"",null,{"$f":"IF(AF59=\"\",\"\",AF59)","v":""},"",null,"","",0.01,"",null,81000000,0,80000000,0]
[null,null,{"$f":"IF(X60>0,$S$40,\"\")","v":""},null,null,null,null,null,null,null,0,{"$f":"IF(J60=\"\",\"\",ROUNDDOWN(J60*K60*G60/365,0))","v":""},null,0,{"$f":"IF(N60-N61<0,0,N60-N61)","v":0},0,{"$f":"IF(P60-P61<0,0,P60-P61)","v":0},"",null,null,"2026-03-09","2026-09-12",null,{"$f":"SUM(X53:X59)","v":0},"","",0,null,null,{"$f":"IF($C$240>0,$H$244,IF($E$240>0,$H$244,\"\"))","v":""},"",null,"",null,null,"","",0.01,"",null,81000000,0,80000000,0]
[{"$f":"YEAR(U68)&\"年度\"","v":"2026年度"},"単位期間Ⅰ",{"$f":"IF(E61=\"\",\"\",IF(E59>0,E59+1,IF(E58>0,E58+1,IF(E57>0,E57+1,IF(E56>0,E56+1,IF(E55>0,E55+1,IF(E54>0,E54+1,E53+1)))))))","v":""},{"$f":"IF(C61=\"\",\"\",C61)","v":""},null,{"$f":"IF(E61=\"\",\"\",E61)","v":""},{"$f":"IF(E61=\"\",\"\",E61-C61+1)","v":""},{"$f":"IF(G61=\"\",\"\",SUM(G61:G68))","v":""},null,null,{"$f":"IF(K60=\"\",\"\",$K$45)","v":0},{"$f":"IF(J61=\"\",\"\",ROUNDDOWN(J61*K61*G61/365,0))","v":""},{"$f":"IF(L61=\"\",\"\",SUM(L61:L68))","v":""},{"$f":"IF(I61=\"\",$N$69,I61)","v":0},0,{"$f":"IF(J61=\"\",$P$69,J61)","v":0},0,"",{"$f":"IF(C61=\"\",\"\",IF(C61>E61,\"NG\",\"\"))","v":""},{"$f":"IF(E61=\"\",\"\",IF(C62=\"\",\"\",IF(E61>C62,\"NG\",\"\")))","v":""},"","",{"$f":"IF(G61>0,\"\",\"NG\")","v":""},{"$f":"COUNTIF(S61:W61,\"NG\")","v":0},"","",0,{"$f":"A61","v":"2026年度"},"単位期間Ⅰ",{"$f":"AF56+1","v":"2026-03-11"},46092,"2026-04-10",46122,{"$f":"IF(AD61=\"\",\"\",AF61-AD61+1)","v":31},{"$f":"IF(AH61=\"\",\"\",SUM(AH61:AH68))","v":184},80000000,80000000,0.01,{"$f":"IF(AF61=\"\",\"\",ROUNDDOWN(AK61*AL61*AH61/365,0))","v":67945},{"$f":"IF(AM61=\"\",\"\",SUM(AM61:AM68))","v":390681},80000000,1000000,80000000,1000000]
[null,null,{"$f":"IF(E62=\"\",\"\",IF(E61=\"\",\"\",IF(E61>=DATE(2026,9,10),\"\",E61+1)))","v":""},{"$f":"IF(C62=\"\",\"\",C62)","v":""},null,{"$f":"IF(E62=\"\",\"\",E62)","v":""},{"$f":"IF(E62=\"\",\"\",E62-C62+1)","v":""},null,{"$f":"IF(I61=\"\",\"\",IF(E62=\"\",\"\",I61-$C$13))","v":""},{"$f":"IF(J61=\"\",\"\",IF(F62=\"\",\"\",J61-$C$26))","v":""},{"$f":"IF(K61=\"\",\"\",$K$45)","v":0},{"$f":"IF(J62=\"\",\"\",ROUNDDOWN(J62*K62*G62/365,0))","v":""},null,{"$f":"IF(I62=\"\",$N$69,I62)","v":0},0,{"$f":"IF(J62=\"\",$P$69,J62)","v":0},0,"",{"$f":"IF(C62=\"\",\"\",IF(C62=E61,\"NG\",IF(C62<E61,\"NG\",IF((C62-E61)>1,\"NG\",\"\"))))","v":""},{"$f":"IF(E62=\"\",\"\",IF(C63=\"\",\"\",IF(E62>C63,\"NG\",\"\")))","v":""},null,"",{"$f":"IF(G62>0,\"\",\"NG\")","v":""},{"$f":"COUNTIF(S62:W62,\"NG\")","v":0},"","",0,null,null,{"$f":"AF61+1","v":"2026-04-11"},46123,"2026-05-11",46153,{"$f":"IF(AD62=\"\",\"\",AF62-AD62+1)","v":31},null,79000000,79000000,0.01,{"$f":"IF(AF62=\"\",\"\",ROUNDDOWN(AK62*AL62*AH62/365,0))","v":67095},null,79000000,1000000,79000000,1000000]
[null,null,{"$f":"IF(E63=\"\",\"\",IF(E62=\"\",\"\",IF(E62>=DATE(2026,9,10),\"\",E62+1)))","v":""},"",null,"","",null,{"$f":"IF(I62=\"\",\"\",IF(E63=\"\",\"\",I62-$C$13))","v":""},{"$f":"IF(J62=\"\",\"\",IF(F63=\"\",\"\",J62-$C$26))","v":""},0,"",null,0,0,0,0,"",{"$f":"IF(C63=\"\",\"\",IF(C63=E62,\"NG\",IF(C63<E62,\"NG\",IF((C63-E62)>1,\"NG\",\"\"))))","v":""},"",null,"","",0,"","",0,null,null,"2026-05-12",46154,"2026-06-10",46183,30,null,78000000,78000000,0.01,{"$f":"IF(AF63=\"\",\"\",ROUNDDOWN(AK63*AL63*AH63/365,0))","v":64109},null,78000000,1000000,78000000,1000000]
[null,null,"","",null,"","",null,{"$f":"IF(I63=\"\",\"\",IF(E64=\"\",\"\",I63-$C$13))","v":""},{"$f":"IF(J63=\"\",\"\",IF(F64=\"\",\"\",J63-$C$26))","v":""},0,"",null,0,0,0,0,"","","",null,"","",0,"","",0,null,null,"2026-06-11",46184,"2026-07-10",46213,30,null,77000000,77000000,0.01,63287,null,77000000,1000000,77000000,1000000]
[null,null,"","",null,"","",null,"","",0,"",null,0,0,0,0,"","","",null,"","",0,"","",0,null,null,"2026-07-11",46214,"2026-08-10",46244,31,null,76000000,76000000,0.01,64547,null,76000000,1000000,76000000,1000000]
[null,null,"","",null,"","",null,"","",0,"",null,0,0,0,0,"","",{"$f":"IF(E66=\"\",\"\",IF(C67=\"\",\"\",IF(E66>C67,\"NG\",\"\")))","v":""},null,"","",0,"","",0,null,null,"2026-08-11",46245,"2026-09-10",46275,31,null,75000000,75000000,0.01,63698,null,75000000,1000000,75000000,1000000]
[null,null,"","",null,"","",null,"","",0,"",null,0,0,0,0,"","",{"$f":"IF(D67=\"\",\"\",IF(D67<C67,\"NG\",\"\"))","v":""},null,"","",0,"","",0,null,null,null,"",null,"","",null,null,null,0.01,"",null,75000000,0,74000000,0]
[null,null,{"$f":"IF(X68>0,$S$40,\"\")","v":""},null,null,null,null,null,null,null,0,{"$f":"IF(J68=\"\",\"\",ROUNDDOWN(J68*K68*G68/365,0))","v":""},null,0,{"$f":"IF(N68-N69<0,0,N68-N69)","v":0},0,0,"",null,null,"2026-09-09","2027-03-12",null,{"$f":"SUM(X61:X67)","v":0},"","",0,null,null,null,"",null,"",null,null,null,null,0.01,"",null,75000000,0,74000000,0]
[null,"単位期間Ⅱ",{"$f":"IF(E69=\"\",\"\",IF(E67>M242,E67+1,IF(E66>M242,E66+1,IF(E65>M242,E65+1,IF(E64>M242,E64+1,IF(E63>M242,E63+1,IF(E62>M242,E62+1,IF(E61>M242,E61+1,IF(C46>M242,C46,\"\")))))))))","v":""},{"$f":"IF(C69=\"\",\"\",C69)","v":""},null,{"$f":"IF(E69=\"\",\"\",E69)","v":""},{"$f":"IF(E69=\"\",\"\",E69-C69+1)","v":""},{"$f":"IF(G69=\"\",\"\",SUM(G69:G76))","v":""},null,null,0,{"$f":"IF(J69=\"\",\"\",ROUNDDOWN(J69*K69*G69/365,0))","v":""},{"$f":"IF(L69=\"\",\"\",SUM(L69:L76))","v":""},{"$f":"IF(I69=\"\",$N$77,I69)","v":0},0,{"$f":"IF(J69=\"\",$P$77,J69)","v":0},0,"",{"$f":"IF(C69=\"\",\"\",IF(C69>E69,\"NG\",\"\"))","v":""},{"$f":"IF(E69=\"\",\"\",IF(C70=\"\",\"\",IF(E69>C70,\"NG\",\"\")))","v":""},"","","",{"$f":"COUNTIF(S69:W69,\"NG\")","v":0},"","",0,null,"単位期間Ⅱ",{"$f":"AF66+1","v":"2026-09-11"},46276,"2026-10-13",46308,{"$f":"IF(AD69=\"\",\"\",AF69-AD69+1)","v":33},{"$f":"IF(AH69=\"\",\"\",SUM(AH69:AH76))","v":181},74000000,74000000,0.01,{"$f":"IF(AD69=\"\",\"\",ROUNDDOWN(AK69*AL69*AH69/365,0))","v":66904},{"$f":"IF(AM69=\"\",\"\",SUM(AM69:AM76))","v":354820},74000000,1000000,74000000,1000000]
[null,null,{"$f":"IF(E70=\"\",\"\",IF(E69=\"\",\"\",IF(E69>=DATE(2027,3,10),\"\",E69+1)))","v":""},{"$f":"IF(C70=\"\",\"\",C70)","v":""},null,{"$f":"IF(E70=\"\",\"\",E70)","v":""},{"$f":"IF(E70=\"\",\"\",E70-C70+1)","v":""},null,{"$f":"IF(I69=\"\",\"\",IF(E70=\"\",\"\",I69-$C$13))","v":""},{"$f":"IF(J69=\"\",\"\",IF(F70=\"\",\"\",J69-$C$26))","v":""},0,{"$f":"IF(J70=\"\",\"\",ROUNDDOWN(J70*K70*G70/365,0))","v":""},null,{"$f":"IF(I70=\"\",$N$77,I70)","v":0},0,{"$f":"IF(J70=\"\",$P$77,J70)","v":0},0,"",{"$f":"IF(C70=\"\",\"\",IF(C70=E69,\"NG\",IF(C70<E69,\"NG\",IF((C70-E69)>1,\"NG\",\"\"))))","v":""},{"$f":"IF(E70=\"\",\"\",IF(C71=\"\",\"\",IF(E70>C71,\"NG\",\"\")))","v":""},null,"","",{"$f":"COUNTIF(S70:W70,\"NG\")","v":0},"","",0,null,null,{"$f":"AF69+1","v":"2026-10-14"},46309,"2026-11-10",46336,{"$f":"IF(AD70=\"\",\"\",AF70-AD70+1)","v":28},null,73000000,73000000,0.01,56000,null,73000000,1000000,73000000,1000000]
[null,null,{"$f":"IF(E71=\"\",\"\",IF(E70=\"\",\"\",IF(E70>=DATE(2027,3,10),\"\",E70+1)))","v":""},"",null,"","",null,{"$f":"IF(I70=\"\",\"\",IF(E71=\"\",\"\",I70-$C$13))","v":""},{"$f":"IF(J70=\"\",\"\",IF(F71=\"\",\"\",J70-$C$26))","v":""},0,"",null,0,0,0,0,"",{"$f":"IF(C71=\"\",\"\",IF(C71=E70,\"NG\",IF(C71<E70,\"NG\",IF((C71-E70)>1,\"NG\",\"\"))))","v":""},"",null,"","",0,"","",0,null,null,"2026-11-11",46337,"2026-12-10",46366,30,null,72000000,72000000,0.01,59178,null,72000000,1000000,72000000,1000000]
[null,null,"","",null,"","",null,"","",0,"",null,0,0,0,0,"","","",null,"","",0,"","",0,null,null,"2026-12-11",46367,"2027-01-12",46399,33,null,71000000,71000000,0.01,64191,null,71000000,1000000,71000000,1000000]
[null,null,"","",null,"","",null,"","",0,"",null,0,0,0,0,"","","",null,"","",0,"","",0,null,null,"2027-01-13",46400,"2027-02-10",46428,29,null,70000000,70000000,0.01,55616,null,70000000,1000000,70000000,1000000]
[null,null,"","",null,"","",null,"","",0,"",null,0,0,0,0,"","",{"$f":"IF(E74=\"\",\"\",IF(C75=\"\",\"\",IF(E74>C75,\"NG\",\"\")))","v":""},null,"","",0,"","",0,null,null,"2027-02-11",46429,"2027-03-10",46456,28,null,69000000,69000000,0.01,52931,null,69000000,1000000,69000000,1000000]
[null,null,"","",null,"","",null,"","",0,"",null,0,0,0,0,"","",{"$f":"IF(D75=\"\",\"\",IF(D75<C75,\"NG\",\"\"))","v":""},null,"","",0,"","",0,null,null,null,"",null,"","",null,null,null,0.01,"",null,69000000,0,68000000,0]
[null,null,{"$f":"IF(X76>0,$S$40,\"\")","v":""},null,null,null,null,null,null,null,0,{"$f":"IF(J76=\"\",\"\",ROUNDDOWN(J76*K76*G76/365,0))","v":""},null,0,{"$f":"IF(N76-N77<0,0,N76-N77)","v":0},0,0,"",null,null,"2027-03-09","2027-09-12",null,{"$f":"SUM(X69:X75)","v":0},"","",0,null,null,null,"",null,"",null,null,null,null,0.01,"",null,69000000,0,68000000,0]
[{"$f":"YEAR(U84)&\"年度\"","v":"2027年度"},"単位期間Ⅰ",{"$f":"IF(E77=\"\",\"\",IF(E75>0,E75+1,IF(E74>0,E74+1,IF(E73>0,E73+1,IF(E72>0,E72+1,IF(E71>0,E71+1,IF(E70>0,E70+1,E69+1)))))))","v":""},{"$f":"IF(C77=\"\",\"\",C77)","v":""},null,{"$f":"IF(E77=\"\",\"\",E77)","v":""},{"$f":"IF(E77=\"\",\"\",E77-C77+1)","v":""},{"$f":"IF(G77=\"\",\"\",SUM(G77:G84))","v":""},null,null,{"$f":"IF(K76=\"\",\"\",$K$45)","v":0},{"$f":"IF(J77=\"\",\"\",ROUNDDOWN(J77*K77*G77/365,0))","v":""},{"$f":"IF(L77=\"\",\"\",SUM(L77:L84))","v":""},{"$f":"IF(I77=\"\",$N$85,I77)","v":0},0,{"$f":"IF(J77=\"\",$P$85,J77)","v":0},0,"",{"$f":"IF(C77=\"\",\"\",IF(C77>E77,\"NG\",\"\"))","v":""},{"$f":"IF(E77=\"\",\"\",IF(C78=\"\",\"\",IF(E77>C78,\"NG\",\"\")))","v":""},"","","",{"$f":"COUNTIF(S77:W77,\"NG\")","v":0},"","",0,{"$f":"A77","v":"2027年度"},"単位期間Ⅰ",{"$f":"AF74+1","v":"2027-03-11"},46457,"2027-04-12",46489,{"$f":"IF(AD77=\"\",\"\",AF77-AD77+1)","v":33},{"$f":"IF(AH77=\"\",\"\",SUM(AH77:AH84))","v":184},68000000,68000000,0.01,{"$f":"IF(AF77=\"\",\"\",ROUNDDOWN(AK77*AL77*AH77/365,0))","v":61479},{"$f":"IF(AM77=\"\",\"\",SUM(AM77:AM84))","v":330271},68000000,1000000,68000000,1000000]
[null,null,{"$f":"IF(E78=\"\",\"\",IF(E77=\"\",\"\",IF(E77>=DATE(2027,9,10),\"\",E77+1)))","v":""},{"$f":"IF(C78=\"\",\"\",C78)","v":""},null,{"$f":"IF(E78=\"\",\"\",E78)","v":""},{"$f":"IF(E78=\"\",\"\",E78-C78+1)","v":""},null,{"$f":"IF(I77=\"\",\"\",IF(E78=\"\",\"\",I77-$C$13))","v":""},{"$f":"IF(J77=\"\",\"\",IF(F78=\"\",\"\",J77-$C$26))","v":""},{"$f":"IF(K77=\"\",\"\",$K$45)","v":0},{"$f":"IF(J78=\"\",\"\",ROUNDDOWN(J78*K78*G78/365,0))","v":""},null,{"$f":"IF(I78=\"\",$N$85,I78)","v":0},0,{"$f":"IF(J78=\"\",$P$85,J78)","v":0},0,"",{"$f":"IF(C78=\"\",\"\",IF(C78=E77,\"NG\",IF(C78<E77,\"NG\",IF((C78-E77)>1,\"NG\",\"\"))))","v":""},{"$f":"IF(E78=\"\",\"\",IF(C79=\"\",\"\",IF(E78>C79,\"NG\",\"\")))","v":""},null,"","",{"$f":"COUNTIF(S78:W78,\"NG\")","v":0},"","",0,null,null,{"$f":"AF77+1","v":"2027-04-13"},46490,"2027-05-10",46517,{"$f":"IF(AD78=\"\",\"\",AF78-AD78+1)","v":28},null,67000000,67000000,0.01,{"$f":"IF(AF78=\"\",\"\",ROUNDDOWN(AK78*AL78*AH78/365,0))","v":51397},null,67000000,1000000,67000000,1000000]
[null,null,{"$f":"IF(E79=\"\",\"\",IF(E78=\"\",\"\",IF(E78>=DATE(2027,9,10),\"\",E78+1)))","v":""},"",null,"","",null,{"$f":"IF(I78=\"\",\"\",IF(E79=\"\",\"\",I78-$C$13))","v":""},{"$f":"IF(J78=\"\",\"\",IF(F79=\"\",\"\",J78-$C$26))","v":""},{"$f":"IF(K78=\"\",\"\",$K$45)","v":0},"",null,0,0,0,0,"",{"$f":"IF(C79=\"\",\"\",IF(C79=E78,\"NG\",IF(C79<E78,\"NG\",IF((C79-E78)>1,\"NG\",\"\"))))","v":""},"",null,"","",0,"","",0,null,null,"2027-05-11",46518,"2027-06-10",46548,31,null,66000000,66000000,0.01,{"$f":"IF(AF79=\"\",\"\",ROUNDDOWN(AK79*AL79*AH79/365,0))","v":56054},null,66000000,1000000,66000000,1000000]
[null,null,"","",null,"","",null,{"$f":"IF(I79=\"\",\"\",IF(E80=\"\",\"\",I79-$C$13))","v":""},{"$f":"IF(J79=\"\",\"\",IF(F80=\"\",\"\",J79-$C$26))","v":""},0,"",null,0,0,0,0,"","","",null,"","",0,"","",0,null,null,"2027-06-11",46549,"2027-07-12",46580,32,null,65000000,65000000,0.01,56986,null,65000000,1000000,65000000,1000000]
[null,null,"","",null,"","",null,"","",0,"",null,0,0,0,0,"","","",null,"","",0,"","",0,null,null,"2027-07-13",46581,"2027-08-10",46609,29,null,64000000,64000000,0.01,50849,null,64000000,1000000,64000000,1000000]
[null,null,"","",null,"","",null,"","",0,"",null,0,0,0,0,"","","",null,"","",0,"","",0,null,null,"2027-08-11",46610,"2027-09-10",46640,31,null,63000000,63000000,0.01,53506,null,63000000,1000000,63000000,1000000]
[null,null,"","",null,"","",null,"","",0,"",null,0,0,0,0,"",{"$f":"IF(C83=\"\",\"\",IF(C83=E82,\"NG\",IF(C83<E82,\"NG\",IF((C83-E82)>1,\"NG\",\"\"))))","v":""},{"$f":"IF(D83=\"\",\"\",IF(D83<C83,\"NG\",\"\"))","v":""},null,"","",0,"","",0,null,null,null,"",null,"","",null,null,null,0.01,"",null,63000000,0,62000000,0]
[null,null,{"$f":"IF(X84>0,$S$40,\"\")","v":""},null,null,null,null,null,null,null,0,{"$f":"IF(J84=\"\",\"\",ROUNDDOWN(J84*K84*G84/365,0))","v":""},null,0,{"$f":"IF(N84-N85<0,0,N84-N85)","v":0},0,0,"",null,null,"2027-09-09","2028-03-12",null,{"$f":"SUM(X77:X83)","v":0},"","",0,null,null,null,"",null,"",null,null,null,null,0.01,"",null,63000000,0,62000000,0]
[null,"単位期間Ⅱ",{"$f":"IF(E85=\"\",\"\",IF(E83>M258,E83+1,IF(E82>M258,E82+1,IF(E81>M258,E81+1,IF(E80>M258,E80+1,IF(E79>M258,E79+1,IF(E78>M258,E78+1,IF(E77>M258,E77+1,IF(C62>M258,C62,\"\")))))))))","v":""},{"$f":"IF(C85=\"\",\"\",C85)","v":""},null,{"$f":"IF(E85=\"\",\"\",E85)","v":""},{"$f":"IF(E85=\"\",\"\",E85-C85+1)","v":""},{"$f":"IF(G85=\"\",\"\",SUM(G85:G92))","v":""},null,null,0,{"$f":"IF(J85=\"\",\"\",ROUNDDOWN(J85*K85*G85/365,0))","v":""},{"$f":"IF(L85=\"\",\"\",SUM(L85:L92))","v":""},{"$f":"IF(I85=\"\",$N$93,I85)","v":0},0,{"$f":"IF(J85=\"\",$P$93,J85)","v":0},0,"",{"$f":"IF(C85=\"\",\"\",IF(C85>E85,\"NG\",\"\"))","v":""},{"$f":"IF(E85=\"\",\"\",IF(C86=\"\",\"\",IF(E85>C86,\"NG\",\"\")))","v":""},"","","",{"$f":"COUNTIF(S85:W85,\"NG\")","v":0},"","",0,null,"単位期間Ⅱ",{"$f":"AF82+1","v":"2027-09-11"},46641,"2027-10-12",46672,{"$f":"IF(AD85=\"\",\"\",AF85-AD85+1)","v":32},{"$f":"IF(AH85=\"\",\"\",SUM(AH85:AH92))","v":182},62000000,62000000,0.01,{"$f":"IF(AD85=\"\",\"\",ROUNDDOWN(AK85*AL85*AH85/365,0))","v":54356},{"$f":"IF(AM85=\"\",\"\",SUM(AM85:AM92))","v":296847},62000000,1000000,62000000,1000000]
[null,null,{"$f":"IF(E86=\"\",\"\",IF(E85=\"\",\"\",IF(E85>=DATE(2028,3,10),\"\",E85+1)))","v":""},{"$f":"IF(C86=\"\",\"\",C86)","v":""},null,{"$f":"IF(E86=\"\",\"\",E86)","v":""},{"$f":"IF(E86=\"\",\"\",E86-C86+1)","v":""},null,{"$f":"IF(I85=\"\",\"\",IF(E86=\"\",\"\",I85-$C$13))","v":""},{"$f":"IF(J85=\"\",\"\",IF(F86=\"\",\"\",J85-$C$26))","v":""},0,{"$f":"IF(J86=\"\",\"\",ROUNDDOWN(J86*K86*G86/365,0))","v":""},null,{"$f":"IF(I86=\"\",$N$93,I86)","v":0},0,{"$f":"IF(J86=\"\",$P$93,J86)","v":0},0,"",{"$f":"IF(C86=\"\",\"\",IF(C86=E85,\"NG\",IF(C86<E85,\"NG\",IF((C86-E85)>1,\"NG\",\"\"))))","v":""},{"$f":"IF(E86=\"\",\"\",IF(C87=\"\",\"\",IF(E86>C87,\"NG\",\"\")))","v":""},null,"","",{"$f":"COUNTIF(S86:W86,\"NG\")","v":0},"","",0,null,null,{"$f":"AF85+1","v":"2027-10-13"},46673,"2027-11-10",46701,{"$f":"IF(AD86=\"\",\"\",AF86-AD86+1)","v":29},null,61000000,61000000,0.01,48465,null,61000000,1000000,61000000,1000000]
[null,null,{"$f":"IF(E87=\"\",\"\",IF(E86=\"\",\"\",IF(E86>=DATE(2028,3,10),\"\",E86+1)))","v":""},"",null,"","",null,{"$f":"IF(I86=\"\",\"\",IF(E87=\"\",\"\",I86-$C$13))","v":""},{"$f":"IF(J86=\"\",\"\",IF(F87=\"\",\"\",J86-$C$26))","v":""},0,"",null,0,0,0,0,"",{"$f":"IF(C87=\"\",\"\",IF(C87=E86,\"NG\",IF(C87<E86,\"NG\",IF((C87-E86)>1,\"NG\",\"\"))))","v":""},"",null,"","",0,"","",0,null,null,"2027-11-11",46702,"2027-12-10",46731,30,null,60000000,60000000,0.01,49315,null,60000000,1000000,60000000,1000000]
[null,null,"","",null,"","",null,"","",0,"",null,0,0,0,0,"","","",null,"","",0,"","",0,null,null,"2027-12-11",46732,"2028-01-12",46764,33,null,59000000,59000000,0.01,53342,null,59000000,1000000,59000000,1000000]
[null,null,"","",null,"","",null,"","",0,"",null,0,0,0,0,"","","",null,"","",0,"","",0,null,null,"2028-01-13",46765,"2028-02-10",46793,29,null,58000000,58000000,0.01,46082,null,58000000,1000000,58000000,1000000]
[null,null,"","",null,"","",null,"","",0,"",null,0,0,0,0,"","",{"$f":"IF(E90=\"\",\"\",IF(C91=\"\",\"\",IF(E90>C91,\"NG\",\"\")))","v":""},null,"","",0,"","",0,null,null,"2028-02-11",46794,"2028-03-10",46822,29,null,57000000,57000000,0.01,45287,null,57000000,1000000,57000000,1000000]
[null,null,"","",null,"","",null,"","",0,"",null,0,0,0,0,"","",{"$f":"IF(D91=\"\",\"\",IF(D91<C91,\"NG\",\"\"))","v":""},null,"","",0,"","",0,null,null,null,"",null,"","",null,null,null,0.01,"",null,57000000,0,56000000,0]
[null,null,{"$f":"IF(X92>0,$S$40,\"\")","v":""},null,null,null,null,null,null,null,0,{"$f":"IF(J92=\"\",\"\",ROUNDDOWN(J92*K92*G92/365,0))","v":""},null,0,{"$f":"IF(N92-N93<0,0,N92-N93)","v":0},0,0,"",null,null,"2028-03-09","2028-09-12",null,{"$f":"SUM(X85:X91)","v":0},"","",0,null,null,null,"",null,"",null,null,null,null,0.01,"",null,57000000,0,56000000,0]
[{"$f":"YEAR(U100)&\"年度\"","v":"2028年度"},"単位期間Ⅰ",{"$f":"IF(E93=\"\",\"\",IF(E91>0,E91+1,IF(E90>0,E90+1,IF(E89>0,E89+1,IF(E88>0,E88+1,IF(E87>0,E87+1,IF(E86>0,E86+1,E85+1)))))))","v":""},{"$f":"IF(C93=\"\",\"\",C93)","v":""},null,{"$f":"IF(E93=\"\",\"\",E93)","v":""},{"$f":"IF(E93=\"\",\"\",E93-C93+1)","v":""},{"$f":"IF(G93=\"\",\"\",SUM(G93:G100))","v":""},null,null,{"$f":"IF(K92=\"\",\"\",$K$45)","v":0},{"$f":"IF(J93=\"\",\"\",ROUNDDOWN(J93*K93*G93/365,0))","v":""},{"$f":"IF(L93=\"\",\"\",SUM(L93:L100))","v":""},{"$f":"IF(I93=\"\",$N$101,I93)","v":0},0,{"$f":"IF(J93=\"\",$P$101,J93)","v":0},0,"",{"$f":"IF(C93=\"\",\"\",IF(C93>E93,\"NG\",\"\"))","v":""},{"$f":"IF(E93=\"\",\"\",IF(C94=\"\",\"\",IF(E93>C94,\"NG\",\"\")))","v":""},"","","",{"$f":"COUNTIF(S93:W93,\"NG\")","v":0},"","",0,{"$f":"A93","v":"2028年度"},"単位期間Ⅰ",{"$f":"AF90+1","v":"2028-03-11"},46823,"2028-04-10",46853,{"$f":"IF(AD93=\"\",\"\",AF93-AD93+1)","v":31},{"$f":"IF(AH93=\"\",\"\",SUM(AH93:AH100))","v":185},56000000,56000000,0.01,{"$f":"IF(AF93=\"\",\"\",ROUNDDOWN(AK93*AL93*AH93/365,0))","v":47561},{"$f":"IF(AM93=\"\",\"\",SUM(AM93:AM100))","v":271120},56000000,1000000,56000000,1000000]
[null,null,{"$f":"IF(E94=\"\",\"\",IF(E93=\"\",\"\",IF(E93>=DATE(2028,9,10),\"\",E93+1)))","v":""},{"$f":"IF(C94=\"\",\"\",C94)","v":""},null,{"$f":"IF(E94=\"\",\"\",E94)","v":""},{"$f":"IF(E94=\"\",\"\",E94-C94+1)","v":""},null,{"$f":"IF(I93=\"\",\"\",IF(E94=\"\",\"\",I93-$C$13))","v":""},{"$f":"IF(J93=\"\",\"\",IF(F94=\"\",\"\",J93-$C$26))","v":""},{"$f":"IF(K93=\"\",\"\",$K$45)","v":0},{"$f":"IF(J94=\"\",\"\",ROUNDDOWN(J94*K94*G94/365,0))","v":""},null,{"$f":"IF(I94=\"\",$N$101,I94)","v":0},0,{"$f":"IF(J94=\"\",$P$101,J94)","v":0},0,"",{"$f":"IF(C94=\"\",\"\",IF(C94=E93,\"NG\",IF(C94<E93,\"NG\",IF((C94-E93)>1,\"NG\",\"\"))))","v":""},{"$f":"IF(E94=\"\",\"\",IF(C95=\"\",\"\",IF(E94>C95,\"NG\",\"\")))","v":""},null,"","",{"$f":"COUNTIF(S94:W94,\"NG\")","v":0},"","",0,null,null,{"$f":"AF93+1","v":"2028-04-11"},46854,"2028-05-10",46883,{"$f":"IF(AD94=\"\",\"\",AF94-AD94+1)","v":30},null,55000000,55000000,0.01,{"$f":"IF(AF94=\"\",\"\",ROUNDDOWN(AK94*AL94*AH94/365,0))","v":45205},null,55000000,1000000,55000000,1000000]
[null,null,{"$f":"IF(E95=\"\",\"\",IF(E94=\"\",\"\",IF(E94>=DATE(2028,9,10),\"\",E94+1)))","v":""},"",null,"","",null,{"$f":"IF(I94=\"\",\"\",IF(E95=\"\",\"\",I94-$C$13))","v":""},{"$f":"IF(J94=\"\",\"\",IF(F95=\"\",\"\",J94-$C$26))","v":""},{"$f":"IF(K94=\"\",\"\",$K$45)","v":0},"",null,0,0,0,0,"",{"$f":"IF(C95=\"\",\"\",IF(C95=E94,\"NG\",IF(C95<E94,\"NG\",IF((C95-E94)>1,\"NG\",\"\"))))","v":""},"",null,"","",0,"","",0,null,null,"2028-05-11",46884,"2028-06-12",46916,33,null,54000000,54000000,0.01,{"$f":"IF(AF95=\"\",\"\",ROUNDDOWN(AK95*AL95*AH95/365,0))","v":48821},null,54000000,1000000,54000000,1000000]
[null,null,"","",null,"","",null,{"$f":"IF(I95=\"\",\"\",IF(E96=\"\",\"\",I95-$C$13))","v":""},{"$f":"IF(J95=\"\",\"\",IF(F96=\"\",\"\",J95-$C$26))","v":""},0,"",null,0,0,0,0,"","","",null,"","",0,"","",0,null,null,"2028-06-13",46917,"2028-07-10",46944,28,null,53000000,53000000,0.01,40657,null,53000000,1000000,53000000,1000000]
[null,null,"","",null,"","",null,"","",0,"",null,0,0,0,0,"","","",null,"","",0,"","",0,null,null,"2028-07-11",46945,"2028-08-10",46975,31,null,52000000,52000000,0.01,44164,null,52000000,1000000,52000000,1000000]
[null,null,"","",null,"","",null,"","",0,"",null,0,0,0,0,"","",{"$f":"IF(E98=\"\",\"\",IF(C99=\"\",\"\",IF(E98>C99,\"NG\",\"\")))","v":""},null,"","",0,"","",0,null,null,"2028-08-11",46976,"2028-09-11",47007,32,null,51000000,51000000,0.01,44712,null,51000000,1000000,51000000,1000000]
[null,null,"","",null,"","",null,"","",0,"",null,0,0,0,0,"","",{"$f":"IF(D99=\"\",\"\",IF(D99<C99,\"NG\",\"\"))","v":""},null,"",{"$f":"IF(G99>0,\"\",\"NG\")","v":""},0,"","",0,null,null,null,"",null,"","",null,null,null,0.01,"",null,51000000,0,50000000,0]
[null,null,{"$f":"IF(X100>0,$S$40,\"\")","v":""},null,null,null,null,null,null,null,0,{"$f":"IF(J100=\"\",\"\",ROUNDDOWN(J100*K100*G100/365,0))","v":""},null,0,{"$f":"IF(N100-N101<0,0,N100-N101)","v":0},0,0,"",null,null,"2028-09-09","2029-03-12",null,{"$f":"SUM(X93:X99)","v":0},"","",0,null,null,"","",null,"",null,null,null,null,0.01,"",null,51000000,0,50000000,0]
[null,"単位期間Ⅱ",{"$f":"IF(E101=\"\",\"\",IF(E99>M274,E99+1,IF(E98>M274,E98+1,IF(E97>M274,E97+1,IF(E96>M274,E96+1,IF(E95>M274,E95+1,IF(E94>M274,E94+1,IF(E93>M274,E93+1,IF(C78>M274,C78,\"\")))))))))","v":""},{"$f":"IF(C101=\"\",\"\",C101)","v":""},null,{"$f":"IF(E101=\"\",\"\",E101)","v":""},{"$f":"IF(E101=\"\",\"\",E101-C101+1)","v":""},{"$f":"IF(G101=\"\",\"\",SUM(G101:G108))","v":""},null,null,0,{"$f":"IF(J101=\"\",\"\",ROUNDDOWN(J101*K101*G101/365,0))","v":""},{"$f":"IF(L101=\"\",\"\",SUM(L101:L108))","v":""},{"$f":"IF(I101=\"\",$N$109,I101)","v":0},0,{"$f":"IF(J101=\"\",$P$109,J101)","v":0},0,"",{"$f":"IF(C101=\"\",\"\",IF(C101>E101,\"NG\",\"\"))","v":""},{"$f":"IF(E101=\"\",\"\",IF(C102=\"\",\"\",IF(E101>C102,\"NG\",\"\")))","v":""},"","",{"$f":"IF(G101>0,\"\",\"NG\")","v":""},{"$f":"COUNTIF(S101:W101,\"NG\")","v":0},"","",0,null,"単位期間Ⅱ",{"$f":"AF98+1","v":"2028-09-12"},47008,"2028-10-10",47036,{"$f":"IF(AD101=\"\",\"\",AF101-AD101+1)","v":29},{"$f":"IF(AH101=\"\",\"\",SUM(AH101:AH108))","v":182},50000000,50000000,0.01,{"$f":"IF(AD101=\"\",\"\",ROUNDDOWN(AK101*AL101*AH101/365,0))","v":39726},{"$f":"IF(AM101=\"\",\"\",SUM(AM101:AM108))","v":236875},50000000,1000000,50000000,1000000]
[null,null,{"$f":"IF(E102=\"\",\"\",IF(E101=\"\",\"\",IF(E101>=DATE(2029,3,10),\"\",E101+1)))","v":""},{"$f":"IF(C102=\"\",\"\",C102)","v":""},null,{"$f":"IF(E102=\"\",\"\",E102)","v":""},{"$f":"IF(E102=\"\",\"\",E102-C102+1)","v":""},null,{"$f":"IF(I101=\"\",\"\",IF(E102=\"\",\"\",I101-$C$13))","v":""},{"$f":"IF(J101=\"\",\"\",IF(F102=\"\",\"\",J101-$C$26))","v":""},0,{"$f":"IF(J102=\"\",\"\",ROUNDDOWN(J102*K102*G102/365,0))","v":""},null,{"$f":"IF(I102=\"\",$N$109,I102)","v":0},0,{"$f":"IF(J102=\"\",$P$109,J102)","v":0},0,"",{"$f":"IF(C102=\"\",\"\",IF(C102=E101,\"NG\",IF(C102<E101,\"NG\",IF((C102-E101)>1,\"NG\",\"\"))))","v":""},{"$f":"IF(E102=\"\",\"\",IF(C103=\"\",\"\",IF(E102>C103,\"NG\",\"\")))","v":""},null,"",{"$f":"IF(G102>0,\"\",\"NG\")","v":""},{"$f":"COUNTIF(S102:W102,\"NG\")","v":0},"","",0,null,null,{"$f":"AF101+1","v":"2028-10-11"},47037,"2028-11-10",47067,{"$f":"IF(AD102=\"\",\"\",AF102-AD102+1)","v":31},null,49000000,49000000,0.01,41616,null,49000000,1000000,49000000,1000000]
[null,null,{"$f":"IF(E103=\"\",\"\",IF(E102=\"\",\"\",IF(E102>=DATE(2029,3,10),\"\",E102+1)))","v":""},"",null,"","",null,{"$f":"IF(I102=\"\",\"\",IF(E103=\"\",\"\",I102-$C$13))","v":""},{"$f":"IF(J102=\"\",\"\",IF(F103=\"\",\"\",J102-$C$26))","v":""},0,"",null,0,0,0,0,"",{"$f":"IF(C103=\"\",\"\",IF(C103=E102,\"NG\",IF(C103<E102,\"NG\",IF((C103-E102)>1,\"NG\",\"\"))))","v":""},"",null,"","",0,"","",0,null,null,"2028-11-11",47068,"2028-12-11",47098,31,null,48000000,48000000,0.01,40767,null,48000000,1000000,48000000,1000000]
[null,null,"","",null,"","",null,"","",0,"",null,0,0,0,0,"","","",null,"","",0,"","",0,null,null,"2028-12-12",47099,"2029-01-10",47128,30,null,47000000,47000000,0.01,38630,null,47000000,1000000,47000000,1000000]
[null,null,"","",null,"","",null,"","",0,"",null,0,0,0,0,"","","",null,"","",0,"","",0,null,null,"2029-01-11",47129,"2029-02-13",47162,34,null,46000000,46000000,0.01,42849,null,46000000,1000000,46000000,1000000]
[null,null,"","",null,"","",null,"","",0,"",null,0,0,0,0,"","",{"$f":"IF(E106=\"\",\"\",IF(C107=\"\",\"\",IF(E106>C107,\"NG\",\"\")))","v":""},null,"","",0,"","",0,null,null,"2029-02-14",47163,"2029-03-12",47189,27,null,45000000,45000000,0.01,33287,null,45000000,1000000,45000000,1000000]
[null,null,"","",null,"","",null,"","",0,"",null,0,0,0,0,"","",{"$f":"IF(D107=\"\",\"\",IF(D107<C107,\"NG\",\"\"))","v":""},null,"","",0,"","",0,null,null,null,"",null,"","",null,null,null,0.01,"",null,45000000,0,44000000,0]
[null,null,{"$f":"IF(X108>0,$S$40,\"\")","v":""},null,null,null,null,null,null,null,0,{"$f":"IF(J108=\"\",\"\",ROUNDDOWN(J108*K108*G108/365,0))","v":""},null,0,{"$f":"IF(N108-N109<0,0,N108-N109)","v":0},0,0,"",null,null,"2029-03-09","2029-09-12",null,{"$f":"SUM(X101:X107)","v":0},"","",0,null,null,"","",null,"",null,null,null,null,0.01,"",null,45000000,0,44000000,0]
[{"$f":"YEAR(U116)&\"年度\"","v":"2029年度"},"単位期間Ⅰ",{"$f":"IF(E109=\"\",\"\",IF(E107>0,E107+1,IF(E106>0,E106+1,IF(E105>0,E105+1,IF(E104>0,E104+1,IF(E103>0,E103+1,IF(E102>0,E102+1,E101+1)))))))","v":""},{"$f":"IF(C109=\"\",\"\",C109)","v":""},null,{"$f":"IF(E109=\"\",\"\",E109)","v":""},{"$f":"IF(E109=\"\",\"\",E109-C109+1)","v":""},{"$f":"IF(G109=\"\",\"\",SUM(G109:G116))","v":""},null,null,{"$f":"IF(K108=\"\",\"\",$K$45)","v":0},{"$f":"IF(J109=\"\",\"\",ROUNDDOWN(J109*K109*G109/365,0))","v":""},{"$f":"IF(L109=\"\",\"\",SUM(L109:L116))","v":""},{"$f":"IF(I109=\"\",$N$117,I109)","v":0},0,{"$f":"IF(J109=\"\",$P$117,J109)","v":0},0,"",{"$f":"IF(C109=\"\",\"\",IF(C109>E109,\"NG\",\"\"))","v":""},{"$f":"IF(E109=\"\",\"\",IF(C110=\"\",\"\",IF(E109>C110,\"NG\",\"\")))","v":""},"","","",{"$f":"COUNTIF(S109:W109,\"NG\")","v":0},"","",0,{"$f":"A109","v":"2029年度"},"単位期間Ⅰ",{"$f":"AF106+1","v":"2029-03-13"},47190,"2029-04-10",47218,{"$f":"IF(AD109=\"\",\"\",AF109-AD109+1)","v":29},{"$f":"IF(AH109=\"\",\"\",SUM(AH109:AH116))","v":182},44000000,44000000,0.01,{"$f":"IF(AF109=\"\",\"\",ROUNDDOWN(AK109*AL109*AH109/365,0))","v":34958},{"$f":"IF(AM109=\"\",\"\",SUM(AM109:AM116))","v":206791},{"$f":"IF(AJ109=\"\",AO108,AJ109)","v":44000000},1000000,44000000,1000000]
[null,null,{"$f":"IF(E110=\"\",\"\",IF(E109=\"\",\"\",IF(E109>=DATE(2029,9,10),\"\",E109+1)))","v":""},{"$f":"IF(C110=\"\",\"\",C110)","v":""},null,{"$f":"IF(E110=\"\",\"\",E110)","v":""},{"$f":"IF(E110=\"\",\"\",E110-C110+1)","v":""},null,{"$f":"IF(I109=\"\",\"\",IF(E110=\"\",\"\",I109-$C$13))","v":""},{"$f":"IF(J109=\"\",\"\",IF(F110=\"\",\"\",J109-$C$26))","v":""},{"$f":"IF(K109=\"\",\"\",$K$45)","v":0},{"$f":"IF(J110=\"\",\"\",ROUNDDOWN(J110*K110*G110/365,0))","v":""},null,{"$f":"IF(I110=\"\",$N$117,I110)","v":0},0,{"$f":"IF(J110=\"\",$P$117,J110)","v":0},0,"",{"$f":"IF(C110=\"\",\"\",IF(C110=E109,\"NG\",IF(C110<E109,\"NG\",IF((C110-E109)>1,\"NG\",\"\"))))","v":""},{"$f":"IF(E110=\"\",\"\",IF(C111=\"\",\"\",IF(E110>C111,\"NG\",\"\")))","v":""},null,"","",{"$f":"COUNTIF(S110:W110,\"NG\")","v":0},{"$f":"IF($O110=$I110,\"\",IF($O110=0,\"\",IF($O110=$Y$43,\"\",\"NG\")))","v":""},{"$f":"IF($Q110=$J110,\"\",IF($Q110=0,\"\",IF($Q110=$Z$43,\"\",\"NG\")))","v":""},0,null,null,{"$f":"AF109+1","v":"2029-04-11"},47219,"2029-05-10",47248,{"$f":"IF(AD110=\"\",\"\",AF110-AD110+1)","v":30},null,43000000,43000000,0.01,{"$f":"IF(AF110=\"\",\"\",ROUNDDOWN(AK110*AL110*AH110/365,0))","v":35342},null,43000000,1000000,43000000,1000000]
[null,null,{"$f":"IF(E111=\"\",\"\",IF(E110=\"\",\"\",IF(E110>=DATE(2029,9,10),\"\",E110+1)))","v":""},"",null,"","",null,{"$f":"IF(I110=\"\",\"\",IF(E111=\"\",\"\",I110-$C$13))","v":""},{"$f":"IF(J110=\"\",\"\",IF(F111=\"\",\"\",J110-$C$26))","v":""},{"$f":"IF(K110=\"\",\"\",$K$45)","v":0},"",null,0,0,0,0,{"$f":"IF(AA111>0,$Y$40,\"\")","v":""},{"$f":"IF(C111=\"\",\"\",IF(C111=E110,\"NG\",IF(C111<E110,\"NG\",IF((C111-E110)>1,\"NG\",\"\"))))","v":""},"",null,"","",0,"","",{"$f":"COUNTIF(Y111:Z111,\"NG\")","v":0},null,null,"2029-05-11",47249,"2029-06-11",47280,32,null,42000000,42000000,0.01,{"$f":"IF(AF111=\"\",\"\",ROUNDDOWN(AK111*AL111*AH111/365,0))","v":36821},null,42000000,1000000,42000000,1000000]
[null,null,"","",null,"","",null,{"$f":"IF(I111=\"\",\"\",IF(E112=\"\",\"\",I111-$C$13))","v":""},{"$f":"IF(J111=\"\",\"\",IF(F112=\"\",\"\",J111-$C$26))","v":""},0,"",null,0,0,0,0,"","","",null,"","",0,"","",0,null,null,"2029-06-12",47281,"2029-07-10",47309,29,null,41000000,41000000,0.01,32575,null,41000000,1000000,41000000,1000000]
[null,null,"","",null,"","",null,"","",0,"",null,0,0,0,0,"","","",null,"","",0,"","",0,null,null,"2029-07-11",47310,"2029-08-10",47340,31,null,40000000,40000000,0.01,33972,null,40000000,1000000,40000000,1000000]
[null,null,"","",null,"","",null,"","",0,"",null,0,0,0,0,"","",{"$f":"IF(E114=\"\",\"\",IF(C115=\"\",\"\",IF(E114>C115,\"NG\",\"\")))","v":""},null,"","",0,"","",0,null,null,"2029-08-11",47341,"2029-09-10",47371,31,null,39000000,39000000,0.01,33123,null,39000000,1000000,39000000,1000000]
[null,null,"","",null,"","",null,"","",0,"",null,0,0,0,0,"","",{"$f":"IF(D115=\"\",\"\",IF(D115<C115,\"NG\",\"\"))","v":""},null,"","",0,"","",0,null,null,null,"",null,"","",null,null,null,0.01,"",null,39000000,0,38000000,0]
[null,null,{"$f":"IF(X116>0,$S$40,\"\")","v":""},null,null,null,null,null,null,null,0,{"$f":"IF(J116=\"\",\"\",ROUNDDOWN(J116*K116*G116/365,0))","v":""},null,0,{"$f":"IF(N116-N117<0,0,N116-N117)","v":0},0,0,"",null,null,"2029-09-09","2030-03-12",null,{"$f":"SUM(X109:X115)","v":0},"","",0,null,null,"","",null,"",null,null,null,null,0.01,"",null,39000000,0,38000000,0]
[null,"単位期間Ⅱ",{"$f":"IF(E117=\"\",\"\",IF(E115>M289,E115+1,IF(E114>M289,E114+1,IF(E113>M289,E113+1,IF(E112>M289,E112+1,IF(E111>M289,E111+1,IF(E110>M289,E110+1,IF(E109>M289,E109+1,IF(C94>M289,C94,\"\")))))))))","v":""},{"$f":"IF(C117=\"\",\"\",C117)","v":""},null,{"$f":"IF(E117=\"\",\"\",E117)","v":""},{"$f":"IF(E117=\"\",\"\",E117-C117+1)","v":""},{"$f":"IF(G117=\"\",\"\",SUM(G117:G124))","v":""},null,null,0,{"$f":"IF(J117=\"\",\"\",ROUNDDOWN(J117*K117*G117/365,0))","v":""},{"$f":"IF(L117=\"\",\"\",SUM(L117:L124))","v":""},{"$f":"IF(I117=\"\",$N$125,I117)","v":0},0,{"$f":"IF(J117=\"\",$P$125,J117)","v":0},0,"",{"$f":"IF(C117=\"\",\"\",IF(C117>E117,\"NG\",\"\"))","v":""},{"$f":"IF(E117=\"\",\"\",IF(C118=\"\",\"\",IF(E117>C118,\"NG\",\"\")))","v":""},"","","",{"$f":"COUNTIF(S117:W117,\"NG\")","v":0},"","",0,null,"単位期間Ⅱ",{"$f":"AF114+1","v":"2029-09-11"},47372,"2029-10-10",47401,{"$f":"IF(AD117=\"\",\"\",AF117-AD117+1)","v":30},{"$f":"IF(AH117=\"\",\"\",SUM(AH117:AH124))","v":182},38000000,38000000,0.01,{"$f":"IF(AD117=\"\",\"\",ROUNDDOWN(AK117*AL117*AH117/365,0))","v":31232},{"$f":"IF(AM117=\"\",\"\",SUM(AM117:AM124))","v":177175},38000000,1000000,38000000,1000000]
[null,null,{"$f":"IF(E118=\"\",\"\",IF(E117=\"\",\"\",IF(E117>=DATE(2030,3,10),\"\",E117+1)))","v":""},{"$f":"IF(C118=\"\",\"\",C118)","v":""},null,{"$f":"IF(E118=\"\",\"\",E118)","v":""},{"$f":"IF(E118=\"\",\"\",E118-C118+1)","v":""},null,{"$f":"IF(I117=\"\",\"\",IF(E118=\"\",\"\",I117-$C$13))","v":""},{"$f":"IF(J117=\"\",\"\",IF(F118=\"\",\"\",J117-$C$26))","v":""},0,{"$f":"IF(J118=\"\",\"\",ROUNDDOWN(J118*K118*G118/365,0))","v":""},null,{"$f":"IF(I118=\"\",$N$125,I118)","v":0},{"$f":"N118-N119","v":0},{"$f":"IF(J118=\"\",$P$125,J118)","v":0},{"$f":"P118-P119","v":0},"",{"$f":"IF(C118=\"\",\"\",IF(C118=E117,\"NG\",IF(C118<E117,\"NG\",IF((C118-E117)>1,\"NG\",\"\"))))","v":""},{"$f":"IF(E118=\"\",\"\",IF(C119=\"\",\"\",IF(E118>C119,\"NG\",\"\")))","v":""},null,"","",{"$f":"COUNTIF(S118:W118,\"NG\")","v":0},"","",0,null,null,{"$f":"AF117+1","v":"2029-10-11"},{"$f":"IF(AD118=\"\",\"\",AD118)","v":47402},"2029-11-12",47434,{"$f":"IF(AD118=\"\",\"\",AF118-AD118+1)","v":33},null,37000000,37000000,0.01,33452,null,37000000,1000000,37000000,1000000]
[null,null,{"$f":"IF(E119=\"\",\"\",IF(E118=\"\",\"\",IF(E118>=DATE(2030,3,10),\"\",E118+1)))","v":""},"",null,"","",null,{"$f":"IF(I118=\"\",\"\",IF(E119=\"\",\"\",I118-$C$13))","v":""},{"$f":"IF(J118=\"\",\"\",IF(F119=\"\",\"\",J118-$C$26))","v":""},0,"",null,0,0,0,0,"",{"$f":"IF(C119=\"\",\"\",IF(C119=E118,\"NG\",IF(C119<E118,\"NG\",IF((C119-E118)>1,\"NG\",\"\"))))","v":""},"",null,"","",0,"","",0,null,null,"2029-11-13",47435,"2029-12-10",47462,28,null,36000000,36000000,0.01,27616,null,36000000,1000000,36000000,1000000]
[null,null,"","",null,"","",null,"","",0,"",null,0,0,0,0,"","","",null,"","",0,"","",0,null,null,"2029-12-11",47463,"2030-01-10",47493,31,null,35000000,35000000,0.01,29726,null,35000000,1000000,35000000,1000000]
[null,null,"","",null,"","",null,"","",0,"",null,0,0,0,0,"","","",null,"","",0,"","",0,null,null,"2030-01-11",47494,"2030-02-12",47526,33,null,34000000,34000000,0.01,30739,null,34000000,1000000,34000000,1000000]
[null,null,"","",null,"","",null,"","",0,"",null,0,0,0,0,"","",{"$f":"IF(E122=\"\",\"\",IF(C123=\"\",\"\",IF(E122>C123,\"NG\",\"\")))","v":""},null,"","",0,"","",0,null,null,"2030-02-13",47527,"2030-03-11",47553,27,null,33000000,33000000,0.01,24410,null,33000000,1000000,33000000,1000000]
[null,null,"","",null,"","",null,"","",0,"",null,0,0,0,0,"","",{"$f":"IF(D123=\"\",\"\",IF(D123<C123,\"NG\",\"\"))","v":""},null,"","",0,"","",0,null,null,null,"",null,{"$f":"IF(AF123=\"\",\"\",AF123)","v":""},"",null,null,null,0.01,"",null,33000000,0,32000000,0]
[null,null,{"$f":"IF(X124>0,$S$40,\"\")","v":""},null,null,null,null,null,null,null,0,{"$f":"IF(J124=\"\",\"\",ROUNDDOWN(J124*K124*G124/365,0))","v":""},null,0,{"$f":"IF(N124-N125<0,0,N124-N125)","v":0},0,0,"",null,null,"2030-03-09","2030-09-12",null,{"$f":"SUM(X117:X123)","v":0},"","",0,null,null,null,"",null,"",null,null,null,null,0.01,"",null,33000000,0,32000000,0]
[{"$f":"YEAR(U132)&\"年度\"","v":"2030年度"},"単位期間Ⅰ",{"$f":"IF(E125=\"\",\"\",IF(E123>0,E123+1,IF(E122>0,E122+1,IF(E121>0,E121+1,IF(E120>0,E120+1,IF(E119>0,E119+1,IF(E118>0,E118+1,E117+1)))))))","v":""},{"$f":"IF(C125=\"\",\"\",C125)","v":""},null,{"$f":"IF(E125=\"\",\"\",E125)","v":""},{"$f":"IF(E125=\"\",\"\",E125-C125+1)","v":""},{"$f":"IF(G125=\"\",\"\",SUM(G125:G132))","v":""},null,null,{"$f":"IF(K124=\"\",\"\",$K$45)","v":0},{"$f":"IF(J125=\"\",\"\",ROUNDDOWN(J125*K125*G125/365,0))","v":""},{"$f":"IF(L125=\"\",\"\",SUM(L125:L132))","v":""},{"$f":"IF(I125=\"\",$N$133,I125)","v":0},0,{"$f":"IF(J125=\"\",$P$133,J125)","v":0},0,"",{"$f":"IF(C125=\"\",\"\",IF(C125>E125,\"NG\",\"\"))","v":""},{"$f":"IF(E125=\"\",\"\",IF(C126=\"\",\"\",IF(E125>C126,\"NG\",\"\")))","v":""},"","","",{"$f":"COUNTIF(S125:W125,\"NG\")","v":0},"","",0,{"$f":"A125","v":"2030年度"},"単位期間Ⅰ",{"$f":"AF122+1","v":"2030-03-12"},47554,"2030-04-10",47583,{"$f":"IF(AD125=\"\",\"\",AF125-AD125+1)","v":30},{"$f":"IF(AH125=\"\",\"\",SUM(AH125:AH132))","v":183},32000000,32000000,0.01,{"$f":"IF(AF125=\"\",\"\",ROUNDDOWN(AK125*AL125*AH125/365,0))","v":26301},{"$f":"IF(AM125=\"\",\"\",SUM(AM125:AM132))","v":147888},32000000,1000000,32000000,1000000]
[null,null,{"$f":"IF(E126=\"\",\"\",IF(E125=\"\",\"\",IF(E125>=DATE(2030,9,10),\"\",E125+1)))","v":""},{"$f":"IF(C126=\"\",\"\",C126)","v":""},null,{"$f":"IF(E126=\"\",\"\",E126)","v":""},{"$f":"IF(E126=\"\",\"\",E126-C126+1)","v":""},null,{"$f":"IF(I125=\"\",\"\",IF(E126=\"\",\"\",I125-$C$13))","v":""},{"$f":"IF(J125=\"\",\"\",IF(F126=\"\",\"\",J125-$C$26))","v":""},{"$f":"IF(K125=\"\",\"\",$K$45)","v":0},{"$f":"IF(J126=\"\",\"\",ROUNDDOWN(J126*K126*G126/365,0))","v":""},null,{"$f":"IF(I126=\"\",$N$133,I126)","v":0},0,{"$f":"IF(J126=\"\",$P$133,J126)","v":0},0,"",{"$f":"IF(C126=\"\",\"\",IF(C126=E125,\"NG\",IF(C126<E125,\"NG\",IF((C126-E125)>1,\"NG\",\"\"))))","v":""},{"$f":"IF(E126=\"\",\"\",IF(C127=\"\",\"\",IF(E126>C127,\"NG\",\"\")))","v":""},null,"","",{"$f":"COUNTIF(S126:W126,\"NG\")","v":0},"","",0,null,null,{"$f":"AF125+1","v":"2030-04-11"},47584,"2030-05-10",47613,{"$f":"IF(AD126=\"\",\"\",AF126-AD126+1)","v":30},null,31000000,31000000,0.01,{"$f":"IF(AF126=\"\",\"\",ROUNDDOWN(AK126*AL126*AH126/365,0))","v":25479},null,31000000,1000000,31000000,1000000]
[null,null,{"$f":"IF(E127=\"\",\"\",IF(E126=\"\",\"\",IF(E126>=DATE(2030,9,10),\"\",E126+1)))","v":""},"",null,"","",null,{"$f":"IF(I126=\"\",\"\",IF(E127=\"\",\"\",I126-$C$13))","v":""},{"$f":"IF(J126=\"\",\"\",IF(F127=\"\",\"\",J126-$C$26))","v":""},{"$f":"IF(K126=\"\",\"\",$K$45)","v":0},"",null,0,0,0,0,"",{"$f":"IF(C127=\"\",\"\",IF(C127=E126,\"NG\",IF(C127<E126,\"NG\",IF((C127-E126)>1,\"NG\",\"\"))))","v":""},"",null,"","",0,"","",0,null,null,"2030-05-11",47614,"2030-06-10",47644,31,null,30000000,30000000,0.01,{"$f":"IF(AF127=\"\",\"\",ROUNDDOWN(AK127*AL127*AH127/365,0))","v":25479},null,30000000,1000000,30000000,1000000]
[null,null,"","",null,"","",null,{"$f":"IF(I127=\"\",\"\",IF(E128=\"\",\"\",I127-$C$13))","v":""},{"$f":"IF(J127=\"\",\"\",IF(F128=\"\",\"\",J127-$C$26))","v":""},0,"",null,0,0,0,0,"","","",null,"","",0,"","",0,null,null,"2030-06-11",47645,"2030-07-10",47674,30,null,29000000,29000000,0.01,23835,null,29000000,1000000,29000000,1000000]
[null,null,"","",null,"","",null,"","",0,"",null,0,0,0,0,"","","",null,"","",0,"","",0,null,null,"2030-07-11",47675,"2030-08-13",47708,34,null,28000000,28000000,0.01,26082,null,28000000,1000000,28000000,1000000]
[null,null,"","",null,"","",null,"","",0,"",null,0,0,0,0,"","","",null,"","",0,"","",0,null,null,"2030-08-14",47709,"2030-09-10",47736,28,null,27000000,27000000,0.01,20712,null,27000000,1000000,27000000,1000000]
[null,null,"","",null,"","",null,"","",0,"",null,0,0,0,0,"","",{"$f":"IF(D131=\"\",\"\",IF(D131<C131,\"NG\",\"\"))","v":""},null,"","",0,"","",0,null,null,null,"",null,"","",null,null,null,0.01,"",null,27000000,0,26000000,0]
[null,null,{"$f":"IF(X132>0,$S$40,\"\")","v":""},null,null,null,null,null,null,null,0,{"$f":"IF(J132=\"\",\"\",ROUNDDOWN(J132*K132*G132/365,0))","v":""},null,0,{"$f":"IF(N132-N133<0,0,N132-N133)","v":0},0,0,"",null,null,"2030-09-09","2031-03-12",null,{"$f":"SUM(X125:X131)","v":0},"","",0,null,null,"","",null,"",null,null,null,null,0.01,"",null,27000000,0,26000000,0]
[null,"単位期間Ⅱ",{"$f":"IF(E133=\"\",\"\",IF(E131>M305,E131+1,IF(E130>M305,E130+1,IF(E129>M305,E129+1,IF(E128>M305,E128+1,IF(E127>M305,E127+1,IF(E126>M305,E126+1,IF(E125>M305,E125+1,IF(C110>M305,C110,\"\")))))))))","v":""},{"$f":"IF(C133=\"\",\"\",C133)","v":""},null,{"$f":"IF(E133=\"\",\"\",E133)","v":""},{"$f":"IF(E133=\"\",\"\",E133-C133+1)","v":""},{"$f":"IF(G133=\"\",\"\",SUM(G133:G140))","v":""},null,null,0,{"$f":"IF(J133=\"\",\"\",ROUNDDOWN(J133*K133*G133/365,0))","v":""},{"$f":"IF(L133=\"\",\"\",SUM(L133:L140))","v":""},{"$f":"IF(I133=\"\",$N$141,I133)","v":0},0,{"$f":"IF(J133=\"\",$P$141,J133)","v":0},0,"",{"$f":"IF(C133=\"\",\"\",IF(C133>E133,\"NG\",\"\"))","v":""},{"$f":"IF(E133=\"\",\"\",IF(C134=\"\",\"\",IF(E133>C134,\"NG\",\"\")))","v":""},"","","",{"$f":"COUNTIF(S133:W133,\"NG\")","v":0},"","",0,null,"単位期間Ⅱ",{"$f":"AF130+1","v":"2030-09-11"},47737,"2030-10-10",47766,{"$f":"IF(AD133=\"\",\"\",AF133-AD133+1)","v":30},{"$f":"IF(AH133=\"\",\"\",SUM(AH133:AH140))","v":181},26000000,26000000,0.01,{"$f":"IF(AD133=\"\",\"\",ROUNDDOWN(AK133*AL133*AH133/365,0))","v":21369},{"$f":"IF(AM133=\"\",\"\",SUM(AM133:AM140))","v":116681},26000000,1000000,26000000,1000000]
[null,null,{"$f":"IF(E134=\"\",\"\",IF(E133=\"\",\"\",IF(E133>=DATE(2031,3,10),\"\",E133+1)))","v":""},{"$f":"IF(C134=\"\",\"\",C134)","v":""},null,{"$f":"IF(E134=\"\",\"\",E134)","v":""},{"$f":"IF(E134=\"\",\"\",E134-C134+1)","v":""},null,{"$f":"IF(I133=\"\",\"\",IF(E134=\"\",\"\",I133-$C$13))","v":""},{"$f":"IF(J133=\"\",\"\",IF(F134=\"\",\"\",J133-$C$26))","v":""},0,{"$f":"IF(J134=\"\",\"\",ROUNDDOWN(J134*K134*G134/365,0))","v":""},null,{"$f":"IF(I134=\"\",$N$141,I134)","v":0},0,{"$f":"IF(J134=\"\",$P$141,J134)","v":0},0,"",{"$f":"IF(C134=\"\",\"\",IF(C134=E133,\"NG\",IF(C134<E133,\"NG\",IF((C134-E133)>1,\"NG\",\"\"))))","v":""},{"$f":"IF(E134=\"\",\"\",IF(C135=\"\",\"\",IF(E134>C135,\"NG\",\"\")))","v":""},null,"","",{"$f":"COUNTIF(S134:W134,\"NG\")","v":0},"","",0,null,null,{"$f":"AF133+1","v":"2030-10-11"},47767,"2030-11-11",47798,{"$f":"IF(AD134=\"\",\"\",AF134-AD134+1)","v":32},null,25000000,25000000,0.01,21917,null,25000000,1000000,25000000,1000000]
[null,null,{"$f":"IF(E135=\"\",\"\",IF(E134=\"\",\"\",IF(E134>=DATE(2031,3,10),\"\",E134+1)))","v":""},{"$f":"IF(C135=\"\",\"\",C135)","v":""},null,"","",null,{"$f":"IF(I134=\"\",\"\",IF(E135=\"\",\"\",I134-$C$13))","v":""},{"$f":"IF(J134=\"\",\"\",IF(F135=\"\",\"\",J134-$C$26))","v":""},0,"",null,0,0,0,0,"",{"$f":"IF(C135=\"\",\"\",IF(C135=E134,\"NG\",IF(C135<E134,\"NG\",IF((C135-E134)>1,\"NG\",\"\"))))","v":""},"",null,"","",0,"","",0,null,null,"2030-11-12",47799,"2030-12-10",47827,29,null,24000000,24000000,0.01,19068,null,24000000,1000000,24000000,1000000]
[null,null,"","",null,"","",null,"","",0,"",null,0,0,0,0,"","","",null,"","",0,"","",0,null,null,"2030-12-11",47828,"2031-01-10",47858,31,null,23000000,23000000,0.01,19534,null,23000000,1000000,23000000,1000000]
[null,null,"","",null,"","",null,"","",0,"",null,0,0,0,0,"","","",null,"","",0,"","",0,null,null,"2031-01-11",47859,"2031-02-10",47889,31,null,22000000,22000000,0.01,18684,null,22000000,1000000,22000000,1000000]
[null,null,"","",null,"","",null,"","",0,"",null,0,0,0,0,"","",{"$f":"IF(E138=\"\",\"\",IF(C139=\"\",\"\",IF(E138>C139,\"NG\",\"\")))","v":""},null,"","",0,"","",0,null,null,"2031-02-11",47890,"2031-03-10",47917,28,null,21000000,21000000,0.01,16109,null,21000000,1000000,21000000,1000000]
[null,null,"","",null,"","",null,"","",0,"",null,0,0,0,0,"","",{"$f":"IF(D139=\"\",\"\",IF(D139<C139,\"NG\",\"\"))","v":""},null,"","",0,"","",0,null,null,null,"",null,"","",null,null,null,0.01,"",null,21000000,0,20000000,0]
[null,null,{"$f":"IF(X140>0,$S$40,\"\")","v":""},null,null,null,null,null,null,null,0,{"$f":"IF(J140=\"\",\"\",ROUNDDOWN(J140*K140*G140/365,0))","v":""},null,0,{"$f":"IF(N140-N141<0,0,N140-N141)","v":0},0,0,"",null,null,"2031-03-09","2031-09-12",null,{"$f":"SUM(X133:X139)","v":0},"","",0,null,null,null,"",null,"",null,null,null,null,0.01,"",null,21000000,0,20000000,0]
[{"$f":"YEAR(U148)&\"年度\"","v":"2031年度"},"単位期間Ⅰ",{"$f":"IF(E141=\"\",\"\",IF(E139>0,E139+1,IF(E138>0,E138+1,IF(E137>0,E137+1,IF(E136>0,E136+1,IF(E135>0,E135+1,IF(E134>0,E134+1,E133+1)))))))","v":""},{"$f":"IF(C141=\"\",\"\",C141)","v":""},null,{"$f":"IF(E141=\"\",\"\",E141)","v":""},{"$f":"IF(E141=\"\",\"\",E141-C141+1)","v":""},{"$f":"IF(G141=\"\",\"\",SUM(G141:G148))","v":""},null,null,{"$f":"IF(K140=\"\",\"\",$K$45)","v":0},{"$f":"IF(J141=\"\",\"\",ROUNDDOWN(J141*K141*G141/365,0))","v":""},{"$f":"IF(L141=\"\",\"\",SUM(L141:L148))","v":""},{"$f":"IF(I141=\"\",$N$149,I141)","v":0},0,{"$f":"IF(J141=\"\",$P$149,J141)","v":0},0,"",{"$f":"IF(C141=\"\",\"\",IF(C141>E141,\"NG\",\"\"))","v":""},{"$f":"IF(E141=\"\",\"\",IF(C142=\"\",\"\",IF(E141>C142,\"NG\",\"\")))","v":""},"","","",{"$f":"COUNTIF(S141:W141,\"NG\")","v":0},"","",0,{"$f":"A141","v":"2031年度"},"単位期間Ⅰ",{"$f":"AF138+1","v":"2031-03-11"},47918,"2031-04-10",47948,{"$f":"IF(AD141=\"\",\"\",AF141-AD141+1)","v":31},{"$f":"IF(AH141=\"\",\"\",SUM(AH141:AH148))","v":184},20000000,20000000,0.01,{"$f":"IF(AF141=\"\",\"\",ROUNDDOWN(AK141*AL141*AH141/365,0))","v":16986},{"$f":"IF(AM141=\"\",\"\",SUM(AM141:AM148))","v":88298},20000000,1000000,20000000,1000000]
[null,null,{"$f":"IF(E142=\"\",\"\",IF(E141=\"\",\"\",IF(E141>=DATE(2031,9,10),\"\",E141+1)))","v":""},{"$f":"IF(C142=\"\",\"\",C142)","v":""},null,{"$f":"IF(E142=\"\",\"\",E142)","v":""},{"$f":"IF(E142=\"\",\"\",E142-C142+1)","v":""},null,{"$f":"IF(I141=\"\",\"\",IF(E142=\"\",\"\",I141-$C$13))","v":""},{"$f":"IF(J141=\"\",\"\",IF(F142=\"\",\"\",J141-$C$26))","v":""},{"$f":"IF(K141=\"\",\"\",$K$45)","v":0},{"$f":"IF(J142=\"\",\"\",ROUNDDOWN(J142*K142*G142/365,0))","v":""},null,{"$f":"IF(I142=\"\",$N$149,I142)","v":0},0,{"$f":"IF(J142=\"\",$P$149,J142)","v":0},0,"",{"$f":"IF(C142=\"\",\"\",IF(C142=E141,\"NG\",IF(C142<E141,\"NG\",IF((C142-E141)>1,\"NG\",\"\"))))","v":""},{"$f":"IF(E142=\"\",\"\",IF(C143=\"\",\"\",IF(E142>C143,\"NG\",\"\")))","v":""},null,"","",{"$f":"COUNTIF(S142:W142,\"NG\")","v":0},"","",0,null,null,{"$f":"AF141+1","v":"2031-04-11"},47949,"2031-05-12",47980,{"$f":"IF(AD142=\"\",\"\",AF142-AD142+1)","v":32},null,19000000,19000000,0.01,{"$f":"IF(AF142=\"\",\"\",ROUNDDOWN(AK142*AL142*AH142/365,0))","v":16657},null,19000000,1000000,19000000,1000000]
[null,null,{"$f":"IF(E143=\"\",\"\",IF(E142=\"\",\"\",IF(E142>=DATE(2031,9,10),\"\",E142+1)))","v":""},"",null,"","",null,{"$f":"IF(I142=\"\",\"\",IF(E143=\"\",\"\",I142-$C$13))","v":""},{"$f":"IF(J142=\"\",\"\",IF(F143=\"\",\"\",J142-$C$26))","v":""},{"$f":"IF(K142=\"\",\"\",$K$45)","v":0},"",null,0,0,0,0,"",{"$f":"IF(C143=\"\",\"\",IF(C143=E142,\"NG\",IF(C143<E142,\"NG\",IF((C143-E142)>1,\"NG\",\"\"))))","v":""},"",null,"","",0,"","",0,null,null,"2031-05-13",47981,"2031-06-10",48009,29,null,18000000,18000000,0.01,{"$f":"IF(AF143=\"\",\"\",ROUNDDOWN(AK143*AL143*AH143/365,0))","v":14301},null,18000000,1000000,18000000,1000000]
[null,null,"","",null,"","",null,{"$f":"IF(I143=\"\",\"\",IF(E144=\"\",\"\",I143-$C$13))","v":""},{"$f":"IF(J143=\"\",\"\",IF(F144=\"\",\"\",J143-$C$26))","v":""},0,"",null,0,0,0,0,"","","",null,"","",0,"","",0,null,null,"2031-06-11",48010,"2031-07-10",48039,30,null,17000000,17000000,0.01,13972,null,17000000,1000000,17000000,1000000]
[null,null,"","",null,"","",null,"","",0,"",null,0,0,0,0,"","","",null,"","",0,"","",0,null,null,"2031-07-11",48040,"2031-08-12",48072,33,null,16000000,16000000,0.01,14465,null,16000000,1000000,16000000,1000000]
[null,null,"","",null,"","",null,"","",0,"",null,0,0,0,0,"","",{"$f":"IF(E146=\"\",\"\",IF(C147=\"\",\"\",IF(E146>C147,\"NG\",\"\")))","v":""},null,"","",0,"","",0,null,null,"2031-08-13",48073,"2031-09-10",48101,29,null,15000000,15000000,0.01,11917,null,15000000,1000000,15000000,1000000]
[null,null,"","",null,"","",null,"","",0,"",null,0,0,0,0,"","",{"$f":"IF(D147=\"\",\"\",IF(D147<C147,\"NG\",\"\"))","v":""},null,"","",0,"","",0,null,null,null,"",null,"","",null,null,null,0.01,"",null,15000000,0,14000000,0]
[null,null,{"$f":"IF(X148>0,$S$40,\"\")","v":""},null,null,null,null,null,null,null,0,{"$f":"IF(J148=\"\",\"\",ROUNDDOWN(J148*K148*G148/365,0))","v":""},null,0,{"$f":"IF(N148-N149<0,0,N148-N149)","v":0},0,0,"",null,null,"2031-09-09","2032-03-12",null,{"$f":"SUM(X141:X147)","v":0},"","",0,null,null,null,"",null,"",null,null,null,null,0.01,"",null,15000000,0,14000000,0]
[null,"単位期間Ⅱ",{"$f":"IF(E149=\"\",\"\",IF(E147>M320,E147+1,IF(E146>M320,E146+1,IF(E145>M320,E145+1,IF(E144>M320,E144+1,IF(E143>M320,E143+1,IF(E142>M320,E142+1,IF(E141>M320,E141+1,IF(C126>M320,C126,\"\")))))))))","v":""},{"$f":"IF(C149=\"\",\"\",C149)","v":""},null,{"$f":"IF(E149=\"\",\"\",E149)","v":""},{"$f":"IF(E149=\"\",\"\",E149-C149+1)","v":""},{"$f":"IF(G149=\"\",\"\",SUM(G149:G156))","v":""},null,null,0,{"$f":"IF(J149=\"\",\"\",ROUNDDOWN(J149*K149*G149/365,0))","v":""},{"$f":"IF(L149=\"\",\"\",SUM(L149:L156))","v":""},{"$f":"IF(I149=\"\",$N$157,I149)","v":0},0,{"$f":"IF(J149=\"\",$P$157,J149)","v":0},0,"",{"$f":"IF(C149=\"\",\"\",IF(C149>E149,\"NG\",\"\"))","v":""},{"$f":"IF(E149=\"\",\"\",IF(C150=\"\",\"\",IF(E149>C150,\"NG\",\"\")))","v":""},"","","",{"$f":"COUNTIF(S149:W149,\"NG\")","v":0},"","",0,null,"単位期間Ⅱ",{"$f":"AF146+1","v":"2031-09-11"},48102,"2031-10-10",48131,{"$f":"IF(AD149=\"\",\"\",AF149-AD149+1)","v":30},{"$f":"IF(AH149=\"\",\"\",SUM(AH149:AH156))","v":182},14000000,14000000,0.01,{"$f":"IF(AD149=\"\",\"\",ROUNDDOWN(AK149*AL149*AH149/365,0))","v":11506},{"$f":"IF(AM149=\"\",\"\",SUM(AM149:AM156))","v":57477},14000000,1000000,14000000,1000000]
[null,null,{"$f":"IF(E150=\"\",\"\",IF(E149=\"\",\"\",IF(E149>=DATE(2032,3,10),\"\",E149+1)))","v":""},{"$f":"IF(C150=\"\",\"\",C150)","v":""},null,{"$f":"IF(E150=\"\",\"\",E150)","v":""},{"$f":"IF(E150=\"\",\"\",E150-C150+1)","v":""},null,{"$f":"IF(I149=\"\",\"\",IF(E150=\"\",\"\",I149-$C$13))","v":""},{"$f":"IF(J149=\"\",\"\",IF(F150=\"\",\"\",J149-$C$26))","v":""},0,{"$f":"IF(J150=\"\",\"\",ROUNDDOWN(J150*K150*G150/365,0))","v":""},null,{"$f":"IF(I150=\"\",$N$157,I150)","v":0},0,{"$f":"IF(J150=\"\",$P$157,J150)","v":0},0,"",{"$f":"IF(C150=\"\",\"\",IF(C150=E149,\"NG\",IF(C150<E149,\"NG\",IF((C150-E149)>1,\"NG\",\"\"))))","v":""},{"$f":"IF(E150=\"\",\"\",IF(C151=\"\",\"\",IF(E150>C151,\"NG\",\"\")))","v":""},null,"","",{"$f":"COUNTIF(S150:W150,\"NG\")","v":0},"","",0,null,null,{"$f":"AF149+1","v":"2031-10-11"},48132,"2031-11-10",48162,{"$f":"IF(AD150=\"\",\"\",AF150-AD150+1)","v":31},null,13000000,13000000,0.01,11041,null,13000000,1000000,13000000,1000000]
[null,null,{"$f":"IF(E151=\"\",\"\",IF(E150=\"\",\"\",IF(E150>=DATE(2032,3,10),\"\",E150+1)))","v":""},"",null,"","",null,{"$f":"IF(I150=\"\",\"\",IF(E151=\"\",\"\",I150-$C$13))","v":""},{"$f":"IF(J150=\"\",\"\",IF(F151=\"\",\"\",J150-$C$26))","v":""},0,"",null,0,0,0,0,"",{"$f":"IF(C151=\"\",\"\",IF(C151=E150,\"NG\",IF(C151<E150,\"NG\",IF((C151-E150)>1,\"NG\",\"\"))))","v":""},"",null,"","",0,"","",0,null,null,"2031-11-11",48163,"2031-12-10",48192,30,null,12000000,12000000,0.01,9863,null,12000000,1000000,12000000,1000000]
[null,null,"","",null,"","",null,"","",0,"",null,0,0,0,0,"","","",null,"","",0,"","",0,null,null,"2031-12-11",48193,"2032-01-13",48226,34,null,11000000,11000000,0.01,10246,null,11000000,1000000,11000000,1000000]
[null,null,"","",null,"","",null,"","",0,"",null,0,0,0,0,"","","",null,"","",0,"","",0,null,null,"2032-01-14",48227,"2032-02-10",48254,28,null,10000000,10000000,0.01,7671,null,10000000,1000000,10000000,1000000]
[null,null,"","",null,"","",null,"","",0,"",null,0,0,0,0,"","",{"$f":"IF(E154=\"\",\"\",IF(C155=\"\",\"\",IF(E154>C155,\"NG\",\"\")))","v":""},null,"","",0,"","",0,null,null,"2032-02-11",48255,"2032-03-10",48283,29,null,9000000,9000000,0.01,7150,null,9000000,1000000,9000000,1000000]
[null,null,"","",null,"","",null,"","",0,"",null,0,0,0,0,"","",{"$f":"IF(D155=\"\",\"\",IF(D155<C155,\"NG\",\"\"))","v":""},null,"","",0,"","",0,null,null,null,"",null,"","",null,null,null,0.01,"",null,9000000,0,8000000,0]
[null,null,{"$f":"IF(X156>0,$S$40,\"\")","v":""},null,null,null,null,null,null,null,0,{"$f":"IF(J156=\"\",\"\",ROUNDDOWN(J156*K156*G156/365,0))","v":""},null,0,{"$f":"IF(N156-N157<0,0,N156-N157)","v":0},0,0,"",null,null,"2032-03-09","2032-09-12",null,{"$f":"SUM(X149:X155)","v":0},"","",0,null,null,null,"",null,"",null,null,null,null,0.01,"",null,9000000,0,8000000,0]
[{"$f":"YEAR(U164)&\"年度\"","v":"2032年度"},"単位期間Ⅰ",{"$f":"IF(E157=\"\",\"\",IF(E155>0,E155+1,IF(E154>0,E154+1,IF(E153>0,E153+1,IF(E152>0,E152+1,IF(E151>0,E151+1,IF(E150>0,E150+1,E149+1)))))))","v":""},{"$f":"IF(C157=\"\",\"\",C157)","v":""},null,{"$f":"IF(E157=\"\",\"\",E157)","v":""},{"$f":"IF(E157=\"\",\"\",E157-C157+1)","v":""},{"$f":"IF(G157=\"\",\"\",SUM(G157:G164))","v":""},null,null,{"$f":"IF(K156=\"\",\"\",$K$45)","v":0},{"$f":"IF(J157=\"\",\"\",ROUNDDOWN(J157*K157*G157/365,0))","v":""},{"$f":"IF(L157=\"\",\"\",SUM(L157:L164))","v":""},{"$f":"IF(I157=\"\",$N$165,I157)","v":0},0,{"$f":"IF(J157=\"\",$P$165,J157)","v":0},0,"",{"$f":"IF(C157=\"\",\"\",IF(C157>E157,\"NG\",\"\"))","v":""},{"$f":"IF(E157=\"\",\"\",IF(C158=\"\",\"\",IF(E157>C158,\"NG\",\"\")))","v":""},"","","",{"$f":"COUNTIF(S157:W157,\"NG\")","v":0},"","",0,{"$f":"A157","v":"2032年度"},"単位期間Ⅰ",{"$f":"AF154+1","v":"2032-03-11"},48284,"2032-04-12",48316,{"$f":"IF(AD157=\"\",\"\",AF157-AD157+1)","v":33},{"$f":"IF(AH157=\"\",\"\",SUM(AH157:AH164))","v":184},8000000,8000000,0.01,{"$f":"IF(AF157=\"\",\"\",ROUNDDOWN(AK157*AL157*AH157/365,0))","v":7232},{"$f":"IF(AM157=\"\",\"\",SUM(AM157:AM164))","v":27804},8000000,1000000,8000000,1000000]
[null,null,{"$f":"IF(E158=\"\",\"\",IF(E157=\"\",\"\",IF(E157>=DATE(2032,9,10),\"\",E157+1)))","v":""},{"$f":"IF(C158=\"\",\"\",C158)","v":""},null,{"$f":"IF(E158=\"\",\"\",E158)","v":""},{"$f":"IF(E158=\"\",\"\",E158-C158+1)","v":""},null,{"$f":"IF(I157=\"\",\"\",IF(E158=\"\",\"\",I157-$C$13))","v":""},{"$f":"IF(J157=\"\",\"\",IF(F158=\"\",\"\",J157-$C$26))","v":""},{"$f":"IF(K157=\"\",\"\",$K$45)","v":0},{"$f":"IF(J158=\"\",\"\",ROUNDDOWN(J158*K158*G158/365,0))","v":""},null,{"$f":"IF(I158=\"\",$N$165,I158)","v":0},0,{"$f":"IF(J158=\"\",$P$165,J158)","v":0},0,"",{"$f":"IF(C158=\"\",\"\",IF(C158=E157,\"NG\",IF(C158<E157,\"NG\",IF((C158-E157)>1,\"NG\",\"\"))))","v":""},{"$f":"IF(E158=\"\",\"\",IF(C159=\"\",\"\",IF(E158>C159,\"NG\",\"\")))","v":""},null,"","",{"$f":"COUNTIF(S158:W158,\"NG\")","v":0},"","",0,null,null,{"$f":"AF157+1","v":"2032-04-13"},48317,"2032-05-10",48344,{"$f":"IF(AD158=\"\",\"\",AF158-AD158+1)","v":28},null,7000000,7000000,0.01,{"$f":"IF(AF158=\"\",\"\",ROUNDDOWN(AK158*AL158*AH158/365,0))","v":5369},null,7000000,1000000,7000000,1000000]
[null,null,{"$f":"IF(E159=\"\",\"\",IF(E158=\"\",\"\",IF(E158>=DATE(2032,9,10),\"\",E158+1)))","v":""},"",null,"","",null,{"$f":"IF(I158=\"\",\"\",IF(E159=\"\",\"\",I158-$C$13))","v":""},{"$f":"IF(J158=\"\",\"\",IF(F159=\"\",\"\",J158-$C$26))","v":""},{"$f":"IF(K158=\"\",\"\",$K$45)","v":0},"",null,0,0,0,0,"",{"$f":"IF(C159=\"\",\"\",IF(C159=E158,\"NG\",IF(C159<E158,\"NG\",IF((C159-E158)>1,\"NG\",\"\"))))","v":""},"",null,"","",0,"","",0,null,null,"2032-05-11",48345,"2032-06-10",48375,31,null,6000000,6000000,0.01,{"$f":"IF(AF159=\"\",\"\",ROUNDDOWN(AK159*AL159*AH159/365,0))","v":5095},null,6000000,1000000,6000000,1000000]
[null,null,"","",null,"","",null,{"$f":"IF(I159=\"\",\"\",IF(E160=\"\",\"\",I159-$C$13))","v":""},{"$f":"IF(J159=\"\",\"\",IF(F160=\"\",\"\",J159-$C$26))","v":""},0,"",null,0,0,0,0,"","","",null,"","",0,{"$f":"IF($O160=$I160,\"\",IF($O160=0,\"\",IF($O160=$Y$43,\"\",\"NG\")))","v":""},{"$f":"IF($Q160=$J160,\"\",IF($Q160=0,\"\",IF($Q160=$Z$43,\"\",\"NG\")))","v":""},0,null,null,"2032-06-11",48376,"2032-07-12",48407,32,null,5000000,5000000,0.01,4383,null,5000000,1000000,5000000,1000000]
[null,null,"","",null,"","",null,"","",0,"",null,0,0,0,0,"","","",null,"","",0,{"$f":"IF($O161=$I161,\"\",IF($O161=0,\"\",IF($O161=$Y$43,\"\",\"NG\")))","v":""},{"$f":"IF($Q161=$J161,\"\",IF($Q161=0,\"\",IF($Q161=$Z$43,\"\",\"NG\")))","v":""},0,null,null,"2032-07-13",48408,"2032-08-10",{"$f":"IF(AF161=\"\",\"\",AF161)","v":48436},29,null,4000000,4000000,0.01,3178,null,4000000,1000000,4000000,1000000]
[null,null,"","",null,"","",null,"","",0,"",null,{"$f":"IF(I162=\"\",$N$165,I162)","v":0},0,{"$f":"IF(J162=\"\",$P$165,J162)","v":0},0,"","",{"$f":"IF(E162=\"\",\"\",IF(C163=\"\",\"\",IF(E162>C163,\"NG\",\"\")))","v":""},null,"","",0,"","",0,null,null,"2032-08-11",48437,"2032-09-10",48467,31,null,3000000,3000000,0.01,2547,null,3000000,1000000,3000000,1000000]
[null,null,"","",null,"","",null,"","",0,"",null,{"$f":"IF(I163=\"\",$N$165,I163)","v":0},0,{"$f":"IF(J163=\"\",$P$165,J163)","v":0},0,"","",{"$f":"IF(D163=\"\",\"\",IF(D163<C163,\"NG\",\"\"))","v":""},null,"","",0,"","",0,null,null,null,"",null,"","",null,null,null,0.01,"",null,3000000,0,2000000,0]
[null,null,{"$f":"IF(X164>0,$S$40,\"\")","v":""},null,null,null,null,null,null,null,0,{"$f":"IF(J164=\"\",\"\",ROUNDDOWN(J164*K164*G164/365,0))","v":""},null,{"$f":"IF(I164=\"\",$N$165,I164)","v":0},{"$f":"IF(N164-N165<0,0,N164-N165)","v":0},{"$f":"IF(J164=\"\",$P$165,J164)","v":0},0,"",null,null,"2032-09-09","2033-03-12",null,{"$f":"SUM(X157:X163)","v":0},"","",0,null,null,null,"",null,"",null,null,null,null,0.01,"",null,3000000,0,2000000,0]
[null,"単位期間Ⅱ",{"$f":"IF(E165=\"\",\"\",IF(E163>M336,E163+1,IF(E162>M336,E162+1,IF(E161>M336,E161+1,IF(E160>M336,E160+1,IF(E159>M336,E159+1,IF(E158>M336,E158+1,IF(E157>M336,E157+1,IF(C142>M336,C142,\"\")))))))))","v":""},{"$f":"IF(C165=\"\",\"\",C165)","v":""},null,{"$f":"IF(E165=\"\",\"\",E165)","v":""},{"$f":"IF(E165=\"\",\"\",E165-C165+1)","v":""},{"$f":"IF(G165=\"\",\"\",SUM(G165:G172))","v":""},null,null,0,{"$f":"IF(J165=\"\",\"\",ROUNDDOWN(J165*K165*G165/365,0))","v":""},{"$f":"IF(L165=\"\",\"\",SUM(L165:L172))","v":""},{"$f":"IF(I165=\"\",$N$173,I165)","v":0},0,{"$f":"IF(J165=\"\",$P$173,J165)","v":0},0,"",{"$f":"IF(C165=\"\",\"\",IF(C165>E165,\"NG\",\"\"))","v":""},{"$f":"IF(E165=\"\",\"\",IF(C166=\"\",\"\",IF(E165>C166,\"NG\",\"\")))","v":""},"","","",{"$f":"COUNTIF(S165:W165,\"NG\")","v":0},"","",0,null,"単位期間Ⅱ",{"$f":"AF162+1","v":"2032-09-11"},48468,"2032-10-12",48499,{"$f":"IF(AD165=\"\",\"\",AF165-AD165+1)","v":32},{"$f":"IF(AH165=\"\",\"\",SUM(AH165:AH172))","v":61},2000000,2000000,0.01,{"$f":"IF(AD165=\"\",\"\",ROUNDDOWN(AK165*AL165*AH165/365,0))","v":1753},{"$f":"IF(AM165=\"\",\"\",SUM(AM165:AM172))","v":2547},2000000,1000000,2000000,1000000]
[null,null,{"$f":"IF(E166=\"\",\"\",IF(E165=\"\",\"\",IF(E165>=DATE(2033,3,10),\"\",E165+1)))","v":""},{"$f":"IF(C166=\"\",\"\",C166)","v":""},null,{"$f":"IF(E166=\"\",\"\",E166)","v":""},{"$f":"IF(E166=\"\",\"\",E166-C166+1)","v":""},null,{"$f":"IF(I165=\"\",\"\",IF(E166=\"\",\"\",I165-$C$13))","v":""},{"$f":"IF(J165=\"\",\"\",IF(F166=\"\",\"\",J165-$C$26))","v":""},0,{"$f":"IF(J166=\"\",\"\",ROUNDDOWN(J166*K166*G166/365,0))","v":""},null,{"$f":"IF(I166=\"\",$N$173,I166)","v":0},0,{"$f":"IF(J166=\"\",$P$173,J166)","v":0},0,"",{"$f":"IF(C166=\"\",\"\",IF(C166=E165,\"NG\",IF(C166<E165,\"NG\",IF((C166-E165)>1,\"NG\",\"\"))))","v":""},{"$f":"IF(E166=\"\",\"\",IF(C167=\"\",\"\",IF(E166>C167,\"NG\",\"\")))","v":""},null,"","",{"$f":"COUNTIF(S166:W166,\"NG\")","v":0},"","",0,null,null,{"$f":"AF165+1","v":"2032-10-13"},48500,"2032-11-10",48528,{"$f":"IF(AD166=\"\",\"\",AF166-AD166+1)","v":29},null,1000000,1000000,0.01,794,null,1000000,1000000,1000000,1000000]
[null,null,{"$f":"IF(E167=\"\",\"\",IF(E166=\"\",\"\",IF(E166>=DATE(2033,3,10),\"\",E166+1)))","v":""},"",null,"","",null,{"$f":"IF(I166=\"\",\"\",IF(E167=\"\",\"\",I166-$C$13))","v":""},{"$f":"IF(J166=\"\",\"\",IF(F167=\"\",\"\",J166-$C$26))","v":""},0,"",null,0,0,0,0,"",{"$f":"IF(C167=\"\",\"\",IF(C167=E166,\"NG\",IF(C167<E166,\"NG\",IF((C167-E166)>1,\"NG\",\"\"))))","v":""},"",null,"",{"$f":"IF(G167>0,\"\",\"NG\")","v":""},0,"","",0,null,null,null,{"$f":"IF(AD167=\"\",\"\",AD167)","v":""},null,"","",null,null,null,0.01,"",null,1000000,0,1000000,0]
[null,null,"","",null,"","",null,"","",0,"",null,0,0,0,0,"","","",null,"","",0,"","",0,null,null,null,"",null,"","",null,null,null,0.01,"",null,1000000,0,1000000,0]
[null,null,"","",null,"","",null,"","",0,"",null,0,0,0,0,"","","",null,"","",0,"","",0,null,null,null,"",null,"","",null,null,null,0.01,"",null,1000000,0,1000000,0]
[null,null,"","",null,"","",null,"","",0,"",null,0,0,0,0,"","",{"$f":"IF(E170=\"\",\"\",IF(C171=\"\",\"\",IF(E170>C171,\"NG\",\"\")))","v":""},null,"","",0,"","",0,null,null,null,"",null,"","",null,null,null,0.01,"",null,1000000,0,1000000,0]
[null,null,"","",null,"","",null,"","",0,"",null,0,0,0,0,"","",{"$f":"IF(D171=\"\",\"\",IF(D171<C171,\"NG\",\"\"))","v":""},null,"","",0,"","",0,null,null,null,"",null,"","",null,null,null,0.01,"",null,1000000,0,1000000,0]
[null,null,{"$f":"IF(X172>0,$S$40,\"\")","v":""},null,null,null,null,null,null,null,0,{"$f":"IF(J172=\"\",\"\",ROUNDDOWN(J172*K172*G172/365,0))","v":""},null,0,{"$f":"IF(N172-N173<0,0,N172-N173)","v":0},0,0,"",null,null,"2033-03-09","2033-09-12",null,{"$f":"SUM(X165:X171)","v":0},"","",0,null,null,null,"",null,"",null,null,null,null,0.01,"",null,1000000,0,1000000,0]
[{"$f":"YEAR(U180)&\"年度\"","v":"2033年度"},"単位期間Ⅰ",{"$f":"IF(E173=\"\",\"\",IF(E171>0,E171+1,IF(E170>0,E170+1,IF(E169>0,E169+1,IF(E168>0,E168+1,IF(E167>0,E167+1,IF(E166>0,E166+1,E165+1)))))))","v":""},{"$f":"IF(C173=\"\",\"\",C173)","v":""},null,{"$f":"IF(E173=\"\",\"\",E173)","v":""},{"$f":"IF(E173=\"\",\"\",E173-C173+1)","v":""},{"$f":"IF(G173=\"\",\"\",SUM(G173:G180))","v":""},null,null,{"$f":"IF(K172=\"\",\"\",$K$45)","v":0},{"$f":"IF(J173=\"\",\"\",ROUNDDOWN(J173*K173*G173/365,0))","v":""},{"$f":"IF(L173=\"\",\"\",SUM(L173:L180))","v":""},{"$f":"IF(I173=\"\",$N$181,I173)","v":0},0,{"$f":"IF(J173=\"\",$P$181,J173)","v":0},0,"",{"$f":"IF(C173=\"\",\"\",IF(C173>E173,\"NG\",\"\"))","v":""},{"$f":"IF(E173=\"\",\"\",IF(C174=\"\",\"\",IF(E173>C174,\"NG\",\"\")))","v":""},"","","",{"$f":"COUNTIF(S173:W173,\"NG\")","v":0},"","",0,{"$f":"A173","v":"2033年度"},"単位期間Ⅰ",null,"",null,"",{"$f":"IF(AD173=\"\",\"\",AF173-AD173+1)","v":""},{"$f":"IF(AH173=\"\",\"\",SUM(AH173:AH180))","v":""},null,null,0.01,{"$f":"IF(AF173=\"\",\"\",ROUNDDOWN(AK173*AL173*AH173/365,0))","v":""},{"$f":"IF(AM173=\"\",\"\",SUM(AM173:AM180))","v":""},{"$f":"IF(AJ173=\"\",AO172,AJ173)","v":1000000},"-",1000000,"-"]
[null,null,{"$f":"IF(E174=\"\",\"\",IF(E173=\"\",\"\",IF(E173>=DATE(2033,9,10),\"\",E173+1)))","v":""},{"$f":"IF(C174=\"\",\"\",C174)","v":""},null,{"$f":"IF(E174=\"\",\"\",E174)","v":""},{"$f":"IF(E174=\"\",\"\",E174-C174+1)","v":""},null,{"$f":"IF(I173=\"\",\"\",IF(E174=\"\",\"\",I173-$C$13))","v":""},{"$f":"IF(J173=\"\",\"\",IF(F174=\"\",\"\",J173-$C$26))","v":""},{"$f":"IF(K173=\"\",\"\",$K$45)","v":0},{"$f":"IF(J174=\"\",\"\",ROUNDDOWN(J174*K174*G174/365,0))","v":""},null,{"$f":"IF(I174=\"\",$N$181,I174)","v":0},0,{"$f":"IF(J174=\"\",$P$181,J174)","v":0},0,"",{"$f":"IF(C174=\"\",\"\",IF(C174=E173,\"NG\",IF(C174<E173,\"NG\",IF((C174-E173)>1,\"NG\",\"\"))))","v":""},{"$f":"IF(E174=\"\",\"\",IF(C175=\"\",\"\",IF(E174>C175,\"NG\",\"\")))","v":""},null,"","",{"$f":"COUNTIF(S174:W174,\"NG\")","v":0},"","",0,null,null,null,{"$f":"IF(AD174=\"\",\"\",AD174)","v":""},null,"",{"$f":"IF(AD174=\"\",\"\",AF174-AD174+1)","v":""},null,null,null,0.01,{"$f":"IF(AF174=\"\",\"\",ROUNDDOWN(AK174*AL174*AH174/365,0))","v":""},null,1000000,0,1000000,0]
[null,null,{"$f":"IF(E175=\"\",\"\",IF(E174=\"\",\"\",IF(E174>=DATE(2033,9,10),\"\",E174+1)))","v":""},"",null,"","",null,{"$f":"IF(I174=\"\",\"\",IF(E175=\"\",\"\",I174-$C$13))","v":""},{"$f":"IF(J174=\"\",\"\",IF(F175=\"\",\"\",J174-$C$26))","v":""},{"$f":"IF(K174=\"\",\"\",$K$45)","v":0},"",null,0,0,0,0,{"$f":"IF(AA175>0,$Y$40,\"\")","v":""},{"$f":"IF(C175=\"\",\"\",IF(C175=E174,\"NG\",IF(C175<E174,\"NG\",IF((C175-E174)>1,\"NG\",\"\"))))","v":""},"",null,"","",0,"","",{"$f":"COUNTIF(Y175:Z175,\"NG\")","v":0},null,null,null,"",null,"","",null,null,null,0.01,{"$f":"IF(AF175=\"\",\"\",ROUNDDOWN(AK175*AL175*AH175/365,0))","v":""},null,1000000,0,1000000,0]
[null,null,"","",null,"","",null,{"$f":"IF(I175=\"\",\"\",IF(E176=\"\",\"\",I175-$C$13))","v":""},{"$f":"IF(J175=\"\",\"\",IF(F176=\"\",\"\",J175-$C$26))","v":""},0,"",null,0,0,0,0,"","","",null,"","",0,"","",0,null,null,null,"",null,"","",null,null,null,0.01,"",null,1000000,0,1000000,0]
[null,null,"","",null,"","",null,"","",0,"",null,0,0,0,0,"","","",null,"","",0,"","",0,null,null,null,"",null,"","",null,null,null,0.01,"",null,1000000,0,1000000,0]
[null,null,"","",null,"","",null,{"$f":"IF(I177=\"\",\"\",IF(E178=\"\",\"\",I177-$C$13))","v":""},{"$f":"IF(J177=\"\",\"\",IF(F178=\"\",\"\",J177-$C$26))","v":""},0,"",null,0,0,0,0,"","",{"$f":"IF(E178=\"\",\"\",IF(C179=\"\",\"\",IF(E178>C179,\"NG\",\"\")))","v":""},null,"","",0,"","",0,null,null,null,"",null,"","",null,null,null,0.01,"",null,1000000,0,1000000,0]
[null,null,"","",null,"","",null,"","",0,"",null,0,0,0,0,"","",{"$f":"IF(D179=\"\",\"\",IF(D179<C179,\"NG\",\"\"))","v":""},null,"","",0,"","",0,null,null,null,"",null,"","",null,null,null,0.01,"",null,1000000,0,1000000,0]
[null,null,{"$f":"IF(X180>0,$S$40,\"\")","v":""},null,null,null,null,null,null,null,0,{"$f":"IF(J180=\"\",\"\",ROUNDDOWN(J180*K180*G180/365,0))","v":""},null,0,{"$f":"IF(N180-N181<0,0,N180-N181)","v":0},0,0,"",null,null,"2033-09-09","2034-03-12",null,{"$f":"SUM(X173:X179)","v":0},"","",0,null,null,null,"",null,"",null,null,null,null,0.01,"",null,1000000,0,1000000,0]
[null,"単位期間Ⅱ",{"$f":"IF(E181=\"\",\"\",IF(E179>M351,E179+1,IF(E178>M351,E178+1,IF(E177>M351,E177+1,IF(E176>M351,E176+1,IF(E175>M351,E175+1,IF(E174>M351,E174+1,IF(E173>M351,E173+1,IF(C158>M351,C158,\"\")))))))))","v":""},{"$f":"IF(C181=\"\",\"\",C181)","v":""},null,{"$f":"IF(E181=\"\",\"\",E181)","v":""},{"$f":"IF(E181=\"\",\"\",E181-C181+1)","v":""},{"$f":"IF(G181=\"\",\"\",SUM(G181:G188))","v":""},null,null,0,{"$f":"IF(J181=\"\",\"\",ROUNDDOWN(J181*K181*G181/365,0))","v":""},{"$f":"IF(L181=\"\",\"\",SUM(L181:L188))","v":""},{"$f":"IF(I181=\"\",$N$189,I181)","v":0},0,{"$f":"IF(J181=\"\",$P$189,J181)","v":0},0,"",{"$f":"IF(C181=\"\",\"\",IF(C181>E181,\"NG\",\"\"))","v":""},{"$f":"IF(E181=\"\",\"\",IF(C182=\"\",\"\",IF(E181>C182,\"NG\",\"\")))","v":""},"","","",{"$f":"COUNTIF(S181:W181,\"NG\")","v":0},"","",0,null,"単位期間Ⅱ",null,"",null,"",null,null,null,null,0.01,{"$f":"IF(AD181=\"\",\"\",ROUNDDOWN(AK181*AL181*AH181/365,0))","v":""},{"$f":"IF(AM181=\"\",\"\",SUM(AM181:AM188))","v":""},1000000,0,1000000,0]
[null,null,{"$f":"IF(E182=\"\",\"\",IF(E181=\"\",\"\",IF(E181>=DATE(2034,3,10),\"\",E181+1)))","v":""},{"$f":"IF(C182=\"\",\"\",C182)","v":""},null,{"$f":"IF(E182=\"\",\"\",E182)","v":""},{"$f":"IF(E182=\"\",\"\",E182-C182+1)","v":""},null,{"$f":"IF(I181=\"\",\"\",IF(E182=\"\",\"\",I181-$C$13))","v":""},{"$f":"IF(J181=\"\",\"\",IF(F182=\"\",\"\",J181-$C$26))","v":""},0,{"$f":"IF(J182=\"\",\"\",ROUNDDOWN(J182*K182*G182/365,0))","v":""},null,{"$f":"IF(I182=\"\",$N$189,I182)","v":0},{"$f":"N182-N183","v":0},{"$f":"IF(J182=\"\",$P$189,J182)","v":0},{"$f":"P182-P183","v":0},"",{"$f":"IF(C182=\"\",\"\",IF(C182=E181,\"NG\",IF(C182<E181,\"NG\",IF((C182-E181)>1,\"NG\",\"\"))))","v":""},{"$f":"IF(E182=\"\",\"\",IF(C183=\"\",\"\",IF(E182>C183,\"NG\",\"\")))","v":""},null,"","",{"$f":"COUNTIF(S182:W182,\"NG\")","v":0},"","",0,null,null,null,"",null,"",null,null,null,null,0.01,"",null,1000000,0,1000000,0]
[null,null,{"$f":"IF(E183=\"\",\"\",IF(E182=\"\",\"\",IF(E182>=DATE(2034,3,10),\"\",E182+1)))","v":""},"",null,"","",null,{"$f":"IF(I182=\"\",\"\",IF(E183=\"\",\"\",I182-$C$13))","v":""},{"$f":"IF(J182=\"\",\"\",IF(F183=\"\",\"\",J182-$C$26))","v":""},0,"",null,0,0,0,0,"",{"$f":"IF(C183=\"\",\"\",IF(C183=E182,\"NG\",IF(C183<E182,\"NG\",IF((C183-E182)>1,\"NG\",\"\"))))","v":""},"",null,"","",0,"","",0,null,null,null,"",null,"",null,null,null,null,0.01,"",null,1000000,0,1000000,0]
[null,null,"","",null,"","",null,"","",0,"",null,0,0,0,0,"","","",null,"","",0,"","",0,null,null,null,"",null,"",null,null,null,null,0.01,"",null,1000000,0,1000000,0]
[null,null,"","",null,"","",null,"","",0,"",null,0,0,0,0,"","","",null,"","",0,"","",0,null,null,null,"",null,"",null,null,null,null,0.01,"",null,1000000,0,1000000,0]
[null,null,"","",null,"","",null,"","",0,"",null,0,0,0,0,"","",{"$f":"IF(E186=\"\",\"\",IF(C187=\"\",\"\",IF(E186>C187,\"NG\",\"\")))","v":""},null,"","",0,"","",0,null,null,null,"",null,"",null,null,null,null,0.01,"",null,1000000,0,1000000,0]
[null,null,"","",null,"","",null,"","",0,"",null,0,0,0,0,"","",{"$f":"IF(D187=\"\",\"\",IF(D187<C187,\"NG\",\"\"))","v":""},null,"",{"$f":"IF(G187>0,\"\",\"NG\")","v":""},0,"","",0,null,null,null,"",null,{"$f":"IF(AF187=\"\",\"\",AF187)","v":""},null,null,null,null,0.01,"",null,1000000,0,1000000,0]
[null,null,{"$f":"IF(X188>0,$S$40,\"\")","v":""},null,null,null,null,null,null,null,0,{"$f":"IF(J188=\"\",\"\",ROUNDDOWN(J188*K188*G188/365,0))","v":""},null,0,{"$f":"IF(N188-N189<0,0,N188-N189)","v":0},0,0,"",null,null,"2034-03-09","2034-09-12",null,{"$f":"SUM(X181:X187)","v":0},"","",0,null,null,null,"",null,"",null,null,null,null,0.01,"",null,1000000,0,1000000,0]
[{"$f":"YEAR(U196)&\"年度\"","v":"2034年度"},"単位期間Ⅰ",{"$f":"IF(E189=\"\",\"\",IF(E187>0,E187+1,IF(E186>0,E186+1,IF(E185>0,E185+1,IF(E184>0,E184+1,IF(E183>0,E183+1,IF(E182>0,E182+1,E181+1)))))))","v":""},{"$f":"IF(C189=\"\",\"\",C189)","v":""},null,{"$f":"IF(E189=\"\",\"\",E189)","v":""},{"$f":"IF(E189=\"\",\"\",E189-C189+1)","v":""},{"$f":"IF(G189=\"\",\"\",SUM(G189:G196))","v":""},null,null,{"$f":"IF(K188=\"\",\"\",$K$45)","v":0},{"$f":"IF(J189=\"\",\"\",ROUNDDOWN(J189*K189*G189/365,0))","v":""},{"$f":"IF(L189=\"\",\"\",SUM(L189:L196))","v":""},{"$f":"IF(I189=\"\",$N$197,I189)","v":0},0,{"$f":"IF(J189=\"\",$P$197,J189)","v":0},0,"",{"$f":"IF(C189=\"\",\"\",IF(C189>E189,\"NG\",\"\"))","v":""},{"$f":"IF(E189=\"\",\"\",IF(C190=\"\",\"\",IF(E189>C190,\"NG\",\"\")))","v":""},"","",{"$f":"IF(G189>0,\"\",\"NG\")","v":""},{"$f":"COUNTIF(S189:W189,\"NG\")","v":0},"","",0,{"$f":"A189","v":"2034年度"},"単位期間Ⅰ",null,"",null,"",null,null,null,null,0.01,{"$f":"IF(AF189=\"\",\"\",ROUNDDOWN(AK189*AL189*AH189/365,0))","v":""},{"$f":"IF(AM189=\"\",\"\",SUM(AM189:AM196))","v":""},1000000,"-",1000000,"-"]
[null,null,{"$f":"IF(E190=\"\",\"\",IF(E189=\"\",\"\",IF(E189>=DATE(2034,9,10),\"\",E189+1)))","v":""},{"$f":"IF(C190=\"\",\"\",C190)","v":""},null,{"$f":"IF(E190=\"\",\"\",E190)","v":""},{"$f":"IF(E190=\"\",\"\",E190-C190+1)","v":""},null,{"$f":"IF(I189=\"\",\"\",IF(E190=\"\",\"\",I189-$C$13))","v":""},{"$f":"IF(J189=\"\",\"\",IF(F190=\"\",\"\",J189-$C$26))","v":""},{"$f":"IF(K189=\"\",\"\",$K$45)","v":0},{"$f":"IF(J190=\"\",\"\",ROUNDDOWN(J190*K190*G190/365,0))","v":""},null,{"$f":"IF(I190=\"\",$N$197,I190)","v":0},0,{"$f":"IF(J190=\"\",$P$197,J190)","v":0},0,"",{"$f":"IF(C190=\"\",\"\",IF(C190=E189,\"NG\",IF(C190<E189,\"NG\",IF((C190-E189)>1,\"NG\",\"\"))))","v":""},{"$f":"IF(E190=\"\",\"\",IF(C191=\"\",\"\",IF(E190>C191,\"NG\",\"\")))","v":""},null,"",{"$f":"IF(G190>0,\"\",\"NG\")","v":""},{"$f":"COUNTIF(S190:W190,\"NG\")","v":0},"","",0,null,null,null,"",null,"",null,null,null,null,0.01,{"$f":"IF(AF190=\"\",\"\",ROUNDDOWN(AK190*AL190*AH190/365,0))","v":""},null,1000000,0,1000000,0]
[null,null,{"$f":"IF(E191=\"\",\"\",IF(E190=\"\",\"\",IF(E190>=DATE(2034,9,10),\"\",E190+1)))","v":""},"",null,"","",null,{"$f":"IF(I190=\"\",\"\",IF(E191=\"\",\"\",I190-$C$13))","v":""},{"$f":"IF(J190=\"\",\"\",IF(F191=\"\",\"\",J190-$C$26))","v":""},{"$f":"IF(K190=\"\",\"\",$K$45)","v":0},"",null,0,0,0,0,"",{"$f":"IF(C191=\"\",\"\",IF(C191=E190,\"NG\",IF(C191<E190,\"NG\",IF((C191-E190)>1,\"NG\",\"\"))))","v":""},"",null,"","",0,"","",0,null,null,null,"",null,"",null,null,null,null,0.01,{"$f":"IF(AF191=\"\",\"\",ROUNDDOWN(AK191*AL191*AH191/365,0))","v":""},null,1000000,0,1000000,0]
[null,null,"","",null,"","",null,{"$f":"IF(I191=\"\",\"\",IF(E192=\"\",\"\",I191-$C$13))","v":""},{"$f":"IF(J191=\"\",\"\",IF(F192=\"\",\"\",J191-$C$26))","v":""},0,"",null,0,0,0,0,"","","",null,"","",0,"","",0,null,null,null,"",null,"",null,null,null,null,0.01,"",null,1000000,0,1000000,0]
[null,null,"","",null,"","",null,"","",0,"",null,0,0,0,0,"","","",null,"","",0,"","",0,null,null,null,"",null,"",null,null,null,null,0.01,"",null,1000000,0,1000000,0]
[null,null,"","",null,"","",null,"","",0,"",null,0,0,0,0,"","",{"$f":"IF(E194=\"\",\"\",IF(C195=\"\",\"\",IF(E194>C195,\"NG\",\"\")))","v":""},null,"","",0,"","",0,null,null,null,"",null,"",null,null,null,null,0.01,"",null,1000000,0,1000000,0]
[null,null,"","",null,"","",null,"","",0,"",null,0,0,0,0,"","",{"$f":"IF(D195=\"\",\"\",IF(D195<C195,\"NG\",\"\"))","v":""},null,"","",0,"","",0,null,null,null,"",null,"",null,null,null,null,0.01,"",null,1000000,0,1000000,0]
[null,null,{"$f":"IF(X196>0,$S$40,\"\")","v":""},null,null,null,null,null,null,null,0,{"$f":"IF(J196=\"\",\"\",ROUNDDOWN(J196*K196*G196/365,0))","v":""},null,0,{"$f":"IF(N196-N197<0,0,N196-N197)","v":0},0,0,"",null,null,"2034-09-09","2035-03-12",null,{"$f":"SUM(X189:X195)","v":0},"","",0,null,null,null,"",null,"",null,null,null,null,0.01,"",null,1000000,0,1000000,0]
[null,"単位期間Ⅱ",{"$f":"IF(E197=\"\",\"\",IF(E195>M367,E195+1,IF(E194>M367,E194+1,IF(E193>M367,E193+1,IF(E192>M367,E192+1,IF(E191>M367,E191+1,IF(E190>M367,E190+1,IF(E189>M367,E189+1,IF(C174>M367,C174,\"\")))))))))","v":""},{"$f":"IF(C197=\"\",\"\",C197)","v":""},null,{"$f":"IF(E197=\"\",\"\",E197)","v":""},{"$f":"IF(E197=\"\",\"\",E197-C197+1)","v":""},{"$f":"IF(G197=\"\",\"\",SUM(G197:G204))","v":""},null,null,0,{"$f":"IF(J197=\"\",\"\",ROUNDDOWN(J197*K197*G197/365,0))","v":""},{"$f":"IF(L197=\"\",\"\",SUM(L197:L204))","v":""},{"$f":"IF(I197=\"\",$N$205,I197)","v":0},0,{"$f":"IF(J197=\"\",$P$205,J197)","v":0},0,"",{"$f":"IF(C197=\"\",\"\",IF(C197>E197,\"NG\",\"\"))","v":""},{"$f":"IF(E197=\"\",\"\",IF(C198=\"\",\"\",IF(E197>C198,\"NG\",\"\")))","v":""},"","","",{"$f":"COUNTIF(S197:W197,\"NG\")","v":0},"","",0,null,"単位期間Ⅱ",null,"",null,"",null,null,null,null,0.01,{"$f":"IF(AD197=\"\",\"\",ROUNDDOWN(AK197*AL197*AH197/365,0))","v":""},{"$f":"IF(AM197=\"\",\"\",SUM(AM197:AM204))","v":""},1000000,0,1000000,0]
[null,null,{"$f":"IF(E198=\"\",\"\",IF(E197=\"\",\"\",IF(E197>=DATE(2035,3,10),\"\",E197+1)))","v":""},{"$f":"IF(C198=\"\",\"\",C198)","v":""},null,{"$f":"IF(E198=\"\",\"\",E198)","v":""},{"$f":"IF(E198=\"\",\"\",E198-C198+1)","v":""},null,{"$f":"IF(I197=\"\",\"\",IF(E198=\"\",\"\",I197-$C$13))","v":""},{"$f":"IF(J197=\"\",\"\",IF(F198=\"\",\"\",J197-$C$26))","v":""},0,{"$f":"IF(J198=\"\",\"\",ROUNDDOWN(J198*K198*G198/365,0))","v":""},null,{"$f":"IF(I198=\"\",$N$205,I198)","v":0},0,{"$f":"IF(J198=\"\",$P$205,J198)","v":0},0,"",{"$f":"IF(C198=\"\",\"\",IF(C198=E197,\"NG\",IF(C198<E197,\"NG\",IF((C198-E197)>1,\"NG\",\"\"))))","v":""},{"$f":"IF(E198=\"\",\"\",IF(C199=\"\",\"\",IF(E198>C199,\"NG\",\"\")))","v":""},null,"","",{"$f":"COUNTIF(S198:W198,\"NG\")","v":0},"","",0,null,null,null,"",null,"",null,null,null,null,0.01,"",null,1000000,0,1000000,0]
[null,null,{"$f":"IF(E199=\"\",\"\",IF(E198=\"\",\"\",IF(E198>=DATE(2035,3,10),\"\",E198+1)))","v":""},"",null,"","",null,{"$f":"IF(I198=\"\",\"\",IF(E199=\"\",\"\",I198-$C$13))","v":""},{"$f":"IF(J198=\"\",\"\",IF(F199=\"\",\"\",J198-$C$26))","v":""},0,"",null,0,0,0,0,"",{"$f":"IF(C199=\"\",\"\",IF(C199=E198,\"NG\",IF(C199<E198,\"NG\",IF((C199-E198)>1,\"NG\",\"\"))))","v":""},"",null,"","",0,"","",0,null,null,null,"",null,"",null,null,null,null,0.01,"",null,1000000,0,1000000,0]
[null,null,"","",null,"","",null,"","",0,"",null,0,0,0,0,"","","",null,"","",0,"","",0,null,null,null,"",null,"",null,null,null,null,0.01,"",null,1000000,0,1000000,0]
[null,null,"","",null,"","",null,"","",0,"",null,0,0,0,0,"","","",null,"","",0,"","",0,null,null,null,"",null,"",null,null,null,null,0.01,"",null,1000000,0,1000000,0]
[null,null,"","",null,"","",null,"","",0,"",null,0,0,0,0,"","",{"$f":"IF(E202=\"\",\"\",IF(C203=\"\",\"\",IF(E202>C203,\"NG\",\"\")))","v":""},null,"","",0,"","",0,null,null,null,"",null,"",null,null,null,null,0.01,"",null,1000000,0,1000000,0]
[null,null,"","",null,"","",null,"","",0,"",null,0,0,0,0,"","",{"$f":"IF(D203=\"\",\"\",IF(D203<C203,\"NG\",\"\"))","v":""},null,"","",0,"","",0,null,null,null,"",null,"",null,null,null,null,0.01,"",null,1000000,0,1000000,0]
[null,null,{"$f":"IF(X204>0,$S$40,\"\")","v":""},null,null,null,null,null,null,null,0,{"$f":"IF(J204=\"\",\"\",ROUNDDOWN(J204*K204*G204/365,0))","v":""},null,0,{"$f":"IF(N204-N205<0,0,N204-N205)","v":0},0,0,"",null,null,"2035-03-09","2035-09-12",null,{"$f":"SUM(X197:X203)","v":0},"","",0,null,null,null,"",null,"",null,null,null,null,0.01,"",null,1000000,0,1000000,0]
[{"$f":"YEAR(U212)&\"年度\"","v":"2035年度"},"単位期間Ⅰ",{"$f":"IF(E205=\"\",\"\",IF(E203>0,E203+1,IF(E202>0,E202+1,IF(E201>0,E201+1,IF(E200>0,E200+1,IF(E199>0,E199+1,IF(E198>0,E198+1,E197+1)))))))","v":""},{"$f":"IF(C205=\"\",\"\",C205)","v":""},null,{"$f":"IF(E205=\"\",\"\",E205)","v":""},{"$f":"IF(E205=\"\",\"\",E205-C205+1)","v":""},{"$f":"IF(G205=\"\",\"\",SUM(G205:G212))","v":""},null,null,{"$f":"IF(K204=\"\",\"\",$K$45)","v":0},{"$f":"IF(J205=\"\",\"\",ROUNDDOWN(J205*K205*G205/365,0))","v":""},{"$f":"IF(L205=\"\",\"\",SUM(L205:L212))","v":""},{"$f":"IF(I205=\"\",$N$213,I205)","v":0},0,{"$f":"IF(J205=\"\",$P$213,J205)","v":0},0,{"$f":"IF(AA205>0,$Y$40,\"\")","v":""},{"$f":"IF(C205=\"\",\"\",IF(C205>E205,\"NG\",\"\"))","v":""},{"$f":"IF(E205=\"\",\"\",IF(C206=\"\",\"\",IF(E205>C206,\"NG\",\"\")))","v":""},"","","",{"$f":"COUNTIF(S205:W205,\"NG\")","v":0},"","",0,{"$f":"A205","v":"2035年度"},"単位期間Ⅰ",null,"",null,"",null,null,null,null,0.01,{"$f":"IF(AF205=\"\",\"\",ROUNDDOWN(AK205*AL205*AH205/365,0))","v":""},{"$f":"IF(AM205=\"\",\"\",SUM(AM205:AM212))","v":""},1000000,"-",1000000,"-"]
[null,null,{"$f":"IF(E206=\"\",\"\",IF(E205=\"\",\"\",IF(E205>=DATE(2035,9,10),\"\",E205+1)))","v":""},{"$f":"IF(C206=\"\",\"\",C206)","v":""},null,{"$f":"IF(E206=\"\",\"\",E206)","v":""},{"$f":"IF(E206=\"\",\"\",E206-C206+1)","v":""},null,{"$f":"IF(I205=\"\",\"\",IF(E206=\"\",\"\",I205-$C$13))","v":""},{"$f":"IF(J205=\"\",\"\",IF(F206=\"\",\"\",J205-$C$26))","v":""},{"$f":"IF(K205=\"\",\"\",$K$45)","v":0},{"$f":"IF(J206=\"\",\"\",ROUNDDOWN(J206*K206*G206/365,0))","v":""},null,{"$f":"IF(I206=\"\",$N$213,I206)","v":0},0,{"$f":"IF(J206=\"\",$P$213,J206)","v":0},0,"",{"$f":"IF(C206=\"\",\"\",IF(C206=E205,\"NG\",IF(C206<E205,\"NG\",IF((C206-E205)>1,\"NG\",\"\"))))","v":""},{"$f":"IF(E206=\"\",\"\",IF(C207=\"\",\"\",IF(E206>C207,\"NG\",\"\")))","v":""},null,"","",{"$f":"COUNTIF(S206:W206,\"NG\")","v":0},"","",0,null,null,null,"",null,"",null,null,null,null,0.01,{"$f":"IF(AF206=\"\",\"\",ROUNDDOWN(AK206*AL206*AH206/365,0))","v":""},null,1000000,0,1000000,0]
[null,null,{"$f":"IF(E207=\"\",\"\",IF(E206=\"\",\"\",IF(E206>=DATE(2035,9,10),\"\",E206+1)))","v":""},"",null,"","",null,{"$f":"IF(I206=\"\",\"\",IF(E207=\"\",\"\",I206-$C$13))","v":""},{"$f":"IF(J206=\"\",\"\",IF(F207=\"\",\"\",J206-$C$26))","v":""},{"$f":"IF(K206=\"\",\"\",$K$45)","v":0},"",null,0,0,0,0,"",{"$f":"IF(C207=\"\",\"\",IF(C207=E206,\"NG\",IF(C207<E206,\"NG\",IF((C207-E206)>1,\"NG\",\"\"))))","v":""},"",null,"","",0,"","",0,null,null,null,"",null,"",null,null,null,null,0.01,{"$f":"IF(AF207=\"\",\"\",ROUNDDOWN(AK207*AL207*AH207/365,0))","v":""},null,1000000,0,1000000,0]
[null,null,"","",null,"","",null,{"$f":"IF(I207=\"\",\"\",IF(E208=\"\",\"\",I207-$C$13))","v":""},{"$f":"IF(J207=\"\",\"\",IF(F208=\"\",\"\",J207-$C$26))","v":""},0,"",null,0,0,0,0,"","","",null,"","",0,"","",0,null,null,null,"",null,"",null,null,null,null,0.01,"",null,1000000,0,1000000,0]
[null,null,"","",null,"","",null,"","",0,"",null,0,0,0,0,"","","",null,"","",0,"","",0,null,null,null,"",null,"",null,null,null,null,0.01,"",null,1000000,0,1000000,0]
[null,null,"","",null,"","",null,"","",0,"",null,0,0,0,0,"","","",null,"","",0,"","",0,null,null,null,"",null,"",null,null,null,null,0.01,"",null,1000000,0,1000000,0]
[null,null,"","",null,"","",null,"","",0,"",null,0,0,0,0,"","",{"$f":"IF(D211=\"\",\"\",IF(D211<C211,\"NG\",\"\"))","v":""},null,"","",0,"","",0,null,null,null,"",null,"",null,null,null,null,0.01,"",null,1000000,0,1000000,0]
[null,null,{"$f":"IF(X212>0,$S$40,\"\")","v":""},null,null,null,null,null,null,null,0,{"$f":"IF(J212=\"\",\"\",ROUNDDOWN(J212*K212*G212/365,0))","v":""},null,0,{"$f":"IF(N212-N213<0,0,N212-N213)","v":0},0,0,"",null,null,"2035-09-09","2036-03-12",null,{"$f":"SUM(X205:X211)","v":0},"","",0,null,null,null,"",null,"",null,null,null,null,0.01,"",null,1000000,0,1000000,0]
[null,"単位期間Ⅱ",{"$f":"IF(E213=\"\",\"\",IF(E211>M383,E211+1,IF(E210>M383,E210+1,IF(E209>M383,E209+1,IF(E208>M383,E208+1,IF(E207>M383,E207+1,IF(E206>M383,E206+1,IF(E205>M383,E205+1,IF(C190>M383,C190,\"\")))))))))","v":""},{"$f":"IF(C213=\"\",\"\",C213)","v":""},null,{"$f":"IF(E213=\"\",\"\",E213)","v":""},{"$f":"IF(E213=\"\",\"\",E213-C213+1)","v":""},{"$f":"IF(G213=\"\",\"\",SUM(G213:G220))","v":""},null,null,0,{"$f":"IF(J213=\"\",\"\",ROUNDDOWN(J213*K213*G213/365,0))","v":""},{"$f":"IF(L213=\"\",\"\",SUM(L213:L220))","v":""},{"$f":"IF(I213=\"\",$N$221,I213)","v":0},0,{"$f":"IF(J213=\"\",$P$221,J213)","v":0},0,"",{"$f":"IF(C213=\"\",\"\",IF(C213>E213,\"NG\",\"\"))","v":""},{"$f":"IF(E213=\"\",\"\",IF(C214=\"\",\"\",IF(E213>C214,\"NG\",\"\")))","v":""},"","","",{"$f":"COUNTIF(S213:W213,\"NG\")","v":0},"","",0,null,"単位期間Ⅱ",null,"",null,"",null,{"$f":"IF(AH213=\"\",\"\",SUM(AH213:AH220))","v":""},null,null,0.01,{"$f":"IF(AD213=\"\",\"\",ROUNDDOWN(AK213*AL213*AH213/365,0))","v":""},{"$f":"IF(AM213=\"\",\"\",SUM(AM213:AM220))","v":""},1000000,0,1000000,0]
[null,null,{"$f":"IF(E214=\"\",\"\",IF(E213=\"\",\"\",IF(E213>=DATE(2036,3,10),\"\",E213+1)))","v":""},{"$f":"IF(C214=\"\",\"\",C214)","v":""},null,{"$f":"IF(E214=\"\",\"\",E214)","v":""},{"$f":"IF(E214=\"\",\"\",E214-C214+1)","v":""},null,{"$f":"IF(I213=\"\",\"\",IF(E214=\"\",\"\",I213-$C$13))","v":""},{"$f":"IF(J213=\"\",\"\",IF(F214=\"\",\"\",J213-$C$26))","v":""},0,{"$f":"IF(J214=\"\",\"\",ROUNDDOWN(J214*K214*G214/365,0))","v":""},null,{"$f":"IF(I214=\"\",$N$221,I214)","v":0},0,{"$f":"IF(J214=\"\",$P$221,J214)","v":0},0,"",{"$f":"IF(C214=\"\",\"\",IF(C214=E213,\"NG\",IF(C214<E213,\"NG\",IF((C214-E213)>1,\"NG\",\"\"))))","v":""},{"$f":"IF(E214=\"\",\"\",IF(C215=\"\",\"\",IF(E214>C215,\"NG\",\"\")))","v":""},null,"","",{"$f":"COUNTIF(S214:W214,\"NG\")","v":0},"","",0,null,null,null,"",null,"",null,null,{"$f":"IF(AJ213=\"\",\"\",IF(AF214=\"\",\"\",AJ213-$AD$13))","v":""},{"$f":"IF(AK213=\"\",\"\",IF(AG214=\"\",\"\",AK213-$AD$26))","v":""},0.01,"",null,1000000,0,1000000,0]
[null,null,{"$f":"IF(E215=\"\",\"\",IF(E214=\"\",\"\",IF(E214>=DATE(2036,3,10),\"\",E214+1)))","v":""},"",null,"","",null,{"$f":"IF(I214=\"\",\"\",IF(E215=\"\",\"\",I214-$C$13))","v":""},{"$f":"IF(J214=\"\",\"\",IF(F215=\"\",\"\",J214-$C$26))","v":""},0,"",null,0,0,0,0,"",{"$f":"IF(C215=\"\",\"\",IF(C215=E214,\"NG\",IF(C215<E214,\"NG\",IF((C215-E214)>1,\"NG\",\"\"))))","v":""},"",null,"","",0,"","",0,null,null,null,"",null,"",null,null,{"$f":"IF(AJ214=\"\",\"\",IF(AF215=\"\",\"\",AJ214-$AD$13))","v":""},{"$f":"IF(AK214=\"\",\"\",IF(AG215=\"\",\"\",AK214-$AD$26))","v":""},0.01,"",null,1000000,0,1000000,0]
[null,null,"","",null,"","",null,{"$f":"IF(I215=\"\",\"\",IF(E216=\"\",\"\",I215-$C$13))","v":""},{"$f":"IF(J215=\"\",\"\",IF(F216=\"\",\"\",J215-$C$26))","v":""},0,"",null,0,0,0,0,"","","",null,"","",0,"","",0,null,null,null,"",null,"",null,null,"","",0.01,"",null,1000000,0,1000000,0]
[null,null,"","",null,"","",null,"","",0,"",null,0,0,0,0,"","","",null,"","",0,"","",0,null,null,null,"",null,"",null,null,"","",0.01,"",null,1000000,0,1000000,0]
[null,null,"","",null,"","",null,"","",0,"",null,0,0,0,0,"","","",null,"","",0,"","",0,null,null,null,"",null,"",null,null,"","",0.01,"",null,1000000,0,1000000,0]
[null,null,"","",null,"","",null,"","",0,"",null,0,0,0,0,"","",{"$f":"IF(D219=\"\",\"\",IF(D219<C219,\"NG\",\"\"))","v":""},null,"",{"$f":"IF(G219>0,\"\",\"NG\")","v":""},0,"","",0,null,null,null,"",null,"",null,null,"","",0.01,"",null,1000000,0,1000000,0]
[null,null,{"$f":"IF(X220>0,$S$40,\"\")","v":""},null,null,null,null,null,"","",0,{"$f":"IF(J220=\"\",\"\",ROUNDDOWN(J220*K220*G220/365,0))","v":""},null,0,{"$f":"IF(N220-N221<0,0,N220-N221)","v":0},0,{"$f":"P219-P220","v":0},"",null,null,null,null,null,{"$f":"SUM(X213:X219)","v":0},{"$f":"IF(U220=0,\"\",IF(U220=#REF!,\"\",\"NG\"))","v":""},{"$f":"IF(W220=0,\"\",IF(W220=#REF!,\"\",\"NG\"))","v":""},0,null,null,{"$f":"IF($C$240>0,$H$244,IF($E$240>0,$H$244,\"\"))","v":""},"",null,"",null,null,"","",0.01,"",null,1000000,0,1000000,0]
[null,null,null,null,null,null,null,null,null,null,null,null,null,0,null,0]

{"sheet":"（別添１）融資計画詳細２（実績報告）","index":25,"n_rows":96,"n_cols":74,"rows_kept":96,"cut":false,"hidden":false,"merged":[[87,39,90,41],[87,42,90,42],[91,39,94,41],[74,0,83,2],[74,3,83,17],[74,19,83,21],[74,22,83,36],[74,39,83,41],[74,42,83,56],[91,0,94,2],[91,19,94,21],[87,3,90,3],[87,22,90,22],[91,48,94,50],[91,51,94,56],[91,3,94,8],[91,9,94,11],[91,12,94,17],[91,22,94,27],[91,28,94,30],[91,31,94,36],[91,42,94,47],[87,0,90,2],[64,0,73,2],[64,3,73,17],[64,19,73,21],[64,22,73,36],[64,39,73,41],[64,42,73,56],[62,28,63,36],[62,39,63,41],[62,42,63,42],[62,43,63,44],[62,45,63,45],[62,46,63,47],[62,9,63,17],[62,19,63,21],[62,22,63,22],[62,23,63,24],[62,25,63,25],[62,48,63,56],[56,42,58,42],[44,42,46,42],[35,39,36,41],[35,42,36,50],[39,39,40,41],[56,43,58,56],[62,0,63,2],[62,3,63,3],[62,4,63,5],[62,6,63,6],[62,7,63,8],[44,0,58,2],[50,22,52,22],[50,23,52,36],[56,3,58,3],[50,42,52,42],[50,43,52,56],[53,3,55,3],[53,4,55,17],[53,22,55,22],[53,23,55,36],[53,42,55,42],[53,43,55,56],[44,39,58,41],[44,43,46,56],[47,3,49,3],[47,4,49,17],[47,22,49,22],[47,23,49,36],[47,42,49,42],[47,43,49,56],[30,51,31,56],[30,26,31,27],[30,28,31,28],[30,29,31,30],[30,31,31,36],[30,39,31,41],[30,42,31,42],[30,4,31,5],[30,6,31,6],[30,7,31,8],[30,9,31,9],[30,43,31,44],[30,45,31,45],[30,46,31,47],[30,48,31,48],[30,49,31,50],[39,42,40,50],[35,51,36,56],[37,0,38,2],[37,3,38,11],[37,19,38,21],[37,22,38,30],[37,39,38,41],[37,42,38,50],[35,0,36,2],[35,3,36,11],[35,12,36,17],[35,19,36,21],[35,22,36,30],[35,31,36,36],[28,42,29,50],[24,39,25,41],[24,42,25,50],[24,51,25,56],[26,0,27,2],[26,3,27,11],[26,19,27,21],[26,22,27,30],[26,39,27,41],[26,42,27,50],[24,0,25,2],[24,3,25,11],[24,19,25,21],[24,22,25,30],[24,31,25,36],[28,0,29,2],[28,3,29,11],[28,19,29,21],[28,22,29,30],[28,39,29,41],[20,42,21,50],[20,51,21,56],[22,0,23,2],[22,3,23,11],[22,19,23,21],[22,22,23,30],[22,39,23,41],[22,42,23,50],[20,0,21,2],[20,3,21,11],[20,19,21,21],[20,22,21,30],[20,31,21,36],[20,39,21,41],[18,0,19,2],[18,3,19,11],[18,19,19,21],[18,22,19,30],[18,39,19,41],[18,42,19,50],[16,0,17,2],[16,3,17,11],[16,19,17,21],[16,22,17,30],[16,39,17,41],[16,42,17,50],[30,10,31,11],[30,12,31,17],[30,19,31,21],[30,22,31,22],[30,23,31,24],[30,25,31,25],[30,0,31,2],[30,3,31,3],[87,19,90,21],[39,0,40,2],[39,3,40,11],[39,19,40,21],[39,22,40,30],[44,22,46,22],[44,23,46,36],[50,4,52,17],[56,4,58,17],[56,22,58,22],[56,23,58,36],[50,3,52,3],[44,3,46,3],[44,4,46,17],[44,19,58,21],[62,26,63,27],[10,39,11,41],[0,0,1,17],[14,0,15,2],[14,3,15,11],[14,19,15,21],[14,22,15,30],[14,39,15,41],[2,3,3,5],[5,0,5,6],[5,19,5,25],[5,39,5,45],[14,42,15,50],[10,42,11,50],[12,0,13,2],[12,3,13,11],[12,19,13,21],[12,22,13,30],[12,39,13,41],[12,42,13,50],[10,0,11,2],[10,3,11,11],[10,19,11,21],[10,22,11,30]]}
["（別添１）融資計画詳細２（実績報告）",null,null,null,null,null,null,null,null,null,null,null,null,null,null,null,null,null,null,null,null,null,null,null,null,null,null,null,null,null,null,null,null,null,null,null,null,null,null,null,null,null,null,null,null,null,null,null,null,null,null,null,null,null,null,null,null,null,"非表示","非表示","非表示","非表示","非表示","非表示","非表示","非表示","非表示","非表示","非表示","非表示","非表示","非表示","非表示","非表示"]
[]
["（別添１）",null,null,"実績報告",null,null,null,null,null,null,null,null,null,null,null,null,null,null,null,{"$f":"A3","v":"（別添１）"},null,null,null,null,null,null,null,null,null,null,null,null,null,null,null,null,null,null,null,{"$f":"A3","v":"（別添１）"},null,null,null,null,null,null,null,null,null,null,null,null,null,null,null,null,null,null,"別添1-2_D9","事業者名",{"$f":"IF(D11=\"\",\"\",D11)","v":""}]
["融資計画詳細２",null,null,null,null,null,null,null,null,null,null,null,null,null,null,null,null,{"$f":"IF('（様式第３）交付申請書（新規融資案件）'!$Q$4=\"\",\"様式第３で受付番号をご入力ください。\",'（様式第３）交付申請書（新規融資案件）'!$Q$4)","v":"様式第３で受付番号をご入力ください。"},null,{"$f":"A4","v":"融資計画詳細２"},null,null,null,null,null,null,null,null,null,null,null,null,null,null,null,null,null,null,null,{"$f":"A4","v":"融資計画詳細２"},null,null,null,null,null,null,null,null,null,null,null,null,null,null,null,null,null,null,"別添1-2_D11","設備等利用者名",{"$f":"IF(D13=\"\",\"\",D13)","v":""}]
[null,null,null,null,null,null,null,null,null,null,null,null,null,null,null,null,null,null,null,null,null,null,null,null,null,null,null,null,null,null,null,null,null,null,null,null,null,null,null,null,null,null,null,null,null,null,null,null,null,null,null,null,null,null,null,null,null,null,"別添1-2_D13","都道府県",{"$f":"IF(D15=\"\",\"\",D15)","v":""}]
["交付申請書からの変更はありません。",null,null,null,null,null,null,null,null,null,null,null,null,null,null,null,null,null,null,"交付申請書からの変更はありません。",null,null,null,null,null,null,null,null,null,null,null,null,null,null,null,null,null,null,"07AA-001-01","交付申請書からの変更はありません。",null,null,null,null,null,null,null,null,null,null,null,null,null,null,null,null,"07AA-001-01",null,"別添1-2_D15","市区町村",{"$f":"IF(D17=\"\",\"\",D17)","v":""}]
[null,null,null,null,null,null,null,null,null,null,null,null,null,null,null,null,null,null,null,null,null,null,null,null,null,null,null,null,null,null,null,null,null,null,null,null,null,null,null,null,null,null,null,null,null,null,null,null,null,null,null,null,null,null,null,null,null,null,"別添1-2_D17","丁目・番地",{"$f":"IF(D19=\"\",\"\",D19)","v":""}]
[null,null,null,null,null,null,null,null,null,null,null,null,null,null,null,null,null,null,null,null,null,null,null,null,null,null,null,null,null,null,null,null,null,null,null,null,null,null,null,null,null,null,null,null,null,null,null,null,null,null,null,null,null,null,null,null,null,null,"別添1-2_D19","業種大分類",{"$f":"IF(D21=\"\",\"\",D21)","v":""}]
["４．利子補給対象事業者情報",null,null,null,null,null,null,null,null,null,null,null,null,null,null,null,null,null,null,{"$f":"A9","v":"４．利子補給対象事業者情報"},null,null,null,null,null,null,null,null,null,null,null,null,null,null,null,null,null,null,null,"４．利子補給対象事業者情報",null,null,null,null,null,null,null,null,null,null,null,null,null,null,null,null,null,null,"別添1-2_D21","業種分類項目名",{"$f":"IF(D23=\"\",\"\",D23)","v":""}]
[null,null,null,null,null,null,null,null,null,null,null,null,null,null,null,null,null,null,null,null,null,null,null,null,null,null,null,null,null,null,null,null,null,null,null,null,null,null,null,null,null,null,null,null,null,null,null,null,null,null,null,null,null,null,null,null,null,null,"別添1-2_D23","資本金",{"$f":"IF(D25=\"\",\"\",D25)","v":""}]
["事業者名",null,null,"",null,null,null,null,null,null,null,null,null,null,null,null,null,null,null,{"$f":"A11","v":"事業者名"},null,null,"株式会社○○○○",null,null,null,null,null,null,null,null,null,null,null,null,null,null,null,null,"事業者名",null,null,"○○○○",null,null,null,null,null,null,null,null,null,null,null,null,null,null,null,"別添1-2_D25","従業員数",{"$f":"IF(D27=\"\",\"\",D27)","v":""}]
[null,null,null,null,null,null,null,null,null,null,null,null,null,null,null,null,null,null,null,null,null,null,null,null,null,null,null,null,null,null,null,null,null,null,null,null,null,null,null,null,null,null,null,null,null,null,null,null,null,null,null,null,null,null,null,null,null,null,"別添1-2_D27","企業の内容",{"$f":"IF(D29=\"\",\"\",D29)","v":""}]
["設備等利用者名",null,null,"",null,null,null,null,null,null,null,null,null,null,null,null,null,null,null,{"$f":"A13","v":"設備等利用者名"},null,null,"株式会社○○○○",null,null,null,null,null,null,null,null,null,null,null,null,null,null,null,null,"設備等利用者名",null,null,"○○○○",null,null,null,null,null,null,null,null,null,null,null,null,null,null,null,"別添1-2_D29","企業の規模",{"$f":"IF(BK13=\"中小企業\",BK13,IF(BM13=\"個人事業主\",BM13,IF(BO13:BO13=\"その他\",BO13,\"\")))","v":""},{"$f":"_xlfn.IFS(D31=\"\",FALSE,D31=\"　\",FALSE,D31=\"☑\",TRUE)","v":false},{"$f":"IF(D31=\"☑\",\"中小企業\",\"\")","v":""},{"$f":"_xlfn.IFS(G31=\"\",FALSE,G31=\"　\",FALSE,G31=\"☑\",TRUE)","v":false},{"$f":"IF(G31=\"☑\",\"個人事業主\",\"\")","v":""},{"$f":"_xlfn.IFS(J31=\"\",FALSE,J31=\"　\",FALSE,J31=\"☑\",TRUE)","v":false},{"$f":"IF(J31=\"☑\",\"その他\",\"\")","v":""},{"$f":"COUNTIF(BJ13:BO13,TRUE)","v":0},{"$f":"IF(BP13=3,\"NG\",IF(BP13=2,\"NG\",IF(BP13=0,\"NG\",\"OK\")))","v":"NG"}]
[null,null,null,null,null,null,null,null,null,null,null,null,null,null,null,null,null,null,null,null,null,null,null,null,null,null,null,null,null,null,null,null,null,null,null,null,null,null,null,null,null,null,null,null,null,null,null,null,null,null,null,null,null,null,null,null,null,null,"別添1-2_D34","都道府県",{"$f":"IF(D36=\"\",\"\",D36)","v":""}]
["都道府県",null,null,"",null,null,null,null,null,null,null,null,null,null,null,null,null,null,null,{"$f":"A15","v":"都道府県"},null,null,"○○県",null,null,null,null,null,null,null,null,null,null,null,null,null,null,null,null,"都道府県",null,null,"○○県",null,null,null,null,null,null,null,null,null,null,null,null,null,null,null,"別添1-2_D36","市区町村",{"$f":"IF(D38=\"\",\"\",D38)","v":""}]
[null,null,null,null,null,null,null,null,null,null,null,null,null,null,null,null,null,null,null,null,null,null,null,null,null,null,null,null,null,null,null,null,null,null,null,null,null,null,null,null,null,null,null,null,null,null,null,null,null,null,null,null,null,null,null,null,null,null,"別添1-2_D38","丁目・番地",{"$f":"IF(D40=\"\",\"\",D40)","v":""}]
["市区町村",null,null,"",null,null,null,null,null,null,null,null,null,null,null,null,null,null,null,{"$f":"A17","v":"市区町村"},null,null,"○○市○○町",null,null,null,null,null,null,null,null,null,null,null,null,null,null,null,null,"市区町村",null,null,"○○市○○町",null,null,null,null,null,null,null,null,null,null,null,null,null,null,null,"別添1-2_D43～55","対象要件１",{"$f":"IF(OR(BK17=TRUE,BM17=TRUE),_xlfn.CONCAT(BI26:BI27)&\"-（ア）\",IF(BO17=TRUE,_xlfn.CONCAT(BI26:BI27)&\"-（イ）\",IF(OR(BQ17=TRUE,BS17=TRUE),_xlfn.CONCAT(BI26:BI27)&\"-（ウ）\",\"\")))","v":""},null,{"$f":"_xlfn.IFS(D45=\"\",FALSE,D45=\"　\",FALSE,D45=\"☑\",TRUE)","v":false},{"$f":"IF(BK17=FALSE,\"\",IF(D45=\"☑\",\"(ア)TR\"))","v":""},{"$f":"_xlfn.IFS(D48=\"\",FALSE,D48=\"　\",FALSE,D48=\"☑\",TRUE)","v":false},{"$f":"IF(BM17=FALSE,\"\",IF(D48=\"☑\",\"(ア)TR該当なし\"))","v":""},{"$f":"_xlfn.IFS(D51=\"\",FALSE,D51=\"　\",FALSE,D51=\"☑\",TRUE)","v":false},{"$f":"IF(BO17=FALSE,\"\",IF(D51=\"☑\",\"イ\"))","v":""},{"$f":"_xlfn.IFS(D54=\"\",FALSE,D54=\"　\",FALSE,D54=\"☑\",TRUE)","v":false},{"$f":"IF(BQ17=FALSE,\"\",IF(D54=\"☑\",\"(ウ)データセンター\"))","v":""},{"$f":"_xlfn.IFS(D57=\"\",FALSE,D57=\"　\",FALSE,D57=\"☑\",TRUE)","v":false},{"$f":"IF(BS17=FALSE,\"\",IF(D57=\"☑\",\"(ウ)EMS\"))","v":""},{"$f":"COUNTIF(BK17:BT17,TRUE)","v":0},{"$f":"IF(BU17=0,\"NG\",\"OK\")","v":"NG"}]
[null,null,null,null,null,null,null,null,null,null,null,null,null,null,null,null,null,null,null,null,null,null,null,null,null,null,null,null,null,null,null,null,null,null,null,null,null,null,null,null,null,null,null,null,null,null,null,null,null,null,null,null,null,null,null,null,null,null,"別添1-2_D43～55","対象要件２",{"$f":"BL17&BN17&BP17&BR17&BT17","v":""}]
["丁目・番地",null,null,"",null,null,null,null,null,null,null,null,null,null,null,null,null,null,null,{"$f":"A19","v":"丁目・番地"},null,null,"○丁目○番○号",null,null,null,null,null,null,null,null,null,null,null,null,null,null,null,null,"丁目・番地",null,null,"○丁目○番○号",null,null,null,null,null,null,null,null,null,null,null,null,null,null,null,"別添1-2_D61","設備導入区分１",{"$f":"IF(OR(BJ19=\"①\",BJ19=\"①②\"),\"①\",IF(BJ19=\"②\",\"②\",\"\"))","v":""},{"$f":"BL19&BN19","v":""},{"$f":"_xlfn.IFS(D63=\"\",FALSE,D63=\"　\",FALSE,D63=\"☑\",TRUE)","v":false},{"$f":"IF(BK19=FALSE,\"\",IF(D63=\"☑\",\"①\"))","v":""},{"$f":"_xlfn.IFS(G63=\"\",FALSE,G63=\"　\",FALSE,G63=\"☑\",TRUE)","v":false},{"$f":"IF(BM19=FALSE,\"\",IF(G63=\"☑\",\"②\"))","v":""},{"$f":"COUNTIF(BK19:BN19,TRUE)","v":0},{"$f":"IF(BO19=0,\"NG\",IF(BO19=0,\"NG\",\"OK\"))","v":"NG"}]
[null,null,null,null,null,null,null,null,null,null,null,null,null,null,null,null,null,null,null,null,null,null,null,null,null,null,null,null,null,null,null,null,null,null,null,null,null,null,null,null,null,null,null,null,null,null,null,null,null,null,null,null,null,null,null,null,null,null,"別添1-2_D61","設備導入区分2",{"$f":"BL20&BN20","v":""},null,{"$f":"_xlfn.IFS(D63=\"\",FALSE,D63=\"　\",FALSE,D63=\"☑\",TRUE)","v":false},{"$f":"IF(BK19=FALSE,\"\",IF(D63=\"☑\",\"新設\"))","v":""},{"$f":"_xlfn.IFS(G64=\"\",FALSE,G64=\"　\",FALSE,G64=\"☑\",TRUE)","v":false},{"$f":"IF(BM19=FALSE,\"\",IF(G63=\"☑\",\"増設\"))","v":""},{"$f":"COUNTIF(BK20:BN20,TRUE)","v":0},{"$f":"IF(BO20=0,\"NG\",IF(BO20=0,\"NG\",\"OK\"))","v":"NG"}]
["業種大分類",null,null,null,null,null,null,null,null,null,null,null,null,null,null,null,null,null,null,{"$f":"A21","v":"業種大分類"},null,null,"○○業",null,null,null,null,null,null,null,null,null,null,null,null,null,null,null,null,"業種大分類",null,null,"無",null,null,null,null,null,null,null,null,null,null,null,null,null,null,null,"別添1-2_D63","導入設備の概要",{"$f":"IF(D65=\"\",\"\",D65)","v":""}]
[null,null,null,null,null,null,null,null,null,null,null,null,null,null,null,null,null,null,null,null,null,null,null,null,null,null,null,null,null,null,null,null,null,null,null,null,null,null,null,null,null,null,null,null,null,null,null,null,null,null,null,null,null,null,null,null,null,null,"別添1-2_D73","対象事業の概要",{"$f":"IF(D75=\"\",\"\",D75)","v":""}]
["業種分類項目名",null,null,null,null,null,null,null,null,null,null,null,null,null,null,null,null,null,null,{"$f":"A23","v":"業種分類項目名"},null,null,"○○業",null,null,null,null,null,null,null,null,null,null,null,null,null,null,null,null,"業種分類項目名",null,null,"無",null,null,null,null,null,null,null,null,null,null,null,null,null,null,null,"別添1-2_D86","給与支給総額の\n伸び率が年平均1.5%を\n達成できているか",{"$f":"IF(D88=\"\",\"\",D88)","v":""}]
[null,null,null,null,null,null,null,null,null,null,null,null,null,null,null,null,null,null,null,null,null,null,null,null,null,null,null,null,null,null,null,null,null,null,null,null,null,null,null,null,null,null,null,null,null,null,null,null,null,null,null,null,null,null,null,null,null,null,"別添1-2_D90","未達成の事由",{"$f":"IF(D92=\"\",\"\",D92)","v":""}]
["資本金",null,null,null,null,null,null,null,null,null,null,null,null,null,null,null,null,null,null,{"$f":"A25","v":"資本金"},null,null,"○，○○○，○○○ 円",null,null,null,null,null,null,null,null,null,null,null,null,null,null,null,null,"資本金",null,null,"0 円",null,null,null,null,null,null,null,null,null,null,null,null,null,null,null,"別添1-2_D91","未達成の事由（その他）",{"$f":"IF(M92=\"\",\"\",M92)","v":""}]
[null,null,null,null,null,null,null,null,null,null,null,null,null,null,null,null,null,null,null,null,null,null,null,null,null,null,null,null,null,null,null,null,null,null,null,null,null,null,null,null,null,null,null,null,null,null,null,null,null,null,null,null,null,null,null,null,null,null,"西暦年度",{"$f":"TODAY()","v":"2025-11-10"},{"$f":"IF(LEN(YEAR(BH26)-2018)>1,\"\",0)","v":0},"←和暦2桁判定"]
["従業員数",null,null,null,null,null,null,null,null,null,null,null,null,null,null,null,null,null,null,{"$f":"A27","v":"従業員数"},null,null,"○○○ 人",null,null,null,null,null,null,null,null,null,null,null,null,null,null,null,null,"従業員数",null,null,"○○○ 人",null,null,null,null,null,null,null,null,null,null,null,null,null,null,null,"申請月",{"$f":"MONTH(BH26)","v":11},6]
[null,null,null,null,null,null,null,null,null,null,null,null,null,null,null,null,null,null,null,null,null,null,null,null,null,null,null,null,null,null,null,null,null,null,null,null,null,null,null,null,null,null,null,null,null,null,null,null,null,null,null,null,null,null,null,null,null,null,null,"交付申請変更無しフラグ",{"$f":"IF(H6=\"\",FALSE,TRUE)","v":false}]
["企業の内容",null,null,"",null,null,null,null,null,null,null,null,null,null,null,null,null,null,null,{"$f":"A29","v":"企業の内容"},null,null,"○○部品の製造",null,null,null,null,null,null,null,null,null,null,null,null,null,null,null,null,"企業の内容",null,null,"○○部品の製造"]
[]
["企業の規模",null,null,null,"中小企業",null,null,"個人事業主",null,null,"その他",null,{"$f":"IF(BQ13=\"NG\",\"←該当する対象要件（チェックボックス）を選択してください。\",\"\")","v":"←該当する対象要件（チェックボックス）を選択してください。"},null,null,null,null,null,null,{"$f":"A31","v":"企業の規模"},null,null,"☑",{"$f":"E31","v":"中小企業"},null,null,{"$f":"H31","v":"個人事業主"},null,null,{"$f":"K31","v":"その他"},null,{"$f":"IF(W11=\"\",\"\",IF(CJ13=\"NG\",\"←該当する対象要件（チェックボックス）を選択してください。\",\"\"))","v":""},null,null,null,null,null,null,null,"企業の規模",null,null,null,"中小企業",null,"☑","個人事業主",null,null,"その他",null,{"$f":"IF(AQ11=\"\",\"\",IF(DD13=\"NG\",\"←該当する対象要件（チェックボックス）を選択してください。\",\"\"))","v":""}]
[]
[]
["５．所在地（省エネルギー設備の使用場所及び省エネルギー取組の実施場所）",null,null,null,null,null,null,null,null,null,null,null,null,null,null,null,null,null,null,{"$f":"A34","v":"５．所在地（省エネルギー設備の使用場所及び省エネルギー取組の実施場所）"},null,null,null,null,null,null,null,null,null,null,null,null,null,null,null,null,null,null,null,"５．所在地（省エネルギー設備の使用場所及び省エネルギー取組の実施場所）"]
[]
["都道府県",null,null,"",null,null,null,null,null,null,null,null,null,null,null,null,null,null,null,{"$f":"A36","v":"都道府県"},null,null,"○○県",null,null,null,null,null,null,null,null,null,null,null,null,null,null,null,null,"（住所）都道府県",null,null,"○○県"]
[]
["市区町村",null,null,"",null,null,null,null,null,null,null,null,null,null,null,null,null,null,null,{"$f":"A38","v":"市区町村"},null,null,"○○市○○町",null,null,null,null,null,null,null,null,null,null,null,null,null,null,null,null,"市区町村",null,null,"○○市○○町"]
[]
["丁目・番地",null,null,"",null,null,null,null,null,null,null,null,null,null,null,null,null,null,null,{"$f":"A40","v":"丁目・番地"},null,null,"〇丁目〇番〇号",null,null,null,null,null,null,null,null,null,null,null,null,null,null,null,null,"丁目・番地",null,null,"〇丁目〇番〇号"]
[]
[]
["６．対象要件",null,null,null,null,null,null,null,null,null,null,null,null,null,null,null,null,null,null,{"$f":"A43","v":"６．対象要件"},null,null,null,null,null,null,null,null,null,null,null,null,null,null,null,null,null,null,null,"６．対象要件"]
[{"$f":"IF(BV17=\"NG\",\"↓該当する対象要件（チェックボックス）を選択してください。\",\"\")","v":"↓該当する対象要件（チェックボックス）を選択してください。"}]
["対象要件",null,null,null,"（ア）エネルギー消費効率が高い省エネルギー設備を新設、又は増設する事業。\n　　※トップランナー基準を満たす設備の導入",null,null,null,null,null,null,null,null,null,null,null,null,null,null,{"$f":"A45","v":"対象要件"},null,null,"☑",{"$f":"E45","v":"（ア）エネルギー消費効率が高い省エネルギー設備を新設、又は増設する事業。\n　　※トップランナー基準を満たす設備の導入"},null,null,null,null,null,null,null,null,null,null,null,null,null,null,null,"対象要件",null,null,"☑","（ア）エネルギー消費効率が高い省エネルギー設備を新設、又は増設する事業。\n　　※トップランナー基準を満たす設備の導入"]
[]
[]
[null,null,null,null,"（ア）エネルギー消費効率が高い省エネルギー設備を新設、又は増設する事業。\n　　※トップランナー基準に該当しない設備で、エネルギー消費効率が高い設備の導入",null,null,null,null,null,null,null,null,null,null,null,null,null,null,null,null,null,"☑",{"$f":"E48","v":"（ア）エネルギー消費効率が高い省エネルギー設備を新設、又は増設する事業。\n　　※トップランナー基準に該当しない設備で、エネルギー消費効率が高い設備の導入"},null,null,null,null,null,null,null,null,null,null,null,null,null,null,null,null,null,null,null,"（ア）エネルギー消費効率が高い省エネルギー設備を新設、又は増設する事業。\n　　※トップランナー基準に該当しない設備で、エネルギー消費効率が高い設備の導入"]
[]
[]
[null,null,null,null,"（イ）省エネルギー設備等を新設、又は増設し、工場・事業場全体におけるエネルギー\n　　 消費原単位が１％以上改善される事業。",null,null,null,null,null,null,null,null,null,null,null,null,null,null,null,null,null,null,{"$f":"E51","v":"（イ）省エネルギー設備等を新設、又は増設し、工場・事業場全体におけるエネルギー\n　　 消費原単位が１％以上改善される事業。"},null,null,null,null,null,null,null,null,null,null,null,null,null,null,null,null,null,null,null,"（イ）省エネルギー設備等を新設、又は増設し、工場・事業場全体におけるエネルギー\n　　 消費原単位が１％以上改善される事業。"]
[]
[]
[null,null,null,null,"（ウ）データセンターのクラウドサービス活用に関する事業。",null,null,null,null,null,null,null,null,null,null,null,null,null,null,null,null,null,null,{"$f":"E54","v":"（ウ）データセンターのクラウドサービス活用に関する事業。"},null,null,null,null,null,null,null,null,null,null,null,null,null,null,null,null,null,null,null,"（ウ）データセンターのクラウドサービス活用に関する事業。"]
[]
[]
[null,null,null,null,"（ウ）ＥＭＳの導入等による省エネルギー取組に関する事業。",null,null,null,null,null,null,null,null,null,null,null,null,null,null,null,null,null,null,{"$f":"E57","v":"（ウ）ＥＭＳの導入等による省エネルギー取組に関する事業。"},null,null,null,null,null,null,null,null,null,null,null,null,null,null,null,null,null,null,null,"（ウ）ＥＭＳの導入等による省エネルギー取組に関する事業。"]
[]
[]
[null,null,null,null,null,null,null,null,null,null,null,null,null,null,null,null,null,null,null,{"$f":"IF(W11=\"\",\"\",IF(CO17=\"NG\",\"↑該当する対象要件（チェックボックス）を選択してください。\",\"\"))","v":""},null,null,null,null,null,null,null,null,null,null,null,null,null,null,null,null,null,null,null,{"$f":"IF(AQ11=\"\",\"\",IF(DI17=\"NG\",\"↑該当する対象要件（チェックボックス）を選択してください。\",\"\"))","v":""}]
["７．利子補給対象事業の概要",null,null,null,null,null,null,null,null,null,null,null,null,null,null,null,null,null,null,{"$f":"A61","v":"７．利子補給対象事業の概要"},null,null,null,null,null,null,null,null,null,null,null,null,null,null,null,null,null,null,null,"７．利子補給対象事業の概要"]
[]
["導入設備区分",null,null,null,"新設",null,null,"増設",null,{"$f":"IF(BP18=\"NG\",\"←該当する導入設備区分（チェックボックス）を選択してください。\",\"\")","v":""},null,null,null,null,null,null,null,null,null,{"$f":"A63","v":"導入設備区分"},null,null,"☑","新設",null,"☑","増設",null,{"$f":"IF(W11=\"\",\"\",IF(CI18=\"NG\",\"←該当する導入設備区分（チェックボックス）を選択してください。\",\"\"))","v":""},null,null,null,null,null,null,null,null,null,null,"導入設備区分",null,null,"☑","新設",null,null,"増設",null,{"$f":"IF(AQ11=\"\",\"\",IF(DC18=\"NG\",\"←該当する導入設備区分（チェックボックス）を選択してください。\",\"\"))","v":""}]
[]
["対象事業の概要",null,null,"",null,null,null,null,null,null,null,null,null,null,null,null,null,null,null,"対象事業の概要",null,null,"例①：○○工場に○○機器を新設する事業\n例②：○○作業所の生産ラインを増設する事業\n　　　（現状6ラインから8ラインへ2ライン増設）",null,null,null,null,null,null,null,null,null,null,null,null,null,null,null,null,"対象事業の概要",null,null,"例①：○○工場に○○機器を新設する事業\n例②：○○作業所の生産ラインを増設する事業\n　　　（現状6ラインから8ラインへ2ライン増設）"]
[]
[]
[]
[]
[]
[]
[]
[]
[]
["導入設備の概要",null,null,"",null,null,null,null,null,null,null,null,null,null,null,null,null,null,null,"導入設備の概要",null,null,"例①：工場新設による○○機器新規導入\n　　　○○機器○台、○○機器○台の新規導入\n例②：生産ライン拡大による○○機器の増設\n　　　○○機器○台、○○機器○台の増設",null,null,null,null,null,null,null,null,null,null,null,null,null,null,null,null,"導入設備の概要",null,null,"例①：工場新設による○○機器新規導入\n　　　○○機器○台、○○機器○台の新規導入\n例②：生産ライン拡大による○○機器の増設\n　　　○○機器○台、○○機器○台の増設"]
[]
[]
[]
[]
[]
[]
[]
[]
[]
[]
["８．経営革新計画における達成状況（任意）",null,null,null,null,null,null,null,null,null,null,null,null,null,null,null,null,null,null,{"$f":"A86","v":"８．経営革新計画における達成状況（任意）"},null,null,null,null,null,null,null,null,null,null,null,null,null,null,null,null,null,null,null,{"$f":"A86","v":"８．経営革新計画における達成状況（任意）"}]
[]
["給与支給総額の\n伸び率が年平均1.5%を\n達成できているか",null,null,null,null,null,null,null,null,null,null,null,null,null,null,null,null,null,null,{"$f":"A88","v":"給与支給総額の\n伸び率が年平均1.5%を\n達成できているか"},null,null,"×",null,null,null,null,null,null,null,null,null,null,null,null,null,null,null,null,{"$f":"A88","v":"給与支給総額の\n伸び率が年平均1.5%を\n達成できているか"},null,null,"×"]
[]
[]
[]
["未達成の事由",null,null,null,null,null,null,null,null,"その他を\n選択した場合",null,null,null,null,null,null,null,null,null,{"$f":"A92","v":"未達成の事由"},null,null,"業績が計画を下回ったため",null,null,null,null,null,"その他を\n選択した場合",null,null,null,null,null,null,null,null,null,null,{"$f":"A92","v":"未達成の事由"},null,null,"その他",null,null,null,null,null,"その他を\n選択した場合",null,null,"○○が発生したため。"]
[]
[]
[]
["※未達成であっても利子補給金額に影響はございません。",null,null,null,null,null,null,null,null,null,null,null,null,null,null,null,null,null,null,{"$f":"A96","v":"※未達成であっても利子補給金額に影響はございません。"},null,null,null,null,null,null,null,null,null,null,null,null,null,null,null,null,null,null,null,{"$f":"A96","v":"※未達成であっても利子補給金額に影響はございません。"}]

{"sheet":"（様式第１１）精算払請求書","index":26,"n_rows":95,"n_cols":55,"rows_kept":95,"cut":false,"hidden":false,"merged":[[18,3,20,6],[18,8,20,9],[18,10,20,16],[18,20,20,23],[18,25,20,26],[21,33,23,33],[23,27,24,32],[15,8,17,9],[15,10,17,16],[15,25,17,26],[15,27,17,33],[18,27,20,33],[21,8,24,9],[21,25,24,26],[21,27,22,32],[21,10,22,16],[23,10,24,16],[40,0,46,16],[40,17,46,33],[70,1,71,15],[70,18,71,32],[39,0,39,2],[39,3,39,6],[39,17,39,19],[39,20,39,23],[39,13,39,16],[39,7,39,12],[39,30,39,33],[39,24,39,29],[84,20,85,24],[74,1,75,15],[74,18,75,32],[78,1,79,7],[78,8,79,8],[78,18,79,24],[78,25,79,25],[88,20,89,24],[84,25,85,26],[84,27,85,32],[86,1,87,2],[86,3,87,7],[86,8,87,9],[86,10,87,15],[86,18,87,19],[86,20,87,24],[86,25,87,26],[86,27,87,32],[84,1,85,2],[84,3,85,7],[84,8,85,9],[84,10,85,15],[84,18,85,19],[0,0,1,16],[88,25,89,26],[88,27,89,32],[90,1,91,2],[90,3,91,7],[90,8,91,9],[90,10,91,15],[90,18,91,19],[90,20,91,24],[90,25,91,26],[90,27,91,32],[88,1,89,2],[88,3,89,7],[88,8,89,9],[88,10,89,15],[88,18,89,19]]}
["（様式第１１）精算払請求書",null,null,null,null,null,null,null,null,null,null,null,null,null,null,null,null,null,null,null,null,null,null,null,null,null,null,null,null,null,null,null,null,null,null,null,null,null,null,null,null,null,null,null,null,null,null,null,null,null,null,null,"非表示","非表示","非表示"]
[]
["様式第１１",null,null,null,null,null,null,null,null,null,null,null,null,null,null,null,null,{"$f":"A3","v":"様式第１１"}]
[null,null,null,null,null,null,null,null,null,null,null,null,null,null,null,null,{"$f":"IF('（様式第３）交付申請書（新規融資案件）'!$Q$4=\"\",\"様式第３で受付番号をご入力ください。\",'（様式第３）交付申請書（新規融資案件）'!$Q$4)","v":"様式第３で受付番号をご入力ください。"},null,null,null,null,null,null,null,null,null,null,null,null,null,null,null,null,"07AA-001-01",null,null,null,null,null,null,null,null,null,null,null,null,null,null,null,null,null,null,"様式第11精_L6","年",{"$f":"IF(L6=\"\",\"\",L6)","v":""}]
[null,null,null,null,null,null,null,null,null,null,null,null,null,null,null,null,null,null,null,null,null,null,null,null,null,null,null,null,null,null,null,null,null,null,null,null,null,null,null,null,null,null,null,null,null,null,null,null,null,null,null,null,"様式第11精_N6","月",{"$f":"IF(N6=\"\",\"\",N6)","v":""}]
[null,null,null,null,null,null,null,null,null,null,null,null,"年",null,"月",null,"日",null,null,null,null,null,null,null,null,null,null,null,"202○",{"$f":"M6","v":"年"},"○○",{"$f":"O6","v":"月"},"○○",{"$f":"Q6","v":"日"},null,null,null,null,null,null,null,null,null,null,null,null,null,null,null,null,null,null,"様式第11精_P6","日",{"$f":"IF(P6=\"\",\"\",P6)","v":""}]
[null,null,null,null,null,null,null,null,null,null,null,null,null,null,null,null,null,null,null,null,null,null,null,null,null,null,null,null,null,null,null,null,null,null,null,null,null,null,null,null,null,null,null,null,null,null,null,null,null,null,null,null,"様式第11精_K16","指定金融機関_住所",{"$f":"IF(K16=\"\",\"\",K16)","v":""}]
[null,null,null,null,null,null,null,null,null,null,null,null,null,null,null,null,null,null,null,null,null,null,null,null,null,null,null,null,null,null,null,null,null,null,null,null,null,null,null,null,null,null,null,null,null,null,null,null,null,null,null,null,"様式第11精_K19","指定金融機関_名称",{"$f":"IF(K19=\"\",\"\",K19)","v":""}]
["一般社団法人　環境共創イニシアチブ",null,null,null,null,null,null,null,null,null,null,null,null,null,null,null,null,{"$f":"A9","v":"一般社団法人　環境共創イニシアチブ"},null,null,null,null,null,null,null,null,null,null,null,null,null,null,null,null,null,null,null,null,null,null,null,null,null,null,null,null,null,null,null,null,null,null,"様式第11精_K22","指定金融機関_役職",{"$f":"IF(K22=\"\",\"\",K22)","v":""}]
[null,null,null,null,null,null,null,null,null,null,null,null,null,null,null,null,null,null,null,null,null,null,null,null,null,null,null,null,null,null,null,null,null,null,null,null,null,null,null,null,null,null,null,null,null,null,null,null,null,null,null,null,"様式第11精_K24","指定金融機関_代表者名",{"$f":"IF(K24=\"\",\"\",K24)","v":""}]
["代 表 理 事　殿",null,null,null,null,null,null,null,null,null,null,null,null,null,null,null,null,{"$f":"A11","v":"代 表 理 事　殿"},null,null,null,null,null,null,null,null,null,null,null,null,null,null,null,null,null,null,null,null,null,null,null,null,null,null,null,null,null,null,null,null,null,null,"様式第11精_A40","交付決定日",{"$f":"IF(A40=\"\",\"\",A40)","v":""}]
[null,null,null,null,null,null,null,null,null,null,null,null,null,null,null,null,null,null,null,null,null,null,null,null,null,null,null,null,null,null,null,null,null,null,null,null,null,null,null,null,null,null,null,null,null,null,null,null,null,null,null,null,"様式第11精_H40","交付決定番号",{"$f":"IF(H40=\"\",\"\",H40)","v":""}]
[null,null,null,null,null,null,null,null,null,null,null,null,null,null,null,null,null,null,null,null,null,null,null,null,null,null,null,null,null,null,null,null,null,null,null,null,null,null,null,null,null,null,null,null,null,null,null,null,null,null,null,null,"様式第11精_B71","利子補給対象事業者名",{"$f":"IF(B71=\"\",\"\",B71)","v":""}]
[null,null,null,null,null,null,null,null,null,null,null,null,null,null,null,null,null,null,null,null,null,null,null,null,null,null,null,null,null,null,null,null,null,null,null,null,null,null,null,null,null,null,null,null,null,null,null,null,null,null,null,null,"様式第11精_B75","融資名称",{"$f":"IF(B75=\"\",\"\",B75)","v":""}]
[null,null,null,null,null,null,null,null,null,null,{"$f":"IF(K16=\"\",\"↓住所は都道府県からご入力ください。\",\"\")","v":"↓住所は都道府県からご入力ください。"},null,null,null,null,null,null,null,null,null,null,null,null,null,null,null,null,null,null,null,null,null,null,null,null,null,null,null,null,null,null,null,null,null,null,null,null,null,null,null,null,null,"様式第11精_B79","利子補給金概算払請求金額",{"$f":"IF(B79=\"\",\"\",B79)","v":""}]
[null,null,null,null,null,null,null,null,"住　　所",null,null,null,null,null,null,null,null,null,null,null,null,null,null,null,null,{"$f":"I16","v":"住　　所"},null,"〇〇県〇〇市〇〇町〇丁目〇番〇号",null,null,null,null,null,null,null,null,null,null,null,null,null,null,null,null,null,null,null,null,null,null,null,null,"様式第11精_D85","金融機関名",{"$f":"IF(D85=\"\",\"\",D85)","v":""}]
[null,null,null,null,null,null,null,null,null,null,null,null,null,null,null,null,null,null,null,null,null,null,null,null,null,null,null,null,null,null,null,null,null,null,null,null,null,null,null,null,null,null,null,null,null,null,null,null,null,null,null,null,"様式第11精_K85","銀行コード\n（4桁）",{"$f":"IF(K85=\"\",\"\",K85)","v":""}]
[null,null,null,null,null,null,null,null,null,null,null,null,null,null,null,null,null,null,null,null,null,null,null,null,null,null,null,null,null,null,null,null,null,null,null,null,null,null,null,null,null,null,null,null,null,null,null,null,null,null,null,null,"様式第11精_D87","支店名",{"$f":"IF(D87=\"\",\"\",D87)","v":""}]
[null,null,null,"指定金融機関",null,null,null,null,"名　　称",null,null,null,null,null,null,null,null,null,null,null,{"$f":"D19","v":"指定金融機関"},null,null,null,null,{"$f":"I19","v":"名　　称"},null,"株式会社〇〇銀行",null,null,null,null,null,null,null,null,null,null,null,null,null,null,null,null,null,null,null,null,null,null,null,null,"様式第11精_K87","支店コード\n（3桁）",{"$f":"IF(K87=\"\",\"\",K87)","v":""}]
[null,null,null,null,null,null,null,null,null,null,null,null,null,null,null,null,null,null,null,null,null,null,null,null,null,null,null,null,null,null,null,null,null,null,null,null,null,null,null,null,null,null,null,null,null,null,null,null,null,null,null,null,"様式第11精_D89","預金の種別",{"$f":"IF(D89=\"\",\"\",D89)","v":""}]
[null,null,null,null,null,null,null,null,null,null,null,null,null,null,null,null,null,null,null,null,null,null,null,null,null,null,null,null,null,null,null,null,null,null,null,null,null,null,null,null,null,null,null,null,null,null,null,null,null,null,null,null,"様式第11精_K89","口座番号\n（7桁）",{"$f":"IF(K89=\"\",\"\",K89)","v":""}]
[null,null,null,null,null,null,null,null,"代表者等名",null,null,null,null,null,null,null,null,null,null,null,null,null,null,null,null,{"$f":"I22","v":"代表者等名"},null,"代表取締役",null,null,null,null,null,null,null,null,null,null,null,null,null,null,null,null,null,null,null,null,null,null,null,null,"様式第11精_D91","預金の名義",{"$f":"IF(D91=\"\",\"\",D91)","v":""}]
[null,null,null,null,null,null,null,null,null,null,null,null,null,null,null,null,null,null,null,null,null,null,null,null,null,null,null,null,null,null,null,null,null,null,null,null,null,null,null,null,null,null,null,null,null,null,null,null,null,null,null,null,"様式第11精_K91","預金の名義\n（ｶﾅ）",{"$f":"IF(K91=\"\",\"\",K91)","v":""}]
[null,null,null,null,null,null,null,null,null,null,null,null,null,null,null,null,null,null,null,null,null,null,null,null,null,null,null,"〇〇　〇〇"]
[]
[]
[]
[]
[]
[]
[null,null,null,null,null,null,null,null,"令和７年度省エネルギー設備投資利子補給金",null,null,null,null,null,null,null,null,null,null,null,null,null,null,null,null,{"$f":"I31","v":"令和７年度省エネルギー設備投資利子補給金"}]
[]
[null,null,null,null,null,null,null,null,"精算払請求書",null,null,null,null,null,null,null,null,null,null,null,null,null,null,null,null,{"$f":"I33","v":"精算払請求書"}]
[]
[]
[]
[]
[]
[]
[null,null,null,"をもって交付決定 （",null,null,null,null,null,null,null,null,null,"）があった標記利子補給",null,null,null,"202○年○月○日",null,null,{"$f":"D40","v":"をもって交付決定 （"},null,null,null,"SII-BFA250-01-○○○○○○-00○○○-A",null,null,null,null,null,{"$f":"N40","v":"）があった標記利子補給"}]
["金について、省エネルギー設備投資利子補給金交付規程（ＳＩＩ－ＢＦＡ２４０－０１－２４０４０１－Ｒ）第１８条第２項の規定に基づき、下記のとおり請求します。",null,null,null,null,null,null,null,null,null,null,null,null,null,null,null,null,{"$f":"A41","v":"金について、省エネルギー設備投資利子補給金交付規程（ＳＩＩ－ＢＦＡ２４０－０１－２４０４０１－Ｒ）第１８条第２項の規定に基づき、下記のとおり請求します。"}]
[]
[]
[]
[]
[]
[]
[]
[]
[]
[]
[]
[]
[]
[]
[]
[]
[]
[]
[]
[]
[]
[]
[]
[null,null,null,null,null,null,null,null,null,null,null,null,null,null,null,null,{"$f":"IF('（様式第３）交付申請書（新規融資案件）'!$Q$4=\"\",\"様式第３で受付番号をご入力ください。\",'（様式第３）交付申請書（新規融資案件）'!$Q$4)","v":"様式第３で受付番号をご入力ください。"},null,null,null,null,null,null,null,null,null,null,null,null,null,null,null,null,"07AA-001-01"]
[]
[null,null,null,null,null,null,null,null,"記",null,null,null,null,null,null,null,null,null,null,null,null,null,null,null,null,{"$f":"I67","v":"記"}]
[]
[]
["１．利子補給対象事業者名",null,null,null,null,null,null,null,null,null,null,null,null,null,null,null,null,{"$f":"A70","v":"１．利子補給対象事業者名"}]
[null,null,null,null,null,null,null,null,null,null,null,null,null,null,null,null,null,null,"株式会社○○○○"]
[]
[]
["２．融資名称",null,null,null,null,null,null,null,null,null,null,null,null,null,null,null,null,{"$f":"A74","v":"２．融資名称"}]
[null,null,null,null,null,null,null,null,null,null,null,null,null,null,null,null,null,null,"○○○○○○○にともなう融資"]
[]
[]
["３．利子補給金精算払請求金額",null,null,null,null,null,null,null,null,null,null,null,null,null,null,null,null,{"$f":"A78","v":"３．利子補給金精算払請求金額"}]
[null,null,null,null,null,null,null,null,"円",null,null,null,null,null,null,null,null,null,"○○○,○○○",null,null,null,null,null,null,{"$f":"I79","v":"円"}]
[]
[]
[]
["４．振込先",null,null,null,null,null,null,null,null,null,null,null,null,null,null,null,null,{"$f":"A83","v":"４．振込先"}]
[]
[null,"金融機関名",null,null,null,null,null,null,"銀行コード\n（4桁）",null,"",null,null,null,null,null,null,null,{"$f":"B85","v":"金融機関名"},null,"○○銀行",null,null,null,null,{"$f":"I85","v":"銀行コード\n（4桁）"},null,"0000"]
[]
[null,"支店名",null,null,null,null,null,null,"支店コード\n（3桁）",null,"",null,null,null,null,null,null,null,{"$f":"B87","v":"支店名"},null,"○○支店",null,null,null,null,{"$f":"I87","v":"支店コード\n（3桁）"},null,"000"]
[]
[null,"預金の種別",null,null,null,null,null,null,"口座番号\n（7桁）",null,"",null,null,null,null,null,null,null,{"$f":"B89","v":"預金の種別"},null,"普通",null,null,null,null,{"$f":"I89","v":"口座番号\n（7桁）"},null,"0000000"]
[]
[null,"預金の名義",null,null,null,null,null,null,"預金の名義\n（ｶﾅ）",null,null,null,null,null,null,null,null,null,{"$f":"B91","v":"預金の名義"},null,"○○銀行　補助金用",null,null,null,null,{"$f":"I91","v":"預金の名義\n（ｶﾅ）"},null,"○○ｷﾞﾝｺｳ ﾎｼﾞｮｷﾝﾖｳ"]
[]
[]
[null,"※過去SIIから振込実績のない口座をご指定いただいた場合は、口座証憑のご提出をお願いする",null,null,null,null,null,null,null,null,null,null,null,null,null,null,null,null,{"$f":"B94","v":"※過去SIIから振込実績のない口座をご指定いただいた場合は、口座証憑のご提出をお願いする"}]
[null,"　 場合がございます。あらかじめご了承ください。",null,null,null,null,null,null,null,null,null,null,null,null,null,null,null,null,{"$f":"B95","v":"　 場合がございます。あらかじめご了承ください。"}]